{"text_format":"1","workbook":"xlsx","n_sheets":32,"sheets":["Requirements","Instructions","1 - Project Info","2 - Hours and Schedules","3 - Savings Analysis","Lookup","4 - BCR Screening Inputs","EUL Calc","Tier Screening","% On Peak Calc","MRD_T","SortedCodes","MRD_Tables","Tech Comparison","Controls Lookup","dist check list","Policy & Definitions","Project Notes","Screening","Message","dynamic tables","Version","RI CHP","Default On Peak","MRD","MRD Table","Revision Log","Default Output Long","Default Output Short","Scratch","tool notes","NGRID"],"not_rendered":{"charts":0,"images":4,"macros":1,"external_links":5,"defined_names":139,"comments":2,"pivot_tables":4},"unopened":[],"bounds":{"document_bytes":16777216,"sheet_cells":100000,"rows_first":2000,"rows_last":500,"rows_between":2000,"halvings":0,"cell_chars":16384,"cell_head_chars":4096},"cells_cut":0,"cells_raw":0,"read":"whole","date_system":"1900"}

{"sheet":"Requirements","index":0,"n_rows":42,"n_cols":18,"rows_kept":42,"cut":false,"hidden":false,"merged":[[4,1,4,12],[8,1,8,12],[41,1,41,4],[6,1,6,13],[29,1,29,13],[31,1,31,13],[18,1,18,13],[16,1,16,13]]}
[]
[]
[]
[null,null,null,null,null,null,null,null,null,null,null,null,null,null,"Required Documentation"]
[null,"Custom Performance Lighting Project Information"]
[]
[null,"All projects that qualify under this incentive must:\n  • Be a retrofit project that includes the installation of new fixtures and qualifying lighting controls\n  • Be an extensive/substantial renovation\n  • Average a minimum of 2,000 hours per year (before controls)\n  • Provide maintained light levels in accordance with the recommendations of the Illuminating Engineering Society of North America’s (IESNA) 10th Edition Lighting Handbook or supporting Design Guides\n"]
[]
[null,"Incentive Levels"]
[null,"Base - Custom Lighting"]
[null,"• Only qualified Energy Star or the Design Lights Consortium (DLC) are incentivized "]
[null,"• UL Type A TLEDs must be less than 10% of the installed wattage in order to receive incentives"]
[]
[]
[null,"TIER 1 - CUSTOM PERFORMANCE LIGHTING - LED lighting with Luminaire Level Lighting Controls (LLLC) or Wirelessly Accessible Controls"]
[null,"• At least 75% of the installed wattage must be Energy Star or DLC-listed"]
[null,"• UL Type A TLEDs must be less than 10% of the installed wattage in order to receive incentives"]
[null,"• At least 30% of the installed wattage must have high-end trim"]
[null,"• All controlled LED fixtures should be wirelessly accessible to initialize, configure, and commission. Individual fixture addressability and  luminaire level lighting control (LLLC) as outlined by DLC is optional. The project must include and demonstrate a minimum of one control strategy per fixture and two different control strategies at the project level, including high-end trim. If luminaires are not LLLC, RI Energy will consider \"room based\" controls on a case by case basis."]
[]
[null,"Eligible control strategies include:"]
[null,"      A. Occupancy"]
[null,"      B. High-End Trim (Minimum setting of 75% for claimed savings, Maximum setting of 90%)"]
[null,"      C. Daylighting (with verifiable daylight apertures)"]
[null,"      D. Scheduling (beyond operating hours)"]
[null,null,null,null,null,null,null,null,null,null,null,null,null,null,"Incentive Tier Rates","Per Fixture kWh Saved","Per Controls kWh Saved"]
[null,null,null,null,null,null,null,null,null,null,null,null,null,null,"Base",0.25,"N/A","*Negotiated incentive can be approved by RI Energy "]
[null,"TIER 2 - CUSTOM PERFORMANCE LIGHTING - LED Fixtures with Networked Lighting Controls System",null,null,null,null,null,null,null,null,null,null,null,null,"Tier 1",0.25,0.85]
[null,"• At least 75% of the installed wattage must be Energy Star or DLC-listed",null,null,null,null,null,null,null,null,null,null,null,null,"Tier 2",0.25,1.1000000000000001]
[null,"• UL Type A TLEDs must be less than 10% of the installed wattage in order to receive incentives"]
[null,"• At least 30% of the installed wattage must have high-end trim"]
[null," • The system must be capable of energy monitoring and demand response, as defined by DLC. The customer or their representative must also provide a control narrative for the system with a minimum of three different control strategies, including high-end trim, at the project level and it must be fully commissioned with reporting. For exterior lighting projects, a minimum of two different control strategies at the project level with reporting is required. RI Energy recommends that these systems demonstrate demand response capability. "]
[null,"Eligible control strategies include:"]
[null,"      A. Occupancy"]
[null,"      B. High-End Trim (Minimum setting of 75% for claimed savings, Maximum setting of 90%)"]
[null,"      C. Daylighting  (with verifiable daylight apertures)"]
[null,"      D. Scheduling  (beyond operating hours)"]
[]
[]
[]
[]
[null,"1 See DLC description of capabilities here:",null,null,null,"https://www.designlights.org/lighting-controls/qualify-a-system/technical-requirements/"]

{"sheet":"Instructions","index":1,"n_rows":47,"n_cols":3,"rows_kept":47,"cut":false,"hidden":false,"merged":[[14,2,19,2]]}
["Final Version: 2024 V3.0",null,"RI Energy Custom Performance Retrofit Lighting Tool - Instructions"]
[null,null,"This tool is used to calculate savings associated with custom retrofit lighting applications. Please utilize this tool when submitting applications to RI Energy."]
[]
[null,null," *Inputs to be completed by applicant throughout the workbook are highlighted teal"]
[null,null,"If any information is copied and pasted into the workbook, please paste as TEXT"]
["Workbook Tabs:"]
[]
["1 - Project Info",null,"This tab collects the information for the project including the facility name and location as well as project costs. It also collects all proposed fixture information which will feed into the savings analysis."]
[null,null,"   -Complete the project information at the top of the page.\n   -Enter all proposed fixtures in the project. If there will be a \"removed, not replaced\" line in the proposed column, enter that fixture description into the table and leave the remaining information blank. Fixture description may be any identifier and is used to select the equipment in the savings analysis tab.\n   -All fixtures must be DLC or Energy Star approved to be eligible for incentives.\n   -All fixtures must be labeled according to the application and equipment type\n   -Cooling savings will be calculated and can be incentivized, based on provided cooling equipment type and average efficiencies provided by RI Energy."]
[]
["2 - Hours and Schedules",null,"This tab collects the hours of operation for the different space types."]
[null,null,"   - Instructions are included within this tab and below.\n      a. To create an hour group, enter information into the blue cells of each hour group box. Use a simple name to describe the hour group, e.g. \"Exterior Lot\", \"Open office space\" etc.\n      b. Create a short description of the hour group in the description of use cell. For example, for an exterior hour group, \"Sat-Sun 9pm-6am\"\n      c. Enter the 24 hr time (0-24) for the operating hours of the hour group for Mon-Fri, Sat, Sun in their respective cells. For all day operation, enter \"0\" for time on and \"24\" for time off.\n      d. Enter the number of weeks of the year the hour group operates. For all weeks, use 52.15.\n      e. Enter the number of holiday days the hour group will remain off. \n      f. If fixtures that fall in an hour group are dimmed, please enter dimming schedule on the dimming schedule table located on the right of the respective hour group. "]
[]
["3 - Savings Analysis",null,"This tab calculates the savings for the project."]
[null,null,"   - Enter the audited information including existing and proposed equipment\n   - Enter the measure application from the following categories:\n                - Exterior\n                - Exterior Controls\n                - Exterior with Controls\n                - Interior \n                - Interior Controls\n                - Interior with Controls\nInstructions on provided buttons in this tab:\n     Insert Lines: This allows the user to add lines to the analysis table.\n     Delete Lines: This allows the user to remove lines from the analysis table, this allows for a cleaner table if a scope of work is reduced or too many lines were entered.\n     Create MRD: This will create or refresh the MRD for the project.\n     Enter Fixture Code: This hides the additional columns used to look up a device code from the wattage table. The default is hidden columns and a blank column for entering (copy and paste or manual entry) of the MA or RI wattage table device codes.\n     Find Fixture Code: This unhides columns that allow the user to search for the fixture device codes through description drop down menus.\n     Show More Controls: This provides additional control strategy columns.\n     Hide More Controls: Hides the additional control strategy columns,\n\nControls Instructions:\n     a. If high end trimming is done, enter the proposed trim level information. The proposed trim level is the percentage of maximum fixture output. For example, if a fixture output is reduced by 20%, the proposed trim level would be 80%. Similarly, if a fixture is not trimmed, the proposed trim level would be 100%.  \n     b. Select additional proposed control strategies. If no controls are to be added, select \"None\".\n     c. If occupancy sensor selected as additional proposed control strategy, enter the percentage a fixture is dimmed to under \"Dimming %\" column. For example, if a fixture turns off when there is no occupancy, the dimming % should be 0%. \n     d. Use the button \"Show More Controls\" to enter additional controls, if any. \n  "]
[]
[]
[]
[]
[]
[]
["4 - BCR Screening Inputs",null,"This tab calculates the inputs for the BCR for the project based on the inputs in the workbook and the calculated savings."]
[]
["MRD",null,"This tab creates the MRD for the project. Use the Create MRD button on the savings analysis tab to create or refresh the MRD."]
["MRD Table",null,"This tab includes the MRD table for the project. Print this page in landscape mode to include all of the columns in the MRD. "]
[]
[]
[]
[]
[]
[]
[]
["Developed by DNV for Rhode Island Energy custom-performance retrofit lighting program"]
[]
["Revision log:"]
["Version","Date","Notes"]
["V1.0 ","2019-09-05","Release of the new tool"]
["V2.0","2020-05-01","Updated BCR screening tab with 2020 values"]
["2021 V1.0","2021-01-05","Addition of prescriptive section and updated BCR screening tab with 2021 values. "]
["2021 V2.0","2021-06-02","Updates to cooling savings"]
["2022 V1.0","2022-08-18","updated calculations for EUL and BCR inputs, MRD macro and layout"]
["2022 V2.0","2023-01-17","Modified to cater for RI Energy's Performance Retrofit"]
["2023 V1.0","2023-03-06","Updated screening and EUL calculations"]
["2023 V2.0","2023-12-09","Removed screw based and updated TLED type A calculations"]
["2024 V1.0","2024-01-26","Corrected Bug in EUL calc and MRD macros"]
["2024 V2.0","2024-03-04","Updated the Project override formula in the Tier Screening tab for % TLED Type A and % High-End Trim"]
["2024 V3.0","2024-03-05","Updated the Total Incentivized kWh Savings formula for Base - Custom Lighting Tier to include Controls Savings"]

{"sheet":"1 - Project Info","index":2,"n_rows":25,"n_cols":15,"rows_kept":25,"cut":false,"hidden":false,"merged":[[13,14,14,25],[1,5,1,6],[11,2,11,7],[12,14,12,25],[10,2,10,7],[12,2,12,7],[2,5,2,6]]}
[]
[null,"Customer Name",null,null,"Controls Tier"]
[null,"Full Facility Address",null,null,"Tier 2 - Network Controls, Enter Installed Controls System: "]
[null,"Project Area (square feet)",null,null,"Material Cost ($)"]
[null,"Application Number",null,null,"Labor Cost ($)"]
[null,"Cooling System Type",null,null,"Maintenance Cost Savings ($)",null,"Please note that the maintenance cost savings must be approved by RI Energy"]
[null,"State",null,null,"Total Project Cost ($)"]
[null,null,null,{"$f":"IF(C7=\"MA\",\"National Grid Electric - MA\",IF(C7=\"RI\",\"National Grid Electric - RI\",\"\"))","v":""}]
[null,null,null,null,null,null,null,null,null,null,null,null,"Equipment must be DLC or ENERGY STAR approved to be eligible for incentives."]
[null,null,null,null,null,null,null,null,null,null,null,null,"https://www.designlights.org/search/"]
[null,null,"INSTRUCTIONAL NOTE: Please complete this table; it is used to populate the analysis tab. The fixture description may be any identifier and populates the drop down menu in the savings analysis tab, all other information auto-populates. If LED tubes are used in this project, it is recommended to have a line for each configuration (two-lamp, three-lamp, etc. with the corresponding wattage and use the total fixture quantity in the analysis.\n\nIf there are any existing line items to be removed and not replaced, include a fixture description here of \"Remove, not replace\" and leave subsequent information blank.",null,null,null,null,null,null,null,null,null,"https://www.energystar.gov/productfinder/product/certified-light-fixtures/results\nhttps://www.energystar.gov/productfinder/product/certified-light-bulbs/results"]
[]
[null,null,"Proposed Equipment Information",null,null,null,null,null,null,null,null,null,null,null,"Technical Review Notes"]
[null,"Line","Fixture Description","Manufacturer","Full Model Number","DLC/ENERGY STAR Approved?","DLC/\nENERGY STAR Wattage","DLC Product Code","Application","Equipment Type","TLED Type","Fixture Controlled?","Comments (As Needed)","Merged model "]
[null,{"$f":"ROW(Table2[[#This Row],[Fixture Description]])-14","v":1},null,null,null,null,null,null,null,null,null,null,null,{"$f":"_xlfn.CONCAT(Table2[[#This Row],[Manufacturer]], \" \",Table2[[#This Row],[Full Model Number]])","v":" "}]
[null,{"$f":"ROW(Table2[[#This Row],[Fixture Description]])-14","v":2},null,null,null,null,null,null,null,null,null,null,null,{"$f":"_xlfn.CONCAT(Table2[[#This Row],[Manufacturer]], \" \",Table2[[#This Row],[Full Model Number]])","v":" "}]
[null,{"$f":"ROW(Table2[[#This Row],[Fixture Description]])-14","v":3},null,null,null,null,null,null,null,null,null,null,null,{"$f":"_xlfn.CONCAT(Table2[[#This Row],[Manufacturer]], \" \",Table2[[#This Row],[Full Model Number]])","v":" "}]
[null,{"$f":"ROW(Table2[[#This Row],[Fixture Description]])-14","v":4},null,null,null,null,null,null,null,null,null,null,null,{"$f":"_xlfn.CONCAT(Table2[[#This Row],[Manufacturer]], \" \",Table2[[#This Row],[Full Model Number]])","v":" "}]
[null,{"$f":"ROW(Table2[[#This Row],[Fixture Description]])-14","v":5},null,null,null,null,null,null,null,null,null,null,null,{"$f":"_xlfn.CONCAT(Table2[[#This Row],[Manufacturer]], \" \",Table2[[#This Row],[Full Model Number]])","v":" "}]
[null,{"$f":"ROW(Table2[[#This Row],[Fixture Description]])-14","v":6},null,null,null,null,null,null,null,null,null,null,null,{"$f":"_xlfn.CONCAT(Table2[[#This Row],[Manufacturer]], \" \",Table2[[#This Row],[Full Model Number]])","v":" "}]
[null,{"$f":"ROW(Table2[[#This Row],[Fixture Description]])-14","v":7},null,null,null,null,null,null,null,null,null,null,null,{"$f":"_xlfn.CONCAT(Table2[[#This Row],[Manufacturer]], \" \",Table2[[#This Row],[Full Model Number]])","v":" "}]
[null,{"$f":"ROW(Table2[[#This Row],[Fixture Description]])-14","v":8},null,null,null,null,null,null,null,null,null,null,null,{"$f":"_xlfn.CONCAT(Table2[[#This Row],[Manufacturer]], \" \",Table2[[#This Row],[Full Model Number]])","v":" "}]
[null,{"$f":"ROW(Table2[[#This Row],[Fixture Description]])-14","v":9},null,null,null,null,null,null,null,null,null,null,null,{"$f":"_xlfn.CONCAT(Table2[[#This Row],[Manufacturer]], \" \",Table2[[#This Row],[Full Model Number]])","v":" "}]
[null,{"$f":"ROW(Table2[[#This Row],[Fixture Description]])-14","v":10},null,null,null,null,null,null,null,null,null,null,null,{"$f":"_xlfn.CONCAT(Table2[[#This Row],[Manufacturer]], \" \",Table2[[#This Row],[Full Model Number]])","v":" "}]
[null,"Total"]

{"sheet":"2 - Hours and Schedules","index":3,"n_rows":111,"n_cols":42,"rows_kept":111,"cut":false,"hidden":false,"merged":[[47,3,47,4],[102,3,102,4],[80,3,80,4],[57,3,57,4],[68,3,68,4],[79,3,79,4],[90,3,90,4],[101,3,101,4],[58,3,58,4],[69,3,69,4],[91,3,91,4],[2,3,2,4],[13,3,13,4],[24,3,24,4],[35,3,35,4],[46,3,46,4],[3,3,3,4],[14,3,14,4],[25,3,25,4],[36,3,36,4],[34,37,36,40],[37,35,38,40],[14,17,14,18],[25,17,25,18],[36,17,36,18],[24,29,29,29],[31,37,33,40],[21,37,21,38],[22,35,22,36],[22,37,22,38],[22,39,22,40],[47,17,47,18],[103,15,103,16],[103,17,103,18],[59,15,59,16],[59,17,59,18],[58,17,58,18],[69,17,69,18],[80,17,80,18],[91,17,91,18],[102,17,102,18],[103,19,103,20],[81,15,81,16],[81,17,81,18],[81,19,81,20],[92,15,92,16],[92,17,92,18],[92,19,92,20],[59,19,59,20],[70,15,70,16],[70,17,70,18],[70,19,70,20],[15,15,15,16],[15,17,15,18],[15,19,15,20],[26,15,26,16],[26,17,26,18],[26,19,26,20],[37,15,37,16],[37,17,37,18],[37,19,37,20],[48,15,48,16],[48,17,48,18],[48,19,48,20],[4,15,4,16],[4,17,4,18],[4,19,4,20],[3,17,3,18],[6,0,11,0],[17,0,22,0],[28,0,33,0],[39,0,44,0],[105,0,110,0],[50,0,55,0],[61,0,66,0],[72,0,77,0],[83,0,88,0],[94,0,99,0]]}
["Hours Usage Groups and Peak Hours Calculator",null,null,null,null,null,null,null,null,null,null,null,null,null,null,null,null,null,null,null,null,null,null,null,null,null,null,null,null,null,null,null,null,null,null,null,"Summary"]
[null,null,null,null,null,null,null,null,null,null,null,null,null,null,null,null,null,null,null,null,null,null,null,null,null,null,null,null,null,null,null,null,null,null,null,null,null,"Space Description","Annual Hours","Percent On Peak","Summer","Winter"]
[null,"Name of Usage Group: ",null,"Usage Group A",null,null,null,null,null,null,null,null,null,null,null,null,null,null,null,null,null,null,null,null,null,null,null,null,null,null,null,null,null,null,null,null,{"$f":"D3","v":"Usage Group A"},{"$f":"D4","v":"Description of Use"},{"$f":"E12","v":0},{"$f":"E11","v":{"$error":"#DIV/0!"}},{"$f":"IF(G7>0,1,0)","v":0},{"$f":"IF(J7>0,1,0)","v":0}]
[null,"Description:",null,"Description of Use",null,null,null,null,null,null,null,null,null,null,null,null,null,"Dimming Schedule",null,null,null,null,null,null,null,null,null,null,null,null,null,null,null,null,null,null,{"$f":"D14","v":"Usage Group B"},{"$f":"D15","v":"Description of Use"},{"$f":"E23","v":0},{"$f":"E22","v":{"$error":"#DIV/0!"}},{"$f":"IF(G18>0,1,0)","v":0},{"$f":"IF(J18>0,1,0)","v":0}]
[null,null,"Facility Detail",null,null,"Average On-Peak, Summer",null,null,"Average On-Peak, Winter",null,null,"Percent On-Peak Calculation",null,null,null,"Level 1",null,"Level 2",null,"Level 3",null,null,null,null,null,null,"Hours","% savings",null,"RI Energy On-Peak",null,"RI Energy AVERAGE On-Peak",null,null,null,null,{"$f":"D25","v":"Usage Group C"},{"$f":"D26","v":"Description of Use"},{"$f":"E34","v":0},{"$f":"E33","v":{"$error":"#DIV/0!"}},{"$f":"IF(G29>0,1,0)","v":0},{"$f":"IF(J29>0,1,0)","v":0}]
[null,null,"Time On2,3","Time Off2,3","Daily Hours","Before","During","After","Before","During","After","Before","During","After",null,"# of hrs/day","% of fixture output","# of hrs/day","% of fixture output","# of hrs/day","% of fixture output","Level 1 savings","Level 2 savings","Level 3 savings",null,null,{"$f":"D3","v":"Usage Group A"},{"$f":"U10","v":0},null,"Summer",null,"Winter",null,"General1",null,null,{"$f":"D36","v":"Usage Group D"},{"$f":"D37","v":"Description of Use"},{"$f":"E45","v":0},{"$f":"E44","v":{"$error":"#DIV/0!"}},{"$f":"IF(G40>0,1,0)","v":0},{"$f":"IF(J40>0,1,0)","v":0}]
[{"$f":"D3","v":"Usage Group A"},"Mon-Fri",24,0,{"$f":"IF(D7>C7,D7-C7,(24-(C7-D7)))","v":0},{"$f":"IF($D7>$C7,MIN(IF($C7<$AD$8,$AD$8-$C7,0),$E7),IF($D7<$AD$8,$D7,$AD$8)+IF($C7<$AD$8,$AD$8-$C7,0))","v":0},{"$f":"$E7-F7-H7","v":0},{"$f":"IF($D7>$C7,IF($D7>$AE$8,$D7-$AE$8,0),IF($C7>$AE$8,24-$C7,24-$AE$8))","v":0},{"$f":"IF($D7>$C7,MIN(IF($C7<$AF$8,$AF$8-$C7,0),$E7),IF($D7<$AF$8,$D7,$AF$8)+IF($C7<$AF$8,$AF$8-$C7,0))","v":0},{"$f":"$E7-I7-K7","v":0},{"$f":"IF($D7>$C7,IF($D7>$AG$8,$D7-$AG$8,0),IF($C7>$AG$8,24-$C7,24-$AG$8))","v":0},{"$f":"IF($D7>$C7,MIN(IF($C7<$AH$8,$AH$8-$C7,0),$E7),IF($D7<$AH$8,$D7,$AH$8)++IF($C7<$AH$8,$AH$8-$C7,0))","v":0},{"$f":"$E7-L7-N7","v":0},{"$f":"IF($D7>$C7,IF($D7>$AI$8,$D7-$AI$8,0),IF($C7>$AI$8,24-$C7,24-$AI$8))","v":0},null,0,null,0,null,0,null,{"$f":"IF(OR(P7=\"\",Q7=\"\"),\"\",MAX(((((P7*5*C10)-(C11*24))/E12)*(1-Q7)),0))","v":""},{"$f":"IF(OR(S7=\"\",R7=\"\"),\"\",MAX(((((R7*5*C10)-(C11*24))/E12)*(1-S7)),0))","v":""},{"$f":"IF(OR(T7=\"\",U7=\"\"),\"\",MAX(((((T7*5*C10)-(C11*24))/E12)*(1-U7)),0))","v":""},null,null,{"$f":"D14","v":"Usage Group B"},{"$f":"U21","v":0},null,"On","Off","On","Off","On","Off",null,{"$f":"D47","v":"Usage Group E"},{"$f":"D48","v":"Description of Use"},{"$f":"E56","v":0},{"$f":"E55","v":{"$error":"#DIV/0!"}},{"$f":"IF(G51>0,1,0)","v":0},{"$f":"IF(J51>0,1,0)","v":0}]
[null,"Sat",24,0,{"$f":"IF(D8>C8,D8-C8,(24-(C8-D8)))","v":0},"Annual",{"$f":"G7*5*$C$10","v":0},null,null,{"$f":"J7*5*$C$10","v":0},null,null,{"$f":"M7*5*$C$10","v":0},null,null,0,null,0,null,0,null,{"$f":"IF(OR(P8=\"\",Q8=\"\"),\"\",MAX(((((P8*C10)-(C11*24))/E12)*(1-Q8)),0))","v":""},{"$f":"IF(OR(S8=\"\",R8=\"\"),\"\",MAX(((((R8*C10)-(C11*24))/E12)*(1-S8)),0))","v":""},{"$f":"IF(OR(T8=\"\",T8=\"\"),\"\",MAX(((((T8*C10)-(C11*24))/E12)*(1-U8)),0))","v":{"$error":"#DIV/0!"}},null,null,{"$f":"D25","v":"Usage Group C"},{"$f":"U32","v":0},null,13,17,17,19,6,22,null,{"$f":"D58","v":"Usage Group F"},{"$f":"D59","v":"Description of Use"},{"$f":"E67","v":0},{"$f":"E66","v":{"$error":"#DIV/0!"}},{"$f":"IF(G62>0,1,0)","v":0},{"$f":"IF(J62>0,1,0)","v":0}]
[null,"Sun",24,0,{"$f":"IF(D9>C9,D9-C9,(24-(C9-D9)))","v":0},null,null,null,null,null,null,null,null,null,null,0,null,0,null,0,null,{"$f":"IF(OR(P9=\"\",Q9=\"\"),\"\",MAX(((((P9*C10)-(C11*24))/E12)*(1-Q9)),0))","v":""},{"$f":"IF(OR(S9=\"\",R9=\"\"),\"\",MAX(((((R9*C10)-(C11*24))/E12)*(1-S9)),0))","v":""},{"$f":"IF(OR(T9=\"\",U9=\"\"),\"\",MAX(((((T9*C10)-(C11*24))/E12)*(1-U9)),0))","v":""},null,null,{"$f":"D36","v":"Usage Group D"},{"$f":"U43","v":0},null,null,null,null,null,null,null,null,{"$f":"D69","v":"Usage Group G"},{"$f":"D70","v":"Description of Use"},{"$f":"E78","v":0},{"$f":"E77","v":{"$error":"#DIV/0!"}},{"$f":"IF(G73>0,1,0)","v":0},{"$f":"IF(J73>0,1,0)","v":0}]
[null,"Weeks/Yr",52.14,"Total",{"$f":"5*E7+E8+E9","v":0},null,null,null,null,null,null,null,null,null,null,null,null,null,null,"% savings ",{"$f":"IFERROR(MIN(1,SUM(V10:X10)),\"\")","v":0},{"$f":"IFERROR(SUM(V7:V9),\"\")","v":0},{"$f":"IFERROR(SUM(W7:W9),\"\")","v":0},{"$f":"IFERROR(SUM(X7:X9),\"\")","v":""},null,null,{"$f":"D47","v":"Usage Group E"},{"$f":"U54","v":0},null,"Notes:",null,null,null,null,null,null,{"$f":"D80","v":"Usage Group H"},{"$f":"D81","v":"Description of Use"},{"$f":"E89","v":0},{"$f":"E88","v":{"$error":"#DIV/0!"}},{"$f":"IF(G84>0,1,0)","v":0},{"$f":"IF(J84>0,1,0)","v":0}]
[null,"Holidays/Yr",0,"% On-Peak",{"$f":"IF(M8/E12>=1,1,M8/E12)","v":{"$error":"#DIV/0!"}},null,null,null,null,null,null,null,null,null,null,null,null,null,null,null,null,null,null,null,null,null,{"$f":"D58","v":"Usage Group F"},{"$f":"U65","v":0},1,"Weekdays",null,null,null,null,null,null,{"$f":"D91","v":"Usage Group I"},{"$f":"D92","v":"Description of Use"},{"$f":"E100","v":0},{"$f":"E99","v":{"$error":"#DIV/0!"}},{"$f":"IF(G95>0,1,0)","v":0},{"$f":"IF(J95>0,1,0)","v":0}]
[null,"Annual Hours",null,null,{"$f":"$E10*$C10-$C11*24","v":0},null,null,null,null,null,null,null,null,null,null,null,null,null,null,null,null,null,null,null,null,null,{"$f":"D69","v":"Usage Group G"},{"$f":"U76","v":0},2,"Please enter 0 and 24 if the facility operates 24 hours per day",null,null,null,null,null,null,{"$f":"D102","v":"Usage Group J"},{"$f":"D103","v":"Description of Use"},{"$f":"E111","v":0},{"$f":"E110","v":{"$error":"#DIV/0!"}},{"$f":"IF(G106>0,1,0)","v":0},{"$f":"IF(J106>0,1,0)","v":0}]
[null,null,null,null,null,null,null,null,null,null,null,null,null,null,null,null,null,null,null,null,null,null,null,null,null,null,{"$f":"D80","v":"Usage Group H"},{"$f":"U87","v":0},3,"Please enter 24 and 0 if the facility does not operate that day"]
[null,"Name of Usage Group: ",null,"Usage Group B",null,null,null,null,null,null,null,null,null,null,null,null,null,null,null,null,null,null,null,null,null,null,{"$f":"D91","v":"Usage Group I"},{"$f":"U98","v":0}]
[null,"Description:",null,"Description of Use",null,null,null,null,null,null,null,null,null,null,null,null,null,"Dimming Schedule",null,null,null,null,null,null,null,null,{"$f":"D102","v":"Usage Group J"},{"$f":"U98","v":0}]
[null,null,"Facility Detail",null,null,"Average On-Peak, Summer",null,null,"Average On-Peak, Winter",null,null,"Percent On-Peak Calculation",null,null,null,"Level 1",null,"Level 2",null,"Level 3"]
[null,null,"Time On2,3","Time Off2,3","Daily Hours","Before","During","After","Before","During","After","Before","During","After",null,"# of hrs/day","% of fixture output","# of hrs/day","% of fixture output","# of hrs/day","% of fixture output","Level 1 savings","Level 2 savings","Level 3 savings"]
[{"$f":"D14","v":"Usage Group B"},"Mon-Fri",24,0,{"$f":"IF(D18>C18,D18-C18,(24-(C18-D18)))","v":0},{"$f":"IF($D18>$C18,MIN(IF($C18<$AD$8,$AD$8-$C18,0),$E18),IF($D18<$AD$8,$D18,$AD$8)+IF($C18<$AD$8,$AD$8-$C18,0))","v":0},{"$f":"$E18-F18-H18","v":0},{"$f":"IF($D18>$C18,IF($D18>$AE$8,$D18-$AE$8,0),IF($C18>$AE$8,24-$C18,24-$AE$8))","v":0},{"$f":"IF($D18>$C18,MIN(IF($C18<$AF$8,$AF$8-$C18,0),$E18),IF($D18<$AF$8,$D18,$AF$8)+IF($C18<$AF$8,$AF$8-$C18,0))","v":0},{"$f":"$E18-I18-K18","v":0},{"$f":"IF($D18>$C18,IF($D18>$AG$8,$D18-$AG$8,0),IF($C18>$AG$8,24-$C18,24-$AG$8))","v":0},{"$f":"IF($D18>$C18,MIN(IF($C18<$AH$8,$AH$8-$C18,0),$E18),IF($D18<$AH$8,$D18,$AH$8)++IF($C18<$AH$8,$AH$8-$C18,0))","v":0},{"$f":"$E18-L18-N18","v":0},{"$f":"IF($D18>$C18,IF($D18>$AI$8,$D18-$AI$8,0),IF($C18>$AI$8,24-$C18,24-$AI$8))","v":0},null,0,null,0,null,0,null,{"$f":"IF(OR(P18=\"\",Q18=\"\"),\"\",MAX(((((P18*5*C21)-(C22*24))/E23)*(1-Q18)),0))","v":""},{"$f":"IF(OR(S18=\"\",R18=\"\"),\"\",MAX(((((R18*5*C21)-(C22*24))/E23)*(1-S18)),0))","v":""},{"$f":"IF(OR(T18=\"\",U18=\"\"),\"\",MAX(((((T18*5*C21)-(C22*24))/E23)*(1-U18)),0))","v":""},null,null,null,null,null,null,null,null,null,null,null,"Hour Groups Data Entry Example "]
[null,"Sat",24,0,{"$f":"IF(D19>C19,D19-C19,(24-(C19-D19)))","v":0},"Annual",{"$f":"G18*5*$C$21","v":0},null,null,{"$f":"J18*5*$C$21","v":0},null,null,{"$f":"M18*5*$C$21","v":0},null,null,0,null,0,null,0,null,{"$f":"IF(OR(P19=\"\",Q19=\"\"),\"\",MAX(((((P19*C21)-(C22*24))/E23)*(1-Q19)),0))","v":""},{"$f":"IF(OR(S19=\"\",R19=\"\"),\"\",MAX(((((R19*C21)-(C22*24))/E23)*(1-S19)),0))","v":""},{"$f":"IF(OR(T19=\"\",T19=\"\"),\"\",MAX(((((T19*C21)-(C22*24))/E23)*(1-U19)),0))","v":{"$error":"#DIV/0!"}}]
[null,"Sun",24,0,{"$f":"IF(D20>C20,D20-C20,(24-(C20-D20)))","v":0},null,null,null,null,null,null,null,null,null,null,0,null,0,null,0,null,{"$f":"IF(OR(P20=\"\",Q20=\"\"),\"\",MAX(((((P20*C21)-(C22*24))/E23)*(1-Q20)),0))","v":""},{"$f":"IF(OR(S20=\"\",R20=\"\"),\"\",MAX(((((R20*C21)-(C22*24))/E23)*(1-S20)),0))","v":""},{"$f":"IF(OR(T20=\"\",U20=\"\"),\"\",MAX(((((T20*C21)-(C22*24))/E23)*(1-U20)),0))","v":""}]
[null,"Weeks/Yr",52.14,"Total",{"$f":"5*E18+E19+E20","v":0},null,null,null,null,null,null,null,null,null,null,null,null,null,null,"% savings ",{"$f":"IFERROR(MIN(1,SUM(V21:X21)),\"\")","v":0},{"$f":"IFERROR(SUM(V18:V20),\"\")","v":0},{"$f":"IFERROR(SUM(W18:W20),\"\")","v":0},{"$f":"IFERROR(SUM(X18:X20),\"\")","v":""},null,null,null,null,null,null,"Name of Usage Group: ",null,"Office"]
[null,"Holidays/Yr",0,"% On-Peak",{"$f":"IF(M19/E23>=1,1,M19/E23)","v":{"$error":"#DIV/0!"}},null,null,null,null,null,null,null,null,null,null,null,null,null,null,null,null,null,null,null,null,null,null,null,null,null,"Description:",null,"Interior Offices",null,null,null,null,"Dimming schedule"]
[null,"Annual Hours",null,null,{"$f":"$E21*$C21-$C22*24","v":0},null,null,null,null,null,null,null,null,null,null,null,null,null,null,null,null,null,null,null,null,null,null,null,null,null,null,"Facility Detail",null,null,null,"Level 1",null,"Level 1",null,"Level 1"]
[null,null,null,null,null,null,null,null,null,null,null,null,null,null,null,null,null,null,null,null,null,null,null,null,null,null,null,null,null,null,null,"Time On2,3","Time Off2,3","Daily Hours",null,"# of hrs/day","% of fixture output","# of hrs/day","% of fixture output","# of hrs/day","% of fixture output"]
[null,"Name of Usage Group: ",null,"Usage Group C",null,null,null,null,null,null,null,null,null,null,null,null,null,null,null,null,null,null,null,null,null,null,null,null,null,{"$f":"AG21","v":"Office"},"Mon-Fri",8,18,{"$f":"IF(AG25>AF25,AG25-AF25,(24-(AF25-AG25)))","v":10},null,2,0.8,1,0.5,0.5,0.2]
[null,"Description:",null,"Description of Use",null,null,null,null,null,null,null,null,null,null,null,null,null,"Dimming Schedule",null,null,null,null,null,null,null,null,null,null,null,null,"Sat",10,17,{"$f":"IF(AG26>AF26,AG26-AF26,(24-(AF26-AG26)))","v":7},null,2,0.7,0.5,0.4,0.5,0.2]
[null,null,"Facility Detail",null,null,"Average On-Peak, Summer",null,null,"Average On-Peak, Winter",null,null,"Percent On-Peak Calculation",null,null,null,"Level 1",null,"Level 2",null,"Level 3",null,null,null,null,null,null,null,null,null,null,"Sun",11,15,{"$f":"IF(AG27>AF27,AG27-AF27,(24-(AF27-AG27)))","v":4},null,2,0.7,0.5,0.4,0.5,0.2]
[null,null,"Time On2,3","Time Off2,3","Daily Hours","Before","During","After","Before","During","After","Before","During","After",null,"# of hrs/day","% of fixture output","# of hrs/day","% of fixture output","# of hrs/day","% of fixture output","Level 1 savings","Level 2 savings","Level 3 savings",null,null,null,null,null,null,"Weeks/Yr",52.14,"Total",{"$f":"5*AH25+AH26+AH27","v":61},null,null,null,null,null,"% savings ",0.05]
[{"$f":"D25","v":"Usage Group C"},"Mon-Fri",24,0,{"$f":"IF(D29>C29,D29-C29,(24-(C29-D29)))","v":0},{"$f":"IF($D29>$C29,MIN(IF($C29<$AD$8,$AD$8-$C29,0),$E29),IF($D29<$AD$8,$D29,$AD$8)+IF($C29<$AD$8,$AD$8-$C29,0))","v":0},{"$f":"$E29-F29-H29","v":0},{"$f":"IF($D29>$C29,IF($D29>$AE$8,$D29-$AE$8,0),IF($C29>$AE$8,24-$C29,24-$AE$8))","v":0},{"$f":"IF($D29>$C29,MIN(IF($C29<$AF$8,$AF$8-$C29,0),$E29),IF($D29<$AF$8,$D29,$AF$8)+IF($C29<$AF$8,$AF$8-$C29,0))","v":0},{"$f":"$E29-I29-K29","v":0},{"$f":"IF($D29>$C29,IF($D29>$AG$8,$D29-$AG$8,0),IF($C29>$AG$8,24-$C29,24-$AG$8))","v":0},{"$f":"IF($D29>$C29,MIN(IF($C29<$AH$8,$AH$8-$C29,0),$E29),IF($D29<$AH$8,$D29,$AH$8)++IF($C29<$AH$8,$AH$8-$C29,0))","v":0},{"$f":"$E29-L29-N29","v":0},{"$f":"IF($D29>$C29,IF($D29>$AI$8,$D29-$AI$8,0),IF($C29>$AI$8,24-$C29,24-$AI$8))","v":0},null,0,null,0,null,0,null,{"$f":"IF(OR(P29=\"\",Q29=\"\"),\"\",MAX(((((P29*5*C32)-(C33*24))/E34)*(1-Q29)),0))","v":""},{"$f":"IF(OR(S29=\"\",R29=\"\"),\"\",MAX(((((R29*5*C32)-(C33*24))/E34)*(1-S29)),0))","v":""},{"$f":"IF(OR(T29=\"\",U29=\"\"),\"\",MAX(((((T29*5*C32)-(C33*24))/E34)*(1-U29)),0))","v":""},null,null,null,null,null,null,"Holidays/Yr",5,"% On-Peak",0.85]
[null,"Sat",24,0,{"$f":"IF(D30>C30,D30-C30,(24-(C30-D30)))","v":0},"Annual",{"$f":"G29*5*$C$32","v":0},null,null,{"$f":"J29*5*$C$32","v":0},null,null,{"$f":"M29*5*$C$32","v":0},null,null,0,null,0,null,0,null,{"$f":"IF(OR(P30=\"\",Q30=\"\"),\"\",MAX(((((P30*C32)-(C33*24))/E34)*(1-Q30)),0))","v":""},{"$f":"IF(OR(S30=\"\",R30=\"\"),\"\",MAX(((((R30*C32)-(C33*24))/E34)*(1-S30)),0))","v":""},{"$f":"IF(OR(T30=\"\",T30=\"\"),\"\",MAX(((((T30*C32)-(C33*24))/E34)*(1-U30)),0))","v":{"$error":"#DIV/0!"}},null,null,null,null,null,null,"Annual Hours",null,null,{"$f":"AF28*AH28-AF29*24","v":3060.54}]
[null,"Sun",24,0,{"$f":"IF(D31>C31,D31-C31,(24-(C31-D31)))","v":0},null,null,null,null,null,null,null,null,null,null,0,null,0,null,0,null,{"$f":"IF(OR(P31=\"\",Q31=\"\"),\"\",MAX(((((P31*C32)-(C33*24))/E34)*(1-Q31)),0))","v":""},{"$f":"IF(OR(S31=\"\",R31=\"\"),\"\",MAX(((((R31*C32)-(C33*24))/E34)*(1-S31)),0))","v":""},{"$f":"IF(OR(T31=\"\",U31=\"\"),\"\",MAX(((((T31*C32)-(C33*24))/E34)*(1-U31)),0))","v":""},null,null,null,null,null,null,null,null,null,null,null,null,null,"Dimming Strategy:"]
[null,"Weeks/Yr",52.14,"Total",{"$f":"5*E29+E30+E31","v":0},null,null,null,null,null,null,null,null,null,null,null,null,null,null,"% savings ",{"$f":"IFERROR(MIN(1,SUM(V32:X32)),\"\")","v":0},{"$f":"IFERROR(SUM(V29:V31),\"\")","v":0},{"$f":"IFERROR(SUM(W29:W31),\"\")","v":0},{"$f":"IFERROR(SUM(X29:X31),\"\")","v":""},null,null,null,null,null,"> Lighting fixtures in office are turned on at 8 am and turned off at 6 pm on weekdays",null,null,null,null,null,null,null,"> Sensors are set-up to step dim as: 80% of the output for 2 hours per day, 50% of the output for 1 hour and 20% of the output for 0.5 hours on weekdays. "]
[null,"Holidays/Yr",0,"% On-Peak",{"$f":"IF(M30/E34>=1,1,M30/E34)","v":{"$error":"#DIV/0!"}},null,null,null,null,null,null,null,null,null,null,null,null,null,null,null,null,null,null,null,null,null,null,null,null,"> Lighting fixtures in office are turned on at 10 am and turned off at 5 pm on Saturdays"]
[null,"Annual Hours",null,null,{"$f":"$E32*$C32-$C33*24","v":0},null,null,null,null,null,null,null,null,null,null,null,null,null,null,null,null,null,null,null,null,null,null,null,null,"> Lighting fixtures in office are turned on at 11 am and turned off at 3 pm on Sundays"]
[null,null,null,null,null,null,null,null,null,null,null,null,null,null,null,null,null,null,null,null,null,null,null,null,null,null,null,null,null,"> The facility observes 5 holidays per year",null,null,null,null,null,null,null,"> On weekends, sensors are set-up to step dim as: 70% of the output for 2 hours, 40% of the output for 0.5 hour and 20% of the output for 0.5 hours. "]
[null,"Name of Usage Group: ",null,"Usage Group D"]
[null,"Description:",null,"Description of Use",null,null,null,null,null,null,null,null,null,null,null,null,null,"Dimming Schedule"]
[null,null,"Facility Detail",null,null,"Average On-Peak, Summer",null,null,"Average On-Peak, Winter",null,null,"Percent On-Peak Calculation",null,null,null,"Level 1",null,"Level 2",null,"Level 3",null,null,null,null,null,null,null,null,null,null,null,null,null,null,null,"If using high end trim and schedule dimming, enter high end trim level in Level 1 and total level hours should equal daily hours in column E."]
[null,null,"Time On2,3","Time Off2,3","Daily Hours","Before","During","After","Before","During","After","Before","During","After",null,"# of hrs/day","% of fixture output","# of hrs/day","% of fixture output","# of hrs/day","% of fixture output","Level 1 savings","Level 2 savings","Level 3 savings"]
[{"$f":"D36","v":"Usage Group D"},"Mon-Fri",24,0,{"$f":"IF(D40>C40,D40-C40,(24-(C40-D40)))","v":0},{"$f":"IF($D40>$C40,MIN(IF($C40<$AD$8,$AD$8-$C40,0),$E40),IF($D40<$AD$8,$D40,$AD$8)+IF($C40<$AD$8,$AD$8-$C40,0))","v":0},{"$f":"$E40-F40-H40","v":0},{"$f":"IF($D40>$C40,IF($D40>$AE$8,$D40-$AE$8,0),IF($C40>$AE$8,24-$C40,24-$AE$8))","v":0},{"$f":"IF($D40>$C40,MIN(IF($C40<$AF$8,$AF$8-$C40,0),$E40),IF($D40<$AF$8,$D40,$AF$8)+IF($C40<$AF$8,$AF$8-$C40,0))","v":0},{"$f":"$E40-I40-K40","v":0},{"$f":"IF($D40>$C40,IF($D40>$AG$8,$D40-$AG$8,0),IF($C40>$AG$8,24-$C40,24-$AG$8))","v":0},{"$f":"IF($D40>$C40,MIN(IF($C40<$AH$8,$AH$8-$C40,0),$E40),IF($D40<$AH$8,$D40,$AH$8)++IF($C40<$AH$8,$AH$8-$C40,0))","v":0},{"$f":"$E40-L40-N40","v":0},{"$f":"IF($D40>$C40,IF($D40>$AI$8,$D40-$AI$8,0),IF($C40>$AI$8,24-$C40,24-$AI$8))","v":0},null,0,null,0,null,0,null,{"$f":"IF(OR(P40=\"\",Q40=\"\"),\"\",MAX(((((P40*5*C43)-(C44*24))/E45)*(1-Q40)),0))","v":""},{"$f":"IF(OR(S40=\"\",R40=\"\"),\"\",MAX(((((R40*5*C43)-(C44*24))/E45)*(1-S40)),0))","v":""},{"$f":"IF(OR(T40=\"\",U40=\"\"),\"\",MAX(((((T40*5*C43)-(C44*24))/E45)*(1-U40)),0))","v":""}]
[null,"Sat",24,0,{"$f":"IF(D41>C41,D41-C41,(24-(C41-D41)))","v":0},"Annual",{"$f":"G40*5*$C$43","v":0},null,null,{"$f":"J40*5*$C$43","v":0},null,null,{"$f":"M40*5*$C$43","v":0},null,null,0,null,0,null,0,null,{"$f":"IF(OR(P41=\"\",Q41=\"\"),\"\",MAX(((((P41*C43)-(C44*24))/E45)*(1-Q41)),0))","v":""},{"$f":"IF(OR(S41=\"\",R41=\"\"),\"\",MAX(((((R41*C43)-(C44*24))/E45)*(1-S41)),0))","v":""},{"$f":"IF(OR(T41=\"\",T41=\"\"),\"\",MAX(((((T41*C43)-(C44*24))/E45)*(1-U41)),0))","v":{"$error":"#DIV/0!"}}]
[null,"Sun",24,0,{"$f":"IF(D42>C42,D42-C42,(24-(C42-D42)))","v":0},null,null,null,null,null,null,null,null,null,null,0,null,0,null,0,null,{"$f":"IF(OR(P42=\"\",Q42=\"\"),\"\",MAX(((((P42*C43)-(C44*24))/E45)*(1-Q42)),0))","v":""},{"$f":"IF(OR(S42=\"\",R42=\"\"),\"\",MAX(((((R42*C43)-(C44*24))/E45)*(1-S42)),0))","v":""},{"$f":"IF(OR(T42=\"\",U42=\"\"),\"\",MAX(((((T42*C43)-(C44*24))/E45)*(1-U42)),0))","v":""}]
[null,"Weeks/Yr",52.14,"Total",{"$f":"5*E40+E41+E42","v":0},null,null,null,null,null,null,null,null,null,null,null,null,null,null,"% savings ",{"$f":"IFERROR(MIN(1,SUM(V43:X43)),\"\")","v":0},{"$f":"IFERROR(SUM(V40:V42),\"\")","v":0},{"$f":"IFERROR(SUM(W40:W42),\"\")","v":0},{"$f":"IFERROR(SUM(X40:X42),\"\")","v":""}]
[null,"Holidays/Yr",0,"% On-Peak",{"$f":"IF(M41/E45>=1,1,M41/E45)","v":{"$error":"#DIV/0!"}}]
[null,"Annual Hours",null,null,{"$f":"$E43*$C43-$C44*24","v":0}]
[]
[null,"Name of Usage Group: ",null,"Usage Group E"]
[null,"Description:",null,"Description of Use",null,null,null,null,null,null,null,null,null,null,null,null,null,"Dimming Schedule"]
[null,null,"Facility Detail",null,null,"Average On-Peak, Summer",null,null,"Average On-Peak, Winter",null,null,"Percent On-Peak Calculation",null,null,null,"Level 1",null,"Level 2",null,"Level 3"]
[null,null,"Time On2,3","Time Off2,3","Daily Hours","Before","During","After","Before","During","After","Before","During","After",null,"# of hrs/day","% of fixture output","# of hrs/day","% of fixture output","# of hrs/day","% of fixture output","Level 1 savings","Level 2 savings","Level 3 savings"]
[{"$f":"D47","v":"Usage Group E"},"Mon-Fri",24,0,{"$f":"IF(D51>C51,D51-C51,(24-(C51-D51)))","v":0},{"$f":"IF($D51>$C51,MIN(IF($C51<$AD$8,$AD$8-$C51,0),$E51),IF($D51<$AD$8,$D51,$AD$8)+IF($C51<$AD$8,$AD$8-$C51,0))","v":0},{"$f":"$E51-F51-H51","v":0},{"$f":"IF($D51>$C51,IF($D51>$AE$8,$D51-$AE$8,0),IF($C51>$AE$8,24-$C51,24-$AE$8))","v":0},{"$f":"IF($D51>$C51,MIN(IF($C51<$AF$8,$AF$8-$C51,0),$E51),IF($D51<$AF$8,$D51,$AF$8)+IF($C51<$AF$8,$AF$8-$C51,0))","v":0},{"$f":"$E51-I51-K51","v":0},{"$f":"IF($D51>$C51,IF($D51>$AG$8,$D51-$AG$8,0),IF($C51>$AG$8,24-$C51,24-$AG$8))","v":0},{"$f":"IF($D51>$C51,MIN(IF($C51<$AH$8,$AH$8-$C51,0),$E51),IF($D51<$AH$8,$D51,$AH$8)++IF($C51<$AH$8,$AH$8-$C51,0))","v":0},{"$f":"$E51-L51-N51","v":0},{"$f":"IF($D51>$C51,IF($D51>$AI$8,$D51-$AI$8,0),IF($C51>$AI$8,24-$C51,24-$AI$8))","v":0},null,0,null,0,null,0,null,{"$f":"IF(OR(P51=\"\",Q51=\"\"),\"\",MAX(((((P51*5*C54)-(C55*24))/E56)*(1-Q51)),0))","v":""},{"$f":"IF(OR(S51=\"\",R51=\"\"),\"\",MAX(((((R51*5*C54)-(C55*24))/E56)*(1-S51)),0))","v":""},{"$f":"IF(OR(T51=\"\",U51=\"\"),\"\",MAX(((((T51*5*C54)-(C55*24))/E56)*(1-U51)),0))","v":""}]
[null,"Sat",24,0,{"$f":"IF(D52>C52,D52-C52,(24-(C52-D52)))","v":0},"Annual",{"$f":"G51*5*$C$54","v":0},null,null,{"$f":"J51*5*$C$54","v":0},null,null,{"$f":"M51*5*$C$54","v":0},null,null,0,null,0,null,0,null,{"$f":"IF(OR(P52=\"\",Q52=\"\"),\"\",MAX(((((P52*C54)-(C55*24))/E56)*(1-Q52)),0))","v":""},{"$f":"IF(OR(S52=\"\",R52=\"\"),\"\",MAX(((((R52*C54)-(C55*24))/E56)*(1-S52)),0))","v":""},{"$f":"IF(OR(T52=\"\",T52=\"\"),\"\",MAX(((((T52*C54)-(C55*24))/E56)*(1-U52)),0))","v":{"$error":"#DIV/0!"}}]
[null,"Sun",24,0,{"$f":"IF(D53>C53,D53-C53,(24-(C53-D53)))","v":0},null,null,null,null,null,null,null,null,null,null,0,null,0,null,0,null,{"$f":"IF(OR(P53=\"\",Q53=\"\"),\"\",MAX(((((P53*C54)-(C55*24))/E56)*(1-Q53)),0))","v":""},{"$f":"IF(OR(S53=\"\",R53=\"\"),\"\",MAX(((((R53*C54)-(C55*24))/E56)*(1-S53)),0))","v":""},{"$f":"IF(OR(T53=\"\",U53=\"\"),\"\",MAX(((((T53*C54)-(C55*24))/E56)*(1-U53)),0))","v":""}]
[null,"Weeks/Yr",52.14,"Total",{"$f":"5*E51+E52+E53","v":0},null,null,null,null,null,null,null,null,null,null,null,null,null,null,"% savings ",{"$f":"IFERROR(MIN(1,SUM(V54:X54)),\"\")","v":0},{"$f":"IFERROR(SUM(V51:V53),\"\")","v":0},{"$f":"IFERROR(SUM(W51:W53),\"\")","v":0},{"$f":"IFERROR(SUM(X51:X53),\"\")","v":""}]
[null,"Holidays/Yr",0,"% On-Peak",{"$f":"IF(M52/E56>=1,1,M52/E56)","v":{"$error":"#DIV/0!"}}]
[null,"Annual Hours",null,null,{"$f":"$E54*$C54-$C55*24","v":0}]
[]
[null,"Name of Usage Group: ",null,"Usage Group F"]
[null,"Description:",null,"Description of Use",null,null,null,null,null,null,null,null,null,null,null,null,null,"Dimming Schedule"]
[null,null,"Facility Detail",null,null,"Average On-Peak, Summer",null,null,"Average On-Peak, Winter",null,null,"Percent On-Peak Calculation",null,null,null,"Level 1",null,"Level 2",null,"Level 3"]
[null,null,"Time On2,3","Time Off2,3","Daily Hours","Before","During","After","Before","During","After","Before","During","After",null,"# of hrs/day","% of fixture output","# of hrs/day","% of fixture output","# of hrs/day","% of fixture output","Level 1 savings","Level 2 savings","Level 3 savings"]
[{"$f":"D58","v":"Usage Group F"},"Mon-Fri",24,0,{"$f":"IF(D62>C62,D62-C62,(24-(C62-D62)))","v":0},{"$f":"IF($D62>$C62,MIN(IF($C62<$AD$8,$AD$8-$C62,0),$E62),IF($D62<$AD$8,$D62,$AD$8)+IF($C62<$AD$8,$AD$8-$C62,0))","v":0},{"$f":"$E62-F62-H62","v":0},{"$f":"IF($D62>$C62,IF($D62>$AE$8,$D62-$AE$8,0),IF($C62>$AE$8,24-$C62,24-$AE$8))","v":0},{"$f":"IF($D62>$C62,MIN(IF($C62<$AF$8,$AF$8-$C62,0),$E62),IF($D62<$AF$8,$D62,$AF$8)+IF($C62<$AF$8,$AF$8-$C62,0))","v":0},{"$f":"$E62-I62-K62","v":0},{"$f":"IF($D62>$C62,IF($D62>$AG$8,$D62-$AG$8,0),IF($C62>$AG$8,24-$C62,24-$AG$8))","v":0},{"$f":"IF($D62>$C62,MIN(IF($C62<$AH$8,$AH$8-$C62,0),$E62),IF($D62<$AH$8,$D62,$AH$8)++IF($C62<$AH$8,$AH$8-$C62,0))","v":0},{"$f":"$E62-L62-N62","v":0},{"$f":"IF($D62>$C62,IF($D62>$AI$8,$D62-$AI$8,0),IF($C62>$AI$8,24-$C62,24-$AI$8))","v":0},null,0,null,0,null,0,null,{"$f":"IF(OR(P62=\"\",Q62=\"\"),\"\",MAX(((((P62*5*C65)-(C66*24))/E67)*(1-Q62)),0))","v":""},{"$f":"IF(OR(S62=\"\",R62=\"\"),\"\",MAX(((((R62*5*C65)-(C66*24))/E67)*(1-S62)),0))","v":""},{"$f":"IF(OR(T62=\"\",U62=\"\"),\"\",MAX(((((T62*5*C65)-(C66*24))/E67)*(1-U62)),0))","v":""}]
[null,"Sat",24,0,{"$f":"IF(D63>C63,D63-C63,(24-(C63-D63)))","v":0},"Annual",{"$f":"G62*5*$C$65","v":0},null,null,{"$f":"J62*5*$C$65","v":0},null,null,{"$f":"M62*5*$C$65","v":0},null,null,0,null,0,null,0,null,{"$f":"IF(OR(P63=\"\",Q63=\"\"),\"\",MAX(((((P63*C65)-(C66*24))/E67)*(1-Q63)),0))","v":""},{"$f":"IF(OR(S63=\"\",R63=\"\"),\"\",MAX(((((R63*C65)-(C66*24))/E67)*(1-S63)),0))","v":""},{"$f":"IF(OR(T63=\"\",T63=\"\"),\"\",MAX(((((T63*C65)-(C66*24))/E67)*(1-U63)),0))","v":{"$error":"#DIV/0!"}}]
[null,"Sun",24,0,{"$f":"IF(D64>C64,D64-C64,(24-(C64-D64)))","v":0},null,null,null,null,null,null,null,null,null,null,0,null,0,null,0,null,{"$f":"IF(OR(P64=\"\",Q64=\"\"),\"\",MAX(((((P64*C65)-(C66*24))/E67)*(1-Q64)),0))","v":""},{"$f":"IF(OR(S64=\"\",R64=\"\"),\"\",MAX(((((R64*C65)-(C66*24))/E67)*(1-S64)),0))","v":""},{"$f":"IF(OR(T64=\"\",U64=\"\"),\"\",MAX(((((T64*C65)-(C66*24))/E67)*(1-U64)),0))","v":""}]
[null,"Weeks/Yr",52.14,"Total",{"$f":"5*E62+E63+E64","v":0},null,null,null,null,null,null,null,null,null,null,null,null,null,null,"% savings ",{"$f":"IFERROR(MIN(1,SUM(V65:X65)),\"\")","v":0},{"$f":"IFERROR(SUM(V62:V64),\"\")","v":0},{"$f":"IFERROR(SUM(W62:W64),\"\")","v":0},{"$f":"IFERROR(SUM(X62:X64),\"\")","v":""}]
[null,"Holidays/Yr",0,"% On-Peak",{"$f":"IF(M63/E67>=1,1,M63/E67)","v":{"$error":"#DIV/0!"}}]
[null,"Annual Hours",null,null,{"$f":"$E65*$C65-$C66*24","v":0}]
[]
[null,"Name of Usage Group: ",null,"Usage Group G"]
[null,"Description:",null,"Description of Use",null,null,null,null,null,null,null,null,null,null,null,null,null,"Dimming Schedule"]
[null,null,"Facility Detail",null,null,"Average On-Peak, Summer",null,null,"Average On-Peak, Winter",null,null,"Percent On-Peak Calculation",null,null,null,"Level 1",null,"Level 2",null,"Level 3"]
[null,null,"Time On2,3","Time Off2,3","Daily Hours","Before","During","After","Before","During","After","Before","During","After",null,"# of hrs/day","% of fixture output","# of hrs/day","% of fixture output","# of hrs/day","% of fixture output","Level 1 savings","Level 2 savings","Level 3 savings"]
[{"$f":"D69","v":"Usage Group G"},"Mon-Fri",24,0,{"$f":"IF(D73>C73,D73-C73,(24-(C73-D73)))","v":0},{"$f":"IF($D73>$C73,MIN(IF($C73<$AD$8,$AD$8-$C73,0),$E73),IF($D73<$AD$8,$D73,$AD$8)+IF($C73<$AD$8,$AD$8-$C73,0))","v":0},{"$f":"$E73-F73-H73","v":0},{"$f":"IF($D73>$C73,IF($D73>$AE$8,$D73-$AE$8,0),IF($C73>$AE$8,24-$C73,24-$AE$8))","v":0},{"$f":"IF($D73>$C73,MIN(IF($C73<$AF$8,$AF$8-$C73,0),$E73),IF($D73<$AF$8,$D73,$AF$8)+IF($C73<$AF$8,$AF$8-$C73,0))","v":0},{"$f":"$E73-I73-K73","v":0},{"$f":"IF($D73>$C73,IF($D73>$AG$8,$D73-$AG$8,0),IF($C73>$AG$8,24-$C73,24-$AG$8))","v":0},{"$f":"IF($D73>$C73,MIN(IF($C73<$AH$8,$AH$8-$C73,0),$E73),IF($D73<$AH$8,$D73,$AH$8)++IF($C73<$AH$8,$AH$8-$C73,0))","v":0},{"$f":"$E73-L73-N73","v":0},{"$f":"IF($D73>$C73,IF($D73>$AI$8,$D73-$AI$8,0),IF($C73>$AI$8,24-$C73,24-$AI$8))","v":0},null,0,null,0,null,0,null,{"$f":"IF(OR(P73=\"\",Q73=\"\"),\"\",MAX(((((P73*5*C76)-(C77*24))/E78)*(1-Q73)),0))","v":""},{"$f":"IF(OR(S73=\"\",R73=\"\"),\"\",MAX(((((R73*5*C76)-(C77*24))/E78)*(1-S73)),0))","v":""},{"$f":"IF(OR(T73=\"\",U73=\"\"),\"\",MAX(((((T73*5*C76)-(C77*24))/E78)*(1-U73)),0))","v":""}]
[null,"Sat",24,0,{"$f":"IF(D74>C74,D74-C74,(24-(C74-D74)))","v":0},"Annual",{"$f":"G73*5*$C$76","v":0},null,null,{"$f":"J73*5*$C$76","v":0},null,null,{"$f":"M73*5*$C$76","v":0},null,null,0,null,0,null,0,null,{"$f":"IF(OR(P74=\"\",Q74=\"\"),\"\",MAX(((((P74*C76)-(C77*24))/E78)*(1-Q74)),0))","v":""},{"$f":"IF(OR(S74=\"\",R74=\"\"),\"\",MAX(((((R74*C76)-(C77*24))/E78)*(1-S74)),0))","v":""},{"$f":"IF(OR(T74=\"\",T74=\"\"),\"\",MAX(((((T74*C76)-(C77*24))/E78)*(1-U74)),0))","v":{"$error":"#DIV/0!"}}]
[null,"Sun",24,0,{"$f":"IF(D75>C75,D75-C75,(24-(C75-D75)))","v":0},null,null,null,null,null,null,null,null,null,null,0,null,0,null,0,null,{"$f":"IF(OR(P75=\"\",Q75=\"\"),\"\",MAX(((((P75*C76)-(C77*24))/E78)*(1-Q75)),0))","v":""},{"$f":"IF(OR(S75=\"\",R75=\"\"),\"\",MAX(((((R75*C76)-(C77*24))/E78)*(1-S75)),0))","v":""},{"$f":"IF(OR(T75=\"\",U75=\"\"),\"\",MAX(((((T75*C76)-(C77*24))/E78)*(1-U75)),0))","v":""}]
[null,"Weeks/Yr",52.14,"Total",{"$f":"5*E73+E74+E75","v":0},null,null,null,null,null,null,null,null,null,null,null,null,null,null,"% savings ",{"$f":"IFERROR(MIN(1,SUM(V76:X76)),\"\")","v":0},{"$f":"IFERROR(SUM(V73:V75),\"\")","v":0},{"$f":"IFERROR(SUM(W73:W75),\"\")","v":0},{"$f":"IFERROR(SUM(X73:X75),\"\")","v":""}]
[null,"Holidays/Yr",0,"% On-Peak",{"$f":"IF(M74/E78>=1,1,M74/E78)","v":{"$error":"#DIV/0!"}}]
[null,"Annual Hours",null,null,{"$f":"$E76*$C76-$C77*24","v":0}]
[]
[null,"Name of Usage Group: ",null,"Usage Group H"]
[null,"Description:",null,"Description of Use",null,null,null,null,null,null,null,null,null,null,null,null,null,"Dimming Schedule"]
[null,null,"Facility Detail",null,null,"Average On-Peak, Summer",null,null,"Average On-Peak, Winter",null,null,"Percent On-Peak Calculation",null,null,null,"Level 1",null,"Level 2",null,"Level 3"]
[null,null,"Time On2,3","Time Off2,3","Daily Hours","Before","During","After","Before","During","After","Before","During","After",null,"# of hrs/day","% of fixture output","# of hrs/day","% of fixture output","# of hrs/day","% of fixture output","Level 1 savings","Level 2 savings","Level 3 savings"]
[{"$f":"D80","v":"Usage Group H"},"Mon-Fri",24,0,{"$f":"IF(D84>C84,D84-C84,(24-(C84-D84)))","v":0},{"$f":"IF($D84>$C84,MIN(IF($C84<$AD$8,$AD$8-$C84,0),$E84),IF($D84<$AD$8,$D84,$AD$8)+IF($C84<$AD$8,$AD$8-$C84,0))","v":0},{"$f":"$E84-F84-H84","v":0},{"$f":"IF($D84>$C84,IF($D84>$AE$8,$D84-$AE$8,0),IF($C84>$AE$8,24-$C84,24-$AE$8))","v":0},{"$f":"IF($D84>$C84,MIN(IF($C84<$AF$8,$AF$8-$C84,0),$E84),IF($D84<$AF$8,$D84,$AF$8)+IF($C84<$AF$8,$AF$8-$C84,0))","v":0},{"$f":"$E84-I84-K84","v":0},{"$f":"IF($D84>$C84,IF($D84>$AG$8,$D84-$AG$8,0),IF($C84>$AG$8,24-$C84,24-$AG$8))","v":0},{"$f":"IF($D84>$C84,MIN(IF($C84<$AH$8,$AH$8-$C84,0),$E84),IF($D84<$AH$8,$D84,$AH$8)++IF($C84<$AH$8,$AH$8-$C84,0))","v":0},{"$f":"$E84-L84-N84","v":0},{"$f":"IF($D84>$C84,IF($D84>$AI$8,$D84-$AI$8,0),IF($C84>$AI$8,24-$C84,24-$AI$8))","v":0},null,0,null,0,null,0,null,{"$f":"IF(OR(P84=\"\",Q84=\"\"),\"\",MAX(((((P84*5*C87)-(C88*24))/E89)*(1-Q84)),0))","v":""},{"$f":"IF(OR(S84=\"\",R84=\"\"),\"\",MAX(((((R84*5*C87)-(C88*24))/E89)*(1-S84)),0))","v":""},{"$f":"IF(OR(T84=\"\",U84=\"\"),\"\",MAX(((((T84*5*C87)-(C88*24))/E89)*(1-U84)),0))","v":""}]
[null,"Sat",24,0,{"$f":"IF(D85>C85,D85-C85,(24-(C85-D85)))","v":0},"Annual",{"$f":"G84*5*$C$87","v":0},null,null,{"$f":"J84*5*$C$87","v":0},null,null,{"$f":"M84*5*$C$87","v":0},null,null,0,null,0,null,0,null,{"$f":"IF(OR(P85=\"\",Q85=\"\"),\"\",MAX(((((P85*C87)-(C88*24))/E89)*(1-Q85)),0))","v":""},{"$f":"IF(OR(S85=\"\",R85=\"\"),\"\",MAX(((((R85*C87)-(C88*24))/E89)*(1-S85)),0))","v":""},{"$f":"IF(OR(T85=\"\",T85=\"\"),\"\",MAX(((((T85*C87)-(C88*24))/E89)*(1-U85)),0))","v":{"$error":"#DIV/0!"}}]
[null,"Sun",24,0,{"$f":"IF(D86>C86,D86-C86,(24-(C86-D86)))","v":0},null,null,null,null,null,null,null,null,null,null,0,null,0,null,0,null,{"$f":"IF(OR(P86=\"\",Q86=\"\"),\"\",MAX(((((P86*C87)-(C88*24))/E89)*(1-Q86)),0))","v":""},{"$f":"IF(OR(S86=\"\",R86=\"\"),\"\",MAX(((((R86*C87)-(C88*24))/E89)*(1-S86)),0))","v":""},{"$f":"IF(OR(T86=\"\",U86=\"\"),\"\",MAX(((((T86*C87)-(C88*24))/E89)*(1-U86)),0))","v":""}]
[null,"Weeks/Yr",52.14,"Total",{"$f":"5*E84+E85+E86","v":0},null,null,null,null,null,null,null,null,null,null,null,null,null,null,"% savings ",{"$f":"IFERROR(MIN(1,SUM(V87:X87)),\"\")","v":0},{"$f":"IFERROR(SUM(V84:V86),\"\")","v":0},{"$f":"IFERROR(SUM(W84:W86),\"\")","v":0},{"$f":"IFERROR(SUM(X84:X86),\"\")","v":""}]
[null,"Holidays/Yr",0,"% On-Peak",{"$f":"IF(M85/E89>=1,1,M85/E89)","v":{"$error":"#DIV/0!"}}]
[null,"Annual Hours",null,null,{"$f":"$E87*$C87-$C88*24","v":0}]
[]
[null,"Name of Usage Group: ",null,"Usage Group I"]
[null,"Description:",null,"Description of Use",null,null,null,null,null,null,null,null,null,null,null,null,null,"Dimming Schedule"]
[null,null,"Facility Detail",null,null,"Average On-Peak, Summer",null,null,"Average On-Peak, Winter",null,null,"Percent On-Peak Calculation",null,null,null,"Level 1",null,"Level 2",null,"Level 3"]
[null,null,"Time On2,3","Time Off2,3","Daily Hours","Before","During","After","Before","During","After","Before","During","After",null,"# of hrs/day","% of fixture output","# of hrs/day","% of fixture output","# of hrs/day","% of fixture output","Level 1 savings","Level 2 savings","Level 3 savings"]
[{"$f":"D91","v":"Usage Group I"},"Mon-Fri",24,0,{"$f":"IF(D95>C95,D95-C95,(24-(C95-D95)))","v":0},{"$f":"IF($D95>$C95,MIN(IF($C95<$AD$8,$AD$8-$C95,0),$E95),IF($D95<$AD$8,$D95,$AD$8)+IF($C95<$AD$8,$AD$8-$C95,0))","v":0},{"$f":"$E95-F95-H95","v":0},{"$f":"IF($D95>$C95,IF($D95>$AE$8,$D95-$AE$8,0),IF($C95>$AE$8,24-$C95,24-$AE$8))","v":0},{"$f":"IF($D95>$C95,MIN(IF($C95<$AF$8,$AF$8-$C95,0),$E95),IF($D95<$AF$8,$D95,$AF$8)+IF($C95<$AF$8,$AF$8-$C95,0))","v":0},{"$f":"$E95-I95-K95","v":0},{"$f":"IF($D95>$C95,IF($D95>$AG$8,$D95-$AG$8,0),IF($C95>$AG$8,24-$C95,24-$AG$8))","v":0},{"$f":"IF($D95>$C95,MIN(IF($C95<$AH$8,$AH$8-$C95,0),$E95),IF($D95<$AH$8,$D95,$AH$8)++IF($C95<$AH$8,$AH$8-$C95,0))","v":0},{"$f":"$E95-L95-N95","v":0},0,null,0,null,0,null,0,null,{"$f":"IF(OR(P95=\"\",Q95=\"\"),\"\",MAX(((((P95*5*C98)-(C99*24))/E100)*(1-Q95)),0))","v":""},{"$f":"IF(OR(S95=\"\",R95=\"\"),\"\",MAX(((((R95*5*C98)-(C99*24))/E100)*(1-S95)),0))","v":""},{"$f":"IF(OR(T95=\"\",U95=\"\"),\"\",MAX(((((T95*5*C98)-(C99*24))/E100)*(1-U95)),0))","v":""}]
[null,"Sat",24,0,{"$f":"IF(D96>C96,D96-C96,(24-(C96-D96)))","v":0},"Annual",{"$f":"G95*5*$C$98","v":0},null,null,{"$f":"J95*5*$C$98","v":0},null,null,{"$f":"M95*5*$C$98","v":0},null,null,0,null,0,null,0,null,{"$f":"IF(OR(P96=\"\",Q96=\"\"),\"\",MAX(((((P96*C98)-(C99*24))/E100)*(1-Q96)),0))","v":""},{"$f":"IF(OR(S96=\"\",R96=\"\"),\"\",MAX(((((R96*C98)-(C99*24))/E100)*(1-S96)),0))","v":""},{"$f":"IF(OR(T96=\"\",T96=\"\"),\"\",MAX(((((T96*C98)-(C99*24))/E100)*(1-U96)),0))","v":{"$error":"#DIV/0!"}}]
[null,"Sun",24,0,{"$f":"IF(D97>C97,D97-C97,(24-(C97-D97)))","v":0},null,null,null,null,null,null,null,null,null,null,0,null,0,null,0,null,{"$f":"IF(OR(P97=\"\",Q97=\"\"),\"\",MAX(((((P97*C98)-(C99*24))/E100)*(1-Q97)),0))","v":""},{"$f":"IF(OR(S97=\"\",R97=\"\"),\"\",MAX(((((R97*C98)-(C99*24))/E100)*(1-S97)),0))","v":""},{"$f":"IF(OR(T97=\"\",U97=\"\"),\"\",MAX(((((T97*C98)-(C99*24))/E100)*(1-U97)),0))","v":""}]
[null,"Weeks/Yr",52.15,"Total",{"$f":"5*E95+E96+E97","v":0},null,null,null,null,null,null,null,null,null,null,null,null,null,null,"% savings ",{"$f":"IFERROR(MIN(1,SUM(V98:X98)),\"\")","v":0},{"$f":"IFERROR(SUM(V95:V97),\"\")","v":0},{"$f":"IFERROR(SUM(W95:W97),\"\")","v":0},{"$f":"IFERROR(SUM(X95:X97),\"\")","v":""}]
[null,"Holidays/Yr",0,"% On-Peak",{"$f":"IF(M96/E100>=1,1,M96/E100)","v":{"$error":"#DIV/0!"}}]
[null,"Annual Hours",null,null,{"$f":"$E98*$C98-$C99*24","v":0}]
[]
[null,"Name of Usage Group: ",null,"Usage Group J"]
[null,"Description:",null,"Description of Use",null,null,null,null,null,null,null,null,null,null,null,null,null,"Dimming Schedule"]
[null,null,"Facility Detail",null,null,"Average On-Peak, Summer",null,null,"Average On-Peak, Winter",null,null,"Percent On-Peak Calculation",null,null,null,"Level 1",null,"Level 2",null,"Level 3"]
[null,null,"Time On2,3","Time Off2,3","Daily Hours","Before","During","After","Before","During","After","Before","During","After",null,"# of hrs/day","% of fixture output","# of hrs/day","% of fixture output","# of hrs/day","% of fixture output","Level 1 savings","Level 2 savings","Level 3 savings"]
[{"$f":"D102","v":"Usage Group J"},"Mon-Fri",24,0,{"$f":"IF(D106>C106,D106-C106,(24-(C106-D106)))","v":0},{"$f":"IF($D106>$C106,MIN(IF($C106<$AD$8,$AD$8-$C106,0),$E106),IF($D106<$AD$8,$D106,$AD$8)+IF($C106<$AD$8,$AD$8-$C106,0))","v":0},{"$f":"$E106-F106-H106","v":0},{"$f":"IF($D106>$C106,IF($D106>$AE$8,$D106-$AE$8,0),IF($C106>$AE$8,24-$C106,24-$AE$8))","v":0},{"$f":"IF($D106>$C106,MIN(IF($C106<$AF$8,$AF$8-$C106,0),$E106),IF($D106<$AF$8,$D106,$AF$8)+IF($C106<$AF$8,$AF$8-$C106,0))","v":0},{"$f":"$E106-I106-K106","v":0},{"$f":"IF($D106>$C106,IF($D106>$AG$8,$D106-$AG$8,0),IF($C106>$AG$8,24-$C106,24-$AG$8))","v":0},{"$f":"IF($D106>$C106,MIN(IF($C106<$AH$8,$AH$8-$C106,0),$E106),IF($D106<$AH$8,$D106,$AH$8)++IF($C106<$AH$8,$AH$8-$C106,0))","v":0},{"$f":"$E106-L106-N106","v":0},{"$f":"IF($D106>$C106,IF($D106>$AI$8,$D106-$AI$8,0),IF($C106>$AI$8,24-$C106,24-$AI$8))","v":0},null,0,null,0,null,0,null,{"$f":"IF(OR(P106=\"\",Q106=\"\"),\"\",MAX(((((P106*5*C109)-(C110*24))/E111)*(1-Q106)),0))","v":""},{"$f":"IF(OR(S106=\"\",R106=\"\"),\"\",MAX(((((R106*5*C109)-(C110*24))/E111)*(1-S106)),0))","v":""},{"$f":"IF(OR(T106=\"\",U106=\"\"),\"\",MAX(((((T106*5*C109)-(C110*24))/E111)*(1-U106)),0))","v":""}]
[null,"Sat",24,0,{"$f":"IF(D107>C107,D107-C107,(24-(C107-D107)))","v":0},"Annual",{"$f":"G106*5*$C$109","v":0},null,null,{"$f":"J106*5*$C$109","v":0},null,null,{"$f":"M106*5*$C$109","v":0},null,null,0,null,0,null,0,null,{"$f":"IF(OR(P107=\"\",Q107=\"\"),\"\",MAX(((((P107*C109)-(C110*24))/E111)*(1-Q107)),0))","v":""},{"$f":"IF(OR(S107=\"\",R107=\"\"),\"\",MAX(((((R107*C109)-(C110*24))/E111)*(1-S107)),0))","v":""},{"$f":"IF(OR(T107=\"\",T107=\"\"),\"\",MAX(((((T107*C109)-(C110*24))/E111)*(1-U107)),0))","v":{"$error":"#DIV/0!"}}]
[null,"Sun",24,0,{"$f":"IF(D108>C108,D108-C108,(24-(C108-D108)))","v":0},null,null,null,null,null,null,null,null,null,null,0,null,0,null,0,null,{"$f":"IF(OR(P108=\"\",Q108=\"\"),\"\",MAX(((((P108*C109)-(C110*24))/E111)*(1-Q108)),0))","v":""},{"$f":"IF(OR(S108=\"\",R108=\"\"),\"\",MAX(((((R108*C109)-(C110*24))/E111)*(1-S108)),0))","v":""},{"$f":"IF(OR(T108=\"\",U108=\"\"),\"\",MAX(((((T108*C109)-(C110*24))/E111)*(1-U108)),0))","v":""}]
[null,"Weeks/Yr",52.15,"Total",{"$f":"5*E106+E107+E108","v":0},null,null,null,null,null,null,null,null,null,null,null,null,null,null,"% savings ",{"$f":"IFERROR(MIN(1,SUM(V109:X109)),\"\")","v":0},{"$f":"IFERROR(SUM(V106:V108),\"\")","v":0},{"$f":"IFERROR(SUM(W106:W108),\"\")","v":0},{"$f":"IFERROR(SUM(X106:X108),\"\")","v":""}]
[null,"Holidays/Yr",0,"% On-Peak",{"$f":"IF(M107/E111>=1,1,M107/E111)","v":{"$error":"#DIV/0!"}}]
[null,"Annual Hours",null,null,{"$f":"$E109*$C109-$C110*24","v":0}]

{"sheet":"3 - Savings Analysis","index":4,"n_rows":45,"n_cols":53,"rows_kept":45,"cut":false,"hidden":false,"merged":[[10,17,10,18],[0,39,1,41],[2,41,2,43],[3,41,3,43],[4,41,4,43],[5,41,5,43],[6,39,6,40],[6,41,6,43],[7,41,7,43],[8,41,8,43],[9,41,9,43],[10,41,10,43],[7,34,7,36],[6,34,6,36],[0,32,1,34],[2,34,2,36],[0,13,0,16],[1,13,1,16],[2,13,2,16],[0,23,1,25],[3,34,3,36],[4,34,4,36],[5,34,5,36],[9,17,9,18],[0,17,1,19],[2,18,2,19],[6,18,6,19],[4,18,4,19],[5,18,5,19],[3,18,3,19],[11,30,11,37],[12,38,12,42],[12,1,12,7],[12,22,12,29],[12,30,12,37],[12,8,12,15]]}
[null,null,null,null,null,null,null,null,null,null,null,null,null,null,null,null,null,"Project Summary",null,null,null,null,null,null,null,null,null,null,null,null,null,null,"Tier Eligibility Check",null,null,null,null,null,null,"Tier Eligibility Check"]
[]
[null,null,null,null,null,null,null,null,null,null,null,null,null,null,null,null,null,"Lighting Control System Tier",{"$f":"'1 - Project Info'!F2","v":0},null,null,null,null,null,null,null,"Remote Mounted Sensor",null,{"$f":"SUMIF(Table1[Controls\nInstalled],X3,Table1[Total Controls kWh Savings])","v":0},null,null,null,null,null,"Meets Tier Requirements?",null,null,null,null,"Hours",null,{"$f":"'Tier Screening'!M8","v":"No"}]
[null,null,null,null,null,null,null,null,null,null,null,null,null,null,null,null,null,"Incentivized Summer kW Reduction",{"$f":"IFERROR(SUMIF(Table1[DLC/ES?],\"<>No\",Table1[Summer kW Reduction]),\"\")","v":0},{"$f":"SUMIF(Table1[DLC/ES?],\"<>No\",Table1[Summer kW Reduction])-Table1[[#Totals],[Summer kW Reduction]]","v":0},null,null,null,null,null,null,"Luminiare Level Control",null,{"$f":"SUMIF(Table1[Controls\nInstalled],X4,Table1[Total Controls kWh Savings])","v":0},null,null,null,"Hours",null,{"$f":"'Tier Screening'!M8","v":"No"},null,null,null,null,"% TLED Type A",null,{"$f":"'Tier Screening'!M9","v":"No"}]
[null,null,null,null,null,null,null,null,null,null,null,null,null,null,null,null,null,"Incentivized Winter kW Reduction",{"$f":"IFERROR(SUMIF(Table1[DLC/ES?],\"<>No\",Table1[Winter kW Reduction]),\"\")","v":0},{"$f":"SUMIF(Table1[DLC/ES?],\"<>No\",Table1[Summer kW Reduction])-Table1[[#Totals],[Summer kW Reduction]]","v":0},null,null,null,null,null,null,"Network Sensor",null,{"$f":"SUMIF(Table1[Controls\nInstalled],X5,Table1[Total Controls kWh Savings])","v":0},null,null,null,"% TLED Type A",null,{"$f":"'Tier Screening'!M9","v":"No"},null,null,null,null,"% DLC/ES ",null,{"$f":"'Tier Screening'!M10","v":"Yes"}]
[null,null,null,null,null,null,null,null,null,null,null,null,null,null,null,null,null,"Incentivized Energy Savings",{"$f":"'Tier Screening'!L18","v":"Not Eligible For Selected Tier Incentive"},null,null,null,null,null,null,null,null,null,null,null,null,null,"% DLC/ES ",null,{"$f":"IF('Tier Screening'!L7=\"Fixture Replacement Only - No Controls\", \"N/A\", 'Tier Screening'!M10)","v":"Yes"},null,null,null,null,"# of Control Systems",null,{"$f":"'Tier Screening'!M13","v":"No"}]
[null,null,null,null,null,null,null,null,null,null,null,null,null,null,null,null,null,"Project Incentive",{"$f":"'Tier Screening'!L19","v":"Not Eligible For Selected Tier Incentive"},null,null,null,null,null,null,null,null,null,null,null,null,null,"# of Control Systems",null,{"$f":"IF('Tier Screening'!L7=\"Fixture Replacement Only - No Controls\", \"N/A\", 'Tier Screening'!M13)","v":"No"},null,null,null,null,"     High-End Trim",null,{"$f":"'Tier Screening'!M14","v":"Not Installed"}]
[null,null,null,null,null,null,null,null,null,null,null,null,null,null,null,null,null,"* Only DLC or Energy Star approved fixtures are incentivized for base incentive",null,null,null,null,null,null,null,null,null,null,null,null,null,null,"% High-End Trim",null,{"$f":"IF('Tier Screening'!L7=\"Fixture Replacement Only - No Controls\", \"N/A\", 'Tier Screening'!M11)","v":"No"},null,null,null,null,"     Occupancy Sensor",null,{"$f":"'Tier Screening'!M15","v":"Not Installed"}]
[null,null,null,null,null,null,null,null,null,null,null,null,null,null,null,null,null,null,null,null,null,null,null,null,null,null,null,null,null,null,null,null,null,null,null,null,null,null,null,"     Daylight",null,{"$f":"'Tier Screening'!M16","v":"Not Installed"}]
[null,null,null,null,null,null,null,null,null,null,null,null,null,null,null,null,null,"% TLED Type A - Installed Wattage",null,{"$f":"IFERROR((SUMIFS(Table1[Proposed kW], Table1[Equipment Type],\"TLED\", Table1[TLED Type],\"A\"))/Table1[[#Totals],[Proposed kW]],\"-\")","v":"-"}," Requirement is <10% UL Type A TLEDs",null,null,null,null,null,null,null,null,null,null,null,null,null,null,null,null,null,null,"     Scheduled Dimming",null,{"$f":"'Tier Screening'!M17","v":"Not Installed"}]
[null,null,null,null,null,null,null,null,null,null,null,null,null,null,null,null,null,"% DLC/Energy Star - Installed Wattage",null,{"$f":"IFERROR((SUMIF(Table1[DLC/ES?],\"Yes\",Table1[Proposed kW])+SUMIF(Table1[DLC/ES?],\"ES approved\",Table1[Proposed kW]))/Table1[[#Totals],[Proposed kW]],\"-\")","v":"-"}," Requirement for Tier 1 and Tier 2 incentives is >75% DLC or Energy Star",null,null,null,null,null,null,null,null,null,null,null,null,null,null,null,null,null,null,"% High-End Trim",null,{"$f":"'Tier Screening'!M11","v":"No"}]
[]
[null,"General Information",null,null,null,null,null,null,"Existing Fixtures",null,null,null,null,null,null,null,null,null,"Proposed Fixtures",null,null,null,"Proposed Controls Strategies",null,null,null,null,null,null,null,"Total Savings",null,null,null,null,null,null,null,"Screening"]
[null,"Line","Fixture Location","Building and Floor","Lighting Location: Conditioned Space (Cooled) or Unconditioned Space","Measure","Operating Hours Group","Annual Operating Hours","Ex. Qty","Existing Fixture Code","Existing Fixture Description","Existing Lamp/Ballast Description","Existing Device Code","Existing Wattage","Existing kW","Existing kWh","Prop. Qty","Proposed Fixture Description","Manufacturer/Model Number","Proposed Wattage","Proposed kW","Proposed kWh","Proposed High End Trim\n(% of Max Fixture Output)","Proposed Control Strategy","% Output, if not off\n(Only If Occupancy Sensor Selected)","Percent Reduction from Control Strategies","Proposed Additional Control Strategy","% Output, if not off\n (If Occupancy Sensor Selected)","Percent Reduction from Additional Controls Strategy","Total Controls Savings (%)","Fixture kW Savings","Summer kW Reduction","Winter kW Reduction","Fixture kWh Savings","Total Controls kWh Savings","Cooling kWh Savings","Total kWh Savings","Percent On Peak kWh Savings","Application","Equipment Type","TLED Type","Application & Equipment Type","EUL","Lifetime Hours ","DLC/ES?","High End Trim?","Controls","Controls\nInstalled","Controls kWh Savings Excluding High-End Trim","Absolute Value of Total Incentivized kWh Savings","Total Incentivized kWh Savings","Total Incentivized Fixture kWh Savings","Total Incentivized Controls kWh Savings"]
[null,{"$f":"ROW(Table1[[#This Row],[Existing Lamp/Ballast Description]])-14","v":1},null,null,null,null,null,{"$f":"IFERROR(VLOOKUP(Table1[[#This Row],[Operating Hours Group]],HoursTable,3,0),\"\")","v":""},null,null,null,null,{"$f":"IFERROR(INDEX(Lookup!$B$3:$B$1550,MATCH(Table1[[#This Row],[Existing Lamp/Ballast Description]],Lookup!$C$3:$C$1550,0)),\"\")","v":""},{"$f":"IFERROR(IF(Table1[[#This Row],[Existing Fixture Code]]=\"\",(VLOOKUP(Table1[[#This Row],[Existing Device Code]],Lookup!$B$2:$D$1550,3,FALSE)), (VLOOKUP(Table1[[#This Row],[Existing Fixture Code]],Lookup!$B$2:$D$1550,3,FALSE))),\"\")","v":""},{"$f":"IFERROR(Table1[[#This Row],[Ex. Qty]]*Table1[[#This Row],[Existing Wattage]]/1000,\"\")","v":""},{"$f":"IFERROR(Table1[[#This Row],[Annual Operating Hours]]*Table1[[#This Row],[Existing kW]],\"\")","v":""},null,null,{"$f":"IFERROR(INDEX(Table2[[Merged model ]],MATCH(Table1[[#This Row],[Proposed Fixture Description]],Table2[Fixture Description],0)),\"\")","v":""},{"$f":"IFERROR(_xlfn.SINGLE(INDEX(ROUND(Table2[DLC/\nENERGY STAR Wattage],1),MATCH(Table1[[#This Row],[Proposed Fixture Description]],Table2[Fixture Description],0))),\"\")","v":""},{"$f":"IFERROR(IF(Table1[[#This Row],[Proposed Fixture Description]]=\"\",Table1[[#This Row],[Existing kW]],Table1[[#This Row],[Prop. Qty]]*Table1[[#This Row],[Proposed Wattage]]/1000),\"\")","v":""},{"$f":"IFERROR(Table1[[#This Row],[Annual Operating Hours]]*Table1[[#This Row],[Proposed kW]],\"\")","v":""},null,null,null,{"$f":"IFERROR(_xlfn.IFS(Table1[[#This Row],[Proposed Control Strategy]]=\"Scheduled Dimming\",INDEX('2 - Hours and Schedules'!$AB$6:$AB$15,MATCH(Table1[[#This Row],[Operating Hours Group]],'2 - Hours and Schedules'!$AA$6:$AA$15,0)), Table1[[#This Row],[Proposed Control Strategy]]=\"Daylight\",'Controls Lookup'!$B$2,Table1[[#This Row],[Proposed Control Strategy]]=\"Occupancy Sensor\",'Controls Lookup'!$C$2*(1-Table1[[#This Row],[% Output, if not off\n(Only If Occupancy Sensor Selected)]]),Table1[[#This Row],[Proposed Control Strategy]]=\"None\",'Controls Lookup'!$E$2),\"\")","v":""},null,null,{"$f":"IFERROR(_xlfn.IFS(Table1[[#This Row],[Proposed Additional Control Strategy]]=\"Scheduled Dimming\",INDEX('2 - Hours and Schedules'!$AB$6:$AB$15,MATCH(Table1[[#This Row],[Operating Hours Group]],'2 - Hours and Schedules'!$AA$6:$AA$15,0)), Table1[[#This Row],[Proposed Additional Control Strategy]]=\"Daylight\",'Controls Lookup'!$B$2,Table1[[#This Row],[Proposed Additional Control Strategy]]=\"Occupancy Sensor\",'Controls Lookup'!$C$2*(1-Table1[[#This Row],[% Output, if not off\n (If Occupancy Sensor Selected)]]),Table1[[#This Row],[Proposed Additional Control Strategy]]=\"None\",'Controls Lookup'!$E$2),\"\")","v":""},{"$f":"SUM(IF(Table1[[#This Row],[Proposed High End Trim\n(% of Max Fixture Output)]]=\"\",0,(1-Table1[[#This Row],[Proposed High End Trim\n(% of Max Fixture Output)]])*(1-IF(Table1[[#This Row],[Percent Reduction from Control Strategies]]=\"\",0,Table1[[#This Row],[Percent Reduction from Control Strategies]])-IF(Table1[[#This Row],[Percent Reduction from Additional Controls Strategy]]=\"\",0,Table1[[#This Row],[Percent Reduction from Additional Controls Strategy]]))),IF(Table1[[#This Row],[Percent Reduction from Control Strategies]]=\"\",0,Table1[[#This Row],[Percent Reduction from Control Strategies]]),IF(Table1[[#This Row],[Percent Reduction from Additional Controls Strategy]]=\"\",0,Table1[[#This Row],[Percent Reduction from Additional Controls Strategy]]))","v":0},{"$f":"IFERROR(IF(Table1[[#This Row],[Existing kW]]=\"\",-Table1[[#This Row],[Proposed kW]],Table1[[#This Row],[Existing kW]]-Table1[[#This Row],[Proposed kW]]),\"\")","v":""},{"$f":"IF(AND(ISBLANK(Table1[[#This Row],[Manufacturer/Model Number]]),ISNUMBER(Table1[[#This Row],[Prop. Qty]])),\"Missing Req'd Info\",IFERROR(IF(VLOOKUP(Table1[[#This Row],[Operating Hours Group]],HoursTable,5,FALSE)=1,Table1[[#This Row],[Fixture kW Savings]],0),\"\"))","v":""},{"$f":"IF(AND(ISBLANK(Table1[[#This Row],[Manufacturer/Model Number]]),ISNUMBER(Table1[[#This Row],[Prop. Qty]])),\"Missing Req'd Info\",IFERROR(IF(VLOOKUP(Table1[[#This Row],[Operating Hours Group]],HoursTable,6,FALSE),Table1[[#This Row],[Fixture kW Savings]],0),\"\"))","v":""},{"$f":"IFERROR(Table1[[#This Row],[Fixture kW Savings]]*Table1[[#This Row],[Annual Operating Hours]],\"\")","v":""},{"$f":"IF(AND(ISBLANK(Table1[[#This Row],[Manufacturer/Model Number]]),ISNUMBER(Table1[[#This Row],[Prop. Qty]])),\"Missing Req'd Info\",IFERROR((Table1[[#This Row],[Total Controls Savings (%)]]*Table1[[#This Row],[Proposed kWh]]),0))","v":0},{"$f":"IFERROR(IF(OR(Table1[[#This Row],[DLC/ES?]]=\"No\",Table1[[#This Row],[Lighting Location: Conditioned Space (Cooled) or Unconditioned Space]]=\"Unconditioned Space\"),0,(Lookup!$G$12*Table1[[#This Row],[Fixture kW Savings]]*0.8/Lookup!$G$14)),0)","v":0},{"$f":"IF(AND(ISBLANK(Table1[[#This Row],[Manufacturer/Model Number]]),ISNUMBER(Table1[[#This Row],[Prop. Qty]])),\"Missing Req'd Info\",IFERROR(Table1[[#This Row],[Fixture kWh Savings]]+Table1[[#This Row],[Total Controls kWh Savings]]+Table1[[#This Row],[Cooling kWh Savings]],\"\"))","v":""},{"$f":"IF(AND(ISBLANK(Table1[[#This Row],[Manufacturer/Model Number]]),ISNUMBER(Table1[[#This Row],[Prop. Qty]])),\"Missing Req'd Info\",IFERROR(VLOOKUP(Table1[[#This Row],[Operating Hours Group]],HoursTable,4,0),\"\"))","v":""},{"$f":"IFERROR(INDEX((Table2[Application]),MATCH(Table1[[#This Row],[Proposed Fixture Description]],Table2[Fixture Description],0)),\"\")","v":""},{"$f":"IFERROR(INDEX((Table2[Equipment Type]),MATCH(Table1[[#This Row],[Proposed Fixture Description]],Table2[Fixture Description],0)),\"\")","v":""},{"$f":"IFERROR(INDEX((Table2[TLED Type]),MATCH(Table1[[#This Row],[Proposed Fixture Description]],Table2[Fixture Description],0)),\"\")","v":""},{"$f":"Table1[[#This Row],[Application]]&\"|\"&Table1[[#This Row],[Equipment Type]]","v":"|"},{"$f":"VLOOKUP(Table1[[#This Row],[Application & Equipment Type]],'EUL Calc'!$D$6:$F$17,3,0)","v":{"$error":"#N/A"}},{"$f":"VLOOKUP(Table1[[#This Row],[Application & Equipment Type]],'EUL Calc'!$D$6:$G$17,4,0)","v":{"$error":"#N/A"}},{"$f":"IFERROR(INDEX(Table2[DLC/ENERGY STAR Approved?],MATCH(Table1[[#This Row],[Proposed Fixture Description]],Table2[Fixture Description],0)),0)","v":0},{"$f":"IF(Table1[[#This Row],[Proposed High End Trim\n(% of Max Fixture Output)]]<>\"\", \"Yes\", \"No\")","v":"No"},{"$f":"IF(Table1[[#This Row],[Proposed Additional Control Strategy]]=\"\",Table1[[#This Row],[Proposed Control Strategy]],_xlfn.CONCAT(Table1[[#This Row],[Proposed Control Strategy]], \" & \",Table1[[#This Row],[Proposed Additional Control Strategy]]))","v":0},{"$f":"IFERROR(INDEX(Table2[Fixture Controlled?],MATCH(Table1[[#This Row],[Proposed Fixture Description]],Table2[Fixture Description],0)),\"\")","v":""},{"$f":"IFERROR((Table1[[#This Row],[Percent Reduction from Control Strategies]]+Table1[[#This Row],[Percent Reduction from Additional Controls Strategy]])*Table1[[#This Row],[Proposed kWh]], IFERROR(Table1[[#This Row],[Percent Reduction from Control Strategies]]*Table1[[#This Row],[Proposed kWh]],\"\"))","v":""},{"$f":"IFERROR(ABS(Table1[[#This Row],[Total Incentivized kWh Savings]]), \"N/A\")","v":"N/A"},{"$f":"IF(OR(Table1[[#This Row],[Application]]=0,Table1[[#This Row],[DLC/ES?]]=\"No\",AND($AP$4=\"No\",Table1[[#This Row],[TLED Type]]=\"A\")),0,IFERROR(IF(AND($S$3=\"Tier 2 - Network Controls\",$AP$3=\"Yes\",$AP$5=\"Yes\",$AP$6=\"Yes\"), Table1[[#This Row],[Fixture kWh Savings]]+Table1[[#This Row],[Total Controls kWh Savings]]+Table1[[#This Row],[Cooling kWh Savings]], IF(AND($S$3=\"Tier 1 - Luminaire Level or Wireless Control\",$AP$3=\"Yes\",$AP$5=\"Yes\",$AP$6=\"Yes\"), Table1[[#This Row],[Fixture kWh Savings]]+Table1[[#This Row],[Total Controls kWh Savings]]+Table1[[#This Row],[Cooling kWh Savings]], IF(AND($S$3=\"Fixture Replacement Only - No Controls\",$AP$3=\"Yes\",Table1[[#This Row],[DLC/ES?]]<>\"No\"), (Table1[[#This Row],[Fixture kWh Savings]]+Table1[[#This Row],[Cooling kWh Savings]]+Table1[[#This Row],[Total Controls kWh Savings]]), \"-\"))),\"-\"))","v":"-"},{"$f":"IF(OR(Table1[[#This Row],[Application]]=0,Table1[[#This Row],[DLC/ES?]]=\"No\",AND($AP$4=\"No\",Table1[[#This Row],[TLED Type]]=\"A\")),0,IFERROR(IF(AND($S$3=\"Tier 2 - Network Controls\",$AP$3=\"Yes\",$AP$5=\"Yes\",$AP$6=\"Yes\"), Table1[[#This Row],[Fixture kWh Savings]]+Table1[[#This Row],[Cooling kWh Savings]], IF(AND($S$3=\"Tier 1 - Luminaire Level or Wireless Control\",$AP$3=\"Yes\",$AP$5=\"Yes\",$AP$6=\"Yes\"), Table1[[#This Row],[Fixture kWh Savings]]+Table1[[#This Row],[Cooling kWh Savings]], IF(AND($S$3=\"Fixture Replacement Only - No Controls\",$AP$3=\"Yes\",Table1[[#This Row],[DLC/ES?]]<>\"No\"), (Table1[[#This Row],[Fixture kWh Savings]]+Table1[[#This Row],[Cooling kWh Savings]]), \"-\"))),\"-\"))","v":"-"},{"$f":"IF(OR(Table1[[#This Row],[Application]]=0,Table1[[#This Row],[DLC/ES?]]=\"No\",AND($AP$4=\"No\",Table1[[#This Row],[TLED Type]]=\"A\")),0,IFERROR(IF(AND($S$3=\"Tier 2 - Network Controls\",$AP$3=\"Yes\",$AP$5=\"Yes\",$AP$6=\"Yes\"), Table1[[#This Row],[Total Controls kWh Savings]], IF(AND($S$3=\"Tier 1 - Luminaire Level or Wireless Control\",$AP$3=\"Yes\",$AP$5=\"Yes\",$AP$6=\"Yes\"), Table1[[#This Row],[Total Controls kWh Savings]], IF(AND($S$3=\"Fixture Replacement Only - No Controls\",$AP$3=\"Yes\",Table1[[#This Row],[DLC/ES?]]<>\"No\"), (Table1[[#This Row],[Total Controls kWh Savings]]), \"-\"))),\"-\"))","v":"-"}]
[null,{"$f":"ROW(Table1[[#This Row],[Existing Lamp/Ballast Description]])-14","v":2},null,null,null,null,null,{"$f":"IFERROR(VLOOKUP(Table1[[#This Row],[Operating Hours Group]],HoursTable,3,0),\"\")","v":""},null,null,null,null,{"$f":"IFERROR(INDEX(Lookup!$B$3:$B$1550,MATCH(Table1[[#This Row],[Existing Lamp/Ballast Description]],Lookup!$C$3:$C$1550,0)),\"\")","v":""},{"$f":"IFERROR(IF(Table1[[#This Row],[Existing Fixture Code]]=\"\",(VLOOKUP(Table1[[#This Row],[Existing Device Code]],Lookup!$B$2:$D$1550,3,FALSE)), (VLOOKUP(Table1[[#This Row],[Existing Fixture Code]],Lookup!$B$2:$D$1550,3,FALSE))),\"\")","v":""},{"$f":"IFERROR(Table1[[#This Row],[Ex. Qty]]*Table1[[#This Row],[Existing Wattage]]/1000,\"\")","v":""},{"$f":"IFERROR(Table1[[#This Row],[Annual Operating Hours]]*Table1[[#This Row],[Existing kW]],\"\")","v":""},null,null,{"$f":"IFERROR(INDEX(Table2[[Merged model ]],MATCH(Table1[[#This Row],[Proposed Fixture Description]],Table2[Fixture Description],0)),\"\")","v":""},{"$f":"IFERROR(_xlfn.SINGLE(INDEX(ROUND(Table2[DLC/\nENERGY STAR Wattage],1),MATCH(Table1[[#This Row],[Proposed Fixture Description]],Table2[Fixture Description],0))),\"\")","v":""},{"$f":"IFERROR(IF(Table1[[#This Row],[Proposed Fixture Description]]=\"\",Table1[[#This Row],[Existing kW]],Table1[[#This Row],[Prop. Qty]]*Table1[[#This Row],[Proposed Wattage]]/1000),\"\")","v":""},{"$f":"IFERROR(Table1[[#This Row],[Annual Operating Hours]]*Table1[[#This Row],[Proposed kW]],\"\")","v":""},null,null,null,{"$f":"IFERROR(_xlfn.IFS(Table1[[#This Row],[Proposed Control Strategy]]=\"Scheduled Dimming\",INDEX('2 - Hours and Schedules'!$AB$6:$AB$15,MATCH(Table1[[#This Row],[Operating Hours Group]],'2 - Hours and Schedules'!$AA$6:$AA$15,0)), Table1[[#This Row],[Proposed Control Strategy]]=\"Daylight\",'Controls Lookup'!$B$2,Table1[[#This Row],[Proposed Control Strategy]]=\"Occupancy Sensor\",'Controls Lookup'!$C$2*(1-Table1[[#This Row],[% Output, if not off\n(Only If Occupancy Sensor Selected)]]),Table1[[#This Row],[Proposed Control Strategy]]=\"None\",'Controls Lookup'!$E$2),\"\")","v":""},null,null,{"$f":"IFERROR(_xlfn.IFS(Table1[[#This Row],[Proposed Additional Control Strategy]]=\"Scheduled Dimming\",INDEX('2 - Hours and Schedules'!$AB$6:$AB$15,MATCH(Table1[[#This Row],[Operating Hours Group]],'2 - Hours and Schedules'!$AA$6:$AA$15,0)), Table1[[#This Row],[Proposed Additional Control Strategy]]=\"Daylight\",'Controls Lookup'!$B$2,Table1[[#This Row],[Proposed Additional Control Strategy]]=\"Occupancy Sensor\",'Controls Lookup'!$C$2*(1-Table1[[#This Row],[% Output, if not off\n (If Occupancy Sensor Selected)]]),Table1[[#This Row],[Proposed Additional Control Strategy]]=\"None\",'Controls Lookup'!$E$2),\"\")","v":""},{"$f":"SUM(IF(Table1[[#This Row],[Proposed High End Trim\n(% of Max Fixture Output)]]=\"\",0,(1-Table1[[#This Row],[Proposed High End Trim\n(% of Max Fixture Output)]])*(1-IF(Table1[[#This Row],[Percent Reduction from Control Strategies]]=\"\",0,Table1[[#This Row],[Percent Reduction from Control Strategies]])-IF(Table1[[#This Row],[Percent Reduction from Additional Controls Strategy]]=\"\",0,Table1[[#This Row],[Percent Reduction from Additional Controls Strategy]]))),IF(Table1[[#This Row],[Percent Reduction from Control Strategies]]=\"\",0,Table1[[#This Row],[Percent Reduction from Control Strategies]]),IF(Table1[[#This Row],[Percent Reduction from Additional Controls Strategy]]=\"\",0,Table1[[#This Row],[Percent Reduction from Additional Controls Strategy]]))","v":0},{"$f":"IFERROR(IF(Table1[[#This Row],[Existing kW]]=\"\",-Table1[[#This Row],[Proposed kW]],Table1[[#This Row],[Existing kW]]-Table1[[#This Row],[Proposed kW]]),\"\")","v":""},{"$f":"IF(AND(ISBLANK(Table1[[#This Row],[Manufacturer/Model Number]]),ISNUMBER(Table1[[#This Row],[Prop. Qty]])),\"Missing Req'd Info\",IFERROR(IF(VLOOKUP(Table1[[#This Row],[Operating Hours Group]],HoursTable,5,FALSE)=1,Table1[[#This Row],[Fixture kW Savings]],0),\"\"))","v":""},{"$f":"IF(AND(ISBLANK(Table1[[#This Row],[Manufacturer/Model Number]]),ISNUMBER(Table1[[#This Row],[Prop. Qty]])),\"Missing Req'd Info\",IFERROR(IF(VLOOKUP(Table1[[#This Row],[Operating Hours Group]],HoursTable,6,FALSE),Table1[[#This Row],[Fixture kW Savings]],0),\"\"))","v":""},{"$f":"IFERROR(Table1[[#This Row],[Fixture kW Savings]]*Table1[[#This Row],[Annual Operating Hours]],\"\")","v":""},{"$f":"IF(AND(ISBLANK(Table1[[#This Row],[Manufacturer/Model Number]]),ISNUMBER(Table1[[#This Row],[Prop. Qty]])),\"Missing Req'd Info\",IFERROR((Table1[[#This Row],[Total Controls Savings (%)]]*Table1[[#This Row],[Proposed kWh]]),0))","v":0},{"$f":"IFERROR(IF(OR(Table1[[#This Row],[DLC/ES?]]=\"No\",Table1[[#This Row],[Lighting Location: Conditioned Space (Cooled) or Unconditioned Space]]=\"Unconditioned Space\"),0,(Lookup!$G$12*Table1[[#This Row],[Fixture kW Savings]]*0.8/Lookup!$G$14)),0)","v":0},{"$f":"IF(AND(ISBLANK(Table1[[#This Row],[Manufacturer/Model Number]]),ISNUMBER(Table1[[#This Row],[Prop. Qty]])),\"Missing Req'd Info\",IFERROR(Table1[[#This Row],[Fixture kWh Savings]]+Table1[[#This Row],[Total Controls kWh Savings]]+Table1[[#This Row],[Cooling kWh Savings]],\"\"))","v":""},{"$f":"IF(AND(ISBLANK(Table1[[#This Row],[Manufacturer/Model Number]]),ISNUMBER(Table1[[#This Row],[Prop. Qty]])),\"Missing Req'd Info\",IFERROR(VLOOKUP(Table1[[#This Row],[Operating Hours Group]],HoursTable,4,0),\"\"))","v":""},{"$f":"IFERROR(INDEX((Table2[Application]),MATCH(Table1[[#This Row],[Proposed Fixture Description]],Table2[Fixture Description],0)),\"\")","v":""},{"$f":"IFERROR(INDEX((Table2[Equipment Type]),MATCH(Table1[[#This Row],[Proposed Fixture Description]],Table2[Fixture Description],0)),\"\")","v":""},{"$f":"IFERROR(INDEX((Table2[TLED Type]),MATCH(Table1[[#This Row],[Proposed Fixture Description]],Table2[Fixture Description],0)),\"\")","v":""},{"$f":"Table1[[#This Row],[Application]]&\"|\"&Table1[[#This Row],[Equipment Type]]","v":"|"},{"$f":"VLOOKUP(Table1[[#This Row],[Application & Equipment Type]],'EUL Calc'!$D$6:$F$17,3,0)","v":{"$error":"#N/A"}},{"$f":"VLOOKUP(Table1[[#This Row],[Application & Equipment Type]],'EUL Calc'!$D$6:$G$17,4,0)","v":{"$error":"#N/A"}},{"$f":"IFERROR(INDEX(Table2[DLC/ENERGY STAR Approved?],MATCH(Table1[[#This Row],[Proposed Fixture Description]],Table2[Fixture Description],0)),0)","v":0},{"$f":"IF(Table1[[#This Row],[Proposed High End Trim\n(% of Max Fixture Output)]]<>\"\", \"Yes\", \"No\")","v":"No"},{"$f":"IF(Table1[[#This Row],[Proposed Additional Control Strategy]]=\"\",Table1[[#This Row],[Proposed Control Strategy]],_xlfn.CONCAT(Table1[[#This Row],[Proposed Control Strategy]], \" & \",Table1[[#This Row],[Proposed Additional Control Strategy]]))","v":0},{"$f":"IFERROR(INDEX(Table2[Fixture Controlled?],MATCH(Table1[[#This Row],[Proposed Fixture Description]],Table2[Fixture Description],0)),\"\")","v":""},{"$f":"IFERROR((Table1[[#This Row],[Percent Reduction from Control Strategies]]+Table1[[#This Row],[Percent Reduction from Additional Controls Strategy]])*Table1[[#This Row],[Proposed kWh]], IFERROR(Table1[[#This Row],[Percent Reduction from Control Strategies]]*Table1[[#This Row],[Proposed kWh]],\"\"))","v":""},{"$f":"IFERROR(ABS(Table1[[#This Row],[Total Incentivized kWh Savings]]), \"N/A\")","v":"N/A"},{"$f":"IF(OR(Table1[[#This Row],[Application]]=0,Table1[[#This Row],[DLC/ES?]]=\"No\",AND($AP$4=\"No\",Table1[[#This Row],[TLED Type]]=\"A\")),0,IFERROR(IF(AND($S$3=\"Tier 2 - Network Controls\",$AP$3=\"Yes\",$AP$5=\"Yes\",$AP$6=\"Yes\"), Table1[[#This Row],[Fixture kWh Savings]]+Table1[[#This Row],[Total Controls kWh Savings]]+Table1[[#This Row],[Cooling kWh Savings]], IF(AND($S$3=\"Tier 1 - Luminaire Level or Wireless Control\",$AP$3=\"Yes\",$AP$5=\"Yes\",$AP$6=\"Yes\"), Table1[[#This Row],[Fixture kWh Savings]]+Table1[[#This Row],[Total Controls kWh Savings]]+Table1[[#This Row],[Cooling kWh Savings]], IF(AND($S$3=\"Fixture Replacement Only - No Controls\",$AP$3=\"Yes\",Table1[[#This Row],[DLC/ES?]]<>\"No\"), (Table1[[#This Row],[Fixture kWh Savings]]+Table1[[#This Row],[Cooling kWh Savings]]+Table1[[#This Row],[Total Controls kWh Savings]]), \"-\"))),\"-\"))","v":"-"},{"$f":"IF(OR(Table1[[#This Row],[Application]]=0,Table1[[#This Row],[DLC/ES?]]=\"No\",AND($AP$4=\"No\",Table1[[#This Row],[TLED Type]]=\"A\")),0,IFERROR(IF(AND($S$3=\"Tier 2 - Network Controls\",$AP$3=\"Yes\",$AP$5=\"Yes\",$AP$6=\"Yes\"), Table1[[#This Row],[Fixture kWh Savings]]+Table1[[#This Row],[Cooling kWh Savings]], IF(AND($S$3=\"Tier 1 - Luminaire Level or Wireless Control\",$AP$3=\"Yes\",$AP$5=\"Yes\",$AP$6=\"Yes\"), Table1[[#This Row],[Fixture kWh Savings]]+Table1[[#This Row],[Cooling kWh Savings]], IF(AND($S$3=\"Fixture Replacement Only - No Controls\",$AP$3=\"Yes\",Table1[[#This Row],[DLC/ES?]]<>\"No\"), (Table1[[#This Row],[Fixture kWh Savings]]+Table1[[#This Row],[Cooling kWh Savings]]), \"-\"))),\"-\"))","v":"-"},{"$f":"IF(OR(Table1[[#This Row],[Application]]=0,Table1[[#This Row],[DLC/ES?]]=\"No\",AND($AP$4=\"No\",Table1[[#This Row],[TLED Type]]=\"A\")),0,IFERROR(IF(AND($S$3=\"Tier 2 - Network Controls\",$AP$3=\"Yes\",$AP$5=\"Yes\",$AP$6=\"Yes\"), Table1[[#This Row],[Total Controls kWh Savings]], IF(AND($S$3=\"Tier 1 - Luminaire Level or Wireless Control\",$AP$3=\"Yes\",$AP$5=\"Yes\",$AP$6=\"Yes\"), Table1[[#This Row],[Total Controls kWh Savings]], IF(AND($S$3=\"Fixture Replacement Only - No Controls\",$AP$3=\"Yes\",Table1[[#This Row],[DLC/ES?]]<>\"No\"), (Table1[[#This Row],[Total Controls kWh Savings]]), \"-\"))),\"-\"))","v":"-"}]
[null,{"$f":"ROW(Table1[[#This Row],[Existing Lamp/Ballast Description]])-14","v":3},null,null,null,null,null,{"$f":"IFERROR(VLOOKUP(Table1[[#This Row],[Operating Hours Group]],HoursTable,3,0),\"\")","v":""},null,null,null,null,{"$f":"IFERROR(INDEX(Lookup!$B$3:$B$1550,MATCH(Table1[[#This Row],[Existing Lamp/Ballast Description]],Lookup!$C$3:$C$1550,0)),\"\")","v":""},{"$f":"IFERROR(IF(Table1[[#This Row],[Existing Fixture Code]]=\"\",(VLOOKUP(Table1[[#This Row],[Existing Device Code]],Lookup!$B$2:$D$1550,3,FALSE)), (VLOOKUP(Table1[[#This Row],[Existing Fixture Code]],Lookup!$B$2:$D$1550,3,FALSE))),\"\")","v":""},{"$f":"IFERROR(Table1[[#This Row],[Ex. Qty]]*Table1[[#This Row],[Existing Wattage]]/1000,\"\")","v":""},{"$f":"IFERROR(Table1[[#This Row],[Annual Operating Hours]]*Table1[[#This Row],[Existing kW]],\"\")","v":""},null,null,{"$f":"IFERROR(INDEX(Table2[[Merged model ]],MATCH(Table1[[#This Row],[Proposed Fixture Description]],Table2[Fixture Description],0)),\"\")","v":""},{"$f":"IFERROR(_xlfn.SINGLE(INDEX(ROUND(Table2[DLC/\nENERGY STAR Wattage],1),MATCH(Table1[[#This Row],[Proposed Fixture Description]],Table2[Fixture Description],0))),\"\")","v":""},{"$f":"IFERROR(IF(Table1[[#This Row],[Proposed Fixture Description]]=\"\",Table1[[#This Row],[Existing kW]],Table1[[#This Row],[Prop. Qty]]*Table1[[#This Row],[Proposed Wattage]]/1000),\"\")","v":""},{"$f":"IFERROR(Table1[[#This Row],[Annual Operating Hours]]*Table1[[#This Row],[Proposed kW]],\"\")","v":""},null,null,null,{"$f":"IFERROR(_xlfn.IFS(Table1[[#This Row],[Proposed Control Strategy]]=\"Scheduled Dimming\",INDEX('2 - Hours and Schedules'!$AB$6:$AB$15,MATCH(Table1[[#This Row],[Operating Hours Group]],'2 - Hours and Schedules'!$AA$6:$AA$15,0)), Table1[[#This Row],[Proposed Control Strategy]]=\"Daylight\",'Controls Lookup'!$B$2,Table1[[#This Row],[Proposed Control Strategy]]=\"Occupancy Sensor\",'Controls Lookup'!$C$2*(1-Table1[[#This Row],[% Output, if not off\n(Only If Occupancy Sensor Selected)]]),Table1[[#This Row],[Proposed Control Strategy]]=\"None\",'Controls Lookup'!$E$2),\"\")","v":""},null,null,{"$f":"IFERROR(_xlfn.IFS(Table1[[#This Row],[Proposed Additional Control Strategy]]=\"Scheduled Dimming\",INDEX('2 - Hours and Schedules'!$AB$6:$AB$15,MATCH(Table1[[#This Row],[Operating Hours Group]],'2 - Hours and Schedules'!$AA$6:$AA$15,0)), Table1[[#This Row],[Proposed Additional Control Strategy]]=\"Daylight\",'Controls Lookup'!$B$2,Table1[[#This Row],[Proposed Additional Control Strategy]]=\"Occupancy Sensor\",'Controls Lookup'!$C$2*(1-Table1[[#This Row],[% Output, if not off\n (If Occupancy Sensor Selected)]]),Table1[[#This Row],[Proposed Additional Control Strategy]]=\"None\",'Controls Lookup'!$E$2),\"\")","v":""},{"$f":"SUM(IF(Table1[[#This Row],[Proposed High End Trim\n(% of Max Fixture Output)]]=\"\",0,(1-Table1[[#This Row],[Proposed High End Trim\n(% of Max Fixture Output)]])*(1-IF(Table1[[#This Row],[Percent Reduction from Control Strategies]]=\"\",0,Table1[[#This Row],[Percent Reduction from Control Strategies]])-IF(Table1[[#This Row],[Percent Reduction from Additional Controls Strategy]]=\"\",0,Table1[[#This Row],[Percent Reduction from Additional Controls Strategy]]))),IF(Table1[[#This Row],[Percent Reduction from Control Strategies]]=\"\",0,Table1[[#This Row],[Percent Reduction from Control Strategies]]),IF(Table1[[#This Row],[Percent Reduction from Additional Controls Strategy]]=\"\",0,Table1[[#This Row],[Percent Reduction from Additional Controls Strategy]]))","v":0},{"$f":"IFERROR(IF(Table1[[#This Row],[Existing kW]]=\"\",-Table1[[#This Row],[Proposed kW]],Table1[[#This Row],[Existing kW]]-Table1[[#This Row],[Proposed kW]]),\"\")","v":""},{"$f":"IF(AND(ISBLANK(Table1[[#This Row],[Manufacturer/Model Number]]),ISNUMBER(Table1[[#This Row],[Prop. Qty]])),\"Missing Req'd Info\",IFERROR(IF(VLOOKUP(Table1[[#This Row],[Operating Hours Group]],HoursTable,5,FALSE)=1,Table1[[#This Row],[Fixture kW Savings]],0),\"\"))","v":""},{"$f":"IF(AND(ISBLANK(Table1[[#This Row],[Manufacturer/Model Number]]),ISNUMBER(Table1[[#This Row],[Prop. Qty]])),\"Missing Req'd Info\",IFERROR(IF(VLOOKUP(Table1[[#This Row],[Operating Hours Group]],HoursTable,6,FALSE),Table1[[#This Row],[Fixture kW Savings]],0),\"\"))","v":""},{"$f":"IFERROR(Table1[[#This Row],[Fixture kW Savings]]*Table1[[#This Row],[Annual Operating Hours]],\"\")","v":""},{"$f":"IF(AND(ISBLANK(Table1[[#This Row],[Manufacturer/Model Number]]),ISNUMBER(Table1[[#This Row],[Prop. Qty]])),\"Missing Req'd Info\",IFERROR((Table1[[#This Row],[Total Controls Savings (%)]]*Table1[[#This Row],[Proposed kWh]]),0))","v":0},{"$f":"IFERROR(IF(OR(Table1[[#This Row],[DLC/ES?]]=\"No\",Table1[[#This Row],[Lighting Location: Conditioned Space (Cooled) or Unconditioned Space]]=\"Unconditioned Space\"),0,(Lookup!$G$12*Table1[[#This Row],[Fixture kW Savings]]*0.8/Lookup!$G$14)),0)","v":0},{"$f":"IF(AND(ISBLANK(Table1[[#This Row],[Manufacturer/Model Number]]),ISNUMBER(Table1[[#This Row],[Prop. Qty]])),\"Missing Req'd Info\",IFERROR(Table1[[#This Row],[Fixture kWh Savings]]+Table1[[#This Row],[Total Controls kWh Savings]]+Table1[[#This Row],[Cooling kWh Savings]],\"\"))","v":""},{"$f":"IF(AND(ISBLANK(Table1[[#This Row],[Manufacturer/Model Number]]),ISNUMBER(Table1[[#This Row],[Prop. Qty]])),\"Missing Req'd Info\",IFERROR(VLOOKUP(Table1[[#This Row],[Operating Hours Group]],HoursTable,4,0),\"\"))","v":""},{"$f":"IFERROR(INDEX((Table2[Application]),MATCH(Table1[[#This Row],[Proposed Fixture Description]],Table2[Fixture Description],0)),\"\")","v":""},{"$f":"IFERROR(INDEX((Table2[Equipment Type]),MATCH(Table1[[#This Row],[Proposed Fixture Description]],Table2[Fixture Description],0)),\"\")","v":""},{"$f":"IFERROR(INDEX((Table2[TLED Type]),MATCH(Table1[[#This Row],[Proposed Fixture Description]],Table2[Fixture Description],0)),\"\")","v":""},{"$f":"Table1[[#This Row],[Application]]&\"|\"&Table1[[#This Row],[Equipment Type]]","v":"|"},{"$f":"VLOOKUP(Table1[[#This Row],[Application & Equipment Type]],'EUL Calc'!$D$6:$F$17,3,0)","v":{"$error":"#N/A"}},{"$f":"VLOOKUP(Table1[[#This Row],[Application & Equipment Type]],'EUL Calc'!$D$6:$G$17,4,0)","v":{"$error":"#N/A"}},{"$f":"IFERROR(INDEX(Table2[DLC/ENERGY STAR Approved?],MATCH(Table1[[#This Row],[Proposed Fixture Description]],Table2[Fixture Description],0)),0)","v":0},{"$f":"IF(Table1[[#This Row],[Proposed High End Trim\n(% of Max Fixture Output)]]<>\"\", \"Yes\", \"No\")","v":"No"},{"$f":"IF(Table1[[#This Row],[Proposed Additional Control Strategy]]=\"\",Table1[[#This Row],[Proposed Control Strategy]],_xlfn.CONCAT(Table1[[#This Row],[Proposed Control Strategy]], \" & \",Table1[[#This Row],[Proposed Additional Control Strategy]]))","v":0},{"$f":"IFERROR(INDEX(Table2[Fixture Controlled?],MATCH(Table1[[#This Row],[Proposed Fixture Description]],Table2[Fixture Description],0)),\"\")","v":""},{"$f":"IFERROR((Table1[[#This Row],[Percent Reduction from Control Strategies]]+Table1[[#This Row],[Percent Reduction from Additional Controls Strategy]])*Table1[[#This Row],[Proposed kWh]], IFERROR(Table1[[#This Row],[Percent Reduction from Control Strategies]]*Table1[[#This Row],[Proposed kWh]],\"\"))","v":""},{"$f":"IFERROR(ABS(Table1[[#This Row],[Total Incentivized kWh Savings]]), \"N/A\")","v":"N/A"},{"$f":"IF(OR(Table1[[#This Row],[Application]]=0,Table1[[#This Row],[DLC/ES?]]=\"No\",AND($AP$4=\"No\",Table1[[#This Row],[TLED Type]]=\"A\")),0,IFERROR(IF(AND($S$3=\"Tier 2 - Network Controls\",$AP$3=\"Yes\",$AP$5=\"Yes\",$AP$6=\"Yes\"), Table1[[#This Row],[Fixture kWh Savings]]+Table1[[#This Row],[Total Controls kWh Savings]]+Table1[[#This Row],[Cooling kWh Savings]], IF(AND($S$3=\"Tier 1 - Luminaire Level or Wireless Control\",$AP$3=\"Yes\",$AP$5=\"Yes\",$AP$6=\"Yes\"), Table1[[#This Row],[Fixture kWh Savings]]+Table1[[#This Row],[Total Controls kWh Savings]]+Table1[[#This Row],[Cooling kWh Savings]], IF(AND($S$3=\"Fixture Replacement Only - No Controls\",$AP$3=\"Yes\",Table1[[#This Row],[DLC/ES?]]<>\"No\"), (Table1[[#This Row],[Fixture kWh Savings]]+Table1[[#This Row],[Cooling kWh Savings]]+Table1[[#This Row],[Total Controls kWh Savings]]), \"-\"))),\"-\"))","v":"-"},{"$f":"IF(OR(Table1[[#This Row],[Application]]=0,Table1[[#This Row],[DLC/ES?]]=\"No\",AND($AP$4=\"No\",Table1[[#This Row],[TLED Type]]=\"A\")),0,IFERROR(IF(AND($S$3=\"Tier 2 - Network Controls\",$AP$3=\"Yes\",$AP$5=\"Yes\",$AP$6=\"Yes\"), Table1[[#This Row],[Fixture kWh Savings]]+Table1[[#This Row],[Cooling kWh Savings]], IF(AND($S$3=\"Tier 1 - Luminaire Level or Wireless Control\",$AP$3=\"Yes\",$AP$5=\"Yes\",$AP$6=\"Yes\"), Table1[[#This Row],[Fixture kWh Savings]]+Table1[[#This Row],[Cooling kWh Savings]], IF(AND($S$3=\"Fixture Replacement Only - No Controls\",$AP$3=\"Yes\",Table1[[#This Row],[DLC/ES?]]<>\"No\"), (Table1[[#This Row],[Fixture kWh Savings]]+Table1[[#This Row],[Cooling kWh Savings]]), \"-\"))),\"-\"))","v":"-"},{"$f":"IF(OR(Table1[[#This Row],[Application]]=0,Table1[[#This Row],[DLC/ES?]]=\"No\",AND($AP$4=\"No\",Table1[[#This Row],[TLED Type]]=\"A\")),0,IFERROR(IF(AND($S$3=\"Tier 2 - Network Controls\",$AP$3=\"Yes\",$AP$5=\"Yes\",$AP$6=\"Yes\"), Table1[[#This Row],[Total Controls kWh Savings]], IF(AND($S$3=\"Tier 1 - Luminaire Level or Wireless Control\",$AP$3=\"Yes\",$AP$5=\"Yes\",$AP$6=\"Yes\"), Table1[[#This Row],[Total Controls kWh Savings]], IF(AND($S$3=\"Fixture Replacement Only - No Controls\",$AP$3=\"Yes\",Table1[[#This Row],[DLC/ES?]]<>\"No\"), (Table1[[#This Row],[Total Controls kWh Savings]]), \"-\"))),\"-\"))","v":"-"}]
[null,{"$f":"ROW(Table1[[#This Row],[Existing Lamp/Ballast Description]])-14","v":4},null,null,null,null,null,{"$f":"IFERROR(VLOOKUP(Table1[[#This Row],[Operating Hours Group]],HoursTable,3,0),\"\")","v":""},null,null,null,null,{"$f":"IFERROR(INDEX(Lookup!$B$3:$B$1550,MATCH(Table1[[#This Row],[Existing Lamp/Ballast Description]],Lookup!$C$3:$C$1550,0)),\"\")","v":""},{"$f":"IFERROR(IF(Table1[[#This Row],[Existing Fixture Code]]=\"\",(VLOOKUP(Table1[[#This Row],[Existing Device Code]],Lookup!$B$2:$D$1550,3,FALSE)), (VLOOKUP(Table1[[#This Row],[Existing Fixture Code]],Lookup!$B$2:$D$1550,3,FALSE))),\"\")","v":""},{"$f":"IFERROR(Table1[[#This Row],[Ex. Qty]]*Table1[[#This Row],[Existing Wattage]]/1000,\"\")","v":""},{"$f":"IFERROR(Table1[[#This Row],[Annual Operating Hours]]*Table1[[#This Row],[Existing kW]],\"\")","v":""},null,null,{"$f":"IFERROR(INDEX(Table2[[Merged model ]],MATCH(Table1[[#This Row],[Proposed Fixture Description]],Table2[Fixture Description],0)),\"\")","v":""},{"$f":"IFERROR(_xlfn.SINGLE(INDEX(ROUND(Table2[DLC/\nENERGY STAR Wattage],1),MATCH(Table1[[#This Row],[Proposed Fixture Description]],Table2[Fixture Description],0))),\"\")","v":""},{"$f":"IFERROR(IF(Table1[[#This Row],[Proposed Fixture Description]]=\"\",Table1[[#This Row],[Existing kW]],Table1[[#This Row],[Prop. Qty]]*Table1[[#This Row],[Proposed Wattage]]/1000),\"\")","v":""},{"$f":"IFERROR(Table1[[#This Row],[Annual Operating Hours]]*Table1[[#This Row],[Proposed kW]],\"\")","v":""},null,null,null,{"$f":"IFERROR(_xlfn.IFS(Table1[[#This Row],[Proposed Control Strategy]]=\"Scheduled Dimming\",INDEX('2 - Hours and Schedules'!$AB$6:$AB$15,MATCH(Table1[[#This Row],[Operating Hours Group]],'2 - Hours and Schedules'!$AA$6:$AA$15,0)), Table1[[#This Row],[Proposed Control Strategy]]=\"Daylight\",'Controls Lookup'!$B$2,Table1[[#This Row],[Proposed Control Strategy]]=\"Occupancy Sensor\",'Controls Lookup'!$C$2*(1-Table1[[#This Row],[% Output, if not off\n(Only If Occupancy Sensor Selected)]]),Table1[[#This Row],[Proposed Control Strategy]]=\"None\",'Controls Lookup'!$E$2),\"\")","v":""},null,null,{"$f":"IFERROR(_xlfn.IFS(Table1[[#This Row],[Proposed Additional Control Strategy]]=\"Scheduled Dimming\",INDEX('2 - Hours and Schedules'!$AB$6:$AB$15,MATCH(Table1[[#This Row],[Operating Hours Group]],'2 - Hours and Schedules'!$AA$6:$AA$15,0)), Table1[[#This Row],[Proposed Additional Control Strategy]]=\"Daylight\",'Controls Lookup'!$B$2,Table1[[#This Row],[Proposed Additional Control Strategy]]=\"Occupancy Sensor\",'Controls Lookup'!$C$2*(1-Table1[[#This Row],[% Output, if not off\n (If Occupancy Sensor Selected)]]),Table1[[#This Row],[Proposed Additional Control Strategy]]=\"None\",'Controls Lookup'!$E$2),\"\")","v":""},{"$f":"SUM(IF(Table1[[#This Row],[Proposed High End Trim\n(% of Max Fixture Output)]]=\"\",0,(1-Table1[[#This Row],[Proposed High End Trim\n(% of Max Fixture Output)]])*(1-IF(Table1[[#This Row],[Percent Reduction from Control Strategies]]=\"\",0,Table1[[#This Row],[Percent Reduction from Control Strategies]])-IF(Table1[[#This Row],[Percent Reduction from Additional Controls Strategy]]=\"\",0,Table1[[#This Row],[Percent Reduction from Additional Controls Strategy]]))),IF(Table1[[#This Row],[Percent Reduction from Control Strategies]]=\"\",0,Table1[[#This Row],[Percent Reduction from Control Strategies]]),IF(Table1[[#This Row],[Percent Reduction from Additional Controls Strategy]]=\"\",0,Table1[[#This Row],[Percent Reduction from Additional Controls Strategy]]))","v":0},{"$f":"IFERROR(IF(Table1[[#This Row],[Existing kW]]=\"\",-Table1[[#This Row],[Proposed kW]],Table1[[#This Row],[Existing kW]]-Table1[[#This Row],[Proposed kW]]),\"\")","v":""},{"$f":"IF(AND(ISBLANK(Table1[[#This Row],[Manufacturer/Model Number]]),ISNUMBER(Table1[[#This Row],[Prop. Qty]])),\"Missing Req'd Info\",IFERROR(IF(VLOOKUP(Table1[[#This Row],[Operating Hours Group]],HoursTable,5,FALSE)=1,Table1[[#This Row],[Fixture kW Savings]],0),\"\"))","v":""},{"$f":"IF(AND(ISBLANK(Table1[[#This Row],[Manufacturer/Model Number]]),ISNUMBER(Table1[[#This Row],[Prop. Qty]])),\"Missing Req'd Info\",IFERROR(IF(VLOOKUP(Table1[[#This Row],[Operating Hours Group]],HoursTable,6,FALSE),Table1[[#This Row],[Fixture kW Savings]],0),\"\"))","v":""},{"$f":"IFERROR(Table1[[#This Row],[Fixture kW Savings]]*Table1[[#This Row],[Annual Operating Hours]],\"\")","v":""},{"$f":"IF(AND(ISBLANK(Table1[[#This Row],[Manufacturer/Model Number]]),ISNUMBER(Table1[[#This Row],[Prop. Qty]])),\"Missing Req'd Info\",IFERROR((Table1[[#This Row],[Total Controls Savings (%)]]*Table1[[#This Row],[Proposed kWh]]),0))","v":0},{"$f":"IFERROR(IF(OR(Table1[[#This Row],[DLC/ES?]]=\"No\",Table1[[#This Row],[Lighting Location: Conditioned Space (Cooled) or Unconditioned Space]]=\"Unconditioned Space\"),0,(Lookup!$G$12*Table1[[#This Row],[Fixture kW Savings]]*0.8/Lookup!$G$14)),0)","v":0},{"$f":"IF(AND(ISBLANK(Table1[[#This Row],[Manufacturer/Model Number]]),ISNUMBER(Table1[[#This Row],[Prop. Qty]])),\"Missing Req'd Info\",IFERROR(Table1[[#This Row],[Fixture kWh Savings]]+Table1[[#This Row],[Total Controls kWh Savings]]+Table1[[#This Row],[Cooling kWh Savings]],\"\"))","v":""},{"$f":"IF(AND(ISBLANK(Table1[[#This Row],[Manufacturer/Model Number]]),ISNUMBER(Table1[[#This Row],[Prop. Qty]])),\"Missing Req'd Info\",IFERROR(VLOOKUP(Table1[[#This Row],[Operating Hours Group]],HoursTable,4,0),\"\"))","v":""},{"$f":"IFERROR(INDEX((Table2[Application]),MATCH(Table1[[#This Row],[Proposed Fixture Description]],Table2[Fixture Description],0)),\"\")","v":""},{"$f":"IFERROR(INDEX((Table2[Equipment Type]),MATCH(Table1[[#This Row],[Proposed Fixture Description]],Table2[Fixture Description],0)),\"\")","v":""},{"$f":"IFERROR(INDEX((Table2[TLED Type]),MATCH(Table1[[#This Row],[Proposed Fixture Description]],Table2[Fixture Description],0)),\"\")","v":""},{"$f":"Table1[[#This Row],[Application]]&\"|\"&Table1[[#This Row],[Equipment Type]]","v":"|"},{"$f":"VLOOKUP(Table1[[#This Row],[Application & Equipment Type]],'EUL Calc'!$D$6:$F$17,3,0)","v":{"$error":"#N/A"}},{"$f":"VLOOKUP(Table1[[#This Row],[Application & Equipment Type]],'EUL Calc'!$D$6:$G$17,4,0)","v":{"$error":"#N/A"}},{"$f":"IFERROR(INDEX(Table2[DLC/ENERGY STAR Approved?],MATCH(Table1[[#This Row],[Proposed Fixture Description]],Table2[Fixture Description],0)),0)","v":0},{"$f":"IF(Table1[[#This Row],[Proposed High End Trim\n(% of Max Fixture Output)]]<>\"\", \"Yes\", \"No\")","v":"No"},{"$f":"IF(Table1[[#This Row],[Proposed Additional Control Strategy]]=\"\",Table1[[#This Row],[Proposed Control Strategy]],_xlfn.CONCAT(Table1[[#This Row],[Proposed Control Strategy]], \" & \",Table1[[#This Row],[Proposed Additional Control Strategy]]))","v":0},{"$f":"IFERROR(INDEX(Table2[Fixture Controlled?],MATCH(Table1[[#This Row],[Proposed Fixture Description]],Table2[Fixture Description],0)),\"\")","v":""},{"$f":"IFERROR((Table1[[#This Row],[Percent Reduction from Control Strategies]]+Table1[[#This Row],[Percent Reduction from Additional Controls Strategy]])*Table1[[#This Row],[Proposed kWh]], IFERROR(Table1[[#This Row],[Percent Reduction from Control Strategies]]*Table1[[#This Row],[Proposed kWh]],\"\"))","v":""},{"$f":"IFERROR(ABS(Table1[[#This Row],[Total Incentivized kWh Savings]]), \"N/A\")","v":"N/A"},{"$f":"IF(OR(Table1[[#This Row],[Application]]=0,Table1[[#This Row],[DLC/ES?]]=\"No\",AND($AP$4=\"No\",Table1[[#This Row],[TLED Type]]=\"A\")),0,IFERROR(IF(AND($S$3=\"Tier 2 - Network Controls\",$AP$3=\"Yes\",$AP$5=\"Yes\",$AP$6=\"Yes\"), Table1[[#This Row],[Fixture kWh Savings]]+Table1[[#This Row],[Total Controls kWh Savings]]+Table1[[#This Row],[Cooling kWh Savings]], IF(AND($S$3=\"Tier 1 - Luminaire Level or Wireless Control\",$AP$3=\"Yes\",$AP$5=\"Yes\",$AP$6=\"Yes\"), Table1[[#This Row],[Fixture kWh Savings]]+Table1[[#This Row],[Total Controls kWh Savings]]+Table1[[#This Row],[Cooling kWh Savings]], IF(AND($S$3=\"Fixture Replacement Only - No Controls\",$AP$3=\"Yes\",Table1[[#This Row],[DLC/ES?]]<>\"No\"), (Table1[[#This Row],[Fixture kWh Savings]]+Table1[[#This Row],[Cooling kWh Savings]]+Table1[[#This Row],[Total Controls kWh Savings]]), \"-\"))),\"-\"))","v":"-"},{"$f":"IF(OR(Table1[[#This Row],[Application]]=0,Table1[[#This Row],[DLC/ES?]]=\"No\",AND($AP$4=\"No\",Table1[[#This Row],[TLED Type]]=\"A\")),0,IFERROR(IF(AND($S$3=\"Tier 2 - Network Controls\",$AP$3=\"Yes\",$AP$5=\"Yes\",$AP$6=\"Yes\"), Table1[[#This Row],[Fixture kWh Savings]]+Table1[[#This Row],[Cooling kWh Savings]], IF(AND($S$3=\"Tier 1 - Luminaire Level or Wireless Control\",$AP$3=\"Yes\",$AP$5=\"Yes\",$AP$6=\"Yes\"), Table1[[#This Row],[Fixture kWh Savings]]+Table1[[#This Row],[Cooling kWh Savings]], IF(AND($S$3=\"Fixture Replacement Only - No Controls\",$AP$3=\"Yes\",Table1[[#This Row],[DLC/ES?]]<>\"No\"), (Table1[[#This Row],[Fixture kWh Savings]]+Table1[[#This Row],[Cooling kWh Savings]]), \"-\"))),\"-\"))","v":"-"},{"$f":"IF(OR(Table1[[#This Row],[Application]]=0,Table1[[#This Row],[DLC/ES?]]=\"No\",AND($AP$4=\"No\",Table1[[#This Row],[TLED Type]]=\"A\")),0,IFERROR(IF(AND($S$3=\"Tier 2 - Network Controls\",$AP$3=\"Yes\",$AP$5=\"Yes\",$AP$6=\"Yes\"), Table1[[#This Row],[Total Controls kWh Savings]], IF(AND($S$3=\"Tier 1 - Luminaire Level or Wireless Control\",$AP$3=\"Yes\",$AP$5=\"Yes\",$AP$6=\"Yes\"), Table1[[#This Row],[Total Controls kWh Savings]], IF(AND($S$3=\"Fixture Replacement Only - No Controls\",$AP$3=\"Yes\",Table1[[#This Row],[DLC/ES?]]<>\"No\"), (Table1[[#This Row],[Total Controls kWh Savings]]), \"-\"))),\"-\"))","v":"-"}]
[null,{"$f":"ROW(Table1[[#This Row],[Existing Lamp/Ballast Description]])-14","v":5},null,null,null,null,null,{"$f":"IFERROR(VLOOKUP(Table1[[#This Row],[Operating Hours Group]],HoursTable,3,0),\"\")","v":""},null,null,null,null,{"$f":"IFERROR(INDEX(Lookup!$B$3:$B$1550,MATCH(Table1[[#This Row],[Existing Lamp/Ballast Description]],Lookup!$C$3:$C$1550,0)),\"\")","v":""},{"$f":"IFERROR(IF(Table1[[#This Row],[Existing Fixture Code]]=\"\",(VLOOKUP(Table1[[#This Row],[Existing Device Code]],Lookup!$B$2:$D$1550,3,FALSE)), (VLOOKUP(Table1[[#This Row],[Existing Fixture Code]],Lookup!$B$2:$D$1550,3,FALSE))),\"\")","v":""},{"$f":"IFERROR(Table1[[#This Row],[Ex. Qty]]*Table1[[#This Row],[Existing Wattage]]/1000,\"\")","v":""},{"$f":"IFERROR(Table1[[#This Row],[Annual Operating Hours]]*Table1[[#This Row],[Existing kW]],\"\")","v":""},null,null,{"$f":"IFERROR(INDEX(Table2[[Merged model ]],MATCH(Table1[[#This Row],[Proposed Fixture Description]],Table2[Fixture Description],0)),\"\")","v":""},{"$f":"IFERROR(_xlfn.SINGLE(INDEX(ROUND(Table2[DLC/\nENERGY STAR Wattage],1),MATCH(Table1[[#This Row],[Proposed Fixture Description]],Table2[Fixture Description],0))),\"\")","v":""},{"$f":"IFERROR(IF(Table1[[#This Row],[Proposed Fixture Description]]=\"\",Table1[[#This Row],[Existing kW]],Table1[[#This Row],[Prop. Qty]]*Table1[[#This Row],[Proposed Wattage]]/1000),\"\")","v":""},{"$f":"IFERROR(Table1[[#This Row],[Annual Operating Hours]]*Table1[[#This Row],[Proposed kW]],\"\")","v":""},null,null,null,{"$f":"IFERROR(_xlfn.IFS(Table1[[#This Row],[Proposed Control Strategy]]=\"Scheduled Dimming\",INDEX('2 - Hours and Schedules'!$AB$6:$AB$15,MATCH(Table1[[#This Row],[Operating Hours Group]],'2 - Hours and Schedules'!$AA$6:$AA$15,0)), Table1[[#This Row],[Proposed Control Strategy]]=\"Daylight\",'Controls Lookup'!$B$2,Table1[[#This Row],[Proposed Control Strategy]]=\"Occupancy Sensor\",'Controls Lookup'!$C$2*(1-Table1[[#This Row],[% Output, if not off\n(Only If Occupancy Sensor Selected)]]),Table1[[#This Row],[Proposed Control Strategy]]=\"None\",'Controls Lookup'!$E$2),\"\")","v":""},null,null,{"$f":"IFERROR(_xlfn.IFS(Table1[[#This Row],[Proposed Additional Control Strategy]]=\"Scheduled Dimming\",INDEX('2 - Hours and Schedules'!$AB$6:$AB$15,MATCH(Table1[[#This Row],[Operating Hours Group]],'2 - Hours and Schedules'!$AA$6:$AA$15,0)), Table1[[#This Row],[Proposed Additional Control Strategy]]=\"Daylight\",'Controls Lookup'!$B$2,Table1[[#This Row],[Proposed Additional Control Strategy]]=\"Occupancy Sensor\",'Controls Lookup'!$C$2*(1-Table1[[#This Row],[% Output, if not off\n (If Occupancy Sensor Selected)]]),Table1[[#This Row],[Proposed Additional Control Strategy]]=\"None\",'Controls Lookup'!$E$2),\"\")","v":""},{"$f":"SUM(IF(Table1[[#This Row],[Proposed High End Trim\n(% of Max Fixture Output)]]=\"\",0,(1-Table1[[#This Row],[Proposed High End Trim\n(% of Max Fixture Output)]])*(1-IF(Table1[[#This Row],[Percent Reduction from Control Strategies]]=\"\",0,Table1[[#This Row],[Percent Reduction from Control Strategies]])-IF(Table1[[#This Row],[Percent Reduction from Additional Controls Strategy]]=\"\",0,Table1[[#This Row],[Percent Reduction from Additional Controls Strategy]]))),IF(Table1[[#This Row],[Percent Reduction from Control Strategies]]=\"\",0,Table1[[#This Row],[Percent Reduction from Control Strategies]]),IF(Table1[[#This Row],[Percent Reduction from Additional Controls Strategy]]=\"\",0,Table1[[#This Row],[Percent Reduction from Additional Controls Strategy]]))","v":0},{"$f":"IFERROR(IF(Table1[[#This Row],[Existing kW]]=\"\",-Table1[[#This Row],[Proposed kW]],Table1[[#This Row],[Existing kW]]-Table1[[#This Row],[Proposed kW]]),\"\")","v":""},{"$f":"IF(AND(ISBLANK(Table1[[#This Row],[Manufacturer/Model Number]]),ISNUMBER(Table1[[#This Row],[Prop. Qty]])),\"Missing Req'd Info\",IFERROR(IF(VLOOKUP(Table1[[#This Row],[Operating Hours Group]],HoursTable,5,FALSE)=1,Table1[[#This Row],[Fixture kW Savings]],0),\"\"))","v":""},{"$f":"IF(AND(ISBLANK(Table1[[#This Row],[Manufacturer/Model Number]]),ISNUMBER(Table1[[#This Row],[Prop. Qty]])),\"Missing Req'd Info\",IFERROR(IF(VLOOKUP(Table1[[#This Row],[Operating Hours Group]],HoursTable,6,FALSE),Table1[[#This Row],[Fixture kW Savings]],0),\"\"))","v":""},{"$f":"IFERROR(Table1[[#This Row],[Fixture kW Savings]]*Table1[[#This Row],[Annual Operating Hours]],\"\")","v":""},{"$f":"IF(AND(ISBLANK(Table1[[#This Row],[Manufacturer/Model Number]]),ISNUMBER(Table1[[#This Row],[Prop. Qty]])),\"Missing Req'd Info\",IFERROR((Table1[[#This Row],[Total Controls Savings (%)]]*Table1[[#This Row],[Proposed kWh]]),0))","v":0},{"$f":"IFERROR(IF(OR(Table1[[#This Row],[DLC/ES?]]=\"No\",Table1[[#This Row],[Lighting Location: Conditioned Space (Cooled) or Unconditioned Space]]=\"Unconditioned Space\"),0,(Lookup!$G$12*Table1[[#This Row],[Fixture kW Savings]]*0.8/Lookup!$G$14)),0)","v":0},{"$f":"IF(AND(ISBLANK(Table1[[#This Row],[Manufacturer/Model Number]]),ISNUMBER(Table1[[#This Row],[Prop. Qty]])),\"Missing Req'd Info\",IFERROR(Table1[[#This Row],[Fixture kWh Savings]]+Table1[[#This Row],[Total Controls kWh Savings]]+Table1[[#This Row],[Cooling kWh Savings]],\"\"))","v":""},{"$f":"IF(AND(ISBLANK(Table1[[#This Row],[Manufacturer/Model Number]]),ISNUMBER(Table1[[#This Row],[Prop. Qty]])),\"Missing Req'd Info\",IFERROR(VLOOKUP(Table1[[#This Row],[Operating Hours Group]],HoursTable,4,0),\"\"))","v":""},{"$f":"IFERROR(INDEX((Table2[Application]),MATCH(Table1[[#This Row],[Proposed Fixture Description]],Table2[Fixture Description],0)),\"\")","v":""},{"$f":"IFERROR(INDEX((Table2[Equipment Type]),MATCH(Table1[[#This Row],[Proposed Fixture Description]],Table2[Fixture Description],0)),\"\")","v":""},{"$f":"IFERROR(INDEX((Table2[TLED Type]),MATCH(Table1[[#This Row],[Proposed Fixture Description]],Table2[Fixture Description],0)),\"\")","v":""},{"$f":"Table1[[#This Row],[Application]]&\"|\"&Table1[[#This Row],[Equipment Type]]","v":"|"},{"$f":"VLOOKUP(Table1[[#This Row],[Application & Equipment Type]],'EUL Calc'!$D$6:$F$17,3,0)","v":{"$error":"#N/A"}},{"$f":"VLOOKUP(Table1[[#This Row],[Application & Equipment Type]],'EUL Calc'!$D$6:$G$17,4,0)","v":{"$error":"#N/A"}},{"$f":"IFERROR(INDEX(Table2[DLC/ENERGY STAR Approved?],MATCH(Table1[[#This Row],[Proposed Fixture Description]],Table2[Fixture Description],0)),0)","v":0},{"$f":"IF(Table1[[#This Row],[Proposed High End Trim\n(% of Max Fixture Output)]]<>\"\", \"Yes\", \"No\")","v":"No"},{"$f":"IF(Table1[[#This Row],[Proposed Additional Control Strategy]]=\"\",Table1[[#This Row],[Proposed Control Strategy]],_xlfn.CONCAT(Table1[[#This Row],[Proposed Control Strategy]], \" & \",Table1[[#This Row],[Proposed Additional Control Strategy]]))","v":0},{"$f":"IFERROR(INDEX(Table2[Fixture Controlled?],MATCH(Table1[[#This Row],[Proposed Fixture Description]],Table2[Fixture Description],0)),\"\")","v":""},{"$f":"IFERROR((Table1[[#This Row],[Percent Reduction from Control Strategies]]+Table1[[#This Row],[Percent Reduction from Additional Controls Strategy]])*Table1[[#This Row],[Proposed kWh]], IFERROR(Table1[[#This Row],[Percent Reduction from Control Strategies]]*Table1[[#This Row],[Proposed kWh]],\"\"))","v":""},{"$f":"IFERROR(ABS(Table1[[#This Row],[Total Incentivized kWh Savings]]), \"N/A\")","v":"N/A"},{"$f":"IF(OR(Table1[[#This Row],[Application]]=0,Table1[[#This Row],[DLC/ES?]]=\"No\",AND($AP$4=\"No\",Table1[[#This Row],[TLED Type]]=\"A\")),0,IFERROR(IF(AND($S$3=\"Tier 2 - Network Controls\",$AP$3=\"Yes\",$AP$5=\"Yes\",$AP$6=\"Yes\"), Table1[[#This Row],[Fixture kWh Savings]]+Table1[[#This Row],[Total Controls kWh Savings]]+Table1[[#This Row],[Cooling kWh Savings]], IF(AND($S$3=\"Tier 1 - Luminaire Level or Wireless Control\",$AP$3=\"Yes\",$AP$5=\"Yes\",$AP$6=\"Yes\"), Table1[[#This Row],[Fixture kWh Savings]]+Table1[[#This Row],[Total Controls kWh Savings]]+Table1[[#This Row],[Cooling kWh Savings]], IF(AND($S$3=\"Fixture Replacement Only - No Controls\",$AP$3=\"Yes\",Table1[[#This Row],[DLC/ES?]]<>\"No\"), (Table1[[#This Row],[Fixture kWh Savings]]+Table1[[#This Row],[Cooling kWh Savings]]+Table1[[#This Row],[Total Controls kWh Savings]]), \"-\"))),\"-\"))","v":"-"},{"$f":"IF(OR(Table1[[#This Row],[Application]]=0,Table1[[#This Row],[DLC/ES?]]=\"No\",AND($AP$4=\"No\",Table1[[#This Row],[TLED Type]]=\"A\")),0,IFERROR(IF(AND($S$3=\"Tier 2 - Network Controls\",$AP$3=\"Yes\",$AP$5=\"Yes\",$AP$6=\"Yes\"), Table1[[#This Row],[Fixture kWh Savings]]+Table1[[#This Row],[Cooling kWh Savings]], IF(AND($S$3=\"Tier 1 - Luminaire Level or Wireless Control\",$AP$3=\"Yes\",$AP$5=\"Yes\",$AP$6=\"Yes\"), Table1[[#This Row],[Fixture kWh Savings]]+Table1[[#This Row],[Cooling kWh Savings]], IF(AND($S$3=\"Fixture Replacement Only - No Controls\",$AP$3=\"Yes\",Table1[[#This Row],[DLC/ES?]]<>\"No\"), (Table1[[#This Row],[Fixture kWh Savings]]+Table1[[#This Row],[Cooling kWh Savings]]), \"-\"))),\"-\"))","v":"-"},{"$f":"IF(OR(Table1[[#This Row],[Application]]=0,Table1[[#This Row],[DLC/ES?]]=\"No\",AND($AP$4=\"No\",Table1[[#This Row],[TLED Type]]=\"A\")),0,IFERROR(IF(AND($S$3=\"Tier 2 - Network Controls\",$AP$3=\"Yes\",$AP$5=\"Yes\",$AP$6=\"Yes\"), Table1[[#This Row],[Total Controls kWh Savings]], IF(AND($S$3=\"Tier 1 - Luminaire Level or Wireless Control\",$AP$3=\"Yes\",$AP$5=\"Yes\",$AP$6=\"Yes\"), Table1[[#This Row],[Total Controls kWh Savings]], IF(AND($S$3=\"Fixture Replacement Only - No Controls\",$AP$3=\"Yes\",Table1[[#This Row],[DLC/ES?]]<>\"No\"), (Table1[[#This Row],[Total Controls kWh Savings]]), \"-\"))),\"-\"))","v":"-"}]
[null,{"$f":"ROW(Table1[[#This Row],[Existing Lamp/Ballast Description]])-14","v":6},null,null,null,null,null,{"$f":"IFERROR(VLOOKUP(Table1[[#This Row],[Operating Hours Group]],HoursTable,3,0),\"\")","v":""},null,null,null,null,{"$f":"IFERROR(INDEX(Lookup!$B$3:$B$1550,MATCH(Table1[[#This Row],[Existing Lamp/Ballast Description]],Lookup!$C$3:$C$1550,0)),\"\")","v":""},{"$f":"IFERROR(IF(Table1[[#This Row],[Existing Fixture Code]]=\"\",(VLOOKUP(Table1[[#This Row],[Existing Device Code]],Lookup!$B$2:$D$1550,3,FALSE)), (VLOOKUP(Table1[[#This Row],[Existing Fixture Code]],Lookup!$B$2:$D$1550,3,FALSE))),\"\")","v":""},{"$f":"IFERROR(Table1[[#This Row],[Ex. Qty]]*Table1[[#This Row],[Existing Wattage]]/1000,\"\")","v":""},{"$f":"IFERROR(Table1[[#This Row],[Annual Operating Hours]]*Table1[[#This Row],[Existing kW]],\"\")","v":""},null,null,{"$f":"IFERROR(INDEX(Table2[[Merged model ]],MATCH(Table1[[#This Row],[Proposed Fixture Description]],Table2[Fixture Description],0)),\"\")","v":""},{"$f":"IFERROR(_xlfn.SINGLE(INDEX(ROUND(Table2[DLC/\nENERGY STAR Wattage],1),MATCH(Table1[[#This Row],[Proposed Fixture Description]],Table2[Fixture Description],0))),\"\")","v":""},{"$f":"IFERROR(IF(Table1[[#This Row],[Proposed Fixture Description]]=\"\",Table1[[#This Row],[Existing kW]],Table1[[#This Row],[Prop. Qty]]*Table1[[#This Row],[Proposed Wattage]]/1000),\"\")","v":""},{"$f":"IFERROR(Table1[[#This Row],[Annual Operating Hours]]*Table1[[#This Row],[Proposed kW]],\"\")","v":""},null,null,null,{"$f":"IFERROR(_xlfn.IFS(Table1[[#This Row],[Proposed Control Strategy]]=\"Scheduled Dimming\",INDEX('2 - Hours and Schedules'!$AB$6:$AB$15,MATCH(Table1[[#This Row],[Operating Hours Group]],'2 - Hours and Schedules'!$AA$6:$AA$15,0)), Table1[[#This Row],[Proposed Control Strategy]]=\"Daylight\",'Controls Lookup'!$B$2,Table1[[#This Row],[Proposed Control Strategy]]=\"Occupancy Sensor\",'Controls Lookup'!$C$2*(1-Table1[[#This Row],[% Output, if not off\n(Only If Occupancy Sensor Selected)]]),Table1[[#This Row],[Proposed Control Strategy]]=\"None\",'Controls Lookup'!$E$2),\"\")","v":""},null,null,{"$f":"IFERROR(_xlfn.IFS(Table1[[#This Row],[Proposed Additional Control Strategy]]=\"Scheduled Dimming\",INDEX('2 - Hours and Schedules'!$AB$6:$AB$15,MATCH(Table1[[#This Row],[Operating Hours Group]],'2 - Hours and Schedules'!$AA$6:$AA$15,0)), Table1[[#This Row],[Proposed Additional Control Strategy]]=\"Daylight\",'Controls Lookup'!$B$2,Table1[[#This Row],[Proposed Additional Control Strategy]]=\"Occupancy Sensor\",'Controls Lookup'!$C$2*(1-Table1[[#This Row],[% Output, if not off\n (If Occupancy Sensor Selected)]]),Table1[[#This Row],[Proposed Additional Control Strategy]]=\"None\",'Controls Lookup'!$E$2),\"\")","v":""},{"$f":"SUM(IF(Table1[[#This Row],[Proposed High End Trim\n(% of Max Fixture Output)]]=\"\",0,(1-Table1[[#This Row],[Proposed High End Trim\n(% of Max Fixture Output)]])*(1-IF(Table1[[#This Row],[Percent Reduction from Control Strategies]]=\"\",0,Table1[[#This Row],[Percent Reduction from Control Strategies]])-IF(Table1[[#This Row],[Percent Reduction from Additional Controls Strategy]]=\"\",0,Table1[[#This Row],[Percent Reduction from Additional Controls Strategy]]))),IF(Table1[[#This Row],[Percent Reduction from Control Strategies]]=\"\",0,Table1[[#This Row],[Percent Reduction from Control Strategies]]),IF(Table1[[#This Row],[Percent Reduction from Additional Controls Strategy]]=\"\",0,Table1[[#This Row],[Percent Reduction from Additional Controls Strategy]]))","v":0},{"$f":"IFERROR(IF(Table1[[#This Row],[Existing kW]]=\"\",-Table1[[#This Row],[Proposed kW]],Table1[[#This Row],[Existing kW]]-Table1[[#This Row],[Proposed kW]]),\"\")","v":""},{"$f":"IF(AND(ISBLANK(Table1[[#This Row],[Manufacturer/Model Number]]),ISNUMBER(Table1[[#This Row],[Prop. Qty]])),\"Missing Req'd Info\",IFERROR(IF(VLOOKUP(Table1[[#This Row],[Operating Hours Group]],HoursTable,5,FALSE)=1,Table1[[#This Row],[Fixture kW Savings]],0),\"\"))","v":""},{"$f":"IF(AND(ISBLANK(Table1[[#This Row],[Manufacturer/Model Number]]),ISNUMBER(Table1[[#This Row],[Prop. Qty]])),\"Missing Req'd Info\",IFERROR(IF(VLOOKUP(Table1[[#This Row],[Operating Hours Group]],HoursTable,6,FALSE),Table1[[#This Row],[Fixture kW Savings]],0),\"\"))","v":""},{"$f":"IFERROR(Table1[[#This Row],[Fixture kW Savings]]*Table1[[#This Row],[Annual Operating Hours]],\"\")","v":""},{"$f":"IF(AND(ISBLANK(Table1[[#This Row],[Manufacturer/Model Number]]),ISNUMBER(Table1[[#This Row],[Prop. Qty]])),\"Missing Req'd Info\",IFERROR((Table1[[#This Row],[Total Controls Savings (%)]]*Table1[[#This Row],[Proposed kWh]]),0))","v":0},{"$f":"IFERROR(IF(OR(Table1[[#This Row],[DLC/ES?]]=\"No\",Table1[[#This Row],[Lighting Location: Conditioned Space (Cooled) or Unconditioned Space]]=\"Unconditioned Space\"),0,(Lookup!$G$12*Table1[[#This Row],[Fixture kW Savings]]*0.8/Lookup!$G$14)),0)","v":0},{"$f":"IF(AND(ISBLANK(Table1[[#This Row],[Manufacturer/Model Number]]),ISNUMBER(Table1[[#This Row],[Prop. Qty]])),\"Missing Req'd Info\",IFERROR(Table1[[#This Row],[Fixture kWh Savings]]+Table1[[#This Row],[Total Controls kWh Savings]]+Table1[[#This Row],[Cooling kWh Savings]],\"\"))","v":""},{"$f":"IF(AND(ISBLANK(Table1[[#This Row],[Manufacturer/Model Number]]),ISNUMBER(Table1[[#This Row],[Prop. Qty]])),\"Missing Req'd Info\",IFERROR(VLOOKUP(Table1[[#This Row],[Operating Hours Group]],HoursTable,4,0),\"\"))","v":""},{"$f":"IFERROR(INDEX((Table2[Application]),MATCH(Table1[[#This Row],[Proposed Fixture Description]],Table2[Fixture Description],0)),\"\")","v":""},{"$f":"IFERROR(INDEX((Table2[Equipment Type]),MATCH(Table1[[#This Row],[Proposed Fixture Description]],Table2[Fixture Description],0)),\"\")","v":""},{"$f":"IFERROR(INDEX((Table2[TLED Type]),MATCH(Table1[[#This Row],[Proposed Fixture Description]],Table2[Fixture Description],0)),\"\")","v":""},{"$f":"Table1[[#This Row],[Application]]&\"|\"&Table1[[#This Row],[Equipment Type]]","v":"|"},{"$f":"VLOOKUP(Table1[[#This Row],[Application & Equipment Type]],'EUL Calc'!$D$6:$F$17,3,0)","v":{"$error":"#N/A"}},{"$f":"VLOOKUP(Table1[[#This Row],[Application & Equipment Type]],'EUL Calc'!$D$6:$G$17,4,0)","v":{"$error":"#N/A"}},{"$f":"IFERROR(INDEX(Table2[DLC/ENERGY STAR Approved?],MATCH(Table1[[#This Row],[Proposed Fixture Description]],Table2[Fixture Description],0)),0)","v":0},{"$f":"IF(Table1[[#This Row],[Proposed High End Trim\n(% of Max Fixture Output)]]<>\"\", \"Yes\", \"No\")","v":"No"},{"$f":"IF(Table1[[#This Row],[Proposed Additional Control Strategy]]=\"\",Table1[[#This Row],[Proposed Control Strategy]],_xlfn.CONCAT(Table1[[#This Row],[Proposed Control Strategy]], \" & \",Table1[[#This Row],[Proposed Additional Control Strategy]]))","v":0},{"$f":"IFERROR(INDEX(Table2[Fixture Controlled?],MATCH(Table1[[#This Row],[Proposed Fixture Description]],Table2[Fixture Description],0)),\"\")","v":""},{"$f":"IFERROR((Table1[[#This Row],[Percent Reduction from Control Strategies]]+Table1[[#This Row],[Percent Reduction from Additional Controls Strategy]])*Table1[[#This Row],[Proposed kWh]], IFERROR(Table1[[#This Row],[Percent Reduction from Control Strategies]]*Table1[[#This Row],[Proposed kWh]],\"\"))","v":""},{"$f":"IFERROR(ABS(Table1[[#This Row],[Total Incentivized kWh Savings]]), \"N/A\")","v":"N/A"},{"$f":"IF(OR(Table1[[#This Row],[Application]]=0,Table1[[#This Row],[DLC/ES?]]=\"No\",AND($AP$4=\"No\",Table1[[#This Row],[TLED Type]]=\"A\")),0,IFERROR(IF(AND($S$3=\"Tier 2 - Network Controls\",$AP$3=\"Yes\",$AP$5=\"Yes\",$AP$6=\"Yes\"), Table1[[#This Row],[Fixture kWh Savings]]+Table1[[#This Row],[Total Controls kWh Savings]]+Table1[[#This Row],[Cooling kWh Savings]], IF(AND($S$3=\"Tier 1 - Luminaire Level or Wireless Control\",$AP$3=\"Yes\",$AP$5=\"Yes\",$AP$6=\"Yes\"), Table1[[#This Row],[Fixture kWh Savings]]+Table1[[#This Row],[Total Controls kWh Savings]]+Table1[[#This Row],[Cooling kWh Savings]], IF(AND($S$3=\"Fixture Replacement Only - No Controls\",$AP$3=\"Yes\",Table1[[#This Row],[DLC/ES?]]<>\"No\"), (Table1[[#This Row],[Fixture kWh Savings]]+Table1[[#This Row],[Cooling kWh Savings]]+Table1[[#This Row],[Total Controls kWh Savings]]), \"-\"))),\"-\"))","v":"-"},{"$f":"IF(OR(Table1[[#This Row],[Application]]=0,Table1[[#This Row],[DLC/ES?]]=\"No\",AND($AP$4=\"No\",Table1[[#This Row],[TLED Type]]=\"A\")),0,IFERROR(IF(AND($S$3=\"Tier 2 - Network Controls\",$AP$3=\"Yes\",$AP$5=\"Yes\",$AP$6=\"Yes\"), Table1[[#This Row],[Fixture kWh Savings]]+Table1[[#This Row],[Cooling kWh Savings]], IF(AND($S$3=\"Tier 1 - Luminaire Level or Wireless Control\",$AP$3=\"Yes\",$AP$5=\"Yes\",$AP$6=\"Yes\"), Table1[[#This Row],[Fixture kWh Savings]]+Table1[[#This Row],[Cooling kWh Savings]], IF(AND($S$3=\"Fixture Replacement Only - No Controls\",$AP$3=\"Yes\",Table1[[#This Row],[DLC/ES?]]<>\"No\"), (Table1[[#This Row],[Fixture kWh Savings]]+Table1[[#This Row],[Cooling kWh Savings]]), \"-\"))),\"-\"))","v":"-"},{"$f":"IF(OR(Table1[[#This Row],[Application]]=0,Table1[[#This Row],[DLC/ES?]]=\"No\",AND($AP$4=\"No\",Table1[[#This Row],[TLED Type]]=\"A\")),0,IFERROR(IF(AND($S$3=\"Tier 2 - Network Controls\",$AP$3=\"Yes\",$AP$5=\"Yes\",$AP$6=\"Yes\"), Table1[[#This Row],[Total Controls kWh Savings]], IF(AND($S$3=\"Tier 1 - Luminaire Level or Wireless Control\",$AP$3=\"Yes\",$AP$5=\"Yes\",$AP$6=\"Yes\"), Table1[[#This Row],[Total Controls kWh Savings]], IF(AND($S$3=\"Fixture Replacement Only - No Controls\",$AP$3=\"Yes\",Table1[[#This Row],[DLC/ES?]]<>\"No\"), (Table1[[#This Row],[Total Controls kWh Savings]]), \"-\"))),\"-\"))","v":"-"}]
[null,{"$f":"ROW(Table1[[#This Row],[Existing Lamp/Ballast Description]])-14","v":7},null,null,null,null,null,{"$f":"IFERROR(VLOOKUP(Table1[[#This Row],[Operating Hours Group]],HoursTable,3,0),\"\")","v":""},null,null,null,null,{"$f":"IFERROR(INDEX(Lookup!$B$3:$B$1550,MATCH(Table1[[#This Row],[Existing Lamp/Ballast Description]],Lookup!$C$3:$C$1550,0)),\"\")","v":""},{"$f":"IFERROR(IF(Table1[[#This Row],[Existing Fixture Code]]=\"\",(VLOOKUP(Table1[[#This Row],[Existing Device Code]],Lookup!$B$2:$D$1550,3,FALSE)), (VLOOKUP(Table1[[#This Row],[Existing Fixture Code]],Lookup!$B$2:$D$1550,3,FALSE))),\"\")","v":""},{"$f":"IFERROR(Table1[[#This Row],[Ex. Qty]]*Table1[[#This Row],[Existing Wattage]]/1000,\"\")","v":""},{"$f":"IFERROR(Table1[[#This Row],[Annual Operating Hours]]*Table1[[#This Row],[Existing kW]],\"\")","v":""},null,null,{"$f":"IFERROR(INDEX(Table2[[Merged model ]],MATCH(Table1[[#This Row],[Proposed Fixture Description]],Table2[Fixture Description],0)),\"\")","v":""},{"$f":"IFERROR(_xlfn.SINGLE(INDEX(ROUND(Table2[DLC/\nENERGY STAR Wattage],1),MATCH(Table1[[#This Row],[Proposed Fixture Description]],Table2[Fixture Description],0))),\"\")","v":""},{"$f":"IFERROR(IF(Table1[[#This Row],[Proposed Fixture Description]]=\"\",Table1[[#This Row],[Existing kW]],Table1[[#This Row],[Prop. Qty]]*Table1[[#This Row],[Proposed Wattage]]/1000),\"\")","v":""},{"$f":"IFERROR(Table1[[#This Row],[Annual Operating Hours]]*Table1[[#This Row],[Proposed kW]],\"\")","v":""},null,null,null,{"$f":"IFERROR(_xlfn.IFS(Table1[[#This Row],[Proposed Control Strategy]]=\"Scheduled Dimming\",INDEX('2 - Hours and Schedules'!$AB$6:$AB$15,MATCH(Table1[[#This Row],[Operating Hours Group]],'2 - Hours and Schedules'!$AA$6:$AA$15,0)), Table1[[#This Row],[Proposed Control Strategy]]=\"Daylight\",'Controls Lookup'!$B$2,Table1[[#This Row],[Proposed Control Strategy]]=\"Occupancy Sensor\",'Controls Lookup'!$C$2*(1-Table1[[#This Row],[% Output, if not off\n(Only If Occupancy Sensor Selected)]]),Table1[[#This Row],[Proposed Control Strategy]]=\"None\",'Controls Lookup'!$E$2),\"\")","v":""},null,null,{"$f":"IFERROR(_xlfn.IFS(Table1[[#This Row],[Proposed Additional Control Strategy]]=\"Scheduled Dimming\",INDEX('2 - Hours and Schedules'!$AB$6:$AB$15,MATCH(Table1[[#This Row],[Operating Hours Group]],'2 - Hours and Schedules'!$AA$6:$AA$15,0)), Table1[[#This Row],[Proposed Additional Control Strategy]]=\"Daylight\",'Controls Lookup'!$B$2,Table1[[#This Row],[Proposed Additional Control Strategy]]=\"Occupancy Sensor\",'Controls Lookup'!$C$2*(1-Table1[[#This Row],[% Output, if not off\n (If Occupancy Sensor Selected)]]),Table1[[#This Row],[Proposed Additional Control Strategy]]=\"None\",'Controls Lookup'!$E$2),\"\")","v":""},{"$f":"SUM(IF(Table1[[#This Row],[Proposed High End Trim\n(% of Max Fixture Output)]]=\"\",0,(1-Table1[[#This Row],[Proposed High End Trim\n(% of Max Fixture Output)]])*(1-IF(Table1[[#This Row],[Percent Reduction from Control Strategies]]=\"\",0,Table1[[#This Row],[Percent Reduction from Control Strategies]])-IF(Table1[[#This Row],[Percent Reduction from Additional Controls Strategy]]=\"\",0,Table1[[#This Row],[Percent Reduction from Additional Controls Strategy]]))),IF(Table1[[#This Row],[Percent Reduction from Control Strategies]]=\"\",0,Table1[[#This Row],[Percent Reduction from Control Strategies]]),IF(Table1[[#This Row],[Percent Reduction from Additional Controls Strategy]]=\"\",0,Table1[[#This Row],[Percent Reduction from Additional Controls Strategy]]))","v":0},{"$f":"IFERROR(IF(Table1[[#This Row],[Existing kW]]=\"\",-Table1[[#This Row],[Proposed kW]],Table1[[#This Row],[Existing kW]]-Table1[[#This Row],[Proposed kW]]),\"\")","v":""},{"$f":"IF(AND(ISBLANK(Table1[[#This Row],[Manufacturer/Model Number]]),ISNUMBER(Table1[[#This Row],[Prop. Qty]])),\"Missing Req'd Info\",IFERROR(IF(VLOOKUP(Table1[[#This Row],[Operating Hours Group]],HoursTable,5,FALSE)=1,Table1[[#This Row],[Fixture kW Savings]],0),\"\"))","v":""},{"$f":"IF(AND(ISBLANK(Table1[[#This Row],[Manufacturer/Model Number]]),ISNUMBER(Table1[[#This Row],[Prop. Qty]])),\"Missing Req'd Info\",IFERROR(IF(VLOOKUP(Table1[[#This Row],[Operating Hours Group]],HoursTable,6,FALSE),Table1[[#This Row],[Fixture kW Savings]],0),\"\"))","v":""},{"$f":"IFERROR(Table1[[#This Row],[Fixture kW Savings]]*Table1[[#This Row],[Annual Operating Hours]],\"\")","v":""},{"$f":"IF(AND(ISBLANK(Table1[[#This Row],[Manufacturer/Model Number]]),ISNUMBER(Table1[[#This Row],[Prop. Qty]])),\"Missing Req'd Info\",IFERROR((Table1[[#This Row],[Total Controls Savings (%)]]*Table1[[#This Row],[Proposed kWh]]),0))","v":0},{"$f":"IFERROR(IF(OR(Table1[[#This Row],[DLC/ES?]]=\"No\",Table1[[#This Row],[Lighting Location: Conditioned Space (Cooled) or Unconditioned Space]]=\"Unconditioned Space\"),0,(Lookup!$G$12*Table1[[#This Row],[Fixture kW Savings]]*0.8/Lookup!$G$14)),0)","v":0},{"$f":"IF(AND(ISBLANK(Table1[[#This Row],[Manufacturer/Model Number]]),ISNUMBER(Table1[[#This Row],[Prop. Qty]])),\"Missing Req'd Info\",IFERROR(Table1[[#This Row],[Fixture kWh Savings]]+Table1[[#This Row],[Total Controls kWh Savings]]+Table1[[#This Row],[Cooling kWh Savings]],\"\"))","v":""},{"$f":"IF(AND(ISBLANK(Table1[[#This Row],[Manufacturer/Model Number]]),ISNUMBER(Table1[[#This Row],[Prop. Qty]])),\"Missing Req'd Info\",IFERROR(VLOOKUP(Table1[[#This Row],[Operating Hours Group]],HoursTable,4,0),\"\"))","v":""},{"$f":"IFERROR(INDEX((Table2[Application]),MATCH(Table1[[#This Row],[Proposed Fixture Description]],Table2[Fixture Description],0)),\"\")","v":""},{"$f":"IFERROR(INDEX((Table2[Equipment Type]),MATCH(Table1[[#This Row],[Proposed Fixture Description]],Table2[Fixture Description],0)),\"\")","v":""},{"$f":"IFERROR(INDEX((Table2[TLED Type]),MATCH(Table1[[#This Row],[Proposed Fixture Description]],Table2[Fixture Description],0)),\"\")","v":""},{"$f":"Table1[[#This Row],[Application]]&\"|\"&Table1[[#This Row],[Equipment Type]]","v":"|"},{"$f":"VLOOKUP(Table1[[#This Row],[Application & Equipment Type]],'EUL Calc'!$D$6:$F$17,3,0)","v":{"$error":"#N/A"}},{"$f":"VLOOKUP(Table1[[#This Row],[Application & Equipment Type]],'EUL Calc'!$D$6:$G$17,4,0)","v":{"$error":"#N/A"}},{"$f":"IFERROR(INDEX(Table2[DLC/ENERGY STAR Approved?],MATCH(Table1[[#This Row],[Proposed Fixture Description]],Table2[Fixture Description],0)),0)","v":0},{"$f":"IF(Table1[[#This Row],[Proposed High End Trim\n(% of Max Fixture Output)]]<>\"\", \"Yes\", \"No\")","v":"No"},{"$f":"IF(Table1[[#This Row],[Proposed Additional Control Strategy]]=\"\",Table1[[#This Row],[Proposed Control Strategy]],_xlfn.CONCAT(Table1[[#This Row],[Proposed Control Strategy]], \" & \",Table1[[#This Row],[Proposed Additional Control Strategy]]))","v":0},{"$f":"IFERROR(INDEX(Table2[Fixture Controlled?],MATCH(Table1[[#This Row],[Proposed Fixture Description]],Table2[Fixture Description],0)),\"\")","v":""},{"$f":"IFERROR((Table1[[#This Row],[Percent Reduction from Control Strategies]]+Table1[[#This Row],[Percent Reduction from Additional Controls Strategy]])*Table1[[#This Row],[Proposed kWh]], IFERROR(Table1[[#This Row],[Percent Reduction from Control Strategies]]*Table1[[#This Row],[Proposed kWh]],\"\"))","v":""},{"$f":"IFERROR(ABS(Table1[[#This Row],[Total Incentivized kWh Savings]]), \"N/A\")","v":"N/A"},{"$f":"IF(OR(Table1[[#This Row],[Application]]=0,Table1[[#This Row],[DLC/ES?]]=\"No\",AND($AP$4=\"No\",Table1[[#This Row],[TLED Type]]=\"A\")),0,IFERROR(IF(AND($S$3=\"Tier 2 - Network Controls\",$AP$3=\"Yes\",$AP$5=\"Yes\",$AP$6=\"Yes\"), Table1[[#This Row],[Fixture kWh Savings]]+Table1[[#This Row],[Total Controls kWh Savings]]+Table1[[#This Row],[Cooling kWh Savings]], IF(AND($S$3=\"Tier 1 - Luminaire Level or Wireless Control\",$AP$3=\"Yes\",$AP$5=\"Yes\",$AP$6=\"Yes\"), Table1[[#This Row],[Fixture kWh Savings]]+Table1[[#This Row],[Total Controls kWh Savings]]+Table1[[#This Row],[Cooling kWh Savings]], IF(AND($S$3=\"Fixture Replacement Only - No Controls\",$AP$3=\"Yes\",Table1[[#This Row],[DLC/ES?]]<>\"No\"), (Table1[[#This Row],[Fixture kWh Savings]]+Table1[[#This Row],[Cooling kWh Savings]]+Table1[[#This Row],[Total Controls kWh Savings]]), \"-\"))),\"-\"))","v":"-"},{"$f":"IF(OR(Table1[[#This Row],[Application]]=0,Table1[[#This Row],[DLC/ES?]]=\"No\",AND($AP$4=\"No\",Table1[[#This Row],[TLED Type]]=\"A\")),0,IFERROR(IF(AND($S$3=\"Tier 2 - Network Controls\",$AP$3=\"Yes\",$AP$5=\"Yes\",$AP$6=\"Yes\"), Table1[[#This Row],[Fixture kWh Savings]]+Table1[[#This Row],[Cooling kWh Savings]], IF(AND($S$3=\"Tier 1 - Luminaire Level or Wireless Control\",$AP$3=\"Yes\",$AP$5=\"Yes\",$AP$6=\"Yes\"), Table1[[#This Row],[Fixture kWh Savings]]+Table1[[#This Row],[Cooling kWh Savings]], IF(AND($S$3=\"Fixture Replacement Only - No Controls\",$AP$3=\"Yes\",Table1[[#This Row],[DLC/ES?]]<>\"No\"), (Table1[[#This Row],[Fixture kWh Savings]]+Table1[[#This Row],[Cooling kWh Savings]]), \"-\"))),\"-\"))","v":"-"},{"$f":"IF(OR(Table1[[#This Row],[Application]]=0,Table1[[#This Row],[DLC/ES?]]=\"No\",AND($AP$4=\"No\",Table1[[#This Row],[TLED Type]]=\"A\")),0,IFERROR(IF(AND($S$3=\"Tier 2 - Network Controls\",$AP$3=\"Yes\",$AP$5=\"Yes\",$AP$6=\"Yes\"), Table1[[#This Row],[Total Controls kWh Savings]], IF(AND($S$3=\"Tier 1 - Luminaire Level or Wireless Control\",$AP$3=\"Yes\",$AP$5=\"Yes\",$AP$6=\"Yes\"), Table1[[#This Row],[Total Controls kWh Savings]], IF(AND($S$3=\"Fixture Replacement Only - No Controls\",$AP$3=\"Yes\",Table1[[#This Row],[DLC/ES?]]<>\"No\"), (Table1[[#This Row],[Total Controls kWh Savings]]), \"-\"))),\"-\"))","v":"-"}]
[null,{"$f":"ROW(Table1[[#This Row],[Existing Lamp/Ballast Description]])-14","v":8},null,null,null,null,null,{"$f":"IFERROR(VLOOKUP(Table1[[#This Row],[Operating Hours Group]],HoursTable,3,0),\"\")","v":""},null,null,null,null,{"$f":"IFERROR(INDEX(Lookup!$B$3:$B$1550,MATCH(Table1[[#This Row],[Existing Lamp/Ballast Description]],Lookup!$C$3:$C$1550,0)),\"\")","v":""},{"$f":"IFERROR(IF(Table1[[#This Row],[Existing Fixture Code]]=\"\",(VLOOKUP(Table1[[#This Row],[Existing Device Code]],Lookup!$B$2:$D$1550,3,FALSE)), (VLOOKUP(Table1[[#This Row],[Existing Fixture Code]],Lookup!$B$2:$D$1550,3,FALSE))),\"\")","v":""},{"$f":"IFERROR(Table1[[#This Row],[Ex. Qty]]*Table1[[#This Row],[Existing Wattage]]/1000,\"\")","v":""},{"$f":"IFERROR(Table1[[#This Row],[Annual Operating Hours]]*Table1[[#This Row],[Existing kW]],\"\")","v":""},null,null,{"$f":"IFERROR(INDEX(Table2[[Merged model ]],MATCH(Table1[[#This Row],[Proposed Fixture Description]],Table2[Fixture Description],0)),\"\")","v":""},{"$f":"IFERROR(_xlfn.SINGLE(INDEX(ROUND(Table2[DLC/\nENERGY STAR Wattage],1),MATCH(Table1[[#This Row],[Proposed Fixture Description]],Table2[Fixture Description],0))),\"\")","v":""},{"$f":"IFERROR(IF(Table1[[#This Row],[Proposed Fixture Description]]=\"\",Table1[[#This Row],[Existing kW]],Table1[[#This Row],[Prop. Qty]]*Table1[[#This Row],[Proposed Wattage]]/1000),\"\")","v":""},{"$f":"IFERROR(Table1[[#This Row],[Annual Operating Hours]]*Table1[[#This Row],[Proposed kW]],\"\")","v":""},null,null,null,{"$f":"IFERROR(_xlfn.IFS(Table1[[#This Row],[Proposed Control Strategy]]=\"Scheduled Dimming\",INDEX('2 - Hours and Schedules'!$AB$6:$AB$15,MATCH(Table1[[#This Row],[Operating Hours Group]],'2 - Hours and Schedules'!$AA$6:$AA$15,0)), Table1[[#This Row],[Proposed Control Strategy]]=\"Daylight\",'Controls Lookup'!$B$2,Table1[[#This Row],[Proposed Control Strategy]]=\"Occupancy Sensor\",'Controls Lookup'!$C$2*(1-Table1[[#This Row],[% Output, if not off\n(Only If Occupancy Sensor Selected)]]),Table1[[#This Row],[Proposed Control Strategy]]=\"None\",'Controls Lookup'!$E$2),\"\")","v":""},null,null,{"$f":"IFERROR(_xlfn.IFS(Table1[[#This Row],[Proposed Additional Control Strategy]]=\"Scheduled Dimming\",INDEX('2 - Hours and Schedules'!$AB$6:$AB$15,MATCH(Table1[[#This Row],[Operating Hours Group]],'2 - Hours and Schedules'!$AA$6:$AA$15,0)), Table1[[#This Row],[Proposed Additional Control Strategy]]=\"Daylight\",'Controls Lookup'!$B$2,Table1[[#This Row],[Proposed Additional Control Strategy]]=\"Occupancy Sensor\",'Controls Lookup'!$C$2*(1-Table1[[#This Row],[% Output, if not off\n (If Occupancy Sensor Selected)]]),Table1[[#This Row],[Proposed Additional Control Strategy]]=\"None\",'Controls Lookup'!$E$2),\"\")","v":""},{"$f":"SUM(IF(Table1[[#This Row],[Proposed High End Trim\n(% of Max Fixture Output)]]=\"\",0,(1-Table1[[#This Row],[Proposed High End Trim\n(% of Max Fixture Output)]])*(1-IF(Table1[[#This Row],[Percent Reduction from Control Strategies]]=\"\",0,Table1[[#This Row],[Percent Reduction from Control Strategies]])-IF(Table1[[#This Row],[Percent Reduction from Additional Controls Strategy]]=\"\",0,Table1[[#This Row],[Percent Reduction from Additional Controls Strategy]]))),IF(Table1[[#This Row],[Percent Reduction from Control Strategies]]=\"\",0,Table1[[#This Row],[Percent Reduction from Control Strategies]]),IF(Table1[[#This Row],[Percent Reduction from Additional Controls Strategy]]=\"\",0,Table1[[#This Row],[Percent Reduction from Additional Controls Strategy]]))","v":0},{"$f":"IFERROR(IF(Table1[[#This Row],[Existing kW]]=\"\",-Table1[[#This Row],[Proposed kW]],Table1[[#This Row],[Existing kW]]-Table1[[#This Row],[Proposed kW]]),\"\")","v":""},{"$f":"IF(AND(ISBLANK(Table1[[#This Row],[Manufacturer/Model Number]]),ISNUMBER(Table1[[#This Row],[Prop. Qty]])),\"Missing Req'd Info\",IFERROR(IF(VLOOKUP(Table1[[#This Row],[Operating Hours Group]],HoursTable,5,FALSE)=1,Table1[[#This Row],[Fixture kW Savings]],0),\"\"))","v":""},{"$f":"IF(AND(ISBLANK(Table1[[#This Row],[Manufacturer/Model Number]]),ISNUMBER(Table1[[#This Row],[Prop. Qty]])),\"Missing Req'd Info\",IFERROR(IF(VLOOKUP(Table1[[#This Row],[Operating Hours Group]],HoursTable,6,FALSE),Table1[[#This Row],[Fixture kW Savings]],0),\"\"))","v":""},{"$f":"IFERROR(Table1[[#This Row],[Fixture kW Savings]]*Table1[[#This Row],[Annual Operating Hours]],\"\")","v":""},{"$f":"IF(AND(ISBLANK(Table1[[#This Row],[Manufacturer/Model Number]]),ISNUMBER(Table1[[#This Row],[Prop. Qty]])),\"Missing Req'd Info\",IFERROR((Table1[[#This Row],[Total Controls Savings (%)]]*Table1[[#This Row],[Proposed kWh]]),0))","v":0},{"$f":"IFERROR(IF(OR(Table1[[#This Row],[DLC/ES?]]=\"No\",Table1[[#This Row],[Lighting Location: Conditioned Space (Cooled) or Unconditioned Space]]=\"Unconditioned Space\"),0,(Lookup!$G$12*Table1[[#This Row],[Fixture kW Savings]]*0.8/Lookup!$G$14)),0)","v":0},{"$f":"IF(AND(ISBLANK(Table1[[#This Row],[Manufacturer/Model Number]]),ISNUMBER(Table1[[#This Row],[Prop. Qty]])),\"Missing Req'd Info\",IFERROR(Table1[[#This Row],[Fixture kWh Savings]]+Table1[[#This Row],[Total Controls kWh Savings]]+Table1[[#This Row],[Cooling kWh Savings]],\"\"))","v":""},{"$f":"IF(AND(ISBLANK(Table1[[#This Row],[Manufacturer/Model Number]]),ISNUMBER(Table1[[#This Row],[Prop. Qty]])),\"Missing Req'd Info\",IFERROR(VLOOKUP(Table1[[#This Row],[Operating Hours Group]],HoursTable,4,0),\"\"))","v":""},{"$f":"IFERROR(INDEX((Table2[Application]),MATCH(Table1[[#This Row],[Proposed Fixture Description]],Table2[Fixture Description],0)),\"\")","v":""},{"$f":"IFERROR(INDEX((Table2[Equipment Type]),MATCH(Table1[[#This Row],[Proposed Fixture Description]],Table2[Fixture Description],0)),\"\")","v":""},{"$f":"IFERROR(INDEX((Table2[TLED Type]),MATCH(Table1[[#This Row],[Proposed Fixture Description]],Table2[Fixture Description],0)),\"\")","v":""},{"$f":"Table1[[#This Row],[Application]]&\"|\"&Table1[[#This Row],[Equipment Type]]","v":"|"},{"$f":"VLOOKUP(Table1[[#This Row],[Application & Equipment Type]],'EUL Calc'!$D$6:$F$17,3,0)","v":{"$error":"#N/A"}},{"$f":"VLOOKUP(Table1[[#This Row],[Application & Equipment Type]],'EUL Calc'!$D$6:$G$17,4,0)","v":{"$error":"#N/A"}},{"$f":"IFERROR(INDEX(Table2[DLC/ENERGY STAR Approved?],MATCH(Table1[[#This Row],[Proposed Fixture Description]],Table2[Fixture Description],0)),0)","v":0},{"$f":"IF(Table1[[#This Row],[Proposed High End Trim\n(% of Max Fixture Output)]]<>\"\", \"Yes\", \"No\")","v":"No"},{"$f":"IF(Table1[[#This Row],[Proposed Additional Control Strategy]]=\"\",Table1[[#This Row],[Proposed Control Strategy]],_xlfn.CONCAT(Table1[[#This Row],[Proposed Control Strategy]], \" & \",Table1[[#This Row],[Proposed Additional Control Strategy]]))","v":0},{"$f":"IFERROR(INDEX(Table2[Fixture Controlled?],MATCH(Table1[[#This Row],[Proposed Fixture Description]],Table2[Fixture Description],0)),\"\")","v":""},{"$f":"IFERROR((Table1[[#This Row],[Percent Reduction from Control Strategies]]+Table1[[#This Row],[Percent Reduction from Additional Controls Strategy]])*Table1[[#This Row],[Proposed kWh]], IFERROR(Table1[[#This Row],[Percent Reduction from Control Strategies]]*Table1[[#This Row],[Proposed kWh]],\"\"))","v":""},{"$f":"IFERROR(ABS(Table1[[#This Row],[Total Incentivized kWh Savings]]), \"N/A\")","v":"N/A"},{"$f":"IF(OR(Table1[[#This Row],[Application]]=0,Table1[[#This Row],[DLC/ES?]]=\"No\",AND($AP$4=\"No\",Table1[[#This Row],[TLED Type]]=\"A\")),0,IFERROR(IF(AND($S$3=\"Tier 2 - Network Controls\",$AP$3=\"Yes\",$AP$5=\"Yes\",$AP$6=\"Yes\"), Table1[[#This Row],[Fixture kWh Savings]]+Table1[[#This Row],[Total Controls kWh Savings]]+Table1[[#This Row],[Cooling kWh Savings]], IF(AND($S$3=\"Tier 1 - Luminaire Level or Wireless Control\",$AP$3=\"Yes\",$AP$5=\"Yes\",$AP$6=\"Yes\"), Table1[[#This Row],[Fixture kWh Savings]]+Table1[[#This Row],[Total Controls kWh Savings]]+Table1[[#This Row],[Cooling kWh Savings]], IF(AND($S$3=\"Fixture Replacement Only - No Controls\",$AP$3=\"Yes\",Table1[[#This Row],[DLC/ES?]]<>\"No\"), (Table1[[#This Row],[Fixture kWh Savings]]+Table1[[#This Row],[Cooling kWh Savings]]+Table1[[#This Row],[Total Controls kWh Savings]]), \"-\"))),\"-\"))","v":"-"},{"$f":"IF(OR(Table1[[#This Row],[Application]]=0,Table1[[#This Row],[DLC/ES?]]=\"No\",AND($AP$4=\"No\",Table1[[#This Row],[TLED Type]]=\"A\")),0,IFERROR(IF(AND($S$3=\"Tier 2 - Network Controls\",$AP$3=\"Yes\",$AP$5=\"Yes\",$AP$6=\"Yes\"), Table1[[#This Row],[Fixture kWh Savings]]+Table1[[#This Row],[Cooling kWh Savings]], IF(AND($S$3=\"Tier 1 - Luminaire Level or Wireless Control\",$AP$3=\"Yes\",$AP$5=\"Yes\",$AP$6=\"Yes\"), Table1[[#This Row],[Fixture kWh Savings]]+Table1[[#This Row],[Cooling kWh Savings]], IF(AND($S$3=\"Fixture Replacement Only - No Controls\",$AP$3=\"Yes\",Table1[[#This Row],[DLC/ES?]]<>\"No\"), (Table1[[#This Row],[Fixture kWh Savings]]+Table1[[#This Row],[Cooling kWh Savings]]), \"-\"))),\"-\"))","v":"-"},{"$f":"IF(OR(Table1[[#This Row],[Application]]=0,Table1[[#This Row],[DLC/ES?]]=\"No\",AND($AP$4=\"No\",Table1[[#This Row],[TLED Type]]=\"A\")),0,IFERROR(IF(AND($S$3=\"Tier 2 - Network Controls\",$AP$3=\"Yes\",$AP$5=\"Yes\",$AP$6=\"Yes\"), Table1[[#This Row],[Total Controls kWh Savings]], IF(AND($S$3=\"Tier 1 - Luminaire Level or Wireless Control\",$AP$3=\"Yes\",$AP$5=\"Yes\",$AP$6=\"Yes\"), Table1[[#This Row],[Total Controls kWh Savings]], IF(AND($S$3=\"Fixture Replacement Only - No Controls\",$AP$3=\"Yes\",Table1[[#This Row],[DLC/ES?]]<>\"No\"), (Table1[[#This Row],[Total Controls kWh Savings]]), \"-\"))),\"-\"))","v":"-"}]
[null,{"$f":"ROW(Table1[[#This Row],[Existing Lamp/Ballast Description]])-14","v":9},null,null,null,null,null,{"$f":"IFERROR(VLOOKUP(Table1[[#This Row],[Operating Hours Group]],HoursTable,3,0),\"\")","v":""},null,null,null,null,{"$f":"IFERROR(INDEX(Lookup!$B$3:$B$1550,MATCH(Table1[[#This Row],[Existing Lamp/Ballast Description]],Lookup!$C$3:$C$1550,0)),\"\")","v":""},{"$f":"IFERROR(IF(Table1[[#This Row],[Existing Fixture Code]]=\"\",(VLOOKUP(Table1[[#This Row],[Existing Device Code]],Lookup!$B$2:$D$1550,3,FALSE)), (VLOOKUP(Table1[[#This Row],[Existing Fixture Code]],Lookup!$B$2:$D$1550,3,FALSE))),\"\")","v":""},{"$f":"IFERROR(Table1[[#This Row],[Ex. Qty]]*Table1[[#This Row],[Existing Wattage]]/1000,\"\")","v":""},{"$f":"IFERROR(Table1[[#This Row],[Annual Operating Hours]]*Table1[[#This Row],[Existing kW]],\"\")","v":""},null,null,{"$f":"IFERROR(INDEX(Table2[[Merged model ]],MATCH(Table1[[#This Row],[Proposed Fixture Description]],Table2[Fixture Description],0)),\"\")","v":""},{"$f":"IFERROR(_xlfn.SINGLE(INDEX(ROUND(Table2[DLC/\nENERGY STAR Wattage],1),MATCH(Table1[[#This Row],[Proposed Fixture Description]],Table2[Fixture Description],0))),\"\")","v":""},{"$f":"IFERROR(IF(Table1[[#This Row],[Proposed Fixture Description]]=\"\",Table1[[#This Row],[Existing kW]],Table1[[#This Row],[Prop. Qty]]*Table1[[#This Row],[Proposed Wattage]]/1000),\"\")","v":""},{"$f":"IFERROR(Table1[[#This Row],[Annual Operating Hours]]*Table1[[#This Row],[Proposed kW]],\"\")","v":""},null,null,null,{"$f":"IFERROR(_xlfn.IFS(Table1[[#This Row],[Proposed Control Strategy]]=\"Scheduled Dimming\",INDEX('2 - Hours and Schedules'!$AB$6:$AB$15,MATCH(Table1[[#This Row],[Operating Hours Group]],'2 - Hours and Schedules'!$AA$6:$AA$15,0)), Table1[[#This Row],[Proposed Control Strategy]]=\"Daylight\",'Controls Lookup'!$B$2,Table1[[#This Row],[Proposed Control Strategy]]=\"Occupancy Sensor\",'Controls Lookup'!$C$2*(1-Table1[[#This Row],[% Output, if not off\n(Only If Occupancy Sensor Selected)]]),Table1[[#This Row],[Proposed Control Strategy]]=\"None\",'Controls Lookup'!$E$2),\"\")","v":""},null,null,{"$f":"IFERROR(_xlfn.IFS(Table1[[#This Row],[Proposed Additional Control Strategy]]=\"Scheduled Dimming\",INDEX('2 - Hours and Schedules'!$AB$6:$AB$15,MATCH(Table1[[#This Row],[Operating Hours Group]],'2 - Hours and Schedules'!$AA$6:$AA$15,0)), Table1[[#This Row],[Proposed Additional Control Strategy]]=\"Daylight\",'Controls Lookup'!$B$2,Table1[[#This Row],[Proposed Additional Control Strategy]]=\"Occupancy Sensor\",'Controls Lookup'!$C$2*(1-Table1[[#This Row],[% Output, if not off\n (If Occupancy Sensor Selected)]]),Table1[[#This Row],[Proposed Additional Control Strategy]]=\"None\",'Controls Lookup'!$E$2),\"\")","v":""},{"$f":"SUM(IF(Table1[[#This Row],[Proposed High End Trim\n(% of Max Fixture Output)]]=\"\",0,(1-Table1[[#This Row],[Proposed High End Trim\n(% of Max Fixture Output)]])*(1-IF(Table1[[#This Row],[Percent Reduction from Control Strategies]]=\"\",0,Table1[[#This Row],[Percent Reduction from Control Strategies]])-IF(Table1[[#This Row],[Percent Reduction from Additional Controls Strategy]]=\"\",0,Table1[[#This Row],[Percent Reduction from Additional Controls Strategy]]))),IF(Table1[[#This Row],[Percent Reduction from Control Strategies]]=\"\",0,Table1[[#This Row],[Percent Reduction from Control Strategies]]),IF(Table1[[#This Row],[Percent Reduction from Additional Controls Strategy]]=\"\",0,Table1[[#This Row],[Percent Reduction from Additional Controls Strategy]]))","v":0},{"$f":"IFERROR(IF(Table1[[#This Row],[Existing kW]]=\"\",-Table1[[#This Row],[Proposed kW]],Table1[[#This Row],[Existing kW]]-Table1[[#This Row],[Proposed kW]]),\"\")","v":""},{"$f":"IF(AND(ISBLANK(Table1[[#This Row],[Manufacturer/Model Number]]),ISNUMBER(Table1[[#This Row],[Prop. Qty]])),\"Missing Req'd Info\",IFERROR(IF(VLOOKUP(Table1[[#This Row],[Operating Hours Group]],HoursTable,5,FALSE)=1,Table1[[#This Row],[Fixture kW Savings]],0),\"\"))","v":""},{"$f":"IF(AND(ISBLANK(Table1[[#This Row],[Manufacturer/Model Number]]),ISNUMBER(Table1[[#This Row],[Prop. Qty]])),\"Missing Req'd Info\",IFERROR(IF(VLOOKUP(Table1[[#This Row],[Operating Hours Group]],HoursTable,6,FALSE),Table1[[#This Row],[Fixture kW Savings]],0),\"\"))","v":""},{"$f":"IFERROR(Table1[[#This Row],[Fixture kW Savings]]*Table1[[#This Row],[Annual Operating Hours]],\"\")","v":""},{"$f":"IF(AND(ISBLANK(Table1[[#This Row],[Manufacturer/Model Number]]),ISNUMBER(Table1[[#This Row],[Prop. Qty]])),\"Missing Req'd Info\",IFERROR((Table1[[#This Row],[Total Controls Savings (%)]]*Table1[[#This Row],[Proposed kWh]]),0))","v":0},{"$f":"IFERROR(IF(OR(Table1[[#This Row],[DLC/ES?]]=\"No\",Table1[[#This Row],[Lighting Location: Conditioned Space (Cooled) or Unconditioned Space]]=\"Unconditioned Space\"),0,(Lookup!$G$12*Table1[[#This Row],[Fixture kW Savings]]*0.8/Lookup!$G$14)),0)","v":0},{"$f":"IF(AND(ISBLANK(Table1[[#This Row],[Manufacturer/Model Number]]),ISNUMBER(Table1[[#This Row],[Prop. Qty]])),\"Missing Req'd Info\",IFERROR(Table1[[#This Row],[Fixture kWh Savings]]+Table1[[#This Row],[Total Controls kWh Savings]]+Table1[[#This Row],[Cooling kWh Savings]],\"\"))","v":""},{"$f":"IF(AND(ISBLANK(Table1[[#This Row],[Manufacturer/Model Number]]),ISNUMBER(Table1[[#This Row],[Prop. Qty]])),\"Missing Req'd Info\",IFERROR(VLOOKUP(Table1[[#This Row],[Operating Hours Group]],HoursTable,4,0),\"\"))","v":""},{"$f":"IFERROR(INDEX((Table2[Application]),MATCH(Table1[[#This Row],[Proposed Fixture Description]],Table2[Fixture Description],0)),\"\")","v":""},{"$f":"IFERROR(INDEX((Table2[Equipment Type]),MATCH(Table1[[#This Row],[Proposed Fixture Description]],Table2[Fixture Description],0)),\"\")","v":""},{"$f":"IFERROR(INDEX((Table2[TLED Type]),MATCH(Table1[[#This Row],[Proposed Fixture Description]],Table2[Fixture Description],0)),\"\")","v":""},{"$f":"Table1[[#This Row],[Application]]&\"|\"&Table1[[#This Row],[Equipment Type]]","v":"|"},{"$f":"VLOOKUP(Table1[[#This Row],[Application & Equipment Type]],'EUL Calc'!$D$6:$F$17,3,0)","v":{"$error":"#N/A"}},{"$f":"VLOOKUP(Table1[[#This Row],[Application & Equipment Type]],'EUL Calc'!$D$6:$G$17,4,0)","v":{"$error":"#N/A"}},{"$f":"IFERROR(INDEX(Table2[DLC/ENERGY STAR Approved?],MATCH(Table1[[#This Row],[Proposed Fixture Description]],Table2[Fixture Description],0)),0)","v":0},{"$f":"IF(Table1[[#This Row],[Proposed High End Trim\n(% of Max Fixture Output)]]<>\"\", \"Yes\", \"No\")","v":"No"},{"$f":"IF(Table1[[#This Row],[Proposed Additional Control Strategy]]=\"\",Table1[[#This Row],[Proposed Control Strategy]],_xlfn.CONCAT(Table1[[#This Row],[Proposed Control Strategy]], \" & \",Table1[[#This Row],[Proposed Additional Control Strategy]]))","v":0},{"$f":"IFERROR(INDEX(Table2[Fixture Controlled?],MATCH(Table1[[#This Row],[Proposed Fixture Description]],Table2[Fixture Description],0)),\"\")","v":""},{"$f":"IFERROR((Table1[[#This Row],[Percent Reduction from Control Strategies]]+Table1[[#This Row],[Percent Reduction from Additional Controls Strategy]])*Table1[[#This Row],[Proposed kWh]], IFERROR(Table1[[#This Row],[Percent Reduction from Control Strategies]]*Table1[[#This Row],[Proposed kWh]],\"\"))","v":""},{"$f":"IFERROR(ABS(Table1[[#This Row],[Total Incentivized kWh Savings]]), \"N/A\")","v":"N/A"},{"$f":"IF(OR(Table1[[#This Row],[Application]]=0,Table1[[#This Row],[DLC/ES?]]=\"No\",AND($AP$4=\"No\",Table1[[#This Row],[TLED Type]]=\"A\")),0,IFERROR(IF(AND($S$3=\"Tier 2 - Network Controls\",$AP$3=\"Yes\",$AP$5=\"Yes\",$AP$6=\"Yes\"), Table1[[#This Row],[Fixture kWh Savings]]+Table1[[#This Row],[Total Controls kWh Savings]]+Table1[[#This Row],[Cooling kWh Savings]], IF(AND($S$3=\"Tier 1 - Luminaire Level or Wireless Control\",$AP$3=\"Yes\",$AP$5=\"Yes\",$AP$6=\"Yes\"), Table1[[#This Row],[Fixture kWh Savings]]+Table1[[#This Row],[Total Controls kWh Savings]]+Table1[[#This Row],[Cooling kWh Savings]], IF(AND($S$3=\"Fixture Replacement Only - No Controls\",$AP$3=\"Yes\",Table1[[#This Row],[DLC/ES?]]<>\"No\"), (Table1[[#This Row],[Fixture kWh Savings]]+Table1[[#This Row],[Cooling kWh Savings]]+Table1[[#This Row],[Total Controls kWh Savings]]), \"-\"))),\"-\"))","v":"-"},{"$f":"IF(OR(Table1[[#This Row],[Application]]=0,Table1[[#This Row],[DLC/ES?]]=\"No\",AND($AP$4=\"No\",Table1[[#This Row],[TLED Type]]=\"A\")),0,IFERROR(IF(AND($S$3=\"Tier 2 - Network Controls\",$AP$3=\"Yes\",$AP$5=\"Yes\",$AP$6=\"Yes\"), Table1[[#This Row],[Fixture kWh Savings]]+Table1[[#This Row],[Cooling kWh Savings]], IF(AND($S$3=\"Tier 1 - Luminaire Level or Wireless Control\",$AP$3=\"Yes\",$AP$5=\"Yes\",$AP$6=\"Yes\"), Table1[[#This Row],[Fixture kWh Savings]]+Table1[[#This Row],[Cooling kWh Savings]], IF(AND($S$3=\"Fixture Replacement Only - No Controls\",$AP$3=\"Yes\",Table1[[#This Row],[DLC/ES?]]<>\"No\"), (Table1[[#This Row],[Fixture kWh Savings]]+Table1[[#This Row],[Cooling kWh Savings]]), \"-\"))),\"-\"))","v":"-"},{"$f":"IF(OR(Table1[[#This Row],[Application]]=0,Table1[[#This Row],[DLC/ES?]]=\"No\",AND($AP$4=\"No\",Table1[[#This Row],[TLED Type]]=\"A\")),0,IFERROR(IF(AND($S$3=\"Tier 2 - Network Controls\",$AP$3=\"Yes\",$AP$5=\"Yes\",$AP$6=\"Yes\"), Table1[[#This Row],[Total Controls kWh Savings]], IF(AND($S$3=\"Tier 1 - Luminaire Level or Wireless Control\",$AP$3=\"Yes\",$AP$5=\"Yes\",$AP$6=\"Yes\"), Table1[[#This Row],[Total Controls kWh Savings]], IF(AND($S$3=\"Fixture Replacement Only - No Controls\",$AP$3=\"Yes\",Table1[[#This Row],[DLC/ES?]]<>\"No\"), (Table1[[#This Row],[Total Controls kWh Savings]]), \"-\"))),\"-\"))","v":"-"}]
[null,{"$f":"ROW(Table1[[#This Row],[Existing Lamp/Ballast Description]])-14","v":10},null,null,null,null,null,{"$f":"IFERROR(VLOOKUP(Table1[[#This Row],[Operating Hours Group]],HoursTable,3,0),\"\")","v":""},null,null,null,null,{"$f":"IFERROR(INDEX(Lookup!$B$3:$B$1550,MATCH(Table1[[#This Row],[Existing Lamp/Ballast Description]],Lookup!$C$3:$C$1550,0)),\"\")","v":""},{"$f":"IFERROR(IF(Table1[[#This Row],[Existing Fixture Code]]=\"\",(VLOOKUP(Table1[[#This Row],[Existing Device Code]],Lookup!$B$2:$D$1550,3,FALSE)), (VLOOKUP(Table1[[#This Row],[Existing Fixture Code]],Lookup!$B$2:$D$1550,3,FALSE))),\"\")","v":""},{"$f":"IFERROR(Table1[[#This Row],[Ex. Qty]]*Table1[[#This Row],[Existing Wattage]]/1000,\"\")","v":""},{"$f":"IFERROR(Table1[[#This Row],[Annual Operating Hours]]*Table1[[#This Row],[Existing kW]],\"\")","v":""},null,null,{"$f":"IFERROR(INDEX(Table2[[Merged model ]],MATCH(Table1[[#This Row],[Proposed Fixture Description]],Table2[Fixture Description],0)),\"\")","v":""},{"$f":"IFERROR(_xlfn.SINGLE(INDEX(ROUND(Table2[DLC/\nENERGY STAR Wattage],1),MATCH(Table1[[#This Row],[Proposed Fixture Description]],Table2[Fixture Description],0))),\"\")","v":""},{"$f":"IFERROR(IF(Table1[[#This Row],[Proposed Fixture Description]]=\"\",Table1[[#This Row],[Existing kW]],Table1[[#This Row],[Prop. Qty]]*Table1[[#This Row],[Proposed Wattage]]/1000),\"\")","v":""},{"$f":"IFERROR(Table1[[#This Row],[Annual Operating Hours]]*Table1[[#This Row],[Proposed kW]],\"\")","v":""},null,null,null,{"$f":"IFERROR(_xlfn.IFS(Table1[[#This Row],[Proposed Control Strategy]]=\"Scheduled Dimming\",INDEX('2 - Hours and Schedules'!$AB$6:$AB$15,MATCH(Table1[[#This Row],[Operating Hours Group]],'2 - Hours and Schedules'!$AA$6:$AA$15,0)), Table1[[#This Row],[Proposed Control Strategy]]=\"Daylight\",'Controls Lookup'!$B$2,Table1[[#This Row],[Proposed Control Strategy]]=\"Occupancy Sensor\",'Controls Lookup'!$C$2*(1-Table1[[#This Row],[% Output, if not off\n(Only If Occupancy Sensor Selected)]]),Table1[[#This Row],[Proposed Control Strategy]]=\"None\",'Controls Lookup'!$E$2),\"\")","v":""},null,null,{"$f":"IFERROR(_xlfn.IFS(Table1[[#This Row],[Proposed Additional Control Strategy]]=\"Scheduled Dimming\",INDEX('2 - Hours and Schedules'!$AB$6:$AB$15,MATCH(Table1[[#This Row],[Operating Hours Group]],'2 - Hours and Schedules'!$AA$6:$AA$15,0)), Table1[[#This Row],[Proposed Additional Control Strategy]]=\"Daylight\",'Controls Lookup'!$B$2,Table1[[#This Row],[Proposed Additional Control Strategy]]=\"Occupancy Sensor\",'Controls Lookup'!$C$2*(1-Table1[[#This Row],[% Output, if not off\n (If Occupancy Sensor Selected)]]),Table1[[#This Row],[Proposed Additional Control Strategy]]=\"None\",'Controls Lookup'!$E$2),\"\")","v":""},{"$f":"SUM(IF(Table1[[#This Row],[Proposed High End Trim\n(% of Max Fixture Output)]]=\"\",0,(1-Table1[[#This Row],[Proposed High End Trim\n(% of Max Fixture Output)]])*(1-IF(Table1[[#This Row],[Percent Reduction from Control Strategies]]=\"\",0,Table1[[#This Row],[Percent Reduction from Control Strategies]])-IF(Table1[[#This Row],[Percent Reduction from Additional Controls Strategy]]=\"\",0,Table1[[#This Row],[Percent Reduction from Additional Controls Strategy]]))),IF(Table1[[#This Row],[Percent Reduction from Control Strategies]]=\"\",0,Table1[[#This Row],[Percent Reduction from Control Strategies]]),IF(Table1[[#This Row],[Percent Reduction from Additional Controls Strategy]]=\"\",0,Table1[[#This Row],[Percent Reduction from Additional Controls Strategy]]))","v":0},{"$f":"IFERROR(IF(Table1[[#This Row],[Existing kW]]=\"\",-Table1[[#This Row],[Proposed kW]],Table1[[#This Row],[Existing kW]]-Table1[[#This Row],[Proposed kW]]),\"\")","v":""},{"$f":"IF(AND(ISBLANK(Table1[[#This Row],[Manufacturer/Model Number]]),ISNUMBER(Table1[[#This Row],[Prop. Qty]])),\"Missing Req'd Info\",IFERROR(IF(VLOOKUP(Table1[[#This Row],[Operating Hours Group]],HoursTable,5,FALSE)=1,Table1[[#This Row],[Fixture kW Savings]],0),\"\"))","v":""},{"$f":"IF(AND(ISBLANK(Table1[[#This Row],[Manufacturer/Model Number]]),ISNUMBER(Table1[[#This Row],[Prop. Qty]])),\"Missing Req'd Info\",IFERROR(IF(VLOOKUP(Table1[[#This Row],[Operating Hours Group]],HoursTable,6,FALSE),Table1[[#This Row],[Fixture kW Savings]],0),\"\"))","v":""},{"$f":"IFERROR(Table1[[#This Row],[Fixture kW Savings]]*Table1[[#This Row],[Annual Operating Hours]],\"\")","v":""},{"$f":"IF(AND(ISBLANK(Table1[[#This Row],[Manufacturer/Model Number]]),ISNUMBER(Table1[[#This Row],[Prop. Qty]])),\"Missing Req'd Info\",IFERROR((Table1[[#This Row],[Total Controls Savings (%)]]*Table1[[#This Row],[Proposed kWh]]),0))","v":0},{"$f":"IFERROR(IF(OR(Table1[[#This Row],[DLC/ES?]]=\"No\",Table1[[#This Row],[Lighting Location: Conditioned Space (Cooled) or Unconditioned Space]]=\"Unconditioned Space\"),0,(Lookup!$G$12*Table1[[#This Row],[Fixture kW Savings]]*0.8/Lookup!$G$14)),0)","v":0},{"$f":"IF(AND(ISBLANK(Table1[[#This Row],[Manufacturer/Model Number]]),ISNUMBER(Table1[[#This Row],[Prop. Qty]])),\"Missing Req'd Info\",IFERROR(Table1[[#This Row],[Fixture kWh Savings]]+Table1[[#This Row],[Total Controls kWh Savings]]+Table1[[#This Row],[Cooling kWh Savings]],\"\"))","v":""},{"$f":"IF(AND(ISBLANK(Table1[[#This Row],[Manufacturer/Model Number]]),ISNUMBER(Table1[[#This Row],[Prop. Qty]])),\"Missing Req'd Info\",IFERROR(VLOOKUP(Table1[[#This Row],[Operating Hours Group]],HoursTable,4,0),\"\"))","v":""},{"$f":"IFERROR(INDEX((Table2[Application]),MATCH(Table1[[#This Row],[Proposed Fixture Description]],Table2[Fixture Description],0)),\"\")","v":""},{"$f":"IFERROR(INDEX((Table2[Equipment Type]),MATCH(Table1[[#This Row],[Proposed Fixture Description]],Table2[Fixture Description],0)),\"\")","v":""},{"$f":"IFERROR(INDEX((Table2[TLED Type]),MATCH(Table1[[#This Row],[Proposed Fixture Description]],Table2[Fixture Description],0)),\"\")","v":""},{"$f":"Table1[[#This Row],[Application]]&\"|\"&Table1[[#This Row],[Equipment Type]]","v":"|"},{"$f":"VLOOKUP(Table1[[#This Row],[Application & Equipment Type]],'EUL Calc'!$D$6:$F$17,3,0)","v":{"$error":"#N/A"}},{"$f":"VLOOKUP(Table1[[#This Row],[Application & Equipment Type]],'EUL Calc'!$D$6:$G$17,4,0)","v":{"$error":"#N/A"}},{"$f":"IFERROR(INDEX(Table2[DLC/ENERGY STAR Approved?],MATCH(Table1[[#This Row],[Proposed Fixture Description]],Table2[Fixture Description],0)),0)","v":0},{"$f":"IF(Table1[[#This Row],[Proposed High End Trim\n(% of Max Fixture Output)]]<>\"\", \"Yes\", \"No\")","v":"No"},{"$f":"IF(Table1[[#This Row],[Proposed Additional Control Strategy]]=\"\",Table1[[#This Row],[Proposed Control Strategy]],_xlfn.CONCAT(Table1[[#This Row],[Proposed Control Strategy]], \" & \",Table1[[#This Row],[Proposed Additional Control Strategy]]))","v":0},{"$f":"IFERROR(INDEX(Table2[Fixture Controlled?],MATCH(Table1[[#This Row],[Proposed Fixture Description]],Table2[Fixture Description],0)),\"\")","v":""},{"$f":"IFERROR((Table1[[#This Row],[Percent Reduction from Control Strategies]]+Table1[[#This Row],[Percent Reduction from Additional Controls Strategy]])*Table1[[#This Row],[Proposed kWh]], IFERROR(Table1[[#This Row],[Percent Reduction from Control Strategies]]*Table1[[#This Row],[Proposed kWh]],\"\"))","v":""},{"$f":"IFERROR(ABS(Table1[[#This Row],[Total Incentivized kWh Savings]]), \"N/A\")","v":"N/A"},{"$f":"IF(OR(Table1[[#This Row],[Application]]=0,Table1[[#This Row],[DLC/ES?]]=\"No\",AND($AP$4=\"No\",Table1[[#This Row],[TLED Type]]=\"A\")),0,IFERROR(IF(AND($S$3=\"Tier 2 - Network Controls\",$AP$3=\"Yes\",$AP$5=\"Yes\",$AP$6=\"Yes\"), Table1[[#This Row],[Fixture kWh Savings]]+Table1[[#This Row],[Total Controls kWh Savings]]+Table1[[#This Row],[Cooling kWh Savings]], IF(AND($S$3=\"Tier 1 - Luminaire Level or Wireless Control\",$AP$3=\"Yes\",$AP$5=\"Yes\",$AP$6=\"Yes\"), Table1[[#This Row],[Fixture kWh Savings]]+Table1[[#This Row],[Total Controls kWh Savings]]+Table1[[#This Row],[Cooling kWh Savings]], IF(AND($S$3=\"Fixture Replacement Only - No Controls\",$AP$3=\"Yes\",Table1[[#This Row],[DLC/ES?]]<>\"No\"), (Table1[[#This Row],[Fixture kWh Savings]]+Table1[[#This Row],[Cooling kWh Savings]]+Table1[[#This Row],[Total Controls kWh Savings]]), \"-\"))),\"-\"))","v":"-"},{"$f":"IF(OR(Table1[[#This Row],[Application]]=0,Table1[[#This Row],[DLC/ES?]]=\"No\",AND($AP$4=\"No\",Table1[[#This Row],[TLED Type]]=\"A\")),0,IFERROR(IF(AND($S$3=\"Tier 2 - Network Controls\",$AP$3=\"Yes\",$AP$5=\"Yes\",$AP$6=\"Yes\"), Table1[[#This Row],[Fixture kWh Savings]]+Table1[[#This Row],[Cooling kWh Savings]], IF(AND($S$3=\"Tier 1 - Luminaire Level or Wireless Control\",$AP$3=\"Yes\",$AP$5=\"Yes\",$AP$6=\"Yes\"), Table1[[#This Row],[Fixture kWh Savings]]+Table1[[#This Row],[Cooling kWh Savings]], IF(AND($S$3=\"Fixture Replacement Only - No Controls\",$AP$3=\"Yes\",Table1[[#This Row],[DLC/ES?]]<>\"No\"), (Table1[[#This Row],[Fixture kWh Savings]]+Table1[[#This Row],[Cooling kWh Savings]]), \"-\"))),\"-\"))","v":"-"},{"$f":"IF(OR(Table1[[#This Row],[Application]]=0,Table1[[#This Row],[DLC/ES?]]=\"No\",AND($AP$4=\"No\",Table1[[#This Row],[TLED Type]]=\"A\")),0,IFERROR(IF(AND($S$3=\"Tier 2 - Network Controls\",$AP$3=\"Yes\",$AP$5=\"Yes\",$AP$6=\"Yes\"), Table1[[#This Row],[Total Controls kWh Savings]], IF(AND($S$3=\"Tier 1 - Luminaire Level or Wireless Control\",$AP$3=\"Yes\",$AP$5=\"Yes\",$AP$6=\"Yes\"), Table1[[#This Row],[Total Controls kWh Savings]], IF(AND($S$3=\"Fixture Replacement Only - No Controls\",$AP$3=\"Yes\",Table1[[#This Row],[DLC/ES?]]<>\"No\"), (Table1[[#This Row],[Total Controls kWh Savings]]), \"-\"))),\"-\"))","v":"-"}]
[null,{"$f":"ROW(Table1[[#This Row],[Existing Lamp/Ballast Description]])-14","v":11},null,null,null,null,null,{"$f":"IFERROR(VLOOKUP(Table1[[#This Row],[Operating Hours Group]],HoursTable,3,0),\"\")","v":""},null,null,null,null,{"$f":"IFERROR(INDEX(Lookup!$B$3:$B$1550,MATCH(Table1[[#This Row],[Existing Lamp/Ballast Description]],Lookup!$C$3:$C$1550,0)),\"\")","v":""},{"$f":"IFERROR(IF(Table1[[#This Row],[Existing Fixture Code]]=\"\",(VLOOKUP(Table1[[#This Row],[Existing Device Code]],Lookup!$B$2:$D$1550,3,FALSE)), (VLOOKUP(Table1[[#This Row],[Existing Fixture Code]],Lookup!$B$2:$D$1550,3,FALSE))),\"\")","v":""},{"$f":"IFERROR(Table1[[#This Row],[Ex. Qty]]*Table1[[#This Row],[Existing Wattage]]/1000,\"\")","v":""},{"$f":"IFERROR(Table1[[#This Row],[Annual Operating Hours]]*Table1[[#This Row],[Existing kW]],\"\")","v":""},null,null,{"$f":"IFERROR(INDEX(Table2[[Merged model ]],MATCH(Table1[[#This Row],[Proposed Fixture Description]],Table2[Fixture Description],0)),\"\")","v":""},{"$f":"IFERROR(_xlfn.SINGLE(INDEX(ROUND(Table2[DLC/\nENERGY STAR Wattage],1),MATCH(Table1[[#This Row],[Proposed Fixture Description]],Table2[Fixture Description],0))),\"\")","v":""},{"$f":"IFERROR(IF(Table1[[#This Row],[Proposed Fixture Description]]=\"\",Table1[[#This Row],[Existing kW]],Table1[[#This Row],[Prop. Qty]]*Table1[[#This Row],[Proposed Wattage]]/1000),\"\")","v":""},{"$f":"IFERROR(Table1[[#This Row],[Annual Operating Hours]]*Table1[[#This Row],[Proposed kW]],\"\")","v":""},null,null,null,{"$f":"IFERROR(_xlfn.IFS(Table1[[#This Row],[Proposed Control Strategy]]=\"Scheduled Dimming\",INDEX('2 - Hours and Schedules'!$AB$6:$AB$15,MATCH(Table1[[#This Row],[Operating Hours Group]],'2 - Hours and Schedules'!$AA$6:$AA$15,0)), Table1[[#This Row],[Proposed Control Strategy]]=\"Daylight\",'Controls Lookup'!$B$2,Table1[[#This Row],[Proposed Control Strategy]]=\"Occupancy Sensor\",'Controls Lookup'!$C$2*(1-Table1[[#This Row],[% Output, if not off\n(Only If Occupancy Sensor Selected)]]),Table1[[#This Row],[Proposed Control Strategy]]=\"None\",'Controls Lookup'!$E$2),\"\")","v":""},null,null,{"$f":"IFERROR(_xlfn.IFS(Table1[[#This Row],[Proposed Additional Control Strategy]]=\"Scheduled Dimming\",INDEX('2 - Hours and Schedules'!$AB$6:$AB$15,MATCH(Table1[[#This Row],[Operating Hours Group]],'2 - Hours and Schedules'!$AA$6:$AA$15,0)), Table1[[#This Row],[Proposed Additional Control Strategy]]=\"Daylight\",'Controls Lookup'!$B$2,Table1[[#This Row],[Proposed Additional Control Strategy]]=\"Occupancy Sensor\",'Controls Lookup'!$C$2*(1-Table1[[#This Row],[% Output, if not off\n (If Occupancy Sensor Selected)]]),Table1[[#This Row],[Proposed Additional Control Strategy]]=\"None\",'Controls Lookup'!$E$2),\"\")","v":""},{"$f":"SUM(IF(Table1[[#This Row],[Proposed High End Trim\n(% of Max Fixture Output)]]=\"\",0,(1-Table1[[#This Row],[Proposed High End Trim\n(% of Max Fixture Output)]])*(1-IF(Table1[[#This Row],[Percent Reduction from Control Strategies]]=\"\",0,Table1[[#This Row],[Percent Reduction from Control Strategies]])-IF(Table1[[#This Row],[Percent Reduction from Additional Controls Strategy]]=\"\",0,Table1[[#This Row],[Percent Reduction from Additional Controls Strategy]]))),IF(Table1[[#This Row],[Percent Reduction from Control Strategies]]=\"\",0,Table1[[#This Row],[Percent Reduction from Control Strategies]]),IF(Table1[[#This Row],[Percent Reduction from Additional Controls Strategy]]=\"\",0,Table1[[#This Row],[Percent Reduction from Additional Controls Strategy]]))","v":0},{"$f":"IFERROR(IF(Table1[[#This Row],[Existing kW]]=\"\",-Table1[[#This Row],[Proposed kW]],Table1[[#This Row],[Existing kW]]-Table1[[#This Row],[Proposed kW]]),\"\")","v":""},{"$f":"IF(AND(ISBLANK(Table1[[#This Row],[Manufacturer/Model Number]]),ISNUMBER(Table1[[#This Row],[Prop. Qty]])),\"Missing Req'd Info\",IFERROR(IF(VLOOKUP(Table1[[#This Row],[Operating Hours Group]],HoursTable,5,FALSE)=1,Table1[[#This Row],[Fixture kW Savings]],0),\"\"))","v":""},{"$f":"IF(AND(ISBLANK(Table1[[#This Row],[Manufacturer/Model Number]]),ISNUMBER(Table1[[#This Row],[Prop. Qty]])),\"Missing Req'd Info\",IFERROR(IF(VLOOKUP(Table1[[#This Row],[Operating Hours Group]],HoursTable,6,FALSE),Table1[[#This Row],[Fixture kW Savings]],0),\"\"))","v":""},{"$f":"IFERROR(Table1[[#This Row],[Fixture kW Savings]]*Table1[[#This Row],[Annual Operating Hours]],\"\")","v":""},{"$f":"IF(AND(ISBLANK(Table1[[#This Row],[Manufacturer/Model Number]]),ISNUMBER(Table1[[#This Row],[Prop. Qty]])),\"Missing Req'd Info\",IFERROR((Table1[[#This Row],[Total Controls Savings (%)]]*Table1[[#This Row],[Proposed kWh]]),0))","v":0},{"$f":"IFERROR(IF(OR(Table1[[#This Row],[DLC/ES?]]=\"No\",Table1[[#This Row],[Lighting Location: Conditioned Space (Cooled) or Unconditioned Space]]=\"Unconditioned Space\"),0,(Lookup!$G$12*Table1[[#This Row],[Fixture kW Savings]]*0.8/Lookup!$G$14)),0)","v":0},{"$f":"IF(AND(ISBLANK(Table1[[#This Row],[Manufacturer/Model Number]]),ISNUMBER(Table1[[#This Row],[Prop. Qty]])),\"Missing Req'd Info\",IFERROR(Table1[[#This Row],[Fixture kWh Savings]]+Table1[[#This Row],[Total Controls kWh Savings]]+Table1[[#This Row],[Cooling kWh Savings]],\"\"))","v":""},{"$f":"IF(AND(ISBLANK(Table1[[#This Row],[Manufacturer/Model Number]]),ISNUMBER(Table1[[#This Row],[Prop. Qty]])),\"Missing Req'd Info\",IFERROR(VLOOKUP(Table1[[#This Row],[Operating Hours Group]],HoursTable,4,0),\"\"))","v":""},{"$f":"IFERROR(INDEX((Table2[Application]),MATCH(Table1[[#This Row],[Proposed Fixture Description]],Table2[Fixture Description],0)),\"\")","v":""},{"$f":"IFERROR(INDEX((Table2[Equipment Type]),MATCH(Table1[[#This Row],[Proposed Fixture Description]],Table2[Fixture Description],0)),\"\")","v":""},{"$f":"IFERROR(INDEX((Table2[TLED Type]),MATCH(Table1[[#This Row],[Proposed Fixture Description]],Table2[Fixture Description],0)),\"\")","v":""},{"$f":"Table1[[#This Row],[Application]]&\"|\"&Table1[[#This Row],[Equipment Type]]","v":"|"},{"$f":"VLOOKUP(Table1[[#This Row],[Application & Equipment Type]],'EUL Calc'!$D$6:$F$17,3,0)","v":{"$error":"#N/A"}},{"$f":"VLOOKUP(Table1[[#This Row],[Application & Equipment Type]],'EUL Calc'!$D$6:$G$17,4,0)","v":{"$error":"#N/A"}},{"$f":"IFERROR(INDEX(Table2[DLC/ENERGY STAR Approved?],MATCH(Table1[[#This Row],[Proposed Fixture Description]],Table2[Fixture Description],0)),0)","v":0},{"$f":"IF(Table1[[#This Row],[Proposed High End Trim\n(% of Max Fixture Output)]]<>\"\", \"Yes\", \"No\")","v":"No"},{"$f":"IF(Table1[[#This Row],[Proposed Additional Control Strategy]]=\"\",Table1[[#This Row],[Proposed Control Strategy]],_xlfn.CONCAT(Table1[[#This Row],[Proposed Control Strategy]], \" & \",Table1[[#This Row],[Proposed Additional Control Strategy]]))","v":0},{"$f":"IFERROR(INDEX(Table2[Fixture Controlled?],MATCH(Table1[[#This Row],[Proposed Fixture Description]],Table2[Fixture Description],0)),\"\")","v":""},{"$f":"IFERROR((Table1[[#This Row],[Percent Reduction from Control Strategies]]+Table1[[#This Row],[Percent Reduction from Additional Controls Strategy]])*Table1[[#This Row],[Proposed kWh]], IFERROR(Table1[[#This Row],[Percent Reduction from Control Strategies]]*Table1[[#This Row],[Proposed kWh]],\"\"))","v":""},{"$f":"IFERROR(ABS(Table1[[#This Row],[Total Incentivized kWh Savings]]), \"N/A\")","v":"N/A"},{"$f":"IF(OR(Table1[[#This Row],[Application]]=0,Table1[[#This Row],[DLC/ES?]]=\"No\",AND($AP$4=\"No\",Table1[[#This Row],[TLED Type]]=\"A\")),0,IFERROR(IF(AND($S$3=\"Tier 2 - Network Controls\",$AP$3=\"Yes\",$AP$5=\"Yes\",$AP$6=\"Yes\"), Table1[[#This Row],[Fixture kWh Savings]]+Table1[[#This Row],[Total Controls kWh Savings]]+Table1[[#This Row],[Cooling kWh Savings]], IF(AND($S$3=\"Tier 1 - Luminaire Level or Wireless Control\",$AP$3=\"Yes\",$AP$5=\"Yes\",$AP$6=\"Yes\"), Table1[[#This Row],[Fixture kWh Savings]]+Table1[[#This Row],[Total Controls kWh Savings]]+Table1[[#This Row],[Cooling kWh Savings]], IF(AND($S$3=\"Fixture Replacement Only - No Controls\",$AP$3=\"Yes\",Table1[[#This Row],[DLC/ES?]]<>\"No\"), (Table1[[#This Row],[Fixture kWh Savings]]+Table1[[#This Row],[Cooling kWh Savings]]+Table1[[#This Row],[Total Controls kWh Savings]]), \"-\"))),\"-\"))","v":"-"},{"$f":"IF(OR(Table1[[#This Row],[Application]]=0,Table1[[#This Row],[DLC/ES?]]=\"No\",AND($AP$4=\"No\",Table1[[#This Row],[TLED Type]]=\"A\")),0,IFERROR(IF(AND($S$3=\"Tier 2 - Network Controls\",$AP$3=\"Yes\",$AP$5=\"Yes\",$AP$6=\"Yes\"), Table1[[#This Row],[Fixture kWh Savings]]+Table1[[#This Row],[Cooling kWh Savings]], IF(AND($S$3=\"Tier 1 - Luminaire Level or Wireless Control\",$AP$3=\"Yes\",$AP$5=\"Yes\",$AP$6=\"Yes\"), Table1[[#This Row],[Fixture kWh Savings]]+Table1[[#This Row],[Cooling kWh Savings]], IF(AND($S$3=\"Fixture Replacement Only - No Controls\",$AP$3=\"Yes\",Table1[[#This Row],[DLC/ES?]]<>\"No\"), (Table1[[#This Row],[Fixture kWh Savings]]+Table1[[#This Row],[Cooling kWh Savings]]), \"-\"))),\"-\"))","v":"-"},{"$f":"IF(OR(Table1[[#This Row],[Application]]=0,Table1[[#This Row],[DLC/ES?]]=\"No\",AND($AP$4=\"No\",Table1[[#This Row],[TLED Type]]=\"A\")),0,IFERROR(IF(AND($S$3=\"Tier 2 - Network Controls\",$AP$3=\"Yes\",$AP$5=\"Yes\",$AP$6=\"Yes\"), Table1[[#This Row],[Total Controls kWh Savings]], IF(AND($S$3=\"Tier 1 - Luminaire Level or Wireless Control\",$AP$3=\"Yes\",$AP$5=\"Yes\",$AP$6=\"Yes\"), Table1[[#This Row],[Total Controls kWh Savings]], IF(AND($S$3=\"Fixture Replacement Only - No Controls\",$AP$3=\"Yes\",Table1[[#This Row],[DLC/ES?]]<>\"No\"), (Table1[[#This Row],[Total Controls kWh Savings]]), \"-\"))),\"-\"))","v":"-"}]
[null,{"$f":"ROW(Table1[[#This Row],[Existing Lamp/Ballast Description]])-14","v":12},null,null,null,null,null,{"$f":"IFERROR(VLOOKUP(Table1[[#This Row],[Operating Hours Group]],HoursTable,3,0),\"\")","v":""},null,null,null,null,{"$f":"IFERROR(INDEX(Lookup!$B$3:$B$1550,MATCH(Table1[[#This Row],[Existing Lamp/Ballast Description]],Lookup!$C$3:$C$1550,0)),\"\")","v":""},{"$f":"IFERROR(IF(Table1[[#This Row],[Existing Fixture Code]]=\"\",(VLOOKUP(Table1[[#This Row],[Existing Device Code]],Lookup!$B$2:$D$1550,3,FALSE)), (VLOOKUP(Table1[[#This Row],[Existing Fixture Code]],Lookup!$B$2:$D$1550,3,FALSE))),\"\")","v":""},{"$f":"IFERROR(Table1[[#This Row],[Ex. Qty]]*Table1[[#This Row],[Existing Wattage]]/1000,\"\")","v":""},{"$f":"IFERROR(Table1[[#This Row],[Annual Operating Hours]]*Table1[[#This Row],[Existing kW]],\"\")","v":""},null,null,{"$f":"IFERROR(INDEX(Table2[[Merged model ]],MATCH(Table1[[#This Row],[Proposed Fixture Description]],Table2[Fixture Description],0)),\"\")","v":""},{"$f":"IFERROR(_xlfn.SINGLE(INDEX(ROUND(Table2[DLC/\nENERGY STAR Wattage],1),MATCH(Table1[[#This Row],[Proposed Fixture Description]],Table2[Fixture Description],0))),\"\")","v":""},{"$f":"IFERROR(IF(Table1[[#This Row],[Proposed Fixture Description]]=\"\",Table1[[#This Row],[Existing kW]],Table1[[#This Row],[Prop. Qty]]*Table1[[#This Row],[Proposed Wattage]]/1000),\"\")","v":""},{"$f":"IFERROR(Table1[[#This Row],[Annual Operating Hours]]*Table1[[#This Row],[Proposed kW]],\"\")","v":""},null,null,null,{"$f":"IFERROR(_xlfn.IFS(Table1[[#This Row],[Proposed Control Strategy]]=\"Scheduled Dimming\",INDEX('2 - Hours and Schedules'!$AB$6:$AB$15,MATCH(Table1[[#This Row],[Operating Hours Group]],'2 - Hours and Schedules'!$AA$6:$AA$15,0)), Table1[[#This Row],[Proposed Control Strategy]]=\"Daylight\",'Controls Lookup'!$B$2,Table1[[#This Row],[Proposed Control Strategy]]=\"Occupancy Sensor\",'Controls Lookup'!$C$2*(1-Table1[[#This Row],[% Output, if not off\n(Only If Occupancy Sensor Selected)]]),Table1[[#This Row],[Proposed Control Strategy]]=\"None\",'Controls Lookup'!$E$2),\"\")","v":""},null,null,{"$f":"IFERROR(_xlfn.IFS(Table1[[#This Row],[Proposed Additional Control Strategy]]=\"Scheduled Dimming\",INDEX('2 - Hours and Schedules'!$AB$6:$AB$15,MATCH(Table1[[#This Row],[Operating Hours Group]],'2 - Hours and Schedules'!$AA$6:$AA$15,0)), Table1[[#This Row],[Proposed Additional Control Strategy]]=\"Daylight\",'Controls Lookup'!$B$2,Table1[[#This Row],[Proposed Additional Control Strategy]]=\"Occupancy Sensor\",'Controls Lookup'!$C$2*(1-Table1[[#This Row],[% Output, if not off\n (If Occupancy Sensor Selected)]]),Table1[[#This Row],[Proposed Additional Control Strategy]]=\"None\",'Controls Lookup'!$E$2),\"\")","v":""},{"$f":"SUM(IF(Table1[[#This Row],[Proposed High End Trim\n(% of Max Fixture Output)]]=\"\",0,(1-Table1[[#This Row],[Proposed High End Trim\n(% of Max Fixture Output)]])*(1-IF(Table1[[#This Row],[Percent Reduction from Control Strategies]]=\"\",0,Table1[[#This Row],[Percent Reduction from Control Strategies]])-IF(Table1[[#This Row],[Percent Reduction from Additional Controls Strategy]]=\"\",0,Table1[[#This Row],[Percent Reduction from Additional Controls Strategy]]))),IF(Table1[[#This Row],[Percent Reduction from Control Strategies]]=\"\",0,Table1[[#This Row],[Percent Reduction from Control Strategies]]),IF(Table1[[#This Row],[Percent Reduction from Additional Controls Strategy]]=\"\",0,Table1[[#This Row],[Percent Reduction from Additional Controls Strategy]]))","v":0},{"$f":"IFERROR(IF(Table1[[#This Row],[Existing kW]]=\"\",-Table1[[#This Row],[Proposed kW]],Table1[[#This Row],[Existing kW]]-Table1[[#This Row],[Proposed kW]]),\"\")","v":""},{"$f":"IF(AND(ISBLANK(Table1[[#This Row],[Manufacturer/Model Number]]),ISNUMBER(Table1[[#This Row],[Prop. Qty]])),\"Missing Req'd Info\",IFERROR(IF(VLOOKUP(Table1[[#This Row],[Operating Hours Group]],HoursTable,5,FALSE)=1,Table1[[#This Row],[Fixture kW Savings]],0),\"\"))","v":""},{"$f":"IF(AND(ISBLANK(Table1[[#This Row],[Manufacturer/Model Number]]),ISNUMBER(Table1[[#This Row],[Prop. Qty]])),\"Missing Req'd Info\",IFERROR(IF(VLOOKUP(Table1[[#This Row],[Operating Hours Group]],HoursTable,6,FALSE),Table1[[#This Row],[Fixture kW Savings]],0),\"\"))","v":""},{"$f":"IFERROR(Table1[[#This Row],[Fixture kW Savings]]*Table1[[#This Row],[Annual Operating Hours]],\"\")","v":""},{"$f":"IF(AND(ISBLANK(Table1[[#This Row],[Manufacturer/Model Number]]),ISNUMBER(Table1[[#This Row],[Prop. Qty]])),\"Missing Req'd Info\",IFERROR((Table1[[#This Row],[Total Controls Savings (%)]]*Table1[[#This Row],[Proposed kWh]]),0))","v":0},{"$f":"IFERROR(IF(OR(Table1[[#This Row],[DLC/ES?]]=\"No\",Table1[[#This Row],[Lighting Location: Conditioned Space (Cooled) or Unconditioned Space]]=\"Unconditioned Space\"),0,(Lookup!$G$12*Table1[[#This Row],[Fixture kW Savings]]*0.8/Lookup!$G$14)),0)","v":0},{"$f":"IF(AND(ISBLANK(Table1[[#This Row],[Manufacturer/Model Number]]),ISNUMBER(Table1[[#This Row],[Prop. Qty]])),\"Missing Req'd Info\",IFERROR(Table1[[#This Row],[Fixture kWh Savings]]+Table1[[#This Row],[Total Controls kWh Savings]]+Table1[[#This Row],[Cooling kWh Savings]],\"\"))","v":""},{"$f":"IF(AND(ISBLANK(Table1[[#This Row],[Manufacturer/Model Number]]),ISNUMBER(Table1[[#This Row],[Prop. Qty]])),\"Missing Req'd Info\",IFERROR(VLOOKUP(Table1[[#This Row],[Operating Hours Group]],HoursTable,4,0),\"\"))","v":""},{"$f":"IFERROR(INDEX((Table2[Application]),MATCH(Table1[[#This Row],[Proposed Fixture Description]],Table2[Fixture Description],0)),\"\")","v":""},{"$f":"IFERROR(INDEX((Table2[Equipment Type]),MATCH(Table1[[#This Row],[Proposed Fixture Description]],Table2[Fixture Description],0)),\"\")","v":""},{"$f":"IFERROR(INDEX((Table2[TLED Type]),MATCH(Table1[[#This Row],[Proposed Fixture Description]],Table2[Fixture Description],0)),\"\")","v":""},{"$f":"Table1[[#This Row],[Application]]&\"|\"&Table1[[#This Row],[Equipment Type]]","v":"|"},{"$f":"VLOOKUP(Table1[[#This Row],[Application & Equipment Type]],'EUL Calc'!$D$6:$F$17,3,0)","v":{"$error":"#N/A"}},{"$f":"VLOOKUP(Table1[[#This Row],[Application & Equipment Type]],'EUL Calc'!$D$6:$G$17,4,0)","v":{"$error":"#N/A"}},{"$f":"IFERROR(INDEX(Table2[DLC/ENERGY STAR Approved?],MATCH(Table1[[#This Row],[Proposed Fixture Description]],Table2[Fixture Description],0)),0)","v":0},{"$f":"IF(Table1[[#This Row],[Proposed High End Trim\n(% of Max Fixture Output)]]<>\"\", \"Yes\", \"No\")","v":"No"},{"$f":"IF(Table1[[#This Row],[Proposed Additional Control Strategy]]=\"\",Table1[[#This Row],[Proposed Control Strategy]],_xlfn.CONCAT(Table1[[#This Row],[Proposed Control Strategy]], \" & \",Table1[[#This Row],[Proposed Additional Control Strategy]]))","v":0},{"$f":"IFERROR(INDEX(Table2[Fixture Controlled?],MATCH(Table1[[#This Row],[Proposed Fixture Description]],Table2[Fixture Description],0)),\"\")","v":""},{"$f":"IFERROR((Table1[[#This Row],[Percent Reduction from Control Strategies]]+Table1[[#This Row],[Percent Reduction from Additional Controls Strategy]])*Table1[[#This Row],[Proposed kWh]], IFERROR(Table1[[#This Row],[Percent Reduction from Control Strategies]]*Table1[[#This Row],[Proposed kWh]],\"\"))","v":""},{"$f":"IFERROR(ABS(Table1[[#This Row],[Total Incentivized kWh Savings]]), \"N/A\")","v":"N/A"},{"$f":"IF(OR(Table1[[#This Row],[Application]]=0,Table1[[#This Row],[DLC/ES?]]=\"No\",AND($AP$4=\"No\",Table1[[#This Row],[TLED Type]]=\"A\")),0,IFERROR(IF(AND($S$3=\"Tier 2 - Network Controls\",$AP$3=\"Yes\",$AP$5=\"Yes\",$AP$6=\"Yes\"), Table1[[#This Row],[Fixture kWh Savings]]+Table1[[#This Row],[Total Controls kWh Savings]]+Table1[[#This Row],[Cooling kWh Savings]], IF(AND($S$3=\"Tier 1 - Luminaire Level or Wireless Control\",$AP$3=\"Yes\",$AP$5=\"Yes\",$AP$6=\"Yes\"), Table1[[#This Row],[Fixture kWh Savings]]+Table1[[#This Row],[Total Controls kWh Savings]]+Table1[[#This Row],[Cooling kWh Savings]], IF(AND($S$3=\"Fixture Replacement Only - No Controls\",$AP$3=\"Yes\",Table1[[#This Row],[DLC/ES?]]<>\"No\"), (Table1[[#This Row],[Fixture kWh Savings]]+Table1[[#This Row],[Cooling kWh Savings]]+Table1[[#This Row],[Total Controls kWh Savings]]), \"-\"))),\"-\"))","v":"-"},{"$f":"IF(OR(Table1[[#This Row],[Application]]=0,Table1[[#This Row],[DLC/ES?]]=\"No\",AND($AP$4=\"No\",Table1[[#This Row],[TLED Type]]=\"A\")),0,IFERROR(IF(AND($S$3=\"Tier 2 - Network Controls\",$AP$3=\"Yes\",$AP$5=\"Yes\",$AP$6=\"Yes\"), Table1[[#This Row],[Fixture kWh Savings]]+Table1[[#This Row],[Cooling kWh Savings]], IF(AND($S$3=\"Tier 1 - Luminaire Level or Wireless Control\",$AP$3=\"Yes\",$AP$5=\"Yes\",$AP$6=\"Yes\"), Table1[[#This Row],[Fixture kWh Savings]]+Table1[[#This Row],[Cooling kWh Savings]], IF(AND($S$3=\"Fixture Replacement Only - No Controls\",$AP$3=\"Yes\",Table1[[#This Row],[DLC/ES?]]<>\"No\"), (Table1[[#This Row],[Fixture kWh Savings]]+Table1[[#This Row],[Cooling kWh Savings]]), \"-\"))),\"-\"))","v":"-"},{"$f":"IF(OR(Table1[[#This Row],[Application]]=0,Table1[[#This Row],[DLC/ES?]]=\"No\",AND($AP$4=\"No\",Table1[[#This Row],[TLED Type]]=\"A\")),0,IFERROR(IF(AND($S$3=\"Tier 2 - Network Controls\",$AP$3=\"Yes\",$AP$5=\"Yes\",$AP$6=\"Yes\"), Table1[[#This Row],[Total Controls kWh Savings]], IF(AND($S$3=\"Tier 1 - Luminaire Level or Wireless Control\",$AP$3=\"Yes\",$AP$5=\"Yes\",$AP$6=\"Yes\"), Table1[[#This Row],[Total Controls kWh Savings]], IF(AND($S$3=\"Fixture Replacement Only - No Controls\",$AP$3=\"Yes\",Table1[[#This Row],[DLC/ES?]]<>\"No\"), (Table1[[#This Row],[Total Controls kWh Savings]]), \"-\"))),\"-\"))","v":"-"}]
[null,{"$f":"ROW(Table1[[#This Row],[Existing Lamp/Ballast Description]])-14","v":13},null,null,null,null,null,{"$f":"IFERROR(VLOOKUP(Table1[[#This Row],[Operating Hours Group]],HoursTable,3,0),\"\")","v":""},null,null,null,null,{"$f":"IFERROR(INDEX(Lookup!$B$3:$B$1550,MATCH(Table1[[#This Row],[Existing Lamp/Ballast Description]],Lookup!$C$3:$C$1550,0)),\"\")","v":""},{"$f":"IFERROR(IF(Table1[[#This Row],[Existing Fixture Code]]=\"\",(VLOOKUP(Table1[[#This Row],[Existing Device Code]],Lookup!$B$2:$D$1550,3,FALSE)), (VLOOKUP(Table1[[#This Row],[Existing Fixture Code]],Lookup!$B$2:$D$1550,3,FALSE))),\"\")","v":""},{"$f":"IFERROR(Table1[[#This Row],[Ex. Qty]]*Table1[[#This Row],[Existing Wattage]]/1000,\"\")","v":""},{"$f":"IFERROR(Table1[[#This Row],[Annual Operating Hours]]*Table1[[#This Row],[Existing kW]],\"\")","v":""},null,null,{"$f":"IFERROR(INDEX(Table2[[Merged model ]],MATCH(Table1[[#This Row],[Proposed Fixture Description]],Table2[Fixture Description],0)),\"\")","v":""},{"$f":"IFERROR(_xlfn.SINGLE(INDEX(ROUND(Table2[DLC/\nENERGY STAR Wattage],1),MATCH(Table1[[#This Row],[Proposed Fixture Description]],Table2[Fixture Description],0))),\"\")","v":""},{"$f":"IFERROR(IF(Table1[[#This Row],[Proposed Fixture Description]]=\"\",Table1[[#This Row],[Existing kW]],Table1[[#This Row],[Prop. Qty]]*Table1[[#This Row],[Proposed Wattage]]/1000),\"\")","v":""},{"$f":"IFERROR(Table1[[#This Row],[Annual Operating Hours]]*Table1[[#This Row],[Proposed kW]],\"\")","v":""},null,null,null,{"$f":"IFERROR(_xlfn.IFS(Table1[[#This Row],[Proposed Control Strategy]]=\"Scheduled Dimming\",INDEX('2 - Hours and Schedules'!$AB$6:$AB$15,MATCH(Table1[[#This Row],[Operating Hours Group]],'2 - Hours and Schedules'!$AA$6:$AA$15,0)), Table1[[#This Row],[Proposed Control Strategy]]=\"Daylight\",'Controls Lookup'!$B$2,Table1[[#This Row],[Proposed Control Strategy]]=\"Occupancy Sensor\",'Controls Lookup'!$C$2*(1-Table1[[#This Row],[% Output, if not off\n(Only If Occupancy Sensor Selected)]]),Table1[[#This Row],[Proposed Control Strategy]]=\"None\",'Controls Lookup'!$E$2),\"\")","v":""},null,null,{"$f":"IFERROR(_xlfn.IFS(Table1[[#This Row],[Proposed Additional Control Strategy]]=\"Scheduled Dimming\",INDEX('2 - Hours and Schedules'!$AB$6:$AB$15,MATCH(Table1[[#This Row],[Operating Hours Group]],'2 - Hours and Schedules'!$AA$6:$AA$15,0)), Table1[[#This Row],[Proposed Additional Control Strategy]]=\"Daylight\",'Controls Lookup'!$B$2,Table1[[#This Row],[Proposed Additional Control Strategy]]=\"Occupancy Sensor\",'Controls Lookup'!$C$2*(1-Table1[[#This Row],[% Output, if not off\n (If Occupancy Sensor Selected)]]),Table1[[#This Row],[Proposed Additional Control Strategy]]=\"None\",'Controls Lookup'!$E$2),\"\")","v":""},{"$f":"SUM(IF(Table1[[#This Row],[Proposed High End Trim\n(% of Max Fixture Output)]]=\"\",0,(1-Table1[[#This Row],[Proposed High End Trim\n(% of Max Fixture Output)]])*(1-IF(Table1[[#This Row],[Percent Reduction from Control Strategies]]=\"\",0,Table1[[#This Row],[Percent Reduction from Control Strategies]])-IF(Table1[[#This Row],[Percent Reduction from Additional Controls Strategy]]=\"\",0,Table1[[#This Row],[Percent Reduction from Additional Controls Strategy]]))),IF(Table1[[#This Row],[Percent Reduction from Control Strategies]]=\"\",0,Table1[[#This Row],[Percent Reduction from Control Strategies]]),IF(Table1[[#This Row],[Percent Reduction from Additional Controls Strategy]]=\"\",0,Table1[[#This Row],[Percent Reduction from Additional Controls Strategy]]))","v":0},{"$f":"IFERROR(IF(Table1[[#This Row],[Existing kW]]=\"\",-Table1[[#This Row],[Proposed kW]],Table1[[#This Row],[Existing kW]]-Table1[[#This Row],[Proposed kW]]),\"\")","v":""},{"$f":"IF(AND(ISBLANK(Table1[[#This Row],[Manufacturer/Model Number]]),ISNUMBER(Table1[[#This Row],[Prop. Qty]])),\"Missing Req'd Info\",IFERROR(IF(VLOOKUP(Table1[[#This Row],[Operating Hours Group]],HoursTable,5,FALSE)=1,Table1[[#This Row],[Fixture kW Savings]],0),\"\"))","v":""},{"$f":"IF(AND(ISBLANK(Table1[[#This Row],[Manufacturer/Model Number]]),ISNUMBER(Table1[[#This Row],[Prop. Qty]])),\"Missing Req'd Info\",IFERROR(IF(VLOOKUP(Table1[[#This Row],[Operating Hours Group]],HoursTable,6,FALSE),Table1[[#This Row],[Fixture kW Savings]],0),\"\"))","v":""},{"$f":"IFERROR(Table1[[#This Row],[Fixture kW Savings]]*Table1[[#This Row],[Annual Operating Hours]],\"\")","v":""},{"$f":"IF(AND(ISBLANK(Table1[[#This Row],[Manufacturer/Model Number]]),ISNUMBER(Table1[[#This Row],[Prop. Qty]])),\"Missing Req'd Info\",IFERROR((Table1[[#This Row],[Total Controls Savings (%)]]*Table1[[#This Row],[Proposed kWh]]),0))","v":0},{"$f":"IFERROR(IF(OR(Table1[[#This Row],[DLC/ES?]]=\"No\",Table1[[#This Row],[Lighting Location: Conditioned Space (Cooled) or Unconditioned Space]]=\"Unconditioned Space\"),0,(Lookup!$G$12*Table1[[#This Row],[Fixture kW Savings]]*0.8/Lookup!$G$14)),0)","v":0},{"$f":"IF(AND(ISBLANK(Table1[[#This Row],[Manufacturer/Model Number]]),ISNUMBER(Table1[[#This Row],[Prop. Qty]])),\"Missing Req'd Info\",IFERROR(Table1[[#This Row],[Fixture kWh Savings]]+Table1[[#This Row],[Total Controls kWh Savings]]+Table1[[#This Row],[Cooling kWh Savings]],\"\"))","v":""},{"$f":"IF(AND(ISBLANK(Table1[[#This Row],[Manufacturer/Model Number]]),ISNUMBER(Table1[[#This Row],[Prop. Qty]])),\"Missing Req'd Info\",IFERROR(VLOOKUP(Table1[[#This Row],[Operating Hours Group]],HoursTable,4,0),\"\"))","v":""},{"$f":"IFERROR(INDEX((Table2[Application]),MATCH(Table1[[#This Row],[Proposed Fixture Description]],Table2[Fixture Description],0)),\"\")","v":""},{"$f":"IFERROR(INDEX((Table2[Equipment Type]),MATCH(Table1[[#This Row],[Proposed Fixture Description]],Table2[Fixture Description],0)),\"\")","v":""},{"$f":"IFERROR(INDEX((Table2[TLED Type]),MATCH(Table1[[#This Row],[Proposed Fixture Description]],Table2[Fixture Description],0)),\"\")","v":""},{"$f":"Table1[[#This Row],[Application]]&\"|\"&Table1[[#This Row],[Equipment Type]]","v":"|"},{"$f":"VLOOKUP(Table1[[#This Row],[Application & Equipment Type]],'EUL Calc'!$D$6:$F$17,3,0)","v":{"$error":"#N/A"}},{"$f":"VLOOKUP(Table1[[#This Row],[Application & Equipment Type]],'EUL Calc'!$D$6:$G$17,4,0)","v":{"$error":"#N/A"}},{"$f":"IFERROR(INDEX(Table2[DLC/ENERGY STAR Approved?],MATCH(Table1[[#This Row],[Proposed Fixture Description]],Table2[Fixture Description],0)),0)","v":0},{"$f":"IF(Table1[[#This Row],[Proposed High End Trim\n(% of Max Fixture Output)]]<>\"\", \"Yes\", \"No\")","v":"No"},{"$f":"IF(Table1[[#This Row],[Proposed Additional Control Strategy]]=\"\",Table1[[#This Row],[Proposed Control Strategy]],_xlfn.CONCAT(Table1[[#This Row],[Proposed Control Strategy]], \" & \",Table1[[#This Row],[Proposed Additional Control Strategy]]))","v":0},{"$f":"IFERROR(INDEX(Table2[Fixture Controlled?],MATCH(Table1[[#This Row],[Proposed Fixture Description]],Table2[Fixture Description],0)),\"\")","v":""},{"$f":"IFERROR((Table1[[#This Row],[Percent Reduction from Control Strategies]]+Table1[[#This Row],[Percent Reduction from Additional Controls Strategy]])*Table1[[#This Row],[Proposed kWh]], IFERROR(Table1[[#This Row],[Percent Reduction from Control Strategies]]*Table1[[#This Row],[Proposed kWh]],\"\"))","v":""},{"$f":"IFERROR(ABS(Table1[[#This Row],[Total Incentivized kWh Savings]]), \"N/A\")","v":"N/A"},{"$f":"IF(OR(Table1[[#This Row],[Application]]=0,Table1[[#This Row],[DLC/ES?]]=\"No\",AND($AP$4=\"No\",Table1[[#This Row],[TLED Type]]=\"A\")),0,IFERROR(IF(AND($S$3=\"Tier 2 - Network Controls\",$AP$3=\"Yes\",$AP$5=\"Yes\",$AP$6=\"Yes\"), Table1[[#This Row],[Fixture kWh Savings]]+Table1[[#This Row],[Total Controls kWh Savings]]+Table1[[#This Row],[Cooling kWh Savings]], IF(AND($S$3=\"Tier 1 - Luminaire Level or Wireless Control\",$AP$3=\"Yes\",$AP$5=\"Yes\",$AP$6=\"Yes\"), Table1[[#This Row],[Fixture kWh Savings]]+Table1[[#This Row],[Total Controls kWh Savings]]+Table1[[#This Row],[Cooling kWh Savings]], IF(AND($S$3=\"Fixture Replacement Only - No Controls\",$AP$3=\"Yes\",Table1[[#This Row],[DLC/ES?]]<>\"No\"), (Table1[[#This Row],[Fixture kWh Savings]]+Table1[[#This Row],[Cooling kWh Savings]]+Table1[[#This Row],[Total Controls kWh Savings]]), \"-\"))),\"-\"))","v":"-"},{"$f":"IF(OR(Table1[[#This Row],[Application]]=0,Table1[[#This Row],[DLC/ES?]]=\"No\",AND($AP$4=\"No\",Table1[[#This Row],[TLED Type]]=\"A\")),0,IFERROR(IF(AND($S$3=\"Tier 2 - Network Controls\",$AP$3=\"Yes\",$AP$5=\"Yes\",$AP$6=\"Yes\"), Table1[[#This Row],[Fixture kWh Savings]]+Table1[[#This Row],[Cooling kWh Savings]], IF(AND($S$3=\"Tier 1 - Luminaire Level or Wireless Control\",$AP$3=\"Yes\",$AP$5=\"Yes\",$AP$6=\"Yes\"), Table1[[#This Row],[Fixture kWh Savings]]+Table1[[#This Row],[Cooling kWh Savings]], IF(AND($S$3=\"Fixture Replacement Only - No Controls\",$AP$3=\"Yes\",Table1[[#This Row],[DLC/ES?]]<>\"No\"), (Table1[[#This Row],[Fixture kWh Savings]]+Table1[[#This Row],[Cooling kWh Savings]]), \"-\"))),\"-\"))","v":"-"},{"$f":"IF(OR(Table1[[#This Row],[Application]]=0,Table1[[#This Row],[DLC/ES?]]=\"No\",AND($AP$4=\"No\",Table1[[#This Row],[TLED Type]]=\"A\")),0,IFERROR(IF(AND($S$3=\"Tier 2 - Network Controls\",$AP$3=\"Yes\",$AP$5=\"Yes\",$AP$6=\"Yes\"), Table1[[#This Row],[Total Controls kWh Savings]], IF(AND($S$3=\"Tier 1 - Luminaire Level or Wireless Control\",$AP$3=\"Yes\",$AP$5=\"Yes\",$AP$6=\"Yes\"), Table1[[#This Row],[Total Controls kWh Savings]], IF(AND($S$3=\"Fixture Replacement Only - No Controls\",$AP$3=\"Yes\",Table1[[#This Row],[DLC/ES?]]<>\"No\"), (Table1[[#This Row],[Total Controls kWh Savings]]), \"-\"))),\"-\"))","v":"-"}]
[null,{"$f":"ROW(Table1[[#This Row],[Existing Lamp/Ballast Description]])-14","v":14},null,null,null,null,null,{"$f":"IFERROR(VLOOKUP(Table1[[#This Row],[Operating Hours Group]],HoursTable,3,0),\"\")","v":""},null,null,null,null,{"$f":"IFERROR(INDEX(Lookup!$B$3:$B$1550,MATCH(Table1[[#This Row],[Existing Lamp/Ballast Description]],Lookup!$C$3:$C$1550,0)),\"\")","v":""},{"$f":"IFERROR(IF(Table1[[#This Row],[Existing Fixture Code]]=\"\",(VLOOKUP(Table1[[#This Row],[Existing Device Code]],Lookup!$B$2:$D$1550,3,FALSE)), (VLOOKUP(Table1[[#This Row],[Existing Fixture Code]],Lookup!$B$2:$D$1550,3,FALSE))),\"\")","v":""},{"$f":"IFERROR(Table1[[#This Row],[Ex. Qty]]*Table1[[#This Row],[Existing Wattage]]/1000,\"\")","v":""},{"$f":"IFERROR(Table1[[#This Row],[Annual Operating Hours]]*Table1[[#This Row],[Existing kW]],\"\")","v":""},null,null,{"$f":"IFERROR(INDEX(Table2[[Merged model ]],MATCH(Table1[[#This Row],[Proposed Fixture Description]],Table2[Fixture Description],0)),\"\")","v":""},{"$f":"IFERROR(_xlfn.SINGLE(INDEX(ROUND(Table2[DLC/\nENERGY STAR Wattage],1),MATCH(Table1[[#This Row],[Proposed Fixture Description]],Table2[Fixture Description],0))),\"\")","v":""},{"$f":"IFERROR(IF(Table1[[#This Row],[Proposed Fixture Description]]=\"\",Table1[[#This Row],[Existing kW]],Table1[[#This Row],[Prop. Qty]]*Table1[[#This Row],[Proposed Wattage]]/1000),\"\")","v":""},{"$f":"IFERROR(Table1[[#This Row],[Annual Operating Hours]]*Table1[[#This Row],[Proposed kW]],\"\")","v":""},null,null,null,{"$f":"IFERROR(_xlfn.IFS(Table1[[#This Row],[Proposed Control Strategy]]=\"Scheduled Dimming\",INDEX('2 - Hours and Schedules'!$AB$6:$AB$15,MATCH(Table1[[#This Row],[Operating Hours Group]],'2 - Hours and Schedules'!$AA$6:$AA$15,0)), Table1[[#This Row],[Proposed Control Strategy]]=\"Daylight\",'Controls Lookup'!$B$2,Table1[[#This Row],[Proposed Control Strategy]]=\"Occupancy Sensor\",'Controls Lookup'!$C$2*(1-Table1[[#This Row],[% Output, if not off\n(Only If Occupancy Sensor Selected)]]),Table1[[#This Row],[Proposed Control Strategy]]=\"None\",'Controls Lookup'!$E$2),\"\")","v":""},null,null,{"$f":"IFERROR(_xlfn.IFS(Table1[[#This Row],[Proposed Additional Control Strategy]]=\"Scheduled Dimming\",INDEX('2 - Hours and Schedules'!$AB$6:$AB$15,MATCH(Table1[[#This Row],[Operating Hours Group]],'2 - Hours and Schedules'!$AA$6:$AA$15,0)), Table1[[#This Row],[Proposed Additional Control Strategy]]=\"Daylight\",'Controls Lookup'!$B$2,Table1[[#This Row],[Proposed Additional Control Strategy]]=\"Occupancy Sensor\",'Controls Lookup'!$C$2*(1-Table1[[#This Row],[% Output, if not off\n (If Occupancy Sensor Selected)]]),Table1[[#This Row],[Proposed Additional Control Strategy]]=\"None\",'Controls Lookup'!$E$2),\"\")","v":""},{"$f":"SUM(IF(Table1[[#This Row],[Proposed High End Trim\n(% of Max Fixture Output)]]=\"\",0,(1-Table1[[#This Row],[Proposed High End Trim\n(% of Max Fixture Output)]])*(1-IF(Table1[[#This Row],[Percent Reduction from Control Strategies]]=\"\",0,Table1[[#This Row],[Percent Reduction from Control Strategies]])-IF(Table1[[#This Row],[Percent Reduction from Additional Controls Strategy]]=\"\",0,Table1[[#This Row],[Percent Reduction from Additional Controls Strategy]]))),IF(Table1[[#This Row],[Percent Reduction from Control Strategies]]=\"\",0,Table1[[#This Row],[Percent Reduction from Control Strategies]]),IF(Table1[[#This Row],[Percent Reduction from Additional Controls Strategy]]=\"\",0,Table1[[#This Row],[Percent Reduction from Additional Controls Strategy]]))","v":0},{"$f":"IFERROR(IF(Table1[[#This Row],[Existing kW]]=\"\",-Table1[[#This Row],[Proposed kW]],Table1[[#This Row],[Existing kW]]-Table1[[#This Row],[Proposed kW]]),\"\")","v":""},{"$f":"IF(AND(ISBLANK(Table1[[#This Row],[Manufacturer/Model Number]]),ISNUMBER(Table1[[#This Row],[Prop. Qty]])),\"Missing Req'd Info\",IFERROR(IF(VLOOKUP(Table1[[#This Row],[Operating Hours Group]],HoursTable,5,FALSE)=1,Table1[[#This Row],[Fixture kW Savings]],0),\"\"))","v":""},{"$f":"IF(AND(ISBLANK(Table1[[#This Row],[Manufacturer/Model Number]]),ISNUMBER(Table1[[#This Row],[Prop. Qty]])),\"Missing Req'd Info\",IFERROR(IF(VLOOKUP(Table1[[#This Row],[Operating Hours Group]],HoursTable,6,FALSE),Table1[[#This Row],[Fixture kW Savings]],0),\"\"))","v":""},{"$f":"IFERROR(Table1[[#This Row],[Fixture kW Savings]]*Table1[[#This Row],[Annual Operating Hours]],\"\")","v":""},{"$f":"IF(AND(ISBLANK(Table1[[#This Row],[Manufacturer/Model Number]]),ISNUMBER(Table1[[#This Row],[Prop. Qty]])),\"Missing Req'd Info\",IFERROR((Table1[[#This Row],[Total Controls Savings (%)]]*Table1[[#This Row],[Proposed kWh]]),0))","v":0},{"$f":"IFERROR(IF(OR(Table1[[#This Row],[DLC/ES?]]=\"No\",Table1[[#This Row],[Lighting Location: Conditioned Space (Cooled) or Unconditioned Space]]=\"Unconditioned Space\"),0,(Lookup!$G$12*Table1[[#This Row],[Fixture kW Savings]]*0.8/Lookup!$G$14)),0)","v":0},{"$f":"IF(AND(ISBLANK(Table1[[#This Row],[Manufacturer/Model Number]]),ISNUMBER(Table1[[#This Row],[Prop. Qty]])),\"Missing Req'd Info\",IFERROR(Table1[[#This Row],[Fixture kWh Savings]]+Table1[[#This Row],[Total Controls kWh Savings]]+Table1[[#This Row],[Cooling kWh Savings]],\"\"))","v":""},{"$f":"IF(AND(ISBLANK(Table1[[#This Row],[Manufacturer/Model Number]]),ISNUMBER(Table1[[#This Row],[Prop. Qty]])),\"Missing Req'd Info\",IFERROR(VLOOKUP(Table1[[#This Row],[Operating Hours Group]],HoursTable,4,0),\"\"))","v":""},{"$f":"IFERROR(INDEX((Table2[Application]),MATCH(Table1[[#This Row],[Proposed Fixture Description]],Table2[Fixture Description],0)),\"\")","v":""},{"$f":"IFERROR(INDEX((Table2[Equipment Type]),MATCH(Table1[[#This Row],[Proposed Fixture Description]],Table2[Fixture Description],0)),\"\")","v":""},{"$f":"IFERROR(INDEX((Table2[TLED Type]),MATCH(Table1[[#This Row],[Proposed Fixture Description]],Table2[Fixture Description],0)),\"\")","v":""},{"$f":"Table1[[#This Row],[Application]]&\"|\"&Table1[[#This Row],[Equipment Type]]","v":"|"},{"$f":"VLOOKUP(Table1[[#This Row],[Application & Equipment Type]],'EUL Calc'!$D$6:$F$17,3,0)","v":{"$error":"#N/A"}},{"$f":"VLOOKUP(Table1[[#This Row],[Application & Equipment Type]],'EUL Calc'!$D$6:$G$17,4,0)","v":{"$error":"#N/A"}},{"$f":"IFERROR(INDEX(Table2[DLC/ENERGY STAR Approved?],MATCH(Table1[[#This Row],[Proposed Fixture Description]],Table2[Fixture Description],0)),0)","v":0},{"$f":"IF(Table1[[#This Row],[Proposed High End Trim\n(% of Max Fixture Output)]]<>\"\", \"Yes\", \"No\")","v":"No"},{"$f":"IF(Table1[[#This Row],[Proposed Additional Control Strategy]]=\"\",Table1[[#This Row],[Proposed Control Strategy]],_xlfn.CONCAT(Table1[[#This Row],[Proposed Control Strategy]], \" & \",Table1[[#This Row],[Proposed Additional Control Strategy]]))","v":0},{"$f":"IFERROR(INDEX(Table2[Fixture Controlled?],MATCH(Table1[[#This Row],[Proposed Fixture Description]],Table2[Fixture Description],0)),\"\")","v":""},{"$f":"IFERROR((Table1[[#This Row],[Percent Reduction from Control Strategies]]+Table1[[#This Row],[Percent Reduction from Additional Controls Strategy]])*Table1[[#This Row],[Proposed kWh]], IFERROR(Table1[[#This Row],[Percent Reduction from Control Strategies]]*Table1[[#This Row],[Proposed kWh]],\"\"))","v":""},{"$f":"IFERROR(ABS(Table1[[#This Row],[Total Incentivized kWh Savings]]), \"N/A\")","v":"N/A"},{"$f":"IF(OR(Table1[[#This Row],[Application]]=0,Table1[[#This Row],[DLC/ES?]]=\"No\",AND($AP$4=\"No\",Table1[[#This Row],[TLED Type]]=\"A\")),0,IFERROR(IF(AND($S$3=\"Tier 2 - Network Controls\",$AP$3=\"Yes\",$AP$5=\"Yes\",$AP$6=\"Yes\"), Table1[[#This Row],[Fixture kWh Savings]]+Table1[[#This Row],[Total Controls kWh Savings]]+Table1[[#This Row],[Cooling kWh Savings]], IF(AND($S$3=\"Tier 1 - Luminaire Level or Wireless Control\",$AP$3=\"Yes\",$AP$5=\"Yes\",$AP$6=\"Yes\"), Table1[[#This Row],[Fixture kWh Savings]]+Table1[[#This Row],[Total Controls kWh Savings]]+Table1[[#This Row],[Cooling kWh Savings]], IF(AND($S$3=\"Fixture Replacement Only - No Controls\",$AP$3=\"Yes\",Table1[[#This Row],[DLC/ES?]]<>\"No\"), (Table1[[#This Row],[Fixture kWh Savings]]+Table1[[#This Row],[Cooling kWh Savings]]+Table1[[#This Row],[Total Controls kWh Savings]]), \"-\"))),\"-\"))","v":"-"},{"$f":"IF(OR(Table1[[#This Row],[Application]]=0,Table1[[#This Row],[DLC/ES?]]=\"No\",AND($AP$4=\"No\",Table1[[#This Row],[TLED Type]]=\"A\")),0,IFERROR(IF(AND($S$3=\"Tier 2 - Network Controls\",$AP$3=\"Yes\",$AP$5=\"Yes\",$AP$6=\"Yes\"), Table1[[#This Row],[Fixture kWh Savings]]+Table1[[#This Row],[Cooling kWh Savings]], IF(AND($S$3=\"Tier 1 - Luminaire Level or Wireless Control\",$AP$3=\"Yes\",$AP$5=\"Yes\",$AP$6=\"Yes\"), Table1[[#This Row],[Fixture kWh Savings]]+Table1[[#This Row],[Cooling kWh Savings]], IF(AND($S$3=\"Fixture Replacement Only - No Controls\",$AP$3=\"Yes\",Table1[[#This Row],[DLC/ES?]]<>\"No\"), (Table1[[#This Row],[Fixture kWh Savings]]+Table1[[#This Row],[Cooling kWh Savings]]), \"-\"))),\"-\"))","v":"-"},{"$f":"IF(OR(Table1[[#This Row],[Application]]=0,Table1[[#This Row],[DLC/ES?]]=\"No\",AND($AP$4=\"No\",Table1[[#This Row],[TLED Type]]=\"A\")),0,IFERROR(IF(AND($S$3=\"Tier 2 - Network Controls\",$AP$3=\"Yes\",$AP$5=\"Yes\",$AP$6=\"Yes\"), Table1[[#This Row],[Total Controls kWh Savings]], IF(AND($S$3=\"Tier 1 - Luminaire Level or Wireless Control\",$AP$3=\"Yes\",$AP$5=\"Yes\",$AP$6=\"Yes\"), Table1[[#This Row],[Total Controls kWh Savings]], IF(AND($S$3=\"Fixture Replacement Only - No Controls\",$AP$3=\"Yes\",Table1[[#This Row],[DLC/ES?]]<>\"No\"), (Table1[[#This Row],[Total Controls kWh Savings]]), \"-\"))),\"-\"))","v":"-"}]
[null,{"$f":"ROW(Table1[[#This Row],[Existing Lamp/Ballast Description]])-14","v":15},null,null,null,null,null,{"$f":"IFERROR(VLOOKUP(Table1[[#This Row],[Operating Hours Group]],HoursTable,3,0),\"\")","v":""},null,null,null,null,{"$f":"IFERROR(INDEX(Lookup!$B$3:$B$1550,MATCH(Table1[[#This Row],[Existing Lamp/Ballast Description]],Lookup!$C$3:$C$1550,0)),\"\")","v":""},{"$f":"IFERROR(IF(Table1[[#This Row],[Existing Fixture Code]]=\"\",(VLOOKUP(Table1[[#This Row],[Existing Device Code]],Lookup!$B$2:$D$1550,3,FALSE)), (VLOOKUP(Table1[[#This Row],[Existing Fixture Code]],Lookup!$B$2:$D$1550,3,FALSE))),\"\")","v":""},{"$f":"IFERROR(Table1[[#This Row],[Ex. Qty]]*Table1[[#This Row],[Existing Wattage]]/1000,\"\")","v":""},{"$f":"IFERROR(Table1[[#This Row],[Annual Operating Hours]]*Table1[[#This Row],[Existing kW]],\"\")","v":""},null,null,{"$f":"IFERROR(INDEX(Table2[[Merged model ]],MATCH(Table1[[#This Row],[Proposed Fixture Description]],Table2[Fixture Description],0)),\"\")","v":""},{"$f":"IFERROR(_xlfn.SINGLE(INDEX(ROUND(Table2[DLC/\nENERGY STAR Wattage],1),MATCH(Table1[[#This Row],[Proposed Fixture Description]],Table2[Fixture Description],0))),\"\")","v":""},{"$f":"IFERROR(IF(Table1[[#This Row],[Proposed Fixture Description]]=\"\",Table1[[#This Row],[Existing kW]],Table1[[#This Row],[Prop. Qty]]*Table1[[#This Row],[Proposed Wattage]]/1000),\"\")","v":""},{"$f":"IFERROR(Table1[[#This Row],[Annual Operating Hours]]*Table1[[#This Row],[Proposed kW]],\"\")","v":""},null,null,null,{"$f":"IFERROR(_xlfn.IFS(Table1[[#This Row],[Proposed Control Strategy]]=\"Scheduled Dimming\",INDEX('2 - Hours and Schedules'!$AB$6:$AB$15,MATCH(Table1[[#This Row],[Operating Hours Group]],'2 - Hours and Schedules'!$AA$6:$AA$15,0)), Table1[[#This Row],[Proposed Control Strategy]]=\"Daylight\",'Controls Lookup'!$B$2,Table1[[#This Row],[Proposed Control Strategy]]=\"Occupancy Sensor\",'Controls Lookup'!$C$2*(1-Table1[[#This Row],[% Output, if not off\n(Only If Occupancy Sensor Selected)]]),Table1[[#This Row],[Proposed Control Strategy]]=\"None\",'Controls Lookup'!$E$2),\"\")","v":""},null,null,{"$f":"IFERROR(_xlfn.IFS(Table1[[#This Row],[Proposed Additional Control Strategy]]=\"Scheduled Dimming\",INDEX('2 - Hours and Schedules'!$AB$6:$AB$15,MATCH(Table1[[#This Row],[Operating Hours Group]],'2 - Hours and Schedules'!$AA$6:$AA$15,0)), Table1[[#This Row],[Proposed Additional Control Strategy]]=\"Daylight\",'Controls Lookup'!$B$2,Table1[[#This Row],[Proposed Additional Control Strategy]]=\"Occupancy Sensor\",'Controls Lookup'!$C$2*(1-Table1[[#This Row],[% Output, if not off\n (If Occupancy Sensor Selected)]]),Table1[[#This Row],[Proposed Additional Control Strategy]]=\"None\",'Controls Lookup'!$E$2),\"\")","v":""},{"$f":"SUM(IF(Table1[[#This Row],[Proposed High End Trim\n(% of Max Fixture Output)]]=\"\",0,(1-Table1[[#This Row],[Proposed High End Trim\n(% of Max Fixture Output)]])*(1-IF(Table1[[#This Row],[Percent Reduction from Control Strategies]]=\"\",0,Table1[[#This Row],[Percent Reduction from Control Strategies]])-IF(Table1[[#This Row],[Percent Reduction from Additional Controls Strategy]]=\"\",0,Table1[[#This Row],[Percent Reduction from Additional Controls Strategy]]))),IF(Table1[[#This Row],[Percent Reduction from Control Strategies]]=\"\",0,Table1[[#This Row],[Percent Reduction from Control Strategies]]),IF(Table1[[#This Row],[Percent Reduction from Additional Controls Strategy]]=\"\",0,Table1[[#This Row],[Percent Reduction from Additional Controls Strategy]]))","v":0},{"$f":"IFERROR(IF(Table1[[#This Row],[Existing kW]]=\"\",-Table1[[#This Row],[Proposed kW]],Table1[[#This Row],[Existing kW]]-Table1[[#This Row],[Proposed kW]]),\"\")","v":""},{"$f":"IF(AND(ISBLANK(Table1[[#This Row],[Manufacturer/Model Number]]),ISNUMBER(Table1[[#This Row],[Prop. Qty]])),\"Missing Req'd Info\",IFERROR(IF(VLOOKUP(Table1[[#This Row],[Operating Hours Group]],HoursTable,5,FALSE)=1,Table1[[#This Row],[Fixture kW Savings]],0),\"\"))","v":""},{"$f":"IF(AND(ISBLANK(Table1[[#This Row],[Manufacturer/Model Number]]),ISNUMBER(Table1[[#This Row],[Prop. Qty]])),\"Missing Req'd Info\",IFERROR(IF(VLOOKUP(Table1[[#This Row],[Operating Hours Group]],HoursTable,6,FALSE),Table1[[#This Row],[Fixture kW Savings]],0),\"\"))","v":""},{"$f":"IFERROR(Table1[[#This Row],[Fixture kW Savings]]*Table1[[#This Row],[Annual Operating Hours]],\"\")","v":""},{"$f":"IF(AND(ISBLANK(Table1[[#This Row],[Manufacturer/Model Number]]),ISNUMBER(Table1[[#This Row],[Prop. Qty]])),\"Missing Req'd Info\",IFERROR((Table1[[#This Row],[Total Controls Savings (%)]]*Table1[[#This Row],[Proposed kWh]]),0))","v":0},{"$f":"IFERROR(IF(OR(Table1[[#This Row],[DLC/ES?]]=\"No\",Table1[[#This Row],[Lighting Location: Conditioned Space (Cooled) or Unconditioned Space]]=\"Unconditioned Space\"),0,(Lookup!$G$12*Table1[[#This Row],[Fixture kW Savings]]*0.8/Lookup!$G$14)),0)","v":0},{"$f":"IF(AND(ISBLANK(Table1[[#This Row],[Manufacturer/Model Number]]),ISNUMBER(Table1[[#This Row],[Prop. Qty]])),\"Missing Req'd Info\",IFERROR(Table1[[#This Row],[Fixture kWh Savings]]+Table1[[#This Row],[Total Controls kWh Savings]]+Table1[[#This Row],[Cooling kWh Savings]],\"\"))","v":""},{"$f":"IF(AND(ISBLANK(Table1[[#This Row],[Manufacturer/Model Number]]),ISNUMBER(Table1[[#This Row],[Prop. Qty]])),\"Missing Req'd Info\",IFERROR(VLOOKUP(Table1[[#This Row],[Operating Hours Group]],HoursTable,4,0),\"\"))","v":""},{"$f":"IFERROR(INDEX((Table2[Application]),MATCH(Table1[[#This Row],[Proposed Fixture Description]],Table2[Fixture Description],0)),\"\")","v":""},{"$f":"IFERROR(INDEX((Table2[Equipment Type]),MATCH(Table1[[#This Row],[Proposed Fixture Description]],Table2[Fixture Description],0)),\"\")","v":""},{"$f":"IFERROR(INDEX((Table2[TLED Type]),MATCH(Table1[[#This Row],[Proposed Fixture Description]],Table2[Fixture Description],0)),\"\")","v":""},{"$f":"Table1[[#This Row],[Application]]&\"|\"&Table1[[#This Row],[Equipment Type]]","v":"|"},{"$f":"VLOOKUP(Table1[[#This Row],[Application & Equipment Type]],'EUL Calc'!$D$6:$F$17,3,0)","v":{"$error":"#N/A"}},{"$f":"VLOOKUP(Table1[[#This Row],[Application & Equipment Type]],'EUL Calc'!$D$6:$G$17,4,0)","v":{"$error":"#N/A"}},{"$f":"IFERROR(INDEX(Table2[DLC/ENERGY STAR Approved?],MATCH(Table1[[#This Row],[Proposed Fixture Description]],Table2[Fixture Description],0)),0)","v":0},{"$f":"IF(Table1[[#This Row],[Proposed High End Trim\n(% of Max Fixture Output)]]<>\"\", \"Yes\", \"No\")","v":"No"},{"$f":"IF(Table1[[#This Row],[Proposed Additional Control Strategy]]=\"\",Table1[[#This Row],[Proposed Control Strategy]],_xlfn.CONCAT(Table1[[#This Row],[Proposed Control Strategy]], \" & \",Table1[[#This Row],[Proposed Additional Control Strategy]]))","v":0},{"$f":"IFERROR(INDEX(Table2[Fixture Controlled?],MATCH(Table1[[#This Row],[Proposed Fixture Description]],Table2[Fixture Description],0)),\"\")","v":""},{"$f":"IFERROR((Table1[[#This Row],[Percent Reduction from Control Strategies]]+Table1[[#This Row],[Percent Reduction from Additional Controls Strategy]])*Table1[[#This Row],[Proposed kWh]], IFERROR(Table1[[#This Row],[Percent Reduction from Control Strategies]]*Table1[[#This Row],[Proposed kWh]],\"\"))","v":""},{"$f":"IFERROR(ABS(Table1[[#This Row],[Total Incentivized kWh Savings]]), \"N/A\")","v":"N/A"},{"$f":"IF(OR(Table1[[#This Row],[Application]]=0,Table1[[#This Row],[DLC/ES?]]=\"No\",AND($AP$4=\"No\",Table1[[#This Row],[TLED Type]]=\"A\")),0,IFERROR(IF(AND($S$3=\"Tier 2 - Network Controls\",$AP$3=\"Yes\",$AP$5=\"Yes\",$AP$6=\"Yes\"), Table1[[#This Row],[Fixture kWh Savings]]+Table1[[#This Row],[Total Controls kWh Savings]]+Table1[[#This Row],[Cooling kWh Savings]], IF(AND($S$3=\"Tier 1 - Luminaire Level or Wireless Control\",$AP$3=\"Yes\",$AP$5=\"Yes\",$AP$6=\"Yes\"), Table1[[#This Row],[Fixture kWh Savings]]+Table1[[#This Row],[Total Controls kWh Savings]]+Table1[[#This Row],[Cooling kWh Savings]], IF(AND($S$3=\"Fixture Replacement Only - No Controls\",$AP$3=\"Yes\",Table1[[#This Row],[DLC/ES?]]<>\"No\"), (Table1[[#This Row],[Fixture kWh Savings]]+Table1[[#This Row],[Cooling kWh Savings]]+Table1[[#This Row],[Total Controls kWh Savings]]), \"-\"))),\"-\"))","v":"-"},{"$f":"IF(OR(Table1[[#This Row],[Application]]=0,Table1[[#This Row],[DLC/ES?]]=\"No\",AND($AP$4=\"No\",Table1[[#This Row],[TLED Type]]=\"A\")),0,IFERROR(IF(AND($S$3=\"Tier 2 - Network Controls\",$AP$3=\"Yes\",$AP$5=\"Yes\",$AP$6=\"Yes\"), Table1[[#This Row],[Fixture kWh Savings]]+Table1[[#This Row],[Cooling kWh Savings]], IF(AND($S$3=\"Tier 1 - Luminaire Level or Wireless Control\",$AP$3=\"Yes\",$AP$5=\"Yes\",$AP$6=\"Yes\"), Table1[[#This Row],[Fixture kWh Savings]]+Table1[[#This Row],[Cooling kWh Savings]], IF(AND($S$3=\"Fixture Replacement Only - No Controls\",$AP$3=\"Yes\",Table1[[#This Row],[DLC/ES?]]<>\"No\"), (Table1[[#This Row],[Fixture kWh Savings]]+Table1[[#This Row],[Cooling kWh Savings]]), \"-\"))),\"-\"))","v":"-"},{"$f":"IF(OR(Table1[[#This Row],[Application]]=0,Table1[[#This Row],[DLC/ES?]]=\"No\",AND($AP$4=\"No\",Table1[[#This Row],[TLED Type]]=\"A\")),0,IFERROR(IF(AND($S$3=\"Tier 2 - Network Controls\",$AP$3=\"Yes\",$AP$5=\"Yes\",$AP$6=\"Yes\"), Table1[[#This Row],[Total Controls kWh Savings]], IF(AND($S$3=\"Tier 1 - Luminaire Level or Wireless Control\",$AP$3=\"Yes\",$AP$5=\"Yes\",$AP$6=\"Yes\"), Table1[[#This Row],[Total Controls kWh Savings]], IF(AND($S$3=\"Fixture Replacement Only - No Controls\",$AP$3=\"Yes\",Table1[[#This Row],[DLC/ES?]]<>\"No\"), (Table1[[#This Row],[Total Controls kWh Savings]]), \"-\"))),\"-\"))","v":"-"}]
[null,{"$f":"ROW(Table1[[#This Row],[Existing Lamp/Ballast Description]])-14","v":16},null,null,null,null,null,{"$f":"IFERROR(VLOOKUP(Table1[[#This Row],[Operating Hours Group]],HoursTable,3,0),\"\")","v":""},null,null,null,null,{"$f":"IFERROR(INDEX(Lookup!$B$3:$B$1550,MATCH(Table1[[#This Row],[Existing Lamp/Ballast Description]],Lookup!$C$3:$C$1550,0)),\"\")","v":""},{"$f":"IFERROR(IF(Table1[[#This Row],[Existing Fixture Code]]=\"\",(VLOOKUP(Table1[[#This Row],[Existing Device Code]],Lookup!$B$2:$D$1550,3,FALSE)), (VLOOKUP(Table1[[#This Row],[Existing Fixture Code]],Lookup!$B$2:$D$1550,3,FALSE))),\"\")","v":""},{"$f":"IFERROR(Table1[[#This Row],[Ex. Qty]]*Table1[[#This Row],[Existing Wattage]]/1000,\"\")","v":""},{"$f":"IFERROR(Table1[[#This Row],[Annual Operating Hours]]*Table1[[#This Row],[Existing kW]],\"\")","v":""},null,null,{"$f":"IFERROR(INDEX(Table2[[Merged model ]],MATCH(Table1[[#This Row],[Proposed Fixture Description]],Table2[Fixture Description],0)),\"\")","v":""},{"$f":"IFERROR(_xlfn.SINGLE(INDEX(ROUND(Table2[DLC/\nENERGY STAR Wattage],1),MATCH(Table1[[#This Row],[Proposed Fixture Description]],Table2[Fixture Description],0))),\"\")","v":""},{"$f":"IFERROR(IF(Table1[[#This Row],[Proposed Fixture Description]]=\"\",Table1[[#This Row],[Existing kW]],Table1[[#This Row],[Prop. Qty]]*Table1[[#This Row],[Proposed Wattage]]/1000),\"\")","v":""},{"$f":"IFERROR(Table1[[#This Row],[Annual Operating Hours]]*Table1[[#This Row],[Proposed kW]],\"\")","v":""},null,null,null,{"$f":"IFERROR(_xlfn.IFS(Table1[[#This Row],[Proposed Control Strategy]]=\"Scheduled Dimming\",INDEX('2 - Hours and Schedules'!$AB$6:$AB$15,MATCH(Table1[[#This Row],[Operating Hours Group]],'2 - Hours and Schedules'!$AA$6:$AA$15,0)), Table1[[#This Row],[Proposed Control Strategy]]=\"Daylight\",'Controls Lookup'!$B$2,Table1[[#This Row],[Proposed Control Strategy]]=\"Occupancy Sensor\",'Controls Lookup'!$C$2*(1-Table1[[#This Row],[% Output, if not off\n(Only If Occupancy Sensor Selected)]]),Table1[[#This Row],[Proposed Control Strategy]]=\"None\",'Controls Lookup'!$E$2),\"\")","v":""},null,null,{"$f":"IFERROR(_xlfn.IFS(Table1[[#This Row],[Proposed Additional Control Strategy]]=\"Scheduled Dimming\",INDEX('2 - Hours and Schedules'!$AB$6:$AB$15,MATCH(Table1[[#This Row],[Operating Hours Group]],'2 - Hours and Schedules'!$AA$6:$AA$15,0)), Table1[[#This Row],[Proposed Additional Control Strategy]]=\"Daylight\",'Controls Lookup'!$B$2,Table1[[#This Row],[Proposed Additional Control Strategy]]=\"Occupancy Sensor\",'Controls Lookup'!$C$2*(1-Table1[[#This Row],[% Output, if not off\n (If Occupancy Sensor Selected)]]),Table1[[#This Row],[Proposed Additional Control Strategy]]=\"None\",'Controls Lookup'!$E$2),\"\")","v":""},{"$f":"SUM(IF(Table1[[#This Row],[Proposed High End Trim\n(% of Max Fixture Output)]]=\"\",0,(1-Table1[[#This Row],[Proposed High End Trim\n(% of Max Fixture Output)]])*(1-IF(Table1[[#This Row],[Percent Reduction from Control Strategies]]=\"\",0,Table1[[#This Row],[Percent Reduction from Control Strategies]])-IF(Table1[[#This Row],[Percent Reduction from Additional Controls Strategy]]=\"\",0,Table1[[#This Row],[Percent Reduction from Additional Controls Strategy]]))),IF(Table1[[#This Row],[Percent Reduction from Control Strategies]]=\"\",0,Table1[[#This Row],[Percent Reduction from Control Strategies]]),IF(Table1[[#This Row],[Percent Reduction from Additional Controls Strategy]]=\"\",0,Table1[[#This Row],[Percent Reduction from Additional Controls Strategy]]))","v":0},{"$f":"IFERROR(IF(Table1[[#This Row],[Existing kW]]=\"\",-Table1[[#This Row],[Proposed kW]],Table1[[#This Row],[Existing kW]]-Table1[[#This Row],[Proposed kW]]),\"\")","v":""},{"$f":"IF(AND(ISBLANK(Table1[[#This Row],[Manufacturer/Model Number]]),ISNUMBER(Table1[[#This Row],[Prop. Qty]])),\"Missing Req'd Info\",IFERROR(IF(VLOOKUP(Table1[[#This Row],[Operating Hours Group]],HoursTable,5,FALSE)=1,Table1[[#This Row],[Fixture kW Savings]],0),\"\"))","v":""},{"$f":"IF(AND(ISBLANK(Table1[[#This Row],[Manufacturer/Model Number]]),ISNUMBER(Table1[[#This Row],[Prop. Qty]])),\"Missing Req'd Info\",IFERROR(IF(VLOOKUP(Table1[[#This Row],[Operating Hours Group]],HoursTable,6,FALSE),Table1[[#This Row],[Fixture kW Savings]],0),\"\"))","v":""},{"$f":"IFERROR(Table1[[#This Row],[Fixture kW Savings]]*Table1[[#This Row],[Annual Operating Hours]],\"\")","v":""},{"$f":"IF(AND(ISBLANK(Table1[[#This Row],[Manufacturer/Model Number]]),ISNUMBER(Table1[[#This Row],[Prop. Qty]])),\"Missing Req'd Info\",IFERROR((Table1[[#This Row],[Total Controls Savings (%)]]*Table1[[#This Row],[Proposed kWh]]),0))","v":0},{"$f":"IFERROR(IF(OR(Table1[[#This Row],[DLC/ES?]]=\"No\",Table1[[#This Row],[Lighting Location: Conditioned Space (Cooled) or Unconditioned Space]]=\"Unconditioned Space\"),0,(Lookup!$G$12*Table1[[#This Row],[Fixture kW Savings]]*0.8/Lookup!$G$14)),0)","v":0},{"$f":"IF(AND(ISBLANK(Table1[[#This Row],[Manufacturer/Model Number]]),ISNUMBER(Table1[[#This Row],[Prop. Qty]])),\"Missing Req'd Info\",IFERROR(Table1[[#This Row],[Fixture kWh Savings]]+Table1[[#This Row],[Total Controls kWh Savings]]+Table1[[#This Row],[Cooling kWh Savings]],\"\"))","v":""},{"$f":"IF(AND(ISBLANK(Table1[[#This Row],[Manufacturer/Model Number]]),ISNUMBER(Table1[[#This Row],[Prop. Qty]])),\"Missing Req'd Info\",IFERROR(VLOOKUP(Table1[[#This Row],[Operating Hours Group]],HoursTable,4,0),\"\"))","v":""},{"$f":"IFERROR(INDEX((Table2[Application]),MATCH(Table1[[#This Row],[Proposed Fixture Description]],Table2[Fixture Description],0)),\"\")","v":""},{"$f":"IFERROR(INDEX((Table2[Equipment Type]),MATCH(Table1[[#This Row],[Proposed Fixture Description]],Table2[Fixture Description],0)),\"\")","v":""},{"$f":"IFERROR(INDEX((Table2[TLED Type]),MATCH(Table1[[#This Row],[Proposed Fixture Description]],Table2[Fixture Description],0)),\"\")","v":""},{"$f":"Table1[[#This Row],[Application]]&\"|\"&Table1[[#This Row],[Equipment Type]]","v":"|"},{"$f":"VLOOKUP(Table1[[#This Row],[Application & Equipment Type]],'EUL Calc'!$D$6:$F$17,3,0)","v":{"$error":"#N/A"}},{"$f":"VLOOKUP(Table1[[#This Row],[Application & Equipment Type]],'EUL Calc'!$D$6:$G$17,4,0)","v":{"$error":"#N/A"}},{"$f":"IFERROR(INDEX(Table2[DLC/ENERGY STAR Approved?],MATCH(Table1[[#This Row],[Proposed Fixture Description]],Table2[Fixture Description],0)),0)","v":0},{"$f":"IF(Table1[[#This Row],[Proposed High End Trim\n(% of Max Fixture Output)]]<>\"\", \"Yes\", \"No\")","v":"No"},{"$f":"IF(Table1[[#This Row],[Proposed Additional Control Strategy]]=\"\",Table1[[#This Row],[Proposed Control Strategy]],_xlfn.CONCAT(Table1[[#This Row],[Proposed Control Strategy]], \" & \",Table1[[#This Row],[Proposed Additional Control Strategy]]))","v":0},{"$f":"IFERROR(INDEX(Table2[Fixture Controlled?],MATCH(Table1[[#This Row],[Proposed Fixture Description]],Table2[Fixture Description],0)),\"\")","v":""},{"$f":"IFERROR((Table1[[#This Row],[Percent Reduction from Control Strategies]]+Table1[[#This Row],[Percent Reduction from Additional Controls Strategy]])*Table1[[#This Row],[Proposed kWh]], IFERROR(Table1[[#This Row],[Percent Reduction from Control Strategies]]*Table1[[#This Row],[Proposed kWh]],\"\"))","v":""},{"$f":"IFERROR(ABS(Table1[[#This Row],[Total Incentivized kWh Savings]]), \"N/A\")","v":"N/A"},{"$f":"IF(OR(Table1[[#This Row],[Application]]=0,Table1[[#This Row],[DLC/ES?]]=\"No\",AND($AP$4=\"No\",Table1[[#This Row],[TLED Type]]=\"A\")),0,IFERROR(IF(AND($S$3=\"Tier 2 - Network Controls\",$AP$3=\"Yes\",$AP$5=\"Yes\",$AP$6=\"Yes\"), Table1[[#This Row],[Fixture kWh Savings]]+Table1[[#This Row],[Total Controls kWh Savings]]+Table1[[#This Row],[Cooling kWh Savings]], IF(AND($S$3=\"Tier 1 - Luminaire Level or Wireless Control\",$AP$3=\"Yes\",$AP$5=\"Yes\",$AP$6=\"Yes\"), Table1[[#This Row],[Fixture kWh Savings]]+Table1[[#This Row],[Total Controls kWh Savings]]+Table1[[#This Row],[Cooling kWh Savings]], IF(AND($S$3=\"Fixture Replacement Only - No Controls\",$AP$3=\"Yes\",Table1[[#This Row],[DLC/ES?]]<>\"No\"), (Table1[[#This Row],[Fixture kWh Savings]]+Table1[[#This Row],[Cooling kWh Savings]]+Table1[[#This Row],[Total Controls kWh Savings]]), \"-\"))),\"-\"))","v":"-"},{"$f":"IF(OR(Table1[[#This Row],[Application]]=0,Table1[[#This Row],[DLC/ES?]]=\"No\",AND($AP$4=\"No\",Table1[[#This Row],[TLED Type]]=\"A\")),0,IFERROR(IF(AND($S$3=\"Tier 2 - Network Controls\",$AP$3=\"Yes\",$AP$5=\"Yes\",$AP$6=\"Yes\"), Table1[[#This Row],[Fixture kWh Savings]]+Table1[[#This Row],[Cooling kWh Savings]], IF(AND($S$3=\"Tier 1 - Luminaire Level or Wireless Control\",$AP$3=\"Yes\",$AP$5=\"Yes\",$AP$6=\"Yes\"), Table1[[#This Row],[Fixture kWh Savings]]+Table1[[#This Row],[Cooling kWh Savings]], IF(AND($S$3=\"Fixture Replacement Only - No Controls\",$AP$3=\"Yes\",Table1[[#This Row],[DLC/ES?]]<>\"No\"), (Table1[[#This Row],[Fixture kWh Savings]]+Table1[[#This Row],[Cooling kWh Savings]]), \"-\"))),\"-\"))","v":"-"},{"$f":"IF(OR(Table1[[#This Row],[Application]]=0,Table1[[#This Row],[DLC/ES?]]=\"No\",AND($AP$4=\"No\",Table1[[#This Row],[TLED Type]]=\"A\")),0,IFERROR(IF(AND($S$3=\"Tier 2 - Network Controls\",$AP$3=\"Yes\",$AP$5=\"Yes\",$AP$6=\"Yes\"), Table1[[#This Row],[Total Controls kWh Savings]], IF(AND($S$3=\"Tier 1 - Luminaire Level or Wireless Control\",$AP$3=\"Yes\",$AP$5=\"Yes\",$AP$6=\"Yes\"), Table1[[#This Row],[Total Controls kWh Savings]], IF(AND($S$3=\"Fixture Replacement Only - No Controls\",$AP$3=\"Yes\",Table1[[#This Row],[DLC/ES?]]<>\"No\"), (Table1[[#This Row],[Total Controls kWh Savings]]), \"-\"))),\"-\"))","v":"-"}]
[null,{"$f":"ROW(Table1[[#This Row],[Existing Lamp/Ballast Description]])-14","v":17},null,null,null,null,null,{"$f":"IFERROR(VLOOKUP(Table1[[#This Row],[Operating Hours Group]],HoursTable,3,0),\"\")","v":""},null,null,null,null,{"$f":"IFERROR(INDEX(Lookup!$B$3:$B$1550,MATCH(Table1[[#This Row],[Existing Lamp/Ballast Description]],Lookup!$C$3:$C$1550,0)),\"\")","v":""},{"$f":"IFERROR(IF(Table1[[#This Row],[Existing Fixture Code]]=\"\",(VLOOKUP(Table1[[#This Row],[Existing Device Code]],Lookup!$B$2:$D$1550,3,FALSE)), (VLOOKUP(Table1[[#This Row],[Existing Fixture Code]],Lookup!$B$2:$D$1550,3,FALSE))),\"\")","v":""},{"$f":"IFERROR(Table1[[#This Row],[Ex. Qty]]*Table1[[#This Row],[Existing Wattage]]/1000,\"\")","v":""},{"$f":"IFERROR(Table1[[#This Row],[Annual Operating Hours]]*Table1[[#This Row],[Existing kW]],\"\")","v":""},null,null,{"$f":"IFERROR(INDEX(Table2[[Merged model ]],MATCH(Table1[[#This Row],[Proposed Fixture Description]],Table2[Fixture Description],0)),\"\")","v":""},{"$f":"IFERROR(_xlfn.SINGLE(INDEX(ROUND(Table2[DLC/\nENERGY STAR Wattage],1),MATCH(Table1[[#This Row],[Proposed Fixture Description]],Table2[Fixture Description],0))),\"\")","v":""},{"$f":"IFERROR(IF(Table1[[#This Row],[Proposed Fixture Description]]=\"\",Table1[[#This Row],[Existing kW]],Table1[[#This Row],[Prop. Qty]]*Table1[[#This Row],[Proposed Wattage]]/1000),\"\")","v":""},{"$f":"IFERROR(Table1[[#This Row],[Annual Operating Hours]]*Table1[[#This Row],[Proposed kW]],\"\")","v":""},null,null,null,{"$f":"IFERROR(_xlfn.IFS(Table1[[#This Row],[Proposed Control Strategy]]=\"Scheduled Dimming\",INDEX('2 - Hours and Schedules'!$AB$6:$AB$15,MATCH(Table1[[#This Row],[Operating Hours Group]],'2 - Hours and Schedules'!$AA$6:$AA$15,0)), Table1[[#This Row],[Proposed Control Strategy]]=\"Daylight\",'Controls Lookup'!$B$2,Table1[[#This Row],[Proposed Control Strategy]]=\"Occupancy Sensor\",'Controls Lookup'!$C$2*(1-Table1[[#This Row],[% Output, if not off\n(Only If Occupancy Sensor Selected)]]),Table1[[#This Row],[Proposed Control Strategy]]=\"None\",'Controls Lookup'!$E$2),\"\")","v":""},null,null,{"$f":"IFERROR(_xlfn.IFS(Table1[[#This Row],[Proposed Additional Control Strategy]]=\"Scheduled Dimming\",INDEX('2 - Hours and Schedules'!$AB$6:$AB$15,MATCH(Table1[[#This Row],[Operating Hours Group]],'2 - Hours and Schedules'!$AA$6:$AA$15,0)), Table1[[#This Row],[Proposed Additional Control Strategy]]=\"Daylight\",'Controls Lookup'!$B$2,Table1[[#This Row],[Proposed Additional Control Strategy]]=\"Occupancy Sensor\",'Controls Lookup'!$C$2*(1-Table1[[#This Row],[% Output, if not off\n (If Occupancy Sensor Selected)]]),Table1[[#This Row],[Proposed Additional Control Strategy]]=\"None\",'Controls Lookup'!$E$2),\"\")","v":""},{"$f":"SUM(IF(Table1[[#This Row],[Proposed High End Trim\n(% of Max Fixture Output)]]=\"\",0,(1-Table1[[#This Row],[Proposed High End Trim\n(% of Max Fixture Output)]])*(1-IF(Table1[[#This Row],[Percent Reduction from Control Strategies]]=\"\",0,Table1[[#This Row],[Percent Reduction from Control Strategies]])-IF(Table1[[#This Row],[Percent Reduction from Additional Controls Strategy]]=\"\",0,Table1[[#This Row],[Percent Reduction from Additional Controls Strategy]]))),IF(Table1[[#This Row],[Percent Reduction from Control Strategies]]=\"\",0,Table1[[#This Row],[Percent Reduction from Control Strategies]]),IF(Table1[[#This Row],[Percent Reduction from Additional Controls Strategy]]=\"\",0,Table1[[#This Row],[Percent Reduction from Additional Controls Strategy]]))","v":0},{"$f":"IFERROR(IF(Table1[[#This Row],[Existing kW]]=\"\",-Table1[[#This Row],[Proposed kW]],Table1[[#This Row],[Existing kW]]-Table1[[#This Row],[Proposed kW]]),\"\")","v":""},{"$f":"IF(AND(ISBLANK(Table1[[#This Row],[Manufacturer/Model Number]]),ISNUMBER(Table1[[#This Row],[Prop. Qty]])),\"Missing Req'd Info\",IFERROR(IF(VLOOKUP(Table1[[#This Row],[Operating Hours Group]],HoursTable,5,FALSE)=1,Table1[[#This Row],[Fixture kW Savings]],0),\"\"))","v":""},{"$f":"IF(AND(ISBLANK(Table1[[#This Row],[Manufacturer/Model Number]]),ISNUMBER(Table1[[#This Row],[Prop. Qty]])),\"Missing Req'd Info\",IFERROR(IF(VLOOKUP(Table1[[#This Row],[Operating Hours Group]],HoursTable,6,FALSE),Table1[[#This Row],[Fixture kW Savings]],0),\"\"))","v":""},{"$f":"IFERROR(Table1[[#This Row],[Fixture kW Savings]]*Table1[[#This Row],[Annual Operating Hours]],\"\")","v":""},{"$f":"IF(AND(ISBLANK(Table1[[#This Row],[Manufacturer/Model Number]]),ISNUMBER(Table1[[#This Row],[Prop. Qty]])),\"Missing Req'd Info\",IFERROR((Table1[[#This Row],[Total Controls Savings (%)]]*Table1[[#This Row],[Proposed kWh]]),0))","v":0},{"$f":"IFERROR(IF(OR(Table1[[#This Row],[DLC/ES?]]=\"No\",Table1[[#This Row],[Lighting Location: Conditioned Space (Cooled) or Unconditioned Space]]=\"Unconditioned Space\"),0,(Lookup!$G$12*Table1[[#This Row],[Fixture kW Savings]]*0.8/Lookup!$G$14)),0)","v":0},{"$f":"IF(AND(ISBLANK(Table1[[#This Row],[Manufacturer/Model Number]]),ISNUMBER(Table1[[#This Row],[Prop. Qty]])),\"Missing Req'd Info\",IFERROR(Table1[[#This Row],[Fixture kWh Savings]]+Table1[[#This Row],[Total Controls kWh Savings]]+Table1[[#This Row],[Cooling kWh Savings]],\"\"))","v":""},{"$f":"IF(AND(ISBLANK(Table1[[#This Row],[Manufacturer/Model Number]]),ISNUMBER(Table1[[#This Row],[Prop. Qty]])),\"Missing Req'd Info\",IFERROR(VLOOKUP(Table1[[#This Row],[Operating Hours Group]],HoursTable,4,0),\"\"))","v":""},{"$f":"IFERROR(INDEX((Table2[Application]),MATCH(Table1[[#This Row],[Proposed Fixture Description]],Table2[Fixture Description],0)),\"\")","v":""},{"$f":"IFERROR(INDEX((Table2[Equipment Type]),MATCH(Table1[[#This Row],[Proposed Fixture Description]],Table2[Fixture Description],0)),\"\")","v":""},{"$f":"IFERROR(INDEX((Table2[TLED Type]),MATCH(Table1[[#This Row],[Proposed Fixture Description]],Table2[Fixture Description],0)),\"\")","v":""},{"$f":"Table1[[#This Row],[Application]]&\"|\"&Table1[[#This Row],[Equipment Type]]","v":"|"},{"$f":"VLOOKUP(Table1[[#This Row],[Application & Equipment Type]],'EUL Calc'!$D$6:$F$17,3,0)","v":{"$error":"#N/A"}},{"$f":"VLOOKUP(Table1[[#This Row],[Application & Equipment Type]],'EUL Calc'!$D$6:$G$17,4,0)","v":{"$error":"#N/A"}},{"$f":"IFERROR(INDEX(Table2[DLC/ENERGY STAR Approved?],MATCH(Table1[[#This Row],[Proposed Fixture Description]],Table2[Fixture Description],0)),0)","v":0},{"$f":"IF(Table1[[#This Row],[Proposed High End Trim\n(% of Max Fixture Output)]]<>\"\", \"Yes\", \"No\")","v":"No"},{"$f":"IF(Table1[[#This Row],[Proposed Additional Control Strategy]]=\"\",Table1[[#This Row],[Proposed Control Strategy]],_xlfn.CONCAT(Table1[[#This Row],[Proposed Control Strategy]], \" & \",Table1[[#This Row],[Proposed Additional Control Strategy]]))","v":0},{"$f":"IFERROR(INDEX(Table2[Fixture Controlled?],MATCH(Table1[[#This Row],[Proposed Fixture Description]],Table2[Fixture Description],0)),\"\")","v":""},{"$f":"IFERROR((Table1[[#This Row],[Percent Reduction from Control Strategies]]+Table1[[#This Row],[Percent Reduction from Additional Controls Strategy]])*Table1[[#This Row],[Proposed kWh]], IFERROR(Table1[[#This Row],[Percent Reduction from Control Strategies]]*Table1[[#This Row],[Proposed kWh]],\"\"))","v":""},{"$f":"IFERROR(ABS(Table1[[#This Row],[Total Incentivized kWh Savings]]), \"N/A\")","v":"N/A"},{"$f":"IF(OR(Table1[[#This Row],[Application]]=0,Table1[[#This Row],[DLC/ES?]]=\"No\",AND($AP$4=\"No\",Table1[[#This Row],[TLED Type]]=\"A\")),0,IFERROR(IF(AND($S$3=\"Tier 2 - Network Controls\",$AP$3=\"Yes\",$AP$5=\"Yes\",$AP$6=\"Yes\"), Table1[[#This Row],[Fixture kWh Savings]]+Table1[[#This Row],[Total Controls kWh Savings]]+Table1[[#This Row],[Cooling kWh Savings]], IF(AND($S$3=\"Tier 1 - Luminaire Level or Wireless Control\",$AP$3=\"Yes\",$AP$5=\"Yes\",$AP$6=\"Yes\"), Table1[[#This Row],[Fixture kWh Savings]]+Table1[[#This Row],[Total Controls kWh Savings]]+Table1[[#This Row],[Cooling kWh Savings]], IF(AND($S$3=\"Fixture Replacement Only - No Controls\",$AP$3=\"Yes\",Table1[[#This Row],[DLC/ES?]]<>\"No\"), (Table1[[#This Row],[Fixture kWh Savings]]+Table1[[#This Row],[Cooling kWh Savings]]+Table1[[#This Row],[Total Controls kWh Savings]]), \"-\"))),\"-\"))","v":"-"},{"$f":"IF(OR(Table1[[#This Row],[Application]]=0,Table1[[#This Row],[DLC/ES?]]=\"No\",AND($AP$4=\"No\",Table1[[#This Row],[TLED Type]]=\"A\")),0,IFERROR(IF(AND($S$3=\"Tier 2 - Network Controls\",$AP$3=\"Yes\",$AP$5=\"Yes\",$AP$6=\"Yes\"), Table1[[#This Row],[Fixture kWh Savings]]+Table1[[#This Row],[Cooling kWh Savings]], IF(AND($S$3=\"Tier 1 - Luminaire Level or Wireless Control\",$AP$3=\"Yes\",$AP$5=\"Yes\",$AP$6=\"Yes\"), Table1[[#This Row],[Fixture kWh Savings]]+Table1[[#This Row],[Cooling kWh Savings]], IF(AND($S$3=\"Fixture Replacement Only - No Controls\",$AP$3=\"Yes\",Table1[[#This Row],[DLC/ES?]]<>\"No\"), (Table1[[#This Row],[Fixture kWh Savings]]+Table1[[#This Row],[Cooling kWh Savings]]), \"-\"))),\"-\"))","v":"-"},{"$f":"IF(OR(Table1[[#This Row],[Application]]=0,Table1[[#This Row],[DLC/ES?]]=\"No\",AND($AP$4=\"No\",Table1[[#This Row],[TLED Type]]=\"A\")),0,IFERROR(IF(AND($S$3=\"Tier 2 - Network Controls\",$AP$3=\"Yes\",$AP$5=\"Yes\",$AP$6=\"Yes\"), Table1[[#This Row],[Total Controls kWh Savings]], IF(AND($S$3=\"Tier 1 - Luminaire Level or Wireless Control\",$AP$3=\"Yes\",$AP$5=\"Yes\",$AP$6=\"Yes\"), Table1[[#This Row],[Total Controls kWh Savings]], IF(AND($S$3=\"Fixture Replacement Only - No Controls\",$AP$3=\"Yes\",Table1[[#This Row],[DLC/ES?]]<>\"No\"), (Table1[[#This Row],[Total Controls kWh Savings]]), \"-\"))),\"-\"))","v":"-"}]
[null,{"$f":"ROW(Table1[[#This Row],[Existing Lamp/Ballast Description]])-14","v":18},null,null,null,null,null,{"$f":"IFERROR(VLOOKUP(Table1[[#This Row],[Operating Hours Group]],HoursTable,3,0),\"\")","v":""},null,null,null,null,{"$f":"IFERROR(INDEX(Lookup!$B$3:$B$1550,MATCH(Table1[[#This Row],[Existing Lamp/Ballast Description]],Lookup!$C$3:$C$1550,0)),\"\")","v":""},{"$f":"IFERROR(IF(Table1[[#This Row],[Existing Fixture Code]]=\"\",(VLOOKUP(Table1[[#This Row],[Existing Device Code]],Lookup!$B$2:$D$1550,3,FALSE)), (VLOOKUP(Table1[[#This Row],[Existing Fixture Code]],Lookup!$B$2:$D$1550,3,FALSE))),\"\")","v":""},{"$f":"IFERROR(Table1[[#This Row],[Ex. Qty]]*Table1[[#This Row],[Existing Wattage]]/1000,\"\")","v":""},{"$f":"IFERROR(Table1[[#This Row],[Annual Operating Hours]]*Table1[[#This Row],[Existing kW]],\"\")","v":""},null,null,{"$f":"IFERROR(INDEX(Table2[[Merged model ]],MATCH(Table1[[#This Row],[Proposed Fixture Description]],Table2[Fixture Description],0)),\"\")","v":""},{"$f":"IFERROR(_xlfn.SINGLE(INDEX(ROUND(Table2[DLC/\nENERGY STAR Wattage],1),MATCH(Table1[[#This Row],[Proposed Fixture Description]],Table2[Fixture Description],0))),\"\")","v":""},{"$f":"IFERROR(IF(Table1[[#This Row],[Proposed Fixture Description]]=\"\",Table1[[#This Row],[Existing kW]],Table1[[#This Row],[Prop. Qty]]*Table1[[#This Row],[Proposed Wattage]]/1000),\"\")","v":""},{"$f":"IFERROR(Table1[[#This Row],[Annual Operating Hours]]*Table1[[#This Row],[Proposed kW]],\"\")","v":""},null,null,null,{"$f":"IFERROR(_xlfn.IFS(Table1[[#This Row],[Proposed Control Strategy]]=\"Scheduled Dimming\",INDEX('2 - Hours and Schedules'!$AB$6:$AB$15,MATCH(Table1[[#This Row],[Operating Hours Group]],'2 - Hours and Schedules'!$AA$6:$AA$15,0)), Table1[[#This Row],[Proposed Control Strategy]]=\"Daylight\",'Controls Lookup'!$B$2,Table1[[#This Row],[Proposed Control Strategy]]=\"Occupancy Sensor\",'Controls Lookup'!$C$2*(1-Table1[[#This Row],[% Output, if not off\n(Only If Occupancy Sensor Selected)]]),Table1[[#This Row],[Proposed Control Strategy]]=\"None\",'Controls Lookup'!$E$2),\"\")","v":""},null,null,{"$f":"IFERROR(_xlfn.IFS(Table1[[#This Row],[Proposed Additional Control Strategy]]=\"Scheduled Dimming\",INDEX('2 - Hours and Schedules'!$AB$6:$AB$15,MATCH(Table1[[#This Row],[Operating Hours Group]],'2 - Hours and Schedules'!$AA$6:$AA$15,0)), Table1[[#This Row],[Proposed Additional Control Strategy]]=\"Daylight\",'Controls Lookup'!$B$2,Table1[[#This Row],[Proposed Additional Control Strategy]]=\"Occupancy Sensor\",'Controls Lookup'!$C$2*(1-Table1[[#This Row],[% Output, if not off\n (If Occupancy Sensor Selected)]]),Table1[[#This Row],[Proposed Additional Control Strategy]]=\"None\",'Controls Lookup'!$E$2),\"\")","v":""},{"$f":"SUM(IF(Table1[[#This Row],[Proposed High End Trim\n(% of Max Fixture Output)]]=\"\",0,(1-Table1[[#This Row],[Proposed High End Trim\n(% of Max Fixture Output)]])*(1-IF(Table1[[#This Row],[Percent Reduction from Control Strategies]]=\"\",0,Table1[[#This Row],[Percent Reduction from Control Strategies]])-IF(Table1[[#This Row],[Percent Reduction from Additional Controls Strategy]]=\"\",0,Table1[[#This Row],[Percent Reduction from Additional Controls Strategy]]))),IF(Table1[[#This Row],[Percent Reduction from Control Strategies]]=\"\",0,Table1[[#This Row],[Percent Reduction from Control Strategies]]),IF(Table1[[#This Row],[Percent Reduction from Additional Controls Strategy]]=\"\",0,Table1[[#This Row],[Percent Reduction from Additional Controls Strategy]]))","v":0},{"$f":"IFERROR(IF(Table1[[#This Row],[Existing kW]]=\"\",-Table1[[#This Row],[Proposed kW]],Table1[[#This Row],[Existing kW]]-Table1[[#This Row],[Proposed kW]]),\"\")","v":""},{"$f":"IF(AND(ISBLANK(Table1[[#This Row],[Manufacturer/Model Number]]),ISNUMBER(Table1[[#This Row],[Prop. Qty]])),\"Missing Req'd Info\",IFERROR(IF(VLOOKUP(Table1[[#This Row],[Operating Hours Group]],HoursTable,5,FALSE)=1,Table1[[#This Row],[Fixture kW Savings]],0),\"\"))","v":""},{"$f":"IF(AND(ISBLANK(Table1[[#This Row],[Manufacturer/Model Number]]),ISNUMBER(Table1[[#This Row],[Prop. Qty]])),\"Missing Req'd Info\",IFERROR(IF(VLOOKUP(Table1[[#This Row],[Operating Hours Group]],HoursTable,6,FALSE),Table1[[#This Row],[Fixture kW Savings]],0),\"\"))","v":""},{"$f":"IFERROR(Table1[[#This Row],[Fixture kW Savings]]*Table1[[#This Row],[Annual Operating Hours]],\"\")","v":""},{"$f":"IF(AND(ISBLANK(Table1[[#This Row],[Manufacturer/Model Number]]),ISNUMBER(Table1[[#This Row],[Prop. Qty]])),\"Missing Req'd Info\",IFERROR((Table1[[#This Row],[Total Controls Savings (%)]]*Table1[[#This Row],[Proposed kWh]]),0))","v":0},{"$f":"IFERROR(IF(OR(Table1[[#This Row],[DLC/ES?]]=\"No\",Table1[[#This Row],[Lighting Location: Conditioned Space (Cooled) or Unconditioned Space]]=\"Unconditioned Space\"),0,(Lookup!$G$12*Table1[[#This Row],[Fixture kW Savings]]*0.8/Lookup!$G$14)),0)","v":0},{"$f":"IF(AND(ISBLANK(Table1[[#This Row],[Manufacturer/Model Number]]),ISNUMBER(Table1[[#This Row],[Prop. Qty]])),\"Missing Req'd Info\",IFERROR(Table1[[#This Row],[Fixture kWh Savings]]+Table1[[#This Row],[Total Controls kWh Savings]]+Table1[[#This Row],[Cooling kWh Savings]],\"\"))","v":""},{"$f":"IF(AND(ISBLANK(Table1[[#This Row],[Manufacturer/Model Number]]),ISNUMBER(Table1[[#This Row],[Prop. Qty]])),\"Missing Req'd Info\",IFERROR(VLOOKUP(Table1[[#This Row],[Operating Hours Group]],HoursTable,4,0),\"\"))","v":""},{"$f":"IFERROR(INDEX((Table2[Application]),MATCH(Table1[[#This Row],[Proposed Fixture Description]],Table2[Fixture Description],0)),\"\")","v":""},{"$f":"IFERROR(INDEX((Table2[Equipment Type]),MATCH(Table1[[#This Row],[Proposed Fixture Description]],Table2[Fixture Description],0)),\"\")","v":""},{"$f":"IFERROR(INDEX((Table2[TLED Type]),MATCH(Table1[[#This Row],[Proposed Fixture Description]],Table2[Fixture Description],0)),\"\")","v":""},{"$f":"Table1[[#This Row],[Application]]&\"|\"&Table1[[#This Row],[Equipment Type]]","v":"|"},{"$f":"VLOOKUP(Table1[[#This Row],[Application & Equipment Type]],'EUL Calc'!$D$6:$F$17,3,0)","v":{"$error":"#N/A"}},{"$f":"VLOOKUP(Table1[[#This Row],[Application & Equipment Type]],'EUL Calc'!$D$6:$G$17,4,0)","v":{"$error":"#N/A"}},{"$f":"IFERROR(INDEX(Table2[DLC/ENERGY STAR Approved?],MATCH(Table1[[#This Row],[Proposed Fixture Description]],Table2[Fixture Description],0)),0)","v":0},{"$f":"IF(Table1[[#This Row],[Proposed High End Trim\n(% of Max Fixture Output)]]<>\"\", \"Yes\", \"No\")","v":"No"},{"$f":"IF(Table1[[#This Row],[Proposed Additional Control Strategy]]=\"\",Table1[[#This Row],[Proposed Control Strategy]],_xlfn.CONCAT(Table1[[#This Row],[Proposed Control Strategy]], \" & \",Table1[[#This Row],[Proposed Additional Control Strategy]]))","v":0},{"$f":"IFERROR(INDEX(Table2[Fixture Controlled?],MATCH(Table1[[#This Row],[Proposed Fixture Description]],Table2[Fixture Description],0)),\"\")","v":""},{"$f":"IFERROR((Table1[[#This Row],[Percent Reduction from Control Strategies]]+Table1[[#This Row],[Percent Reduction from Additional Controls Strategy]])*Table1[[#This Row],[Proposed kWh]], IFERROR(Table1[[#This Row],[Percent Reduction from Control Strategies]]*Table1[[#This Row],[Proposed kWh]],\"\"))","v":""},{"$f":"IFERROR(ABS(Table1[[#This Row],[Total Incentivized kWh Savings]]), \"N/A\")","v":"N/A"},{"$f":"IF(OR(Table1[[#This Row],[Application]]=0,Table1[[#This Row],[DLC/ES?]]=\"No\",AND($AP$4=\"No\",Table1[[#This Row],[TLED Type]]=\"A\")),0,IFERROR(IF(AND($S$3=\"Tier 2 - Network Controls\",$AP$3=\"Yes\",$AP$5=\"Yes\",$AP$6=\"Yes\"), Table1[[#This Row],[Fixture kWh Savings]]+Table1[[#This Row],[Total Controls kWh Savings]]+Table1[[#This Row],[Cooling kWh Savings]], IF(AND($S$3=\"Tier 1 - Luminaire Level or Wireless Control\",$AP$3=\"Yes\",$AP$5=\"Yes\",$AP$6=\"Yes\"), Table1[[#This Row],[Fixture kWh Savings]]+Table1[[#This Row],[Total Controls kWh Savings]]+Table1[[#This Row],[Cooling kWh Savings]], IF(AND($S$3=\"Fixture Replacement Only - No Controls\",$AP$3=\"Yes\",Table1[[#This Row],[DLC/ES?]]<>\"No\"), (Table1[[#This Row],[Fixture kWh Savings]]+Table1[[#This Row],[Cooling kWh Savings]]+Table1[[#This Row],[Total Controls kWh Savings]]), \"-\"))),\"-\"))","v":"-"},{"$f":"IF(OR(Table1[[#This Row],[Application]]=0,Table1[[#This Row],[DLC/ES?]]=\"No\",AND($AP$4=\"No\",Table1[[#This Row],[TLED Type]]=\"A\")),0,IFERROR(IF(AND($S$3=\"Tier 2 - Network Controls\",$AP$3=\"Yes\",$AP$5=\"Yes\",$AP$6=\"Yes\"), Table1[[#This Row],[Fixture kWh Savings]]+Table1[[#This Row],[Cooling kWh Savings]], IF(AND($S$3=\"Tier 1 - Luminaire Level or Wireless Control\",$AP$3=\"Yes\",$AP$5=\"Yes\",$AP$6=\"Yes\"), Table1[[#This Row],[Fixture kWh Savings]]+Table1[[#This Row],[Cooling kWh Savings]], IF(AND($S$3=\"Fixture Replacement Only - No Controls\",$AP$3=\"Yes\",Table1[[#This Row],[DLC/ES?]]<>\"No\"), (Table1[[#This Row],[Fixture kWh Savings]]+Table1[[#This Row],[Cooling kWh Savings]]), \"-\"))),\"-\"))","v":"-"},{"$f":"IF(OR(Table1[[#This Row],[Application]]=0,Table1[[#This Row],[DLC/ES?]]=\"No\",AND($AP$4=\"No\",Table1[[#This Row],[TLED Type]]=\"A\")),0,IFERROR(IF(AND($S$3=\"Tier 2 - Network Controls\",$AP$3=\"Yes\",$AP$5=\"Yes\",$AP$6=\"Yes\"), Table1[[#This Row],[Total Controls kWh Savings]], IF(AND($S$3=\"Tier 1 - Luminaire Level or Wireless Control\",$AP$3=\"Yes\",$AP$5=\"Yes\",$AP$6=\"Yes\"), Table1[[#This Row],[Total Controls kWh Savings]], IF(AND($S$3=\"Fixture Replacement Only - No Controls\",$AP$3=\"Yes\",Table1[[#This Row],[DLC/ES?]]<>\"No\"), (Table1[[#This Row],[Total Controls kWh Savings]]), \"-\"))),\"-\"))","v":"-"}]
[null,{"$f":"ROW(Table1[[#This Row],[Existing Lamp/Ballast Description]])-14","v":19},null,null,null,null,null,{"$f":"IFERROR(VLOOKUP(Table1[[#This Row],[Operating Hours Group]],HoursTable,3,0),\"\")","v":""},null,null,null,null,{"$f":"IFERROR(INDEX(Lookup!$B$3:$B$1550,MATCH(Table1[[#This Row],[Existing Lamp/Ballast Description]],Lookup!$C$3:$C$1550,0)),\"\")","v":""},{"$f":"IFERROR(IF(Table1[[#This Row],[Existing Fixture Code]]=\"\",(VLOOKUP(Table1[[#This Row],[Existing Device Code]],Lookup!$B$2:$D$1550,3,FALSE)), (VLOOKUP(Table1[[#This Row],[Existing Fixture Code]],Lookup!$B$2:$D$1550,3,FALSE))),\"\")","v":""},{"$f":"IFERROR(Table1[[#This Row],[Ex. Qty]]*Table1[[#This Row],[Existing Wattage]]/1000,\"\")","v":""},{"$f":"IFERROR(Table1[[#This Row],[Annual Operating Hours]]*Table1[[#This Row],[Existing kW]],\"\")","v":""},null,null,{"$f":"IFERROR(INDEX(Table2[[Merged model ]],MATCH(Table1[[#This Row],[Proposed Fixture Description]],Table2[Fixture Description],0)),\"\")","v":""},{"$f":"IFERROR(_xlfn.SINGLE(INDEX(ROUND(Table2[DLC/\nENERGY STAR Wattage],1),MATCH(Table1[[#This Row],[Proposed Fixture Description]],Table2[Fixture Description],0))),\"\")","v":""},{"$f":"IFERROR(IF(Table1[[#This Row],[Proposed Fixture Description]]=\"\",Table1[[#This Row],[Existing kW]],Table1[[#This Row],[Prop. Qty]]*Table1[[#This Row],[Proposed Wattage]]/1000),\"\")","v":""},{"$f":"IFERROR(Table1[[#This Row],[Annual Operating Hours]]*Table1[[#This Row],[Proposed kW]],\"\")","v":""},null,null,null,{"$f":"IFERROR(_xlfn.IFS(Table1[[#This Row],[Proposed Control Strategy]]=\"Scheduled Dimming\",INDEX('2 - Hours and Schedules'!$AB$6:$AB$15,MATCH(Table1[[#This Row],[Operating Hours Group]],'2 - Hours and Schedules'!$AA$6:$AA$15,0)), Table1[[#This Row],[Proposed Control Strategy]]=\"Daylight\",'Controls Lookup'!$B$2,Table1[[#This Row],[Proposed Control Strategy]]=\"Occupancy Sensor\",'Controls Lookup'!$C$2*(1-Table1[[#This Row],[% Output, if not off\n(Only If Occupancy Sensor Selected)]]),Table1[[#This Row],[Proposed Control Strategy]]=\"None\",'Controls Lookup'!$E$2),\"\")","v":""},null,null,{"$f":"IFERROR(_xlfn.IFS(Table1[[#This Row],[Proposed Additional Control Strategy]]=\"Scheduled Dimming\",INDEX('2 - Hours and Schedules'!$AB$6:$AB$15,MATCH(Table1[[#This Row],[Operating Hours Group]],'2 - Hours and Schedules'!$AA$6:$AA$15,0)), Table1[[#This Row],[Proposed Additional Control Strategy]]=\"Daylight\",'Controls Lookup'!$B$2,Table1[[#This Row],[Proposed Additional Control Strategy]]=\"Occupancy Sensor\",'Controls Lookup'!$C$2*(1-Table1[[#This Row],[% Output, if not off\n (If Occupancy Sensor Selected)]]),Table1[[#This Row],[Proposed Additional Control Strategy]]=\"None\",'Controls Lookup'!$E$2),\"\")","v":""},{"$f":"SUM(IF(Table1[[#This Row],[Proposed High End Trim\n(% of Max Fixture Output)]]=\"\",0,(1-Table1[[#This Row],[Proposed High End Trim\n(% of Max Fixture Output)]])*(1-IF(Table1[[#This Row],[Percent Reduction from Control Strategies]]=\"\",0,Table1[[#This Row],[Percent Reduction from Control Strategies]])-IF(Table1[[#This Row],[Percent Reduction from Additional Controls Strategy]]=\"\",0,Table1[[#This Row],[Percent Reduction from Additional Controls Strategy]]))),IF(Table1[[#This Row],[Percent Reduction from Control Strategies]]=\"\",0,Table1[[#This Row],[Percent Reduction from Control Strategies]]),IF(Table1[[#This Row],[Percent Reduction from Additional Controls Strategy]]=\"\",0,Table1[[#This Row],[Percent Reduction from Additional Controls Strategy]]))","v":0},{"$f":"IFERROR(IF(Table1[[#This Row],[Existing kW]]=\"\",-Table1[[#This Row],[Proposed kW]],Table1[[#This Row],[Existing kW]]-Table1[[#This Row],[Proposed kW]]),\"\")","v":""},{"$f":"IF(AND(ISBLANK(Table1[[#This Row],[Manufacturer/Model Number]]),ISNUMBER(Table1[[#This Row],[Prop. Qty]])),\"Missing Req'd Info\",IFERROR(IF(VLOOKUP(Table1[[#This Row],[Operating Hours Group]],HoursTable,5,FALSE)=1,Table1[[#This Row],[Fixture kW Savings]],0),\"\"))","v":""},{"$f":"IF(AND(ISBLANK(Table1[[#This Row],[Manufacturer/Model Number]]),ISNUMBER(Table1[[#This Row],[Prop. Qty]])),\"Missing Req'd Info\",IFERROR(IF(VLOOKUP(Table1[[#This Row],[Operating Hours Group]],HoursTable,6,FALSE),Table1[[#This Row],[Fixture kW Savings]],0),\"\"))","v":""},{"$f":"IFERROR(Table1[[#This Row],[Fixture kW Savings]]*Table1[[#This Row],[Annual Operating Hours]],\"\")","v":""},{"$f":"IF(AND(ISBLANK(Table1[[#This Row],[Manufacturer/Model Number]]),ISNUMBER(Table1[[#This Row],[Prop. Qty]])),\"Missing Req'd Info\",IFERROR((Table1[[#This Row],[Total Controls Savings (%)]]*Table1[[#This Row],[Proposed kWh]]),0))","v":0},{"$f":"IFERROR(IF(OR(Table1[[#This Row],[DLC/ES?]]=\"No\",Table1[[#This Row],[Lighting Location: Conditioned Space (Cooled) or Unconditioned Space]]=\"Unconditioned Space\"),0,(Lookup!$G$12*Table1[[#This Row],[Fixture kW Savings]]*0.8/Lookup!$G$14)),0)","v":0},{"$f":"IF(AND(ISBLANK(Table1[[#This Row],[Manufacturer/Model Number]]),ISNUMBER(Table1[[#This Row],[Prop. Qty]])),\"Missing Req'd Info\",IFERROR(Table1[[#This Row],[Fixture kWh Savings]]+Table1[[#This Row],[Total Controls kWh Savings]]+Table1[[#This Row],[Cooling kWh Savings]],\"\"))","v":""},{"$f":"IF(AND(ISBLANK(Table1[[#This Row],[Manufacturer/Model Number]]),ISNUMBER(Table1[[#This Row],[Prop. Qty]])),\"Missing Req'd Info\",IFERROR(VLOOKUP(Table1[[#This Row],[Operating Hours Group]],HoursTable,4,0),\"\"))","v":""},{"$f":"IFERROR(INDEX((Table2[Application]),MATCH(Table1[[#This Row],[Proposed Fixture Description]],Table2[Fixture Description],0)),\"\")","v":""},{"$f":"IFERROR(INDEX((Table2[Equipment Type]),MATCH(Table1[[#This Row],[Proposed Fixture Description]],Table2[Fixture Description],0)),\"\")","v":""},{"$f":"IFERROR(INDEX((Table2[TLED Type]),MATCH(Table1[[#This Row],[Proposed Fixture Description]],Table2[Fixture Description],0)),\"\")","v":""},{"$f":"Table1[[#This Row],[Application]]&\"|\"&Table1[[#This Row],[Equipment Type]]","v":"|"},{"$f":"VLOOKUP(Table1[[#This Row],[Application & Equipment Type]],'EUL Calc'!$D$6:$F$17,3,0)","v":{"$error":"#N/A"}},{"$f":"VLOOKUP(Table1[[#This Row],[Application & Equipment Type]],'EUL Calc'!$D$6:$G$17,4,0)","v":{"$error":"#N/A"}},{"$f":"IFERROR(INDEX(Table2[DLC/ENERGY STAR Approved?],MATCH(Table1[[#This Row],[Proposed Fixture Description]],Table2[Fixture Description],0)),0)","v":0},{"$f":"IF(Table1[[#This Row],[Proposed High End Trim\n(% of Max Fixture Output)]]<>\"\", \"Yes\", \"No\")","v":"No"},{"$f":"IF(Table1[[#This Row],[Proposed Additional Control Strategy]]=\"\",Table1[[#This Row],[Proposed Control Strategy]],_xlfn.CONCAT(Table1[[#This Row],[Proposed Control Strategy]], \" & \",Table1[[#This Row],[Proposed Additional Control Strategy]]))","v":0},{"$f":"IFERROR(INDEX(Table2[Fixture Controlled?],MATCH(Table1[[#This Row],[Proposed Fixture Description]],Table2[Fixture Description],0)),\"\")","v":""},{"$f":"IFERROR((Table1[[#This Row],[Percent Reduction from Control Strategies]]+Table1[[#This Row],[Percent Reduction from Additional Controls Strategy]])*Table1[[#This Row],[Proposed kWh]], IFERROR(Table1[[#This Row],[Percent Reduction from Control Strategies]]*Table1[[#This Row],[Proposed kWh]],\"\"))","v":""},{"$f":"IFERROR(ABS(Table1[[#This Row],[Total Incentivized kWh Savings]]), \"N/A\")","v":"N/A"},{"$f":"IF(OR(Table1[[#This Row],[Application]]=0,Table1[[#This Row],[DLC/ES?]]=\"No\",AND($AP$4=\"No\",Table1[[#This Row],[TLED Type]]=\"A\")),0,IFERROR(IF(AND($S$3=\"Tier 2 - Network Controls\",$AP$3=\"Yes\",$AP$5=\"Yes\",$AP$6=\"Yes\"), Table1[[#This Row],[Fixture kWh Savings]]+Table1[[#This Row],[Total Controls kWh Savings]]+Table1[[#This Row],[Cooling kWh Savings]], IF(AND($S$3=\"Tier 1 - Luminaire Level or Wireless Control\",$AP$3=\"Yes\",$AP$5=\"Yes\",$AP$6=\"Yes\"), Table1[[#This Row],[Fixture kWh Savings]]+Table1[[#This Row],[Total Controls kWh Savings]]+Table1[[#This Row],[Cooling kWh Savings]], IF(AND($S$3=\"Fixture Replacement Only - No Controls\",$AP$3=\"Yes\",Table1[[#This Row],[DLC/ES?]]<>\"No\"), (Table1[[#This Row],[Fixture kWh Savings]]+Table1[[#This Row],[Cooling kWh Savings]]+Table1[[#This Row],[Total Controls kWh Savings]]), \"-\"))),\"-\"))","v":"-"},{"$f":"IF(OR(Table1[[#This Row],[Application]]=0,Table1[[#This Row],[DLC/ES?]]=\"No\",AND($AP$4=\"No\",Table1[[#This Row],[TLED Type]]=\"A\")),0,IFERROR(IF(AND($S$3=\"Tier 2 - Network Controls\",$AP$3=\"Yes\",$AP$5=\"Yes\",$AP$6=\"Yes\"), Table1[[#This Row],[Fixture kWh Savings]]+Table1[[#This Row],[Cooling kWh Savings]], IF(AND($S$3=\"Tier 1 - Luminaire Level or Wireless Control\",$AP$3=\"Yes\",$AP$5=\"Yes\",$AP$6=\"Yes\"), Table1[[#This Row],[Fixture kWh Savings]]+Table1[[#This Row],[Cooling kWh Savings]], IF(AND($S$3=\"Fixture Replacement Only - No Controls\",$AP$3=\"Yes\",Table1[[#This Row],[DLC/ES?]]<>\"No\"), (Table1[[#This Row],[Fixture kWh Savings]]+Table1[[#This Row],[Cooling kWh Savings]]), \"-\"))),\"-\"))","v":"-"},{"$f":"IF(OR(Table1[[#This Row],[Application]]=0,Table1[[#This Row],[DLC/ES?]]=\"No\",AND($AP$4=\"No\",Table1[[#This Row],[TLED Type]]=\"A\")),0,IFERROR(IF(AND($S$3=\"Tier 2 - Network Controls\",$AP$3=\"Yes\",$AP$5=\"Yes\",$AP$6=\"Yes\"), Table1[[#This Row],[Total Controls kWh Savings]], IF(AND($S$3=\"Tier 1 - Luminaire Level or Wireless Control\",$AP$3=\"Yes\",$AP$5=\"Yes\",$AP$6=\"Yes\"), Table1[[#This Row],[Total Controls kWh Savings]], IF(AND($S$3=\"Fixture Replacement Only - No Controls\",$AP$3=\"Yes\",Table1[[#This Row],[DLC/ES?]]<>\"No\"), (Table1[[#This Row],[Total Controls kWh Savings]]), \"-\"))),\"-\"))","v":"-"}]
[null,{"$f":"ROW(Table1[[#This Row],[Existing Lamp/Ballast Description]])-14","v":20},null,null,null,null,null,{"$f":"IFERROR(VLOOKUP(Table1[[#This Row],[Operating Hours Group]],HoursTable,3,0),\"\")","v":""},null,null,null,null,{"$f":"IFERROR(INDEX(Lookup!$B$3:$B$1550,MATCH(Table1[[#This Row],[Existing Lamp/Ballast Description]],Lookup!$C$3:$C$1550,0)),\"\")","v":""},{"$f":"IFERROR(IF(Table1[[#This Row],[Existing Fixture Code]]=\"\",(VLOOKUP(Table1[[#This Row],[Existing Device Code]],Lookup!$B$2:$D$1550,3,FALSE)), (VLOOKUP(Table1[[#This Row],[Existing Fixture Code]],Lookup!$B$2:$D$1550,3,FALSE))),\"\")","v":""},{"$f":"IFERROR(Table1[[#This Row],[Ex. Qty]]*Table1[[#This Row],[Existing Wattage]]/1000,\"\")","v":""},{"$f":"IFERROR(Table1[[#This Row],[Annual Operating Hours]]*Table1[[#This Row],[Existing kW]],\"\")","v":""},null,null,{"$f":"IFERROR(INDEX(Table2[[Merged model ]],MATCH(Table1[[#This Row],[Proposed Fixture Description]],Table2[Fixture Description],0)),\"\")","v":""},{"$f":"IFERROR(_xlfn.SINGLE(INDEX(ROUND(Table2[DLC/\nENERGY STAR Wattage],1),MATCH(Table1[[#This Row],[Proposed Fixture Description]],Table2[Fixture Description],0))),\"\")","v":""},{"$f":"IFERROR(IF(Table1[[#This Row],[Proposed Fixture Description]]=\"\",Table1[[#This Row],[Existing kW]],Table1[[#This Row],[Prop. Qty]]*Table1[[#This Row],[Proposed Wattage]]/1000),\"\")","v":""},{"$f":"IFERROR(Table1[[#This Row],[Annual Operating Hours]]*Table1[[#This Row],[Proposed kW]],\"\")","v":""},null,null,null,{"$f":"IFERROR(_xlfn.IFS(Table1[[#This Row],[Proposed Control Strategy]]=\"Scheduled Dimming\",INDEX('2 - Hours and Schedules'!$AB$6:$AB$15,MATCH(Table1[[#This Row],[Operating Hours Group]],'2 - Hours and Schedules'!$AA$6:$AA$15,0)), Table1[[#This Row],[Proposed Control Strategy]]=\"Daylight\",'Controls Lookup'!$B$2,Table1[[#This Row],[Proposed Control Strategy]]=\"Occupancy Sensor\",'Controls Lookup'!$C$2*(1-Table1[[#This Row],[% Output, if not off\n(Only If Occupancy Sensor Selected)]]),Table1[[#This Row],[Proposed Control Strategy]]=\"None\",'Controls Lookup'!$E$2),\"\")","v":""},null,null,{"$f":"IFERROR(_xlfn.IFS(Table1[[#This Row],[Proposed Additional Control Strategy]]=\"Scheduled Dimming\",INDEX('2 - Hours and Schedules'!$AB$6:$AB$15,MATCH(Table1[[#This Row],[Operating Hours Group]],'2 - Hours and Schedules'!$AA$6:$AA$15,0)), Table1[[#This Row],[Proposed Additional Control Strategy]]=\"Daylight\",'Controls Lookup'!$B$2,Table1[[#This Row],[Proposed Additional Control Strategy]]=\"Occupancy Sensor\",'Controls Lookup'!$C$2*(1-Table1[[#This Row],[% Output, if not off\n (If Occupancy Sensor Selected)]]),Table1[[#This Row],[Proposed Additional Control Strategy]]=\"None\",'Controls Lookup'!$E$2),\"\")","v":""},{"$f":"SUM(IF(Table1[[#This Row],[Proposed High End Trim\n(% of Max Fixture Output)]]=\"\",0,(1-Table1[[#This Row],[Proposed High End Trim\n(% of Max Fixture Output)]])*(1-IF(Table1[[#This Row],[Percent Reduction from Control Strategies]]=\"\",0,Table1[[#This Row],[Percent Reduction from Control Strategies]])-IF(Table1[[#This Row],[Percent Reduction from Additional Controls Strategy]]=\"\",0,Table1[[#This Row],[Percent Reduction from Additional Controls Strategy]]))),IF(Table1[[#This Row],[Percent Reduction from Control Strategies]]=\"\",0,Table1[[#This Row],[Percent Reduction from Control Strategies]]),IF(Table1[[#This Row],[Percent Reduction from Additional Controls Strategy]]=\"\",0,Table1[[#This Row],[Percent Reduction from Additional Controls Strategy]]))","v":0},{"$f":"IFERROR(IF(Table1[[#This Row],[Existing kW]]=\"\",-Table1[[#This Row],[Proposed kW]],Table1[[#This Row],[Existing kW]]-Table1[[#This Row],[Proposed kW]]),\"\")","v":""},{"$f":"IF(AND(ISBLANK(Table1[[#This Row],[Manufacturer/Model Number]]),ISNUMBER(Table1[[#This Row],[Prop. Qty]])),\"Missing Req'd Info\",IFERROR(IF(VLOOKUP(Table1[[#This Row],[Operating Hours Group]],HoursTable,5,FALSE)=1,Table1[[#This Row],[Fixture kW Savings]],0),\"\"))","v":""},{"$f":"IF(AND(ISBLANK(Table1[[#This Row],[Manufacturer/Model Number]]),ISNUMBER(Table1[[#This Row],[Prop. Qty]])),\"Missing Req'd Info\",IFERROR(IF(VLOOKUP(Table1[[#This Row],[Operating Hours Group]],HoursTable,6,FALSE),Table1[[#This Row],[Fixture kW Savings]],0),\"\"))","v":""},{"$f":"IFERROR(Table1[[#This Row],[Fixture kW Savings]]*Table1[[#This Row],[Annual Operating Hours]],\"\")","v":""},{"$f":"IF(AND(ISBLANK(Table1[[#This Row],[Manufacturer/Model Number]]),ISNUMBER(Table1[[#This Row],[Prop. Qty]])),\"Missing Req'd Info\",IFERROR((Table1[[#This Row],[Total Controls Savings (%)]]*Table1[[#This Row],[Proposed kWh]]),0))","v":0},{"$f":"IFERROR(IF(OR(Table1[[#This Row],[DLC/ES?]]=\"No\",Table1[[#This Row],[Lighting Location: Conditioned Space (Cooled) or Unconditioned Space]]=\"Unconditioned Space\"),0,(Lookup!$G$12*Table1[[#This Row],[Fixture kW Savings]]*0.8/Lookup!$G$14)),0)","v":0},{"$f":"IF(AND(ISBLANK(Table1[[#This Row],[Manufacturer/Model Number]]),ISNUMBER(Table1[[#This Row],[Prop. Qty]])),\"Missing Req'd Info\",IFERROR(Table1[[#This Row],[Fixture kWh Savings]]+Table1[[#This Row],[Total Controls kWh Savings]]+Table1[[#This Row],[Cooling kWh Savings]],\"\"))","v":""},{"$f":"IF(AND(ISBLANK(Table1[[#This Row],[Manufacturer/Model Number]]),ISNUMBER(Table1[[#This Row],[Prop. Qty]])),\"Missing Req'd Info\",IFERROR(VLOOKUP(Table1[[#This Row],[Operating Hours Group]],HoursTable,4,0),\"\"))","v":""},{"$f":"IFERROR(INDEX((Table2[Application]),MATCH(Table1[[#This Row],[Proposed Fixture Description]],Table2[Fixture Description],0)),\"\")","v":""},{"$f":"IFERROR(INDEX((Table2[Equipment Type]),MATCH(Table1[[#This Row],[Proposed Fixture Description]],Table2[Fixture Description],0)),\"\")","v":""},{"$f":"IFERROR(INDEX((Table2[TLED Type]),MATCH(Table1[[#This Row],[Proposed Fixture Description]],Table2[Fixture Description],0)),\"\")","v":""},{"$f":"Table1[[#This Row],[Application]]&\"|\"&Table1[[#This Row],[Equipment Type]]","v":"|"},{"$f":"VLOOKUP(Table1[[#This Row],[Application & Equipment Type]],'EUL Calc'!$D$6:$F$17,3,0)","v":{"$error":"#N/A"}},{"$f":"VLOOKUP(Table1[[#This Row],[Application & Equipment Type]],'EUL Calc'!$D$6:$G$17,4,0)","v":{"$error":"#N/A"}},{"$f":"IFERROR(INDEX(Table2[DLC/ENERGY STAR Approved?],MATCH(Table1[[#This Row],[Proposed Fixture Description]],Table2[Fixture Description],0)),0)","v":0},{"$f":"IF(Table1[[#This Row],[Proposed High End Trim\n(% of Max Fixture Output)]]<>\"\", \"Yes\", \"No\")","v":"No"},{"$f":"IF(Table1[[#This Row],[Proposed Additional Control Strategy]]=\"\",Table1[[#This Row],[Proposed Control Strategy]],_xlfn.CONCAT(Table1[[#This Row],[Proposed Control Strategy]], \" & \",Table1[[#This Row],[Proposed Additional Control Strategy]]))","v":0},{"$f":"IFERROR(INDEX(Table2[Fixture Controlled?],MATCH(Table1[[#This Row],[Proposed Fixture Description]],Table2[Fixture Description],0)),\"\")","v":""},{"$f":"IFERROR((Table1[[#This Row],[Percent Reduction from Control Strategies]]+Table1[[#This Row],[Percent Reduction from Additional Controls Strategy]])*Table1[[#This Row],[Proposed kWh]], IFERROR(Table1[[#This Row],[Percent Reduction from Control Strategies]]*Table1[[#This Row],[Proposed kWh]],\"\"))","v":""},{"$f":"IFERROR(ABS(Table1[[#This Row],[Total Incentivized kWh Savings]]), \"N/A\")","v":"N/A"},{"$f":"IF(OR(Table1[[#This Row],[Application]]=0,Table1[[#This Row],[DLC/ES?]]=\"No\",AND($AP$4=\"No\",Table1[[#This Row],[TLED Type]]=\"A\")),0,IFERROR(IF(AND($S$3=\"Tier 2 - Network Controls\",$AP$3=\"Yes\",$AP$5=\"Yes\",$AP$6=\"Yes\"), Table1[[#This Row],[Fixture kWh Savings]]+Table1[[#This Row],[Total Controls kWh Savings]]+Table1[[#This Row],[Cooling kWh Savings]], IF(AND($S$3=\"Tier 1 - Luminaire Level or Wireless Control\",$AP$3=\"Yes\",$AP$5=\"Yes\",$AP$6=\"Yes\"), Table1[[#This Row],[Fixture kWh Savings]]+Table1[[#This Row],[Total Controls kWh Savings]]+Table1[[#This Row],[Cooling kWh Savings]], IF(AND($S$3=\"Fixture Replacement Only - No Controls\",$AP$3=\"Yes\",Table1[[#This Row],[DLC/ES?]]<>\"No\"), (Table1[[#This Row],[Fixture kWh Savings]]+Table1[[#This Row],[Cooling kWh Savings]]+Table1[[#This Row],[Total Controls kWh Savings]]), \"-\"))),\"-\"))","v":"-"},{"$f":"IF(OR(Table1[[#This Row],[Application]]=0,Table1[[#This Row],[DLC/ES?]]=\"No\",AND($AP$4=\"No\",Table1[[#This Row],[TLED Type]]=\"A\")),0,IFERROR(IF(AND($S$3=\"Tier 2 - Network Controls\",$AP$3=\"Yes\",$AP$5=\"Yes\",$AP$6=\"Yes\"), Table1[[#This Row],[Fixture kWh Savings]]+Table1[[#This Row],[Cooling kWh Savings]], IF(AND($S$3=\"Tier 1 - Luminaire Level or Wireless Control\",$AP$3=\"Yes\",$AP$5=\"Yes\",$AP$6=\"Yes\"), Table1[[#This Row],[Fixture kWh Savings]]+Table1[[#This Row],[Cooling kWh Savings]], IF(AND($S$3=\"Fixture Replacement Only - No Controls\",$AP$3=\"Yes\",Table1[[#This Row],[DLC/ES?]]<>\"No\"), (Table1[[#This Row],[Fixture kWh Savings]]+Table1[[#This Row],[Cooling kWh Savings]]), \"-\"))),\"-\"))","v":"-"},{"$f":"IF(OR(Table1[[#This Row],[Application]]=0,Table1[[#This Row],[DLC/ES?]]=\"No\",AND($AP$4=\"No\",Table1[[#This Row],[TLED Type]]=\"A\")),0,IFERROR(IF(AND($S$3=\"Tier 2 - Network Controls\",$AP$3=\"Yes\",$AP$5=\"Yes\",$AP$6=\"Yes\"), Table1[[#This Row],[Total Controls kWh Savings]], IF(AND($S$3=\"Tier 1 - Luminaire Level or Wireless Control\",$AP$3=\"Yes\",$AP$5=\"Yes\",$AP$6=\"Yes\"), Table1[[#This Row],[Total Controls kWh Savings]], IF(AND($S$3=\"Fixture Replacement Only - No Controls\",$AP$3=\"Yes\",Table1[[#This Row],[DLC/ES?]]<>\"No\"), (Table1[[#This Row],[Total Controls kWh Savings]]), \"-\"))),\"-\"))","v":"-"}]
[null,{"$f":"ROW(Table1[[#This Row],[Existing Lamp/Ballast Description]])-14","v":21},null,null,null,null,null,{"$f":"IFERROR(VLOOKUP(Table1[[#This Row],[Operating Hours Group]],HoursTable,3,0),\"\")","v":""},null,null,null,null,{"$f":"IFERROR(INDEX(Lookup!$B$3:$B$1550,MATCH(Table1[[#This Row],[Existing Lamp/Ballast Description]],Lookup!$C$3:$C$1550,0)),\"\")","v":""},{"$f":"IFERROR(IF(Table1[[#This Row],[Existing Fixture Code]]=\"\",(VLOOKUP(Table1[[#This Row],[Existing Device Code]],Lookup!$B$2:$D$1550,3,FALSE)), (VLOOKUP(Table1[[#This Row],[Existing Fixture Code]],Lookup!$B$2:$D$1550,3,FALSE))),\"\")","v":""},{"$f":"IFERROR(Table1[[#This Row],[Ex. Qty]]*Table1[[#This Row],[Existing Wattage]]/1000,\"\")","v":""},{"$f":"IFERROR(Table1[[#This Row],[Annual Operating Hours]]*Table1[[#This Row],[Existing kW]],\"\")","v":""},null,null,{"$f":"IFERROR(INDEX(Table2[[Merged model ]],MATCH(Table1[[#This Row],[Proposed Fixture Description]],Table2[Fixture Description],0)),\"\")","v":""},{"$f":"IFERROR(_xlfn.SINGLE(INDEX(ROUND(Table2[DLC/\nENERGY STAR Wattage],1),MATCH(Table1[[#This Row],[Proposed Fixture Description]],Table2[Fixture Description],0))),\"\")","v":""},{"$f":"IFERROR(IF(Table1[[#This Row],[Proposed Fixture Description]]=\"\",Table1[[#This Row],[Existing kW]],Table1[[#This Row],[Prop. Qty]]*Table1[[#This Row],[Proposed Wattage]]/1000),\"\")","v":""},{"$f":"IFERROR(Table1[[#This Row],[Annual Operating Hours]]*Table1[[#This Row],[Proposed kW]],\"\")","v":""},null,null,null,{"$f":"IFERROR(_xlfn.IFS(Table1[[#This Row],[Proposed Control Strategy]]=\"Scheduled Dimming\",INDEX('2 - Hours and Schedules'!$AB$6:$AB$15,MATCH(Table1[[#This Row],[Operating Hours Group]],'2 - Hours and Schedules'!$AA$6:$AA$15,0)), Table1[[#This Row],[Proposed Control Strategy]]=\"Daylight\",'Controls Lookup'!$B$2,Table1[[#This Row],[Proposed Control Strategy]]=\"Occupancy Sensor\",'Controls Lookup'!$C$2*(1-Table1[[#This Row],[% Output, if not off\n(Only If Occupancy Sensor Selected)]]),Table1[[#This Row],[Proposed Control Strategy]]=\"None\",'Controls Lookup'!$E$2),\"\")","v":""},null,null,{"$f":"IFERROR(_xlfn.IFS(Table1[[#This Row],[Proposed Additional Control Strategy]]=\"Scheduled Dimming\",INDEX('2 - Hours and Schedules'!$AB$6:$AB$15,MATCH(Table1[[#This Row],[Operating Hours Group]],'2 - Hours and Schedules'!$AA$6:$AA$15,0)), Table1[[#This Row],[Proposed Additional Control Strategy]]=\"Daylight\",'Controls Lookup'!$B$2,Table1[[#This Row],[Proposed Additional Control Strategy]]=\"Occupancy Sensor\",'Controls Lookup'!$C$2*(1-Table1[[#This Row],[% Output, if not off\n (If Occupancy Sensor Selected)]]),Table1[[#This Row],[Proposed Additional Control Strategy]]=\"None\",'Controls Lookup'!$E$2),\"\")","v":""},{"$f":"SUM(IF(Table1[[#This Row],[Proposed High End Trim\n(% of Max Fixture Output)]]=\"\",0,(1-Table1[[#This Row],[Proposed High End Trim\n(% of Max Fixture Output)]])*(1-IF(Table1[[#This Row],[Percent Reduction from Control Strategies]]=\"\",0,Table1[[#This Row],[Percent Reduction from Control Strategies]])-IF(Table1[[#This Row],[Percent Reduction from Additional Controls Strategy]]=\"\",0,Table1[[#This Row],[Percent Reduction from Additional Controls Strategy]]))),IF(Table1[[#This Row],[Percent Reduction from Control Strategies]]=\"\",0,Table1[[#This Row],[Percent Reduction from Control Strategies]]),IF(Table1[[#This Row],[Percent Reduction from Additional Controls Strategy]]=\"\",0,Table1[[#This Row],[Percent Reduction from Additional Controls Strategy]]))","v":0},{"$f":"IFERROR(IF(Table1[[#This Row],[Existing kW]]=\"\",-Table1[[#This Row],[Proposed kW]],Table1[[#This Row],[Existing kW]]-Table1[[#This Row],[Proposed kW]]),\"\")","v":""},{"$f":"IF(AND(ISBLANK(Table1[[#This Row],[Manufacturer/Model Number]]),ISNUMBER(Table1[[#This Row],[Prop. Qty]])),\"Missing Req'd Info\",IFERROR(IF(VLOOKUP(Table1[[#This Row],[Operating Hours Group]],HoursTable,5,FALSE)=1,Table1[[#This Row],[Fixture kW Savings]],0),\"\"))","v":""},{"$f":"IF(AND(ISBLANK(Table1[[#This Row],[Manufacturer/Model Number]]),ISNUMBER(Table1[[#This Row],[Prop. Qty]])),\"Missing Req'd Info\",IFERROR(IF(VLOOKUP(Table1[[#This Row],[Operating Hours Group]],HoursTable,6,FALSE),Table1[[#This Row],[Fixture kW Savings]],0),\"\"))","v":""},{"$f":"IFERROR(Table1[[#This Row],[Fixture kW Savings]]*Table1[[#This Row],[Annual Operating Hours]],\"\")","v":""},{"$f":"IF(AND(ISBLANK(Table1[[#This Row],[Manufacturer/Model Number]]),ISNUMBER(Table1[[#This Row],[Prop. Qty]])),\"Missing Req'd Info\",IFERROR((Table1[[#This Row],[Total Controls Savings (%)]]*Table1[[#This Row],[Proposed kWh]]),0))","v":0},{"$f":"IFERROR(IF(OR(Table1[[#This Row],[DLC/ES?]]=\"No\",Table1[[#This Row],[Lighting Location: Conditioned Space (Cooled) or Unconditioned Space]]=\"Unconditioned Space\"),0,(Lookup!$G$12*Table1[[#This Row],[Fixture kW Savings]]*0.8/Lookup!$G$14)),0)","v":0},{"$f":"IF(AND(ISBLANK(Table1[[#This Row],[Manufacturer/Model Number]]),ISNUMBER(Table1[[#This Row],[Prop. Qty]])),\"Missing Req'd Info\",IFERROR(Table1[[#This Row],[Fixture kWh Savings]]+Table1[[#This Row],[Total Controls kWh Savings]]+Table1[[#This Row],[Cooling kWh Savings]],\"\"))","v":""},{"$f":"IF(AND(ISBLANK(Table1[[#This Row],[Manufacturer/Model Number]]),ISNUMBER(Table1[[#This Row],[Prop. Qty]])),\"Missing Req'd Info\",IFERROR(VLOOKUP(Table1[[#This Row],[Operating Hours Group]],HoursTable,4,0),\"\"))","v":""},{"$f":"IFERROR(INDEX((Table2[Application]),MATCH(Table1[[#This Row],[Proposed Fixture Description]],Table2[Fixture Description],0)),\"\")","v":""},{"$f":"IFERROR(INDEX((Table2[Equipment Type]),MATCH(Table1[[#This Row],[Proposed Fixture Description]],Table2[Fixture Description],0)),\"\")","v":""},{"$f":"IFERROR(INDEX((Table2[TLED Type]),MATCH(Table1[[#This Row],[Proposed Fixture Description]],Table2[Fixture Description],0)),\"\")","v":""},{"$f":"Table1[[#This Row],[Application]]&\"|\"&Table1[[#This Row],[Equipment Type]]","v":"|"},{"$f":"VLOOKUP(Table1[[#This Row],[Application & Equipment Type]],'EUL Calc'!$D$6:$F$17,3,0)","v":{"$error":"#N/A"}},{"$f":"VLOOKUP(Table1[[#This Row],[Application & Equipment Type]],'EUL Calc'!$D$6:$G$17,4,0)","v":{"$error":"#N/A"}},{"$f":"IFERROR(INDEX(Table2[DLC/ENERGY STAR Approved?],MATCH(Table1[[#This Row],[Proposed Fixture Description]],Table2[Fixture Description],0)),0)","v":0},{"$f":"IF(Table1[[#This Row],[Proposed High End Trim\n(% of Max Fixture Output)]]<>\"\", \"Yes\", \"No\")","v":"No"},{"$f":"IF(Table1[[#This Row],[Proposed Additional Control Strategy]]=\"\",Table1[[#This Row],[Proposed Control Strategy]],_xlfn.CONCAT(Table1[[#This Row],[Proposed Control Strategy]], \" & \",Table1[[#This Row],[Proposed Additional Control Strategy]]))","v":0},{"$f":"IFERROR(INDEX(Table2[Fixture Controlled?],MATCH(Table1[[#This Row],[Proposed Fixture Description]],Table2[Fixture Description],0)),\"\")","v":""},{"$f":"IFERROR((Table1[[#This Row],[Percent Reduction from Control Strategies]]+Table1[[#This Row],[Percent Reduction from Additional Controls Strategy]])*Table1[[#This Row],[Proposed kWh]], IFERROR(Table1[[#This Row],[Percent Reduction from Control Strategies]]*Table1[[#This Row],[Proposed kWh]],\"\"))","v":""},{"$f":"IFERROR(ABS(Table1[[#This Row],[Total Incentivized kWh Savings]]), \"N/A\")","v":"N/A"},{"$f":"IF(OR(Table1[[#This Row],[Application]]=0,Table1[[#This Row],[DLC/ES?]]=\"No\",AND($AP$4=\"No\",Table1[[#This Row],[TLED Type]]=\"A\")),0,IFERROR(IF(AND($S$3=\"Tier 2 - Network Controls\",$AP$3=\"Yes\",$AP$5=\"Yes\",$AP$6=\"Yes\"), Table1[[#This Row],[Fixture kWh Savings]]+Table1[[#This Row],[Total Controls kWh Savings]]+Table1[[#This Row],[Cooling kWh Savings]], IF(AND($S$3=\"Tier 1 - Luminaire Level or Wireless Control\",$AP$3=\"Yes\",$AP$5=\"Yes\",$AP$6=\"Yes\"), Table1[[#This Row],[Fixture kWh Savings]]+Table1[[#This Row],[Total Controls kWh Savings]]+Table1[[#This Row],[Cooling kWh Savings]], IF(AND($S$3=\"Fixture Replacement Only - No Controls\",$AP$3=\"Yes\",Table1[[#This Row],[DLC/ES?]]<>\"No\"), (Table1[[#This Row],[Fixture kWh Savings]]+Table1[[#This Row],[Cooling kWh Savings]]+Table1[[#This Row],[Total Controls kWh Savings]]), \"-\"))),\"-\"))","v":"-"},{"$f":"IF(OR(Table1[[#This Row],[Application]]=0,Table1[[#This Row],[DLC/ES?]]=\"No\",AND($AP$4=\"No\",Table1[[#This Row],[TLED Type]]=\"A\")),0,IFERROR(IF(AND($S$3=\"Tier 2 - Network Controls\",$AP$3=\"Yes\",$AP$5=\"Yes\",$AP$6=\"Yes\"), Table1[[#This Row],[Fixture kWh Savings]]+Table1[[#This Row],[Cooling kWh Savings]], IF(AND($S$3=\"Tier 1 - Luminaire Level or Wireless Control\",$AP$3=\"Yes\",$AP$5=\"Yes\",$AP$6=\"Yes\"), Table1[[#This Row],[Fixture kWh Savings]]+Table1[[#This Row],[Cooling kWh Savings]], IF(AND($S$3=\"Fixture Replacement Only - No Controls\",$AP$3=\"Yes\",Table1[[#This Row],[DLC/ES?]]<>\"No\"), (Table1[[#This Row],[Fixture kWh Savings]]+Table1[[#This Row],[Cooling kWh Savings]]), \"-\"))),\"-\"))","v":"-"},{"$f":"IF(OR(Table1[[#This Row],[Application]]=0,Table1[[#This Row],[DLC/ES?]]=\"No\",AND($AP$4=\"No\",Table1[[#This Row],[TLED Type]]=\"A\")),0,IFERROR(IF(AND($S$3=\"Tier 2 - Network Controls\",$AP$3=\"Yes\",$AP$5=\"Yes\",$AP$6=\"Yes\"), Table1[[#This Row],[Total Controls kWh Savings]], IF(AND($S$3=\"Tier 1 - Luminaire Level or Wireless Control\",$AP$3=\"Yes\",$AP$5=\"Yes\",$AP$6=\"Yes\"), Table1[[#This Row],[Total Controls kWh Savings]], IF(AND($S$3=\"Fixture Replacement Only - No Controls\",$AP$3=\"Yes\",Table1[[#This Row],[DLC/ES?]]<>\"No\"), (Table1[[#This Row],[Total Controls kWh Savings]]), \"-\"))),\"-\"))","v":"-"}]
[null,{"$f":"ROW(Table1[[#This Row],[Existing Lamp/Ballast Description]])-14","v":22},null,null,null,null,null,{"$f":"IFERROR(VLOOKUP(Table1[[#This Row],[Operating Hours Group]],HoursTable,3,0),\"\")","v":""},null,null,null,null,{"$f":"IFERROR(INDEX(Lookup!$B$3:$B$1550,MATCH(Table1[[#This Row],[Existing Lamp/Ballast Description]],Lookup!$C$3:$C$1550,0)),\"\")","v":""},{"$f":"IFERROR(IF(Table1[[#This Row],[Existing Fixture Code]]=\"\",(VLOOKUP(Table1[[#This Row],[Existing Device Code]],Lookup!$B$2:$D$1550,3,FALSE)), (VLOOKUP(Table1[[#This Row],[Existing Fixture Code]],Lookup!$B$2:$D$1550,3,FALSE))),\"\")","v":""},{"$f":"IFERROR(Table1[[#This Row],[Ex. Qty]]*Table1[[#This Row],[Existing Wattage]]/1000,\"\")","v":""},{"$f":"IFERROR(Table1[[#This Row],[Annual Operating Hours]]*Table1[[#This Row],[Existing kW]],\"\")","v":""},null,null,{"$f":"IFERROR(INDEX(Table2[[Merged model ]],MATCH(Table1[[#This Row],[Proposed Fixture Description]],Table2[Fixture Description],0)),\"\")","v":""},{"$f":"IFERROR(_xlfn.SINGLE(INDEX(ROUND(Table2[DLC/\nENERGY STAR Wattage],1),MATCH(Table1[[#This Row],[Proposed Fixture Description]],Table2[Fixture Description],0))),\"\")","v":""},{"$f":"IFERROR(IF(Table1[[#This Row],[Proposed Fixture Description]]=\"\",Table1[[#This Row],[Existing kW]],Table1[[#This Row],[Prop. Qty]]*Table1[[#This Row],[Proposed Wattage]]/1000),\"\")","v":""},{"$f":"IFERROR(Table1[[#This Row],[Annual Operating Hours]]*Table1[[#This Row],[Proposed kW]],\"\")","v":""},null,null,null,{"$f":"IFERROR(_xlfn.IFS(Table1[[#This Row],[Proposed Control Strategy]]=\"Scheduled Dimming\",INDEX('2 - Hours and Schedules'!$AB$6:$AB$15,MATCH(Table1[[#This Row],[Operating Hours Group]],'2 - Hours and Schedules'!$AA$6:$AA$15,0)), Table1[[#This Row],[Proposed Control Strategy]]=\"Daylight\",'Controls Lookup'!$B$2,Table1[[#This Row],[Proposed Control Strategy]]=\"Occupancy Sensor\",'Controls Lookup'!$C$2*(1-Table1[[#This Row],[% Output, if not off\n(Only If Occupancy Sensor Selected)]]),Table1[[#This Row],[Proposed Control Strategy]]=\"None\",'Controls Lookup'!$E$2),\"\")","v":""},null,null,{"$f":"IFERROR(_xlfn.IFS(Table1[[#This Row],[Proposed Additional Control Strategy]]=\"Scheduled Dimming\",INDEX('2 - Hours and Schedules'!$AB$6:$AB$15,MATCH(Table1[[#This Row],[Operating Hours Group]],'2 - Hours and Schedules'!$AA$6:$AA$15,0)), Table1[[#This Row],[Proposed Additional Control Strategy]]=\"Daylight\",'Controls Lookup'!$B$2,Table1[[#This Row],[Proposed Additional Control Strategy]]=\"Occupancy Sensor\",'Controls Lookup'!$C$2*(1-Table1[[#This Row],[% Output, if not off\n (If Occupancy Sensor Selected)]]),Table1[[#This Row],[Proposed Additional Control Strategy]]=\"None\",'Controls Lookup'!$E$2),\"\")","v":""},{"$f":"SUM(IF(Table1[[#This Row],[Proposed High End Trim\n(% of Max Fixture Output)]]=\"\",0,(1-Table1[[#This Row],[Proposed High End Trim\n(% of Max Fixture Output)]])*(1-IF(Table1[[#This Row],[Percent Reduction from Control Strategies]]=\"\",0,Table1[[#This Row],[Percent Reduction from Control Strategies]])-IF(Table1[[#This Row],[Percent Reduction from Additional Controls Strategy]]=\"\",0,Table1[[#This Row],[Percent Reduction from Additional Controls Strategy]]))),IF(Table1[[#This Row],[Percent Reduction from Control Strategies]]=\"\",0,Table1[[#This Row],[Percent Reduction from Control Strategies]]),IF(Table1[[#This Row],[Percent Reduction from Additional Controls Strategy]]=\"\",0,Table1[[#This Row],[Percent Reduction from Additional Controls Strategy]]))","v":0},{"$f":"IFERROR(IF(Table1[[#This Row],[Existing kW]]=\"\",-Table1[[#This Row],[Proposed kW]],Table1[[#This Row],[Existing kW]]-Table1[[#This Row],[Proposed kW]]),\"\")","v":""},{"$f":"IF(AND(ISBLANK(Table1[[#This Row],[Manufacturer/Model Number]]),ISNUMBER(Table1[[#This Row],[Prop. Qty]])),\"Missing Req'd Info\",IFERROR(IF(VLOOKUP(Table1[[#This Row],[Operating Hours Group]],HoursTable,5,FALSE)=1,Table1[[#This Row],[Fixture kW Savings]],0),\"\"))","v":""},{"$f":"IF(AND(ISBLANK(Table1[[#This Row],[Manufacturer/Model Number]]),ISNUMBER(Table1[[#This Row],[Prop. Qty]])),\"Missing Req'd Info\",IFERROR(IF(VLOOKUP(Table1[[#This Row],[Operating Hours Group]],HoursTable,6,FALSE),Table1[[#This Row],[Fixture kW Savings]],0),\"\"))","v":""},{"$f":"IFERROR(Table1[[#This Row],[Fixture kW Savings]]*Table1[[#This Row],[Annual Operating Hours]],\"\")","v":""},{"$f":"IF(AND(ISBLANK(Table1[[#This Row],[Manufacturer/Model Number]]),ISNUMBER(Table1[[#This Row],[Prop. Qty]])),\"Missing Req'd Info\",IFERROR((Table1[[#This Row],[Total Controls Savings (%)]]*Table1[[#This Row],[Proposed kWh]]),0))","v":0},{"$f":"IFERROR(IF(OR(Table1[[#This Row],[DLC/ES?]]=\"No\",Table1[[#This Row],[Lighting Location: Conditioned Space (Cooled) or Unconditioned Space]]=\"Unconditioned Space\"),0,(Lookup!$G$12*Table1[[#This Row],[Fixture kW Savings]]*0.8/Lookup!$G$14)),0)","v":0},{"$f":"IF(AND(ISBLANK(Table1[[#This Row],[Manufacturer/Model Number]]),ISNUMBER(Table1[[#This Row],[Prop. Qty]])),\"Missing Req'd Info\",IFERROR(Table1[[#This Row],[Fixture kWh Savings]]+Table1[[#This Row],[Total Controls kWh Savings]]+Table1[[#This Row],[Cooling kWh Savings]],\"\"))","v":""},{"$f":"IF(AND(ISBLANK(Table1[[#This Row],[Manufacturer/Model Number]]),ISNUMBER(Table1[[#This Row],[Prop. Qty]])),\"Missing Req'd Info\",IFERROR(VLOOKUP(Table1[[#This Row],[Operating Hours Group]],HoursTable,4,0),\"\"))","v":""},{"$f":"IFERROR(INDEX((Table2[Application]),MATCH(Table1[[#This Row],[Proposed Fixture Description]],Table2[Fixture Description],0)),\"\")","v":""},{"$f":"IFERROR(INDEX((Table2[Equipment Type]),MATCH(Table1[[#This Row],[Proposed Fixture Description]],Table2[Fixture Description],0)),\"\")","v":""},{"$f":"IFERROR(INDEX((Table2[TLED Type]),MATCH(Table1[[#This Row],[Proposed Fixture Description]],Table2[Fixture Description],0)),\"\")","v":""},{"$f":"Table1[[#This Row],[Application]]&\"|\"&Table1[[#This Row],[Equipment Type]]","v":"|"},{"$f":"VLOOKUP(Table1[[#This Row],[Application & Equipment Type]],'EUL Calc'!$D$6:$F$17,3,0)","v":{"$error":"#N/A"}},{"$f":"VLOOKUP(Table1[[#This Row],[Application & Equipment Type]],'EUL Calc'!$D$6:$G$17,4,0)","v":{"$error":"#N/A"}},{"$f":"IFERROR(INDEX(Table2[DLC/ENERGY STAR Approved?],MATCH(Table1[[#This Row],[Proposed Fixture Description]],Table2[Fixture Description],0)),0)","v":0},{"$f":"IF(Table1[[#This Row],[Proposed High End Trim\n(% of Max Fixture Output)]]<>\"\", \"Yes\", \"No\")","v":"No"},{"$f":"IF(Table1[[#This Row],[Proposed Additional Control Strategy]]=\"\",Table1[[#This Row],[Proposed Control Strategy]],_xlfn.CONCAT(Table1[[#This Row],[Proposed Control Strategy]], \" & \",Table1[[#This Row],[Proposed Additional Control Strategy]]))","v":0},{"$f":"IFERROR(INDEX(Table2[Fixture Controlled?],MATCH(Table1[[#This Row],[Proposed Fixture Description]],Table2[Fixture Description],0)),\"\")","v":""},{"$f":"IFERROR((Table1[[#This Row],[Percent Reduction from Control Strategies]]+Table1[[#This Row],[Percent Reduction from Additional Controls Strategy]])*Table1[[#This Row],[Proposed kWh]], IFERROR(Table1[[#This Row],[Percent Reduction from Control Strategies]]*Table1[[#This Row],[Proposed kWh]],\"\"))","v":""},{"$f":"IFERROR(ABS(Table1[[#This Row],[Total Incentivized kWh Savings]]), \"N/A\")","v":"N/A"},{"$f":"IF(OR(Table1[[#This Row],[Application]]=0,Table1[[#This Row],[DLC/ES?]]=\"No\",AND($AP$4=\"No\",Table1[[#This Row],[TLED Type]]=\"A\")),0,IFERROR(IF(AND($S$3=\"Tier 2 - Network Controls\",$AP$3=\"Yes\",$AP$5=\"Yes\",$AP$6=\"Yes\"), Table1[[#This Row],[Fixture kWh Savings]]+Table1[[#This Row],[Total Controls kWh Savings]]+Table1[[#This Row],[Cooling kWh Savings]], IF(AND($S$3=\"Tier 1 - Luminaire Level or Wireless Control\",$AP$3=\"Yes\",$AP$5=\"Yes\",$AP$6=\"Yes\"), Table1[[#This Row],[Fixture kWh Savings]]+Table1[[#This Row],[Total Controls kWh Savings]]+Table1[[#This Row],[Cooling kWh Savings]], IF(AND($S$3=\"Fixture Replacement Only - No Controls\",$AP$3=\"Yes\",Table1[[#This Row],[DLC/ES?]]<>\"No\"), (Table1[[#This Row],[Fixture kWh Savings]]+Table1[[#This Row],[Cooling kWh Savings]]+Table1[[#This Row],[Total Controls kWh Savings]]), \"-\"))),\"-\"))","v":"-"},{"$f":"IF(OR(Table1[[#This Row],[Application]]=0,Table1[[#This Row],[DLC/ES?]]=\"No\",AND($AP$4=\"No\",Table1[[#This Row],[TLED Type]]=\"A\")),0,IFERROR(IF(AND($S$3=\"Tier 2 - Network Controls\",$AP$3=\"Yes\",$AP$5=\"Yes\",$AP$6=\"Yes\"), Table1[[#This Row],[Fixture kWh Savings]]+Table1[[#This Row],[Cooling kWh Savings]], IF(AND($S$3=\"Tier 1 - Luminaire Level or Wireless Control\",$AP$3=\"Yes\",$AP$5=\"Yes\",$AP$6=\"Yes\"), Table1[[#This Row],[Fixture kWh Savings]]+Table1[[#This Row],[Cooling kWh Savings]], IF(AND($S$3=\"Fixture Replacement Only - No Controls\",$AP$3=\"Yes\",Table1[[#This Row],[DLC/ES?]]<>\"No\"), (Table1[[#This Row],[Fixture kWh Savings]]+Table1[[#This Row],[Cooling kWh Savings]]), \"-\"))),\"-\"))","v":"-"},{"$f":"IF(OR(Table1[[#This Row],[Application]]=0,Table1[[#This Row],[DLC/ES?]]=\"No\",AND($AP$4=\"No\",Table1[[#This Row],[TLED Type]]=\"A\")),0,IFERROR(IF(AND($S$3=\"Tier 2 - Network Controls\",$AP$3=\"Yes\",$AP$5=\"Yes\",$AP$6=\"Yes\"), Table1[[#This Row],[Total Controls kWh Savings]], IF(AND($S$3=\"Tier 1 - Luminaire Level or Wireless Control\",$AP$3=\"Yes\",$AP$5=\"Yes\",$AP$6=\"Yes\"), Table1[[#This Row],[Total Controls kWh Savings]], IF(AND($S$3=\"Fixture Replacement Only - No Controls\",$AP$3=\"Yes\",Table1[[#This Row],[DLC/ES?]]<>\"No\"), (Table1[[#This Row],[Total Controls kWh Savings]]), \"-\"))),\"-\"))","v":"-"}]
[null,{"$f":"ROW(Table1[[#This Row],[Existing Lamp/Ballast Description]])-14","v":23},null,null,null,null,null,{"$f":"IFERROR(VLOOKUP(Table1[[#This Row],[Operating Hours Group]],HoursTable,3,0),\"\")","v":""},null,null,null,null,{"$f":"IFERROR(INDEX(Lookup!$B$3:$B$1550,MATCH(Table1[[#This Row],[Existing Lamp/Ballast Description]],Lookup!$C$3:$C$1550,0)),\"\")","v":""},{"$f":"IFERROR(IF(Table1[[#This Row],[Existing Fixture Code]]=\"\",(VLOOKUP(Table1[[#This Row],[Existing Device Code]],Lookup!$B$2:$D$1550,3,FALSE)), (VLOOKUP(Table1[[#This Row],[Existing Fixture Code]],Lookup!$B$2:$D$1550,3,FALSE))),\"\")","v":""},{"$f":"IFERROR(Table1[[#This Row],[Ex. Qty]]*Table1[[#This Row],[Existing Wattage]]/1000,\"\")","v":""},{"$f":"IFERROR(Table1[[#This Row],[Annual Operating Hours]]*Table1[[#This Row],[Existing kW]],\"\")","v":""},null,null,{"$f":"IFERROR(INDEX(Table2[[Merged model ]],MATCH(Table1[[#This Row],[Proposed Fixture Description]],Table2[Fixture Description],0)),\"\")","v":""},{"$f":"IFERROR(_xlfn.SINGLE(INDEX(ROUND(Table2[DLC/\nENERGY STAR Wattage],1),MATCH(Table1[[#This Row],[Proposed Fixture Description]],Table2[Fixture Description],0))),\"\")","v":""},{"$f":"IFERROR(IF(Table1[[#This Row],[Proposed Fixture Description]]=\"\",Table1[[#This Row],[Existing kW]],Table1[[#This Row],[Prop. Qty]]*Table1[[#This Row],[Proposed Wattage]]/1000),\"\")","v":""},{"$f":"IFERROR(Table1[[#This Row],[Annual Operating Hours]]*Table1[[#This Row],[Proposed kW]],\"\")","v":""},null,null,null,{"$f":"IFERROR(_xlfn.IFS(Table1[[#This Row],[Proposed Control Strategy]]=\"Scheduled Dimming\",INDEX('2 - Hours and Schedules'!$AB$6:$AB$15,MATCH(Table1[[#This Row],[Operating Hours Group]],'2 - Hours and Schedules'!$AA$6:$AA$15,0)), Table1[[#This Row],[Proposed Control Strategy]]=\"Daylight\",'Controls Lookup'!$B$2,Table1[[#This Row],[Proposed Control Strategy]]=\"Occupancy Sensor\",'Controls Lookup'!$C$2*(1-Table1[[#This Row],[% Output, if not off\n(Only If Occupancy Sensor Selected)]]),Table1[[#This Row],[Proposed Control Strategy]]=\"None\",'Controls Lookup'!$E$2),\"\")","v":""},null,null,{"$f":"IFERROR(_xlfn.IFS(Table1[[#This Row],[Proposed Additional Control Strategy]]=\"Scheduled Dimming\",INDEX('2 - Hours and Schedules'!$AB$6:$AB$15,MATCH(Table1[[#This Row],[Operating Hours Group]],'2 - Hours and Schedules'!$AA$6:$AA$15,0)), Table1[[#This Row],[Proposed Additional Control Strategy]]=\"Daylight\",'Controls Lookup'!$B$2,Table1[[#This Row],[Proposed Additional Control Strategy]]=\"Occupancy Sensor\",'Controls Lookup'!$C$2*(1-Table1[[#This Row],[% Output, if not off\n (If Occupancy Sensor Selected)]]),Table1[[#This Row],[Proposed Additional Control Strategy]]=\"None\",'Controls Lookup'!$E$2),\"\")","v":""},{"$f":"SUM(IF(Table1[[#This Row],[Proposed High End Trim\n(% of Max Fixture Output)]]=\"\",0,(1-Table1[[#This Row],[Proposed High End Trim\n(% of Max Fixture Output)]])*(1-IF(Table1[[#This Row],[Percent Reduction from Control Strategies]]=\"\",0,Table1[[#This Row],[Percent Reduction from Control Strategies]])-IF(Table1[[#This Row],[Percent Reduction from Additional Controls Strategy]]=\"\",0,Table1[[#This Row],[Percent Reduction from Additional Controls Strategy]]))),IF(Table1[[#This Row],[Percent Reduction from Control Strategies]]=\"\",0,Table1[[#This Row],[Percent Reduction from Control Strategies]]),IF(Table1[[#This Row],[Percent Reduction from Additional Controls Strategy]]=\"\",0,Table1[[#This Row],[Percent Reduction from Additional Controls Strategy]]))","v":0},{"$f":"IFERROR(IF(Table1[[#This Row],[Existing kW]]=\"\",-Table1[[#This Row],[Proposed kW]],Table1[[#This Row],[Existing kW]]-Table1[[#This Row],[Proposed kW]]),\"\")","v":""},{"$f":"IF(AND(ISBLANK(Table1[[#This Row],[Manufacturer/Model Number]]),ISNUMBER(Table1[[#This Row],[Prop. Qty]])),\"Missing Req'd Info\",IFERROR(IF(VLOOKUP(Table1[[#This Row],[Operating Hours Group]],HoursTable,5,FALSE)=1,Table1[[#This Row],[Fixture kW Savings]],0),\"\"))","v":""},{"$f":"IF(AND(ISBLANK(Table1[[#This Row],[Manufacturer/Model Number]]),ISNUMBER(Table1[[#This Row],[Prop. Qty]])),\"Missing Req'd Info\",IFERROR(IF(VLOOKUP(Table1[[#This Row],[Operating Hours Group]],HoursTable,6,FALSE),Table1[[#This Row],[Fixture kW Savings]],0),\"\"))","v":""},{"$f":"IFERROR(Table1[[#This Row],[Fixture kW Savings]]*Table1[[#This Row],[Annual Operating Hours]],\"\")","v":""},{"$f":"IF(AND(ISBLANK(Table1[[#This Row],[Manufacturer/Model Number]]),ISNUMBER(Table1[[#This Row],[Prop. Qty]])),\"Missing Req'd Info\",IFERROR((Table1[[#This Row],[Total Controls Savings (%)]]*Table1[[#This Row],[Proposed kWh]]),0))","v":0},{"$f":"IFERROR(IF(OR(Table1[[#This Row],[DLC/ES?]]=\"No\",Table1[[#This Row],[Lighting Location: Conditioned Space (Cooled) or Unconditioned Space]]=\"Unconditioned Space\"),0,(Lookup!$G$12*Table1[[#This Row],[Fixture kW Savings]]*0.8/Lookup!$G$14)),0)","v":0},{"$f":"IF(AND(ISBLANK(Table1[[#This Row],[Manufacturer/Model Number]]),ISNUMBER(Table1[[#This Row],[Prop. Qty]])),\"Missing Req'd Info\",IFERROR(Table1[[#This Row],[Fixture kWh Savings]]+Table1[[#This Row],[Total Controls kWh Savings]]+Table1[[#This Row],[Cooling kWh Savings]],\"\"))","v":""},{"$f":"IF(AND(ISBLANK(Table1[[#This Row],[Manufacturer/Model Number]]),ISNUMBER(Table1[[#This Row],[Prop. Qty]])),\"Missing Req'd Info\",IFERROR(VLOOKUP(Table1[[#This Row],[Operating Hours Group]],HoursTable,4,0),\"\"))","v":""},{"$f":"IFERROR(INDEX((Table2[Application]),MATCH(Table1[[#This Row],[Proposed Fixture Description]],Table2[Fixture Description],0)),\"\")","v":""},{"$f":"IFERROR(INDEX((Table2[Equipment Type]),MATCH(Table1[[#This Row],[Proposed Fixture Description]],Table2[Fixture Description],0)),\"\")","v":""},{"$f":"IFERROR(INDEX((Table2[TLED Type]),MATCH(Table1[[#This Row],[Proposed Fixture Description]],Table2[Fixture Description],0)),\"\")","v":""},{"$f":"Table1[[#This Row],[Application]]&\"|\"&Table1[[#This Row],[Equipment Type]]","v":"|"},{"$f":"VLOOKUP(Table1[[#This Row],[Application & Equipment Type]],'EUL Calc'!$D$6:$F$17,3,0)","v":{"$error":"#N/A"}},{"$f":"VLOOKUP(Table1[[#This Row],[Application & Equipment Type]],'EUL Calc'!$D$6:$G$17,4,0)","v":{"$error":"#N/A"}},{"$f":"IFERROR(INDEX(Table2[DLC/ENERGY STAR Approved?],MATCH(Table1[[#This Row],[Proposed Fixture Description]],Table2[Fixture Description],0)),0)","v":0},{"$f":"IF(Table1[[#This Row],[Proposed High End Trim\n(% of Max Fixture Output)]]<>\"\", \"Yes\", \"No\")","v":"No"},{"$f":"IF(Table1[[#This Row],[Proposed Additional Control Strategy]]=\"\",Table1[[#This Row],[Proposed Control Strategy]],_xlfn.CONCAT(Table1[[#This Row],[Proposed Control Strategy]], \" & \",Table1[[#This Row],[Proposed Additional Control Strategy]]))","v":0},{"$f":"IFERROR(INDEX(Table2[Fixture Controlled?],MATCH(Table1[[#This Row],[Proposed Fixture Description]],Table2[Fixture Description],0)),\"\")","v":""},{"$f":"IFERROR((Table1[[#This Row],[Percent Reduction from Control Strategies]]+Table1[[#This Row],[Percent Reduction from Additional Controls Strategy]])*Table1[[#This Row],[Proposed kWh]], IFERROR(Table1[[#This Row],[Percent Reduction from Control Strategies]]*Table1[[#This Row],[Proposed kWh]],\"\"))","v":""},{"$f":"IFERROR(ABS(Table1[[#This Row],[Total Incentivized kWh Savings]]), \"N/A\")","v":"N/A"},{"$f":"IF(OR(Table1[[#This Row],[Application]]=0,Table1[[#This Row],[DLC/ES?]]=\"No\",AND($AP$4=\"No\",Table1[[#This Row],[TLED Type]]=\"A\")),0,IFERROR(IF(AND($S$3=\"Tier 2 - Network Controls\",$AP$3=\"Yes\",$AP$5=\"Yes\",$AP$6=\"Yes\"), Table1[[#This Row],[Fixture kWh Savings]]+Table1[[#This Row],[Total Controls kWh Savings]]+Table1[[#This Row],[Cooling kWh Savings]], IF(AND($S$3=\"Tier 1 - Luminaire Level or Wireless Control\",$AP$3=\"Yes\",$AP$5=\"Yes\",$AP$6=\"Yes\"), Table1[[#This Row],[Fixture kWh Savings]]+Table1[[#This Row],[Total Controls kWh Savings]]+Table1[[#This Row],[Cooling kWh Savings]], IF(AND($S$3=\"Fixture Replacement Only - No Controls\",$AP$3=\"Yes\",Table1[[#This Row],[DLC/ES?]]<>\"No\"), (Table1[[#This Row],[Fixture kWh Savings]]+Table1[[#This Row],[Cooling kWh Savings]]+Table1[[#This Row],[Total Controls kWh Savings]]), \"-\"))),\"-\"))","v":"-"},{"$f":"IF(OR(Table1[[#This Row],[Application]]=0,Table1[[#This Row],[DLC/ES?]]=\"No\",AND($AP$4=\"No\",Table1[[#This Row],[TLED Type]]=\"A\")),0,IFERROR(IF(AND($S$3=\"Tier 2 - Network Controls\",$AP$3=\"Yes\",$AP$5=\"Yes\",$AP$6=\"Yes\"), Table1[[#This Row],[Fixture kWh Savings]]+Table1[[#This Row],[Cooling kWh Savings]], IF(AND($S$3=\"Tier 1 - Luminaire Level or Wireless Control\",$AP$3=\"Yes\",$AP$5=\"Yes\",$AP$6=\"Yes\"), Table1[[#This Row],[Fixture kWh Savings]]+Table1[[#This Row],[Cooling kWh Savings]], IF(AND($S$3=\"Fixture Replacement Only - No Controls\",$AP$3=\"Yes\",Table1[[#This Row],[DLC/ES?]]<>\"No\"), (Table1[[#This Row],[Fixture kWh Savings]]+Table1[[#This Row],[Cooling kWh Savings]]), \"-\"))),\"-\"))","v":"-"},{"$f":"IF(OR(Table1[[#This Row],[Application]]=0,Table1[[#This Row],[DLC/ES?]]=\"No\",AND($AP$4=\"No\",Table1[[#This Row],[TLED Type]]=\"A\")),0,IFERROR(IF(AND($S$3=\"Tier 2 - Network Controls\",$AP$3=\"Yes\",$AP$5=\"Yes\",$AP$6=\"Yes\"), Table1[[#This Row],[Total Controls kWh Savings]], IF(AND($S$3=\"Tier 1 - Luminaire Level or Wireless Control\",$AP$3=\"Yes\",$AP$5=\"Yes\",$AP$6=\"Yes\"), Table1[[#This Row],[Total Controls kWh Savings]], IF(AND($S$3=\"Fixture Replacement Only - No Controls\",$AP$3=\"Yes\",Table1[[#This Row],[DLC/ES?]]<>\"No\"), (Table1[[#This Row],[Total Controls kWh Savings]]), \"-\"))),\"-\"))","v":"-"}]
[null,{"$f":"ROW(Table1[[#This Row],[Existing Lamp/Ballast Description]])-14","v":24},null,null,null,null,null,{"$f":"IFERROR(VLOOKUP(Table1[[#This Row],[Operating Hours Group]],HoursTable,3,0),\"\")","v":""},null,null,null,null,{"$f":"IFERROR(INDEX(Lookup!$B$3:$B$1550,MATCH(Table1[[#This Row],[Existing Lamp/Ballast Description]],Lookup!$C$3:$C$1550,0)),\"\")","v":""},{"$f":"IFERROR(IF(Table1[[#This Row],[Existing Fixture Code]]=\"\",(VLOOKUP(Table1[[#This Row],[Existing Device Code]],Lookup!$B$2:$D$1550,3,FALSE)), (VLOOKUP(Table1[[#This Row],[Existing Fixture Code]],Lookup!$B$2:$D$1550,3,FALSE))),\"\")","v":""},{"$f":"IFERROR(Table1[[#This Row],[Ex. Qty]]*Table1[[#This Row],[Existing Wattage]]/1000,\"\")","v":""},{"$f":"IFERROR(Table1[[#This Row],[Annual Operating Hours]]*Table1[[#This Row],[Existing kW]],\"\")","v":""},null,null,{"$f":"IFERROR(INDEX(Table2[[Merged model ]],MATCH(Table1[[#This Row],[Proposed Fixture Description]],Table2[Fixture Description],0)),\"\")","v":""},{"$f":"IFERROR(_xlfn.SINGLE(INDEX(ROUND(Table2[DLC/\nENERGY STAR Wattage],1),MATCH(Table1[[#This Row],[Proposed Fixture Description]],Table2[Fixture Description],0))),\"\")","v":""},{"$f":"IFERROR(IF(Table1[[#This Row],[Proposed Fixture Description]]=\"\",Table1[[#This Row],[Existing kW]],Table1[[#This Row],[Prop. Qty]]*Table1[[#This Row],[Proposed Wattage]]/1000),\"\")","v":""},{"$f":"IFERROR(Table1[[#This Row],[Annual Operating Hours]]*Table1[[#This Row],[Proposed kW]],\"\")","v":""},null,null,null,{"$f":"IFERROR(_xlfn.IFS(Table1[[#This Row],[Proposed Control Strategy]]=\"Scheduled Dimming\",INDEX('2 - Hours and Schedules'!$AB$6:$AB$15,MATCH(Table1[[#This Row],[Operating Hours Group]],'2 - Hours and Schedules'!$AA$6:$AA$15,0)), Table1[[#This Row],[Proposed Control Strategy]]=\"Daylight\",'Controls Lookup'!$B$2,Table1[[#This Row],[Proposed Control Strategy]]=\"Occupancy Sensor\",'Controls Lookup'!$C$2*(1-Table1[[#This Row],[% Output, if not off\n(Only If Occupancy Sensor Selected)]]),Table1[[#This Row],[Proposed Control Strategy]]=\"None\",'Controls Lookup'!$E$2),\"\")","v":""},null,null,{"$f":"IFERROR(_xlfn.IFS(Table1[[#This Row],[Proposed Additional Control Strategy]]=\"Scheduled Dimming\",INDEX('2 - Hours and Schedules'!$AB$6:$AB$15,MATCH(Table1[[#This Row],[Operating Hours Group]],'2 - Hours and Schedules'!$AA$6:$AA$15,0)), Table1[[#This Row],[Proposed Additional Control Strategy]]=\"Daylight\",'Controls Lookup'!$B$2,Table1[[#This Row],[Proposed Additional Control Strategy]]=\"Occupancy Sensor\",'Controls Lookup'!$C$2*(1-Table1[[#This Row],[% Output, if not off\n (If Occupancy Sensor Selected)]]),Table1[[#This Row],[Proposed Additional Control Strategy]]=\"None\",'Controls Lookup'!$E$2),\"\")","v":""},{"$f":"SUM(IF(Table1[[#This Row],[Proposed High End Trim\n(% of Max Fixture Output)]]=\"\",0,(1-Table1[[#This Row],[Proposed High End Trim\n(% of Max Fixture Output)]])*(1-IF(Table1[[#This Row],[Percent Reduction from Control Strategies]]=\"\",0,Table1[[#This Row],[Percent Reduction from Control Strategies]])-IF(Table1[[#This Row],[Percent Reduction from Additional Controls Strategy]]=\"\",0,Table1[[#This Row],[Percent Reduction from Additional Controls Strategy]]))),IF(Table1[[#This Row],[Percent Reduction from Control Strategies]]=\"\",0,Table1[[#This Row],[Percent Reduction from Control Strategies]]),IF(Table1[[#This Row],[Percent Reduction from Additional Controls Strategy]]=\"\",0,Table1[[#This Row],[Percent Reduction from Additional Controls Strategy]]))","v":0},{"$f":"IFERROR(IF(Table1[[#This Row],[Existing kW]]=\"\",-Table1[[#This Row],[Proposed kW]],Table1[[#This Row],[Existing kW]]-Table1[[#This Row],[Proposed kW]]),\"\")","v":""},{"$f":"IF(AND(ISBLANK(Table1[[#This Row],[Manufacturer/Model Number]]),ISNUMBER(Table1[[#This Row],[Prop. Qty]])),\"Missing Req'd Info\",IFERROR(IF(VLOOKUP(Table1[[#This Row],[Operating Hours Group]],HoursTable,5,FALSE)=1,Table1[[#This Row],[Fixture kW Savings]],0),\"\"))","v":""},{"$f":"IF(AND(ISBLANK(Table1[[#This Row],[Manufacturer/Model Number]]),ISNUMBER(Table1[[#This Row],[Prop. Qty]])),\"Missing Req'd Info\",IFERROR(IF(VLOOKUP(Table1[[#This Row],[Operating Hours Group]],HoursTable,6,FALSE),Table1[[#This Row],[Fixture kW Savings]],0),\"\"))","v":""},{"$f":"IFERROR(Table1[[#This Row],[Fixture kW Savings]]*Table1[[#This Row],[Annual Operating Hours]],\"\")","v":""},{"$f":"IF(AND(ISBLANK(Table1[[#This Row],[Manufacturer/Model Number]]),ISNUMBER(Table1[[#This Row],[Prop. Qty]])),\"Missing Req'd Info\",IFERROR((Table1[[#This Row],[Total Controls Savings (%)]]*Table1[[#This Row],[Proposed kWh]]),0))","v":0},{"$f":"IFERROR(IF(OR(Table1[[#This Row],[DLC/ES?]]=\"No\",Table1[[#This Row],[Lighting Location: Conditioned Space (Cooled) or Unconditioned Space]]=\"Unconditioned Space\"),0,(Lookup!$G$12*Table1[[#This Row],[Fixture kW Savings]]*0.8/Lookup!$G$14)),0)","v":0},{"$f":"IF(AND(ISBLANK(Table1[[#This Row],[Manufacturer/Model Number]]),ISNUMBER(Table1[[#This Row],[Prop. Qty]])),\"Missing Req'd Info\",IFERROR(Table1[[#This Row],[Fixture kWh Savings]]+Table1[[#This Row],[Total Controls kWh Savings]]+Table1[[#This Row],[Cooling kWh Savings]],\"\"))","v":""},{"$f":"IF(AND(ISBLANK(Table1[[#This Row],[Manufacturer/Model Number]]),ISNUMBER(Table1[[#This Row],[Prop. Qty]])),\"Missing Req'd Info\",IFERROR(VLOOKUP(Table1[[#This Row],[Operating Hours Group]],HoursTable,4,0),\"\"))","v":""},{"$f":"IFERROR(INDEX((Table2[Application]),MATCH(Table1[[#This Row],[Proposed Fixture Description]],Table2[Fixture Description],0)),\"\")","v":""},{"$f":"IFERROR(INDEX((Table2[Equipment Type]),MATCH(Table1[[#This Row],[Proposed Fixture Description]],Table2[Fixture Description],0)),\"\")","v":""},{"$f":"IFERROR(INDEX((Table2[TLED Type]),MATCH(Table1[[#This Row],[Proposed Fixture Description]],Table2[Fixture Description],0)),\"\")","v":""},{"$f":"Table1[[#This Row],[Application]]&\"|\"&Table1[[#This Row],[Equipment Type]]","v":"|"},{"$f":"VLOOKUP(Table1[[#This Row],[Application & Equipment Type]],'EUL Calc'!$D$6:$F$17,3,0)","v":{"$error":"#N/A"}},{"$f":"VLOOKUP(Table1[[#This Row],[Application & Equipment Type]],'EUL Calc'!$D$6:$G$17,4,0)","v":{"$error":"#N/A"}},{"$f":"IFERROR(INDEX(Table2[DLC/ENERGY STAR Approved?],MATCH(Table1[[#This Row],[Proposed Fixture Description]],Table2[Fixture Description],0)),0)","v":0},{"$f":"IF(Table1[[#This Row],[Proposed High End Trim\n(% of Max Fixture Output)]]<>\"\", \"Yes\", \"No\")","v":"No"},{"$f":"IF(Table1[[#This Row],[Proposed Additional Control Strategy]]=\"\",Table1[[#This Row],[Proposed Control Strategy]],_xlfn.CONCAT(Table1[[#This Row],[Proposed Control Strategy]], \" & \",Table1[[#This Row],[Proposed Additional Control Strategy]]))","v":0},{"$f":"IFERROR(INDEX(Table2[Fixture Controlled?],MATCH(Table1[[#This Row],[Proposed Fixture Description]],Table2[Fixture Description],0)),\"\")","v":""},{"$f":"IFERROR((Table1[[#This Row],[Percent Reduction from Control Strategies]]+Table1[[#This Row],[Percent Reduction from Additional Controls Strategy]])*Table1[[#This Row],[Proposed kWh]], IFERROR(Table1[[#This Row],[Percent Reduction from Control Strategies]]*Table1[[#This Row],[Proposed kWh]],\"\"))","v":""},{"$f":"IFERROR(ABS(Table1[[#This Row],[Total Incentivized kWh Savings]]), \"N/A\")","v":"N/A"},{"$f":"IF(OR(Table1[[#This Row],[Application]]=0,Table1[[#This Row],[DLC/ES?]]=\"No\",AND($AP$4=\"No\",Table1[[#This Row],[TLED Type]]=\"A\")),0,IFERROR(IF(AND($S$3=\"Tier 2 - Network Controls\",$AP$3=\"Yes\",$AP$5=\"Yes\",$AP$6=\"Yes\"), Table1[[#This Row],[Fixture kWh Savings]]+Table1[[#This Row],[Total Controls kWh Savings]]+Table1[[#This Row],[Cooling kWh Savings]], IF(AND($S$3=\"Tier 1 - Luminaire Level or Wireless Control\",$AP$3=\"Yes\",$AP$5=\"Yes\",$AP$6=\"Yes\"), Table1[[#This Row],[Fixture kWh Savings]]+Table1[[#This Row],[Total Controls kWh Savings]]+Table1[[#This Row],[Cooling kWh Savings]], IF(AND($S$3=\"Fixture Replacement Only - No Controls\",$AP$3=\"Yes\",Table1[[#This Row],[DLC/ES?]]<>\"No\"), (Table1[[#This Row],[Fixture kWh Savings]]+Table1[[#This Row],[Cooling kWh Savings]]+Table1[[#This Row],[Total Controls kWh Savings]]), \"-\"))),\"-\"))","v":"-"},{"$f":"IF(OR(Table1[[#This Row],[Application]]=0,Table1[[#This Row],[DLC/ES?]]=\"No\",AND($AP$4=\"No\",Table1[[#This Row],[TLED Type]]=\"A\")),0,IFERROR(IF(AND($S$3=\"Tier 2 - Network Controls\",$AP$3=\"Yes\",$AP$5=\"Yes\",$AP$6=\"Yes\"), Table1[[#This Row],[Fixture kWh Savings]]+Table1[[#This Row],[Cooling kWh Savings]], IF(AND($S$3=\"Tier 1 - Luminaire Level or Wireless Control\",$AP$3=\"Yes\",$AP$5=\"Yes\",$AP$6=\"Yes\"), Table1[[#This Row],[Fixture kWh Savings]]+Table1[[#This Row],[Cooling kWh Savings]], IF(AND($S$3=\"Fixture Replacement Only - No Controls\",$AP$3=\"Yes\",Table1[[#This Row],[DLC/ES?]]<>\"No\"), (Table1[[#This Row],[Fixture kWh Savings]]+Table1[[#This Row],[Cooling kWh Savings]]), \"-\"))),\"-\"))","v":"-"},{"$f":"IF(OR(Table1[[#This Row],[Application]]=0,Table1[[#This Row],[DLC/ES?]]=\"No\",AND($AP$4=\"No\",Table1[[#This Row],[TLED Type]]=\"A\")),0,IFERROR(IF(AND($S$3=\"Tier 2 - Network Controls\",$AP$3=\"Yes\",$AP$5=\"Yes\",$AP$6=\"Yes\"), Table1[[#This Row],[Total Controls kWh Savings]], IF(AND($S$3=\"Tier 1 - Luminaire Level or Wireless Control\",$AP$3=\"Yes\",$AP$5=\"Yes\",$AP$6=\"Yes\"), Table1[[#This Row],[Total Controls kWh Savings]], IF(AND($S$3=\"Fixture Replacement Only - No Controls\",$AP$3=\"Yes\",Table1[[#This Row],[DLC/ES?]]<>\"No\"), (Table1[[#This Row],[Total Controls kWh Savings]]), \"-\"))),\"-\"))","v":"-"}]
[null,{"$f":"ROW(Table1[[#This Row],[Existing Lamp/Ballast Description]])-14","v":25},null,null,null,null,null,{"$f":"IFERROR(VLOOKUP(Table1[[#This Row],[Operating Hours Group]],HoursTable,3,0),\"\")","v":""},null,null,null,null,{"$f":"IFERROR(INDEX(Lookup!$B$3:$B$1550,MATCH(Table1[[#This Row],[Existing Lamp/Ballast Description]],Lookup!$C$3:$C$1550,0)),\"\")","v":""},{"$f":"IFERROR(IF(Table1[[#This Row],[Existing Fixture Code]]=\"\",(VLOOKUP(Table1[[#This Row],[Existing Device Code]],Lookup!$B$2:$D$1550,3,FALSE)), (VLOOKUP(Table1[[#This Row],[Existing Fixture Code]],Lookup!$B$2:$D$1550,3,FALSE))),\"\")","v":""},{"$f":"IFERROR(Table1[[#This Row],[Ex. Qty]]*Table1[[#This Row],[Existing Wattage]]/1000,\"\")","v":""},{"$f":"IFERROR(Table1[[#This Row],[Annual Operating Hours]]*Table1[[#This Row],[Existing kW]],\"\")","v":""},null,null,{"$f":"IFERROR(INDEX(Table2[[Merged model ]],MATCH(Table1[[#This Row],[Proposed Fixture Description]],Table2[Fixture Description],0)),\"\")","v":""},{"$f":"IFERROR(_xlfn.SINGLE(INDEX(ROUND(Table2[DLC/\nENERGY STAR Wattage],1),MATCH(Table1[[#This Row],[Proposed Fixture Description]],Table2[Fixture Description],0))),\"\")","v":""},{"$f":"IFERROR(IF(Table1[[#This Row],[Proposed Fixture Description]]=\"\",Table1[[#This Row],[Existing kW]],Table1[[#This Row],[Prop. Qty]]*Table1[[#This Row],[Proposed Wattage]]/1000),\"\")","v":""},{"$f":"IFERROR(Table1[[#This Row],[Annual Operating Hours]]*Table1[[#This Row],[Proposed kW]],\"\")","v":""},null,null,null,{"$f":"IFERROR(_xlfn.IFS(Table1[[#This Row],[Proposed Control Strategy]]=\"Scheduled Dimming\",INDEX('2 - Hours and Schedules'!$AB$6:$AB$15,MATCH(Table1[[#This Row],[Operating Hours Group]],'2 - Hours and Schedules'!$AA$6:$AA$15,0)), Table1[[#This Row],[Proposed Control Strategy]]=\"Daylight\",'Controls Lookup'!$B$2,Table1[[#This Row],[Proposed Control Strategy]]=\"Occupancy Sensor\",'Controls Lookup'!$C$2*(1-Table1[[#This Row],[% Output, if not off\n(Only If Occupancy Sensor Selected)]]),Table1[[#This Row],[Proposed Control Strategy]]=\"None\",'Controls Lookup'!$E$2),\"\")","v":""},null,null,{"$f":"IFERROR(_xlfn.IFS(Table1[[#This Row],[Proposed Additional Control Strategy]]=\"Scheduled Dimming\",INDEX('2 - Hours and Schedules'!$AB$6:$AB$15,MATCH(Table1[[#This Row],[Operating Hours Group]],'2 - Hours and Schedules'!$AA$6:$AA$15,0)), Table1[[#This Row],[Proposed Additional Control Strategy]]=\"Daylight\",'Controls Lookup'!$B$2,Table1[[#This Row],[Proposed Additional Control Strategy]]=\"Occupancy Sensor\",'Controls Lookup'!$C$2*(1-Table1[[#This Row],[% Output, if not off\n (If Occupancy Sensor Selected)]]),Table1[[#This Row],[Proposed Additional Control Strategy]]=\"None\",'Controls Lookup'!$E$2),\"\")","v":""},{"$f":"SUM(IF(Table1[[#This Row],[Proposed High End Trim\n(% of Max Fixture Output)]]=\"\",0,(1-Table1[[#This Row],[Proposed High End Trim\n(% of Max Fixture Output)]])*(1-IF(Table1[[#This Row],[Percent Reduction from Control Strategies]]=\"\",0,Table1[[#This Row],[Percent Reduction from Control Strategies]])-IF(Table1[[#This Row],[Percent Reduction from Additional Controls Strategy]]=\"\",0,Table1[[#This Row],[Percent Reduction from Additional Controls Strategy]]))),IF(Table1[[#This Row],[Percent Reduction from Control Strategies]]=\"\",0,Table1[[#This Row],[Percent Reduction from Control Strategies]]),IF(Table1[[#This Row],[Percent Reduction from Additional Controls Strategy]]=\"\",0,Table1[[#This Row],[Percent Reduction from Additional Controls Strategy]]))","v":0},{"$f":"IFERROR(IF(Table1[[#This Row],[Existing kW]]=\"\",-Table1[[#This Row],[Proposed kW]],Table1[[#This Row],[Existing kW]]-Table1[[#This Row],[Proposed kW]]),\"\")","v":""},{"$f":"IF(AND(ISBLANK(Table1[[#This Row],[Manufacturer/Model Number]]),ISNUMBER(Table1[[#This Row],[Prop. Qty]])),\"Missing Req'd Info\",IFERROR(IF(VLOOKUP(Table1[[#This Row],[Operating Hours Group]],HoursTable,5,FALSE)=1,Table1[[#This Row],[Fixture kW Savings]],0),\"\"))","v":""},{"$f":"IF(AND(ISBLANK(Table1[[#This Row],[Manufacturer/Model Number]]),ISNUMBER(Table1[[#This Row],[Prop. Qty]])),\"Missing Req'd Info\",IFERROR(IF(VLOOKUP(Table1[[#This Row],[Operating Hours Group]],HoursTable,6,FALSE),Table1[[#This Row],[Fixture kW Savings]],0),\"\"))","v":""},{"$f":"IFERROR(Table1[[#This Row],[Fixture kW Savings]]*Table1[[#This Row],[Annual Operating Hours]],\"\")","v":""},{"$f":"IF(AND(ISBLANK(Table1[[#This Row],[Manufacturer/Model Number]]),ISNUMBER(Table1[[#This Row],[Prop. Qty]])),\"Missing Req'd Info\",IFERROR((Table1[[#This Row],[Total Controls Savings (%)]]*Table1[[#This Row],[Proposed kWh]]),0))","v":0},{"$f":"IFERROR(IF(OR(Table1[[#This Row],[DLC/ES?]]=\"No\",Table1[[#This Row],[Lighting Location: Conditioned Space (Cooled) or Unconditioned Space]]=\"Unconditioned Space\"),0,(Lookup!$G$12*Table1[[#This Row],[Fixture kW Savings]]*0.8/Lookup!$G$14)),0)","v":0},{"$f":"IF(AND(ISBLANK(Table1[[#This Row],[Manufacturer/Model Number]]),ISNUMBER(Table1[[#This Row],[Prop. Qty]])),\"Missing Req'd Info\",IFERROR(Table1[[#This Row],[Fixture kWh Savings]]+Table1[[#This Row],[Total Controls kWh Savings]]+Table1[[#This Row],[Cooling kWh Savings]],\"\"))","v":""},{"$f":"IF(AND(ISBLANK(Table1[[#This Row],[Manufacturer/Model Number]]),ISNUMBER(Table1[[#This Row],[Prop. Qty]])),\"Missing Req'd Info\",IFERROR(VLOOKUP(Table1[[#This Row],[Operating Hours Group]],HoursTable,4,0),\"\"))","v":""},{"$f":"IFERROR(INDEX((Table2[Application]),MATCH(Table1[[#This Row],[Proposed Fixture Description]],Table2[Fixture Description],0)),\"\")","v":""},{"$f":"IFERROR(INDEX((Table2[Equipment Type]),MATCH(Table1[[#This Row],[Proposed Fixture Description]],Table2[Fixture Description],0)),\"\")","v":""},{"$f":"IFERROR(INDEX((Table2[TLED Type]),MATCH(Table1[[#This Row],[Proposed Fixture Description]],Table2[Fixture Description],0)),\"\")","v":""},{"$f":"Table1[[#This Row],[Application]]&\"|\"&Table1[[#This Row],[Equipment Type]]","v":"|"},{"$f":"VLOOKUP(Table1[[#This Row],[Application & Equipment Type]],'EUL Calc'!$D$6:$F$17,3,0)","v":{"$error":"#N/A"}},{"$f":"VLOOKUP(Table1[[#This Row],[Application & Equipment Type]],'EUL Calc'!$D$6:$G$17,4,0)","v":{"$error":"#N/A"}},{"$f":"IFERROR(INDEX(Table2[DLC/ENERGY STAR Approved?],MATCH(Table1[[#This Row],[Proposed Fixture Description]],Table2[Fixture Description],0)),0)","v":0},{"$f":"IF(Table1[[#This Row],[Proposed High End Trim\n(% of Max Fixture Output)]]<>\"\", \"Yes\", \"No\")","v":"No"},{"$f":"IF(Table1[[#This Row],[Proposed Additional Control Strategy]]=\"\",Table1[[#This Row],[Proposed Control Strategy]],_xlfn.CONCAT(Table1[[#This Row],[Proposed Control Strategy]], \" & \",Table1[[#This Row],[Proposed Additional Control Strategy]]))","v":0},{"$f":"IFERROR(INDEX(Table2[Fixture Controlled?],MATCH(Table1[[#This Row],[Proposed Fixture Description]],Table2[Fixture Description],0)),\"\")","v":""},{"$f":"IFERROR((Table1[[#This Row],[Percent Reduction from Control Strategies]]+Table1[[#This Row],[Percent Reduction from Additional Controls Strategy]])*Table1[[#This Row],[Proposed kWh]], IFERROR(Table1[[#This Row],[Percent Reduction from Control Strategies]]*Table1[[#This Row],[Proposed kWh]],\"\"))","v":""},{"$f":"IFERROR(ABS(Table1[[#This Row],[Total Incentivized kWh Savings]]), \"N/A\")","v":"N/A"},{"$f":"IF(OR(Table1[[#This Row],[Application]]=0,Table1[[#This Row],[DLC/ES?]]=\"No\",AND($AP$4=\"No\",Table1[[#This Row],[TLED Type]]=\"A\")),0,IFERROR(IF(AND($S$3=\"Tier 2 - Network Controls\",$AP$3=\"Yes\",$AP$5=\"Yes\",$AP$6=\"Yes\"), Table1[[#This Row],[Fixture kWh Savings]]+Table1[[#This Row],[Total Controls kWh Savings]]+Table1[[#This Row],[Cooling kWh Savings]], IF(AND($S$3=\"Tier 1 - Luminaire Level or Wireless Control\",$AP$3=\"Yes\",$AP$5=\"Yes\",$AP$6=\"Yes\"), Table1[[#This Row],[Fixture kWh Savings]]+Table1[[#This Row],[Total Controls kWh Savings]]+Table1[[#This Row],[Cooling kWh Savings]], IF(AND($S$3=\"Fixture Replacement Only - No Controls\",$AP$3=\"Yes\",Table1[[#This Row],[DLC/ES?]]<>\"No\"), (Table1[[#This Row],[Fixture kWh Savings]]+Table1[[#This Row],[Cooling kWh Savings]]+Table1[[#This Row],[Total Controls kWh Savings]]), \"-\"))),\"-\"))","v":"-"},{"$f":"IF(OR(Table1[[#This Row],[Application]]=0,Table1[[#This Row],[DLC/ES?]]=\"No\",AND($AP$4=\"No\",Table1[[#This Row],[TLED Type]]=\"A\")),0,IFERROR(IF(AND($S$3=\"Tier 2 - Network Controls\",$AP$3=\"Yes\",$AP$5=\"Yes\",$AP$6=\"Yes\"), Table1[[#This Row],[Fixture kWh Savings]]+Table1[[#This Row],[Cooling kWh Savings]], IF(AND($S$3=\"Tier 1 - Luminaire Level or Wireless Control\",$AP$3=\"Yes\",$AP$5=\"Yes\",$AP$6=\"Yes\"), Table1[[#This Row],[Fixture kWh Savings]]+Table1[[#This Row],[Cooling kWh Savings]], IF(AND($S$3=\"Fixture Replacement Only - No Controls\",$AP$3=\"Yes\",Table1[[#This Row],[DLC/ES?]]<>\"No\"), (Table1[[#This Row],[Fixture kWh Savings]]+Table1[[#This Row],[Cooling kWh Savings]]), \"-\"))),\"-\"))","v":"-"},{"$f":"IF(OR(Table1[[#This Row],[Application]]=0,Table1[[#This Row],[DLC/ES?]]=\"No\",AND($AP$4=\"No\",Table1[[#This Row],[TLED Type]]=\"A\")),0,IFERROR(IF(AND($S$3=\"Tier 2 - Network Controls\",$AP$3=\"Yes\",$AP$5=\"Yes\",$AP$6=\"Yes\"), Table1[[#This Row],[Total Controls kWh Savings]], IF(AND($S$3=\"Tier 1 - Luminaire Level or Wireless Control\",$AP$3=\"Yes\",$AP$5=\"Yes\",$AP$6=\"Yes\"), Table1[[#This Row],[Total Controls kWh Savings]], IF(AND($S$3=\"Fixture Replacement Only - No Controls\",$AP$3=\"Yes\",Table1[[#This Row],[DLC/ES?]]<>\"No\"), (Table1[[#This Row],[Total Controls kWh Savings]]), \"-\"))),\"-\"))","v":"-"}]
[null,{"$f":"ROW(Table1[[#This Row],[Existing Lamp/Ballast Description]])-14","v":26},null,null,null,null,null,{"$f":"IFERROR(VLOOKUP(Table1[[#This Row],[Operating Hours Group]],HoursTable,3,0),\"\")","v":""},null,null,null,null,{"$f":"IFERROR(INDEX(Lookup!$B$3:$B$1550,MATCH(Table1[[#This Row],[Existing Lamp/Ballast Description]],Lookup!$C$3:$C$1550,0)),\"\")","v":""},{"$f":"IFERROR(IF(Table1[[#This Row],[Existing Fixture Code]]=\"\",(VLOOKUP(Table1[[#This Row],[Existing Device Code]],Lookup!$B$2:$D$1550,3,FALSE)), (VLOOKUP(Table1[[#This Row],[Existing Fixture Code]],Lookup!$B$2:$D$1550,3,FALSE))),\"\")","v":""},{"$f":"IFERROR(Table1[[#This Row],[Ex. Qty]]*Table1[[#This Row],[Existing Wattage]]/1000,\"\")","v":""},{"$f":"IFERROR(Table1[[#This Row],[Annual Operating Hours]]*Table1[[#This Row],[Existing kW]],\"\")","v":""},null,null,{"$f":"IFERROR(INDEX(Table2[[Merged model ]],MATCH(Table1[[#This Row],[Proposed Fixture Description]],Table2[Fixture Description],0)),\"\")","v":""},{"$f":"IFERROR(_xlfn.SINGLE(INDEX(ROUND(Table2[DLC/\nENERGY STAR Wattage],1),MATCH(Table1[[#This Row],[Proposed Fixture Description]],Table2[Fixture Description],0))),\"\")","v":""},{"$f":"IFERROR(IF(Table1[[#This Row],[Proposed Fixture Description]]=\"\",Table1[[#This Row],[Existing kW]],Table1[[#This Row],[Prop. Qty]]*Table1[[#This Row],[Proposed Wattage]]/1000),\"\")","v":""},{"$f":"IFERROR(Table1[[#This Row],[Annual Operating Hours]]*Table1[[#This Row],[Proposed kW]],\"\")","v":""},null,null,null,{"$f":"IFERROR(_xlfn.IFS(Table1[[#This Row],[Proposed Control Strategy]]=\"Scheduled Dimming\",INDEX('2 - Hours and Schedules'!$AB$6:$AB$15,MATCH(Table1[[#This Row],[Operating Hours Group]],'2 - Hours and Schedules'!$AA$6:$AA$15,0)), Table1[[#This Row],[Proposed Control Strategy]]=\"Daylight\",'Controls Lookup'!$B$2,Table1[[#This Row],[Proposed Control Strategy]]=\"Occupancy Sensor\",'Controls Lookup'!$C$2*(1-Table1[[#This Row],[% Output, if not off\n(Only If Occupancy Sensor Selected)]]),Table1[[#This Row],[Proposed Control Strategy]]=\"None\",'Controls Lookup'!$E$2),\"\")","v":""},null,null,{"$f":"IFERROR(_xlfn.IFS(Table1[[#This Row],[Proposed Additional Control Strategy]]=\"Scheduled Dimming\",INDEX('2 - Hours and Schedules'!$AB$6:$AB$15,MATCH(Table1[[#This Row],[Operating Hours Group]],'2 - Hours and Schedules'!$AA$6:$AA$15,0)), Table1[[#This Row],[Proposed Additional Control Strategy]]=\"Daylight\",'Controls Lookup'!$B$2,Table1[[#This Row],[Proposed Additional Control Strategy]]=\"Occupancy Sensor\",'Controls Lookup'!$C$2*(1-Table1[[#This Row],[% Output, if not off\n (If Occupancy Sensor Selected)]]),Table1[[#This Row],[Proposed Additional Control Strategy]]=\"None\",'Controls Lookup'!$E$2),\"\")","v":""},{"$f":"SUM(IF(Table1[[#This Row],[Proposed High End Trim\n(% of Max Fixture Output)]]=\"\",0,(1-Table1[[#This Row],[Proposed High End Trim\n(% of Max Fixture Output)]])*(1-IF(Table1[[#This Row],[Percent Reduction from Control Strategies]]=\"\",0,Table1[[#This Row],[Percent Reduction from Control Strategies]])-IF(Table1[[#This Row],[Percent Reduction from Additional Controls Strategy]]=\"\",0,Table1[[#This Row],[Percent Reduction from Additional Controls Strategy]]))),IF(Table1[[#This Row],[Percent Reduction from Control Strategies]]=\"\",0,Table1[[#This Row],[Percent Reduction from Control Strategies]]),IF(Table1[[#This Row],[Percent Reduction from Additional Controls Strategy]]=\"\",0,Table1[[#This Row],[Percent Reduction from Additional Controls Strategy]]))","v":0},{"$f":"IFERROR(IF(Table1[[#This Row],[Existing kW]]=\"\",-Table1[[#This Row],[Proposed kW]],Table1[[#This Row],[Existing kW]]-Table1[[#This Row],[Proposed kW]]),\"\")","v":""},{"$f":"IF(AND(ISBLANK(Table1[[#This Row],[Manufacturer/Model Number]]),ISNUMBER(Table1[[#This Row],[Prop. Qty]])),\"Missing Req'd Info\",IFERROR(IF(VLOOKUP(Table1[[#This Row],[Operating Hours Group]],HoursTable,5,FALSE)=1,Table1[[#This Row],[Fixture kW Savings]],0),\"\"))","v":""},{"$f":"IF(AND(ISBLANK(Table1[[#This Row],[Manufacturer/Model Number]]),ISNUMBER(Table1[[#This Row],[Prop. Qty]])),\"Missing Req'd Info\",IFERROR(IF(VLOOKUP(Table1[[#This Row],[Operating Hours Group]],HoursTable,6,FALSE),Table1[[#This Row],[Fixture kW Savings]],0),\"\"))","v":""},{"$f":"IFERROR(Table1[[#This Row],[Fixture kW Savings]]*Table1[[#This Row],[Annual Operating Hours]],\"\")","v":""},{"$f":"IF(AND(ISBLANK(Table1[[#This Row],[Manufacturer/Model Number]]),ISNUMBER(Table1[[#This Row],[Prop. Qty]])),\"Missing Req'd Info\",IFERROR((Table1[[#This Row],[Total Controls Savings (%)]]*Table1[[#This Row],[Proposed kWh]]),0))","v":0},{"$f":"IFERROR(IF(OR(Table1[[#This Row],[DLC/ES?]]=\"No\",Table1[[#This Row],[Lighting Location: Conditioned Space (Cooled) or Unconditioned Space]]=\"Unconditioned Space\"),0,(Lookup!$G$12*Table1[[#This Row],[Fixture kW Savings]]*0.8/Lookup!$G$14)),0)","v":0},{"$f":"IF(AND(ISBLANK(Table1[[#This Row],[Manufacturer/Model Number]]),ISNUMBER(Table1[[#This Row],[Prop. Qty]])),\"Missing Req'd Info\",IFERROR(Table1[[#This Row],[Fixture kWh Savings]]+Table1[[#This Row],[Total Controls kWh Savings]]+Table1[[#This Row],[Cooling kWh Savings]],\"\"))","v":""},{"$f":"IF(AND(ISBLANK(Table1[[#This Row],[Manufacturer/Model Number]]),ISNUMBER(Table1[[#This Row],[Prop. Qty]])),\"Missing Req'd Info\",IFERROR(VLOOKUP(Table1[[#This Row],[Operating Hours Group]],HoursTable,4,0),\"\"))","v":""},{"$f":"IFERROR(INDEX((Table2[Application]),MATCH(Table1[[#This Row],[Proposed Fixture Description]],Table2[Fixture Description],0)),\"\")","v":""},{"$f":"IFERROR(INDEX((Table2[Equipment Type]),MATCH(Table1[[#This Row],[Proposed Fixture Description]],Table2[Fixture Description],0)),\"\")","v":""},{"$f":"IFERROR(INDEX((Table2[TLED Type]),MATCH(Table1[[#This Row],[Proposed Fixture Description]],Table2[Fixture Description],0)),\"\")","v":""},{"$f":"Table1[[#This Row],[Application]]&\"|\"&Table1[[#This Row],[Equipment Type]]","v":"|"},{"$f":"VLOOKUP(Table1[[#This Row],[Application & Equipment Type]],'EUL Calc'!$D$6:$F$17,3,0)","v":{"$error":"#N/A"}},{"$f":"VLOOKUP(Table1[[#This Row],[Application & Equipment Type]],'EUL Calc'!$D$6:$G$17,4,0)","v":{"$error":"#N/A"}},{"$f":"IFERROR(INDEX(Table2[DLC/ENERGY STAR Approved?],MATCH(Table1[[#This Row],[Proposed Fixture Description]],Table2[Fixture Description],0)),0)","v":0},{"$f":"IF(Table1[[#This Row],[Proposed High End Trim\n(% of Max Fixture Output)]]<>\"\", \"Yes\", \"No\")","v":"No"},{"$f":"IF(Table1[[#This Row],[Proposed Additional Control Strategy]]=\"\",Table1[[#This Row],[Proposed Control Strategy]],_xlfn.CONCAT(Table1[[#This Row],[Proposed Control Strategy]], \" & \",Table1[[#This Row],[Proposed Additional Control Strategy]]))","v":0},{"$f":"IFERROR(INDEX(Table2[Fixture Controlled?],MATCH(Table1[[#This Row],[Proposed Fixture Description]],Table2[Fixture Description],0)),\"\")","v":""},{"$f":"IFERROR((Table1[[#This Row],[Percent Reduction from Control Strategies]]+Table1[[#This Row],[Percent Reduction from Additional Controls Strategy]])*Table1[[#This Row],[Proposed kWh]], IFERROR(Table1[[#This Row],[Percent Reduction from Control Strategies]]*Table1[[#This Row],[Proposed kWh]],\"\"))","v":""},{"$f":"IFERROR(ABS(Table1[[#This Row],[Total Incentivized kWh Savings]]), \"N/A\")","v":"N/A"},{"$f":"IF(OR(Table1[[#This Row],[Application]]=0,Table1[[#This Row],[DLC/ES?]]=\"No\",AND($AP$4=\"No\",Table1[[#This Row],[TLED Type]]=\"A\")),0,IFERROR(IF(AND($S$3=\"Tier 2 - Network Controls\",$AP$3=\"Yes\",$AP$5=\"Yes\",$AP$6=\"Yes\"), Table1[[#This Row],[Fixture kWh Savings]]+Table1[[#This Row],[Total Controls kWh Savings]]+Table1[[#This Row],[Cooling kWh Savings]], IF(AND($S$3=\"Tier 1 - Luminaire Level or Wireless Control\",$AP$3=\"Yes\",$AP$5=\"Yes\",$AP$6=\"Yes\"), Table1[[#This Row],[Fixture kWh Savings]]+Table1[[#This Row],[Total Controls kWh Savings]]+Table1[[#This Row],[Cooling kWh Savings]], IF(AND($S$3=\"Fixture Replacement Only - No Controls\",$AP$3=\"Yes\",Table1[[#This Row],[DLC/ES?]]<>\"No\"), (Table1[[#This Row],[Fixture kWh Savings]]+Table1[[#This Row],[Cooling kWh Savings]]+Table1[[#This Row],[Total Controls kWh Savings]]), \"-\"))),\"-\"))","v":"-"},{"$f":"IF(OR(Table1[[#This Row],[Application]]=0,Table1[[#This Row],[DLC/ES?]]=\"No\",AND($AP$4=\"No\",Table1[[#This Row],[TLED Type]]=\"A\")),0,IFERROR(IF(AND($S$3=\"Tier 2 - Network Controls\",$AP$3=\"Yes\",$AP$5=\"Yes\",$AP$6=\"Yes\"), Table1[[#This Row],[Fixture kWh Savings]]+Table1[[#This Row],[Cooling kWh Savings]], IF(AND($S$3=\"Tier 1 - Luminaire Level or Wireless Control\",$AP$3=\"Yes\",$AP$5=\"Yes\",$AP$6=\"Yes\"), Table1[[#This Row],[Fixture kWh Savings]]+Table1[[#This Row],[Cooling kWh Savings]], IF(AND($S$3=\"Fixture Replacement Only - No Controls\",$AP$3=\"Yes\",Table1[[#This Row],[DLC/ES?]]<>\"No\"), (Table1[[#This Row],[Fixture kWh Savings]]+Table1[[#This Row],[Cooling kWh Savings]]), \"-\"))),\"-\"))","v":"-"},{"$f":"IF(OR(Table1[[#This Row],[Application]]=0,Table1[[#This Row],[DLC/ES?]]=\"No\",AND($AP$4=\"No\",Table1[[#This Row],[TLED Type]]=\"A\")),0,IFERROR(IF(AND($S$3=\"Tier 2 - Network Controls\",$AP$3=\"Yes\",$AP$5=\"Yes\",$AP$6=\"Yes\"), Table1[[#This Row],[Total Controls kWh Savings]], IF(AND($S$3=\"Tier 1 - Luminaire Level or Wireless Control\",$AP$3=\"Yes\",$AP$5=\"Yes\",$AP$6=\"Yes\"), Table1[[#This Row],[Total Controls kWh Savings]], IF(AND($S$3=\"Fixture Replacement Only - No Controls\",$AP$3=\"Yes\",Table1[[#This Row],[DLC/ES?]]<>\"No\"), (Table1[[#This Row],[Total Controls kWh Savings]]), \"-\"))),\"-\"))","v":"-"}]
[null,{"$f":"ROW(Table1[[#This Row],[Existing Lamp/Ballast Description]])-14","v":27},null,null,null,null,null,{"$f":"IFERROR(VLOOKUP(Table1[[#This Row],[Operating Hours Group]],HoursTable,3,0),\"\")","v":""},null,null,null,null,{"$f":"IFERROR(INDEX(Lookup!$B$3:$B$1550,MATCH(Table1[[#This Row],[Existing Lamp/Ballast Description]],Lookup!$C$3:$C$1550,0)),\"\")","v":""},{"$f":"IFERROR(IF(Table1[[#This Row],[Existing Fixture Code]]=\"\",(VLOOKUP(Table1[[#This Row],[Existing Device Code]],Lookup!$B$2:$D$1550,3,FALSE)), (VLOOKUP(Table1[[#This Row],[Existing Fixture Code]],Lookup!$B$2:$D$1550,3,FALSE))),\"\")","v":""},{"$f":"IFERROR(Table1[[#This Row],[Ex. Qty]]*Table1[[#This Row],[Existing Wattage]]/1000,\"\")","v":""},{"$f":"IFERROR(Table1[[#This Row],[Annual Operating Hours]]*Table1[[#This Row],[Existing kW]],\"\")","v":""},null,null,{"$f":"IFERROR(INDEX(Table2[[Merged model ]],MATCH(Table1[[#This Row],[Proposed Fixture Description]],Table2[Fixture Description],0)),\"\")","v":""},{"$f":"IFERROR(_xlfn.SINGLE(INDEX(ROUND(Table2[DLC/\nENERGY STAR Wattage],1),MATCH(Table1[[#This Row],[Proposed Fixture Description]],Table2[Fixture Description],0))),\"\")","v":""},{"$f":"IFERROR(IF(Table1[[#This Row],[Proposed Fixture Description]]=\"\",Table1[[#This Row],[Existing kW]],Table1[[#This Row],[Prop. Qty]]*Table1[[#This Row],[Proposed Wattage]]/1000),\"\")","v":""},{"$f":"IFERROR(Table1[[#This Row],[Annual Operating Hours]]*Table1[[#This Row],[Proposed kW]],\"\")","v":""},null,null,null,{"$f":"IFERROR(_xlfn.IFS(Table1[[#This Row],[Proposed Control Strategy]]=\"Scheduled Dimming\",INDEX('2 - Hours and Schedules'!$AB$6:$AB$15,MATCH(Table1[[#This Row],[Operating Hours Group]],'2 - Hours and Schedules'!$AA$6:$AA$15,0)), Table1[[#This Row],[Proposed Control Strategy]]=\"Daylight\",'Controls Lookup'!$B$2,Table1[[#This Row],[Proposed Control Strategy]]=\"Occupancy Sensor\",'Controls Lookup'!$C$2*(1-Table1[[#This Row],[% Output, if not off\n(Only If Occupancy Sensor Selected)]]),Table1[[#This Row],[Proposed Control Strategy]]=\"None\",'Controls Lookup'!$E$2),\"\")","v":""},null,null,{"$f":"IFERROR(_xlfn.IFS(Table1[[#This Row],[Proposed Additional Control Strategy]]=\"Scheduled Dimming\",INDEX('2 - Hours and Schedules'!$AB$6:$AB$15,MATCH(Table1[[#This Row],[Operating Hours Group]],'2 - Hours and Schedules'!$AA$6:$AA$15,0)), Table1[[#This Row],[Proposed Additional Control Strategy]]=\"Daylight\",'Controls Lookup'!$B$2,Table1[[#This Row],[Proposed Additional Control Strategy]]=\"Occupancy Sensor\",'Controls Lookup'!$C$2*(1-Table1[[#This Row],[% Output, if not off\n (If Occupancy Sensor Selected)]]),Table1[[#This Row],[Proposed Additional Control Strategy]]=\"None\",'Controls Lookup'!$E$2),\"\")","v":""},{"$f":"SUM(IF(Table1[[#This Row],[Proposed High End Trim\n(% of Max Fixture Output)]]=\"\",0,(1-Table1[[#This Row],[Proposed High End Trim\n(% of Max Fixture Output)]])*(1-IF(Table1[[#This Row],[Percent Reduction from Control Strategies]]=\"\",0,Table1[[#This Row],[Percent Reduction from Control Strategies]])-IF(Table1[[#This Row],[Percent Reduction from Additional Controls Strategy]]=\"\",0,Table1[[#This Row],[Percent Reduction from Additional Controls Strategy]]))),IF(Table1[[#This Row],[Percent Reduction from Control Strategies]]=\"\",0,Table1[[#This Row],[Percent Reduction from Control Strategies]]),IF(Table1[[#This Row],[Percent Reduction from Additional Controls Strategy]]=\"\",0,Table1[[#This Row],[Percent Reduction from Additional Controls Strategy]]))","v":0},{"$f":"IFERROR(IF(Table1[[#This Row],[Existing kW]]=\"\",-Table1[[#This Row],[Proposed kW]],Table1[[#This Row],[Existing kW]]-Table1[[#This Row],[Proposed kW]]),\"\")","v":""},{"$f":"IF(AND(ISBLANK(Table1[[#This Row],[Manufacturer/Model Number]]),ISNUMBER(Table1[[#This Row],[Prop. Qty]])),\"Missing Req'd Info\",IFERROR(IF(VLOOKUP(Table1[[#This Row],[Operating Hours Group]],HoursTable,5,FALSE)=1,Table1[[#This Row],[Fixture kW Savings]],0),\"\"))","v":""},{"$f":"IF(AND(ISBLANK(Table1[[#This Row],[Manufacturer/Model Number]]),ISNUMBER(Table1[[#This Row],[Prop. Qty]])),\"Missing Req'd Info\",IFERROR(IF(VLOOKUP(Table1[[#This Row],[Operating Hours Group]],HoursTable,6,FALSE),Table1[[#This Row],[Fixture kW Savings]],0),\"\"))","v":""},{"$f":"IFERROR(Table1[[#This Row],[Fixture kW Savings]]*Table1[[#This Row],[Annual Operating Hours]],\"\")","v":""},{"$f":"IF(AND(ISBLANK(Table1[[#This Row],[Manufacturer/Model Number]]),ISNUMBER(Table1[[#This Row],[Prop. Qty]])),\"Missing Req'd Info\",IFERROR((Table1[[#This Row],[Total Controls Savings (%)]]*Table1[[#This Row],[Proposed kWh]]),0))","v":0},{"$f":"IFERROR(IF(OR(Table1[[#This Row],[DLC/ES?]]=\"No\",Table1[[#This Row],[Lighting Location: Conditioned Space (Cooled) or Unconditioned Space]]=\"Unconditioned Space\"),0,(Lookup!$G$12*Table1[[#This Row],[Fixture kW Savings]]*0.8/Lookup!$G$14)),0)","v":0},{"$f":"IF(AND(ISBLANK(Table1[[#This Row],[Manufacturer/Model Number]]),ISNUMBER(Table1[[#This Row],[Prop. Qty]])),\"Missing Req'd Info\",IFERROR(Table1[[#This Row],[Fixture kWh Savings]]+Table1[[#This Row],[Total Controls kWh Savings]]+Table1[[#This Row],[Cooling kWh Savings]],\"\"))","v":""},{"$f":"IF(AND(ISBLANK(Table1[[#This Row],[Manufacturer/Model Number]]),ISNUMBER(Table1[[#This Row],[Prop. Qty]])),\"Missing Req'd Info\",IFERROR(VLOOKUP(Table1[[#This Row],[Operating Hours Group]],HoursTable,4,0),\"\"))","v":""},{"$f":"IFERROR(INDEX((Table2[Application]),MATCH(Table1[[#This Row],[Proposed Fixture Description]],Table2[Fixture Description],0)),\"\")","v":""},{"$f":"IFERROR(INDEX((Table2[Equipment Type]),MATCH(Table1[[#This Row],[Proposed Fixture Description]],Table2[Fixture Description],0)),\"\")","v":""},{"$f":"IFERROR(INDEX((Table2[TLED Type]),MATCH(Table1[[#This Row],[Proposed Fixture Description]],Table2[Fixture Description],0)),\"\")","v":""},{"$f":"Table1[[#This Row],[Application]]&\"|\"&Table1[[#This Row],[Equipment Type]]","v":"|"},{"$f":"VLOOKUP(Table1[[#This Row],[Application & Equipment Type]],'EUL Calc'!$D$6:$F$17,3,0)","v":{"$error":"#N/A"}},{"$f":"VLOOKUP(Table1[[#This Row],[Application & Equipment Type]],'EUL Calc'!$D$6:$G$17,4,0)","v":{"$error":"#N/A"}},{"$f":"IFERROR(INDEX(Table2[DLC/ENERGY STAR Approved?],MATCH(Table1[[#This Row],[Proposed Fixture Description]],Table2[Fixture Description],0)),0)","v":0},{"$f":"IF(Table1[[#This Row],[Proposed High End Trim\n(% of Max Fixture Output)]]<>\"\", \"Yes\", \"No\")","v":"No"},{"$f":"IF(Table1[[#This Row],[Proposed Additional Control Strategy]]=\"\",Table1[[#This Row],[Proposed Control Strategy]],_xlfn.CONCAT(Table1[[#This Row],[Proposed Control Strategy]], \" & \",Table1[[#This Row],[Proposed Additional Control Strategy]]))","v":0},{"$f":"IFERROR(INDEX(Table2[Fixture Controlled?],MATCH(Table1[[#This Row],[Proposed Fixture Description]],Table2[Fixture Description],0)),\"\")","v":""},{"$f":"IFERROR((Table1[[#This Row],[Percent Reduction from Control Strategies]]+Table1[[#This Row],[Percent Reduction from Additional Controls Strategy]])*Table1[[#This Row],[Proposed kWh]], IFERROR(Table1[[#This Row],[Percent Reduction from Control Strategies]]*Table1[[#This Row],[Proposed kWh]],\"\"))","v":""},{"$f":"IFERROR(ABS(Table1[[#This Row],[Total Incentivized kWh Savings]]), \"N/A\")","v":"N/A"},{"$f":"IF(OR(Table1[[#This Row],[Application]]=0,Table1[[#This Row],[DLC/ES?]]=\"No\",AND($AP$4=\"No\",Table1[[#This Row],[TLED Type]]=\"A\")),0,IFERROR(IF(AND($S$3=\"Tier 2 - Network Controls\",$AP$3=\"Yes\",$AP$5=\"Yes\",$AP$6=\"Yes\"), Table1[[#This Row],[Fixture kWh Savings]]+Table1[[#This Row],[Total Controls kWh Savings]]+Table1[[#This Row],[Cooling kWh Savings]], IF(AND($S$3=\"Tier 1 - Luminaire Level or Wireless Control\",$AP$3=\"Yes\",$AP$5=\"Yes\",$AP$6=\"Yes\"), Table1[[#This Row],[Fixture kWh Savings]]+Table1[[#This Row],[Total Controls kWh Savings]]+Table1[[#This Row],[Cooling kWh Savings]], IF(AND($S$3=\"Fixture Replacement Only - No Controls\",$AP$3=\"Yes\",Table1[[#This Row],[DLC/ES?]]<>\"No\"), (Table1[[#This Row],[Fixture kWh Savings]]+Table1[[#This Row],[Cooling kWh Savings]]+Table1[[#This Row],[Total Controls kWh Savings]]), \"-\"))),\"-\"))","v":"-"},{"$f":"IF(OR(Table1[[#This Row],[Application]]=0,Table1[[#This Row],[DLC/ES?]]=\"No\",AND($AP$4=\"No\",Table1[[#This Row],[TLED Type]]=\"A\")),0,IFERROR(IF(AND($S$3=\"Tier 2 - Network Controls\",$AP$3=\"Yes\",$AP$5=\"Yes\",$AP$6=\"Yes\"), Table1[[#This Row],[Fixture kWh Savings]]+Table1[[#This Row],[Cooling kWh Savings]], IF(AND($S$3=\"Tier 1 - Luminaire Level or Wireless Control\",$AP$3=\"Yes\",$AP$5=\"Yes\",$AP$6=\"Yes\"), Table1[[#This Row],[Fixture kWh Savings]]+Table1[[#This Row],[Cooling kWh Savings]], IF(AND($S$3=\"Fixture Replacement Only - No Controls\",$AP$3=\"Yes\",Table1[[#This Row],[DLC/ES?]]<>\"No\"), (Table1[[#This Row],[Fixture kWh Savings]]+Table1[[#This Row],[Cooling kWh Savings]]), \"-\"))),\"-\"))","v":"-"},{"$f":"IF(OR(Table1[[#This Row],[Application]]=0,Table1[[#This Row],[DLC/ES?]]=\"No\",AND($AP$4=\"No\",Table1[[#This Row],[TLED Type]]=\"A\")),0,IFERROR(IF(AND($S$3=\"Tier 2 - Network Controls\",$AP$3=\"Yes\",$AP$5=\"Yes\",$AP$6=\"Yes\"), Table1[[#This Row],[Total Controls kWh Savings]], IF(AND($S$3=\"Tier 1 - Luminaire Level or Wireless Control\",$AP$3=\"Yes\",$AP$5=\"Yes\",$AP$6=\"Yes\"), Table1[[#This Row],[Total Controls kWh Savings]], IF(AND($S$3=\"Fixture Replacement Only - No Controls\",$AP$3=\"Yes\",Table1[[#This Row],[DLC/ES?]]<>\"No\"), (Table1[[#This Row],[Total Controls kWh Savings]]), \"-\"))),\"-\"))","v":"-"}]
[null,{"$f":"ROW(Table1[[#This Row],[Existing Lamp/Ballast Description]])-14","v":28},null,null,null,null,null,{"$f":"IFERROR(VLOOKUP(Table1[[#This Row],[Operating Hours Group]],HoursTable,3,0),\"\")","v":""},null,null,null,null,{"$f":"IFERROR(INDEX(Lookup!$B$3:$B$1550,MATCH(Table1[[#This Row],[Existing Lamp/Ballast Description]],Lookup!$C$3:$C$1550,0)),\"\")","v":""},{"$f":"IFERROR(IF(Table1[[#This Row],[Existing Fixture Code]]=\"\",(VLOOKUP(Table1[[#This Row],[Existing Device Code]],Lookup!$B$2:$D$1550,3,FALSE)), (VLOOKUP(Table1[[#This Row],[Existing Fixture Code]],Lookup!$B$2:$D$1550,3,FALSE))),\"\")","v":""},{"$f":"IFERROR(Table1[[#This Row],[Ex. Qty]]*Table1[[#This Row],[Existing Wattage]]/1000,\"\")","v":""},{"$f":"IFERROR(Table1[[#This Row],[Annual Operating Hours]]*Table1[[#This Row],[Existing kW]],\"\")","v":""},null,null,{"$f":"IFERROR(INDEX(Table2[[Merged model ]],MATCH(Table1[[#This Row],[Proposed Fixture Description]],Table2[Fixture Description],0)),\"\")","v":""},{"$f":"IFERROR(_xlfn.SINGLE(INDEX(ROUND(Table2[DLC/\nENERGY STAR Wattage],1),MATCH(Table1[[#This Row],[Proposed Fixture Description]],Table2[Fixture Description],0))),\"\")","v":""},{"$f":"IFERROR(IF(Table1[[#This Row],[Proposed Fixture Description]]=\"\",Table1[[#This Row],[Existing kW]],Table1[[#This Row],[Prop. Qty]]*Table1[[#This Row],[Proposed Wattage]]/1000),\"\")","v":""},{"$f":"IFERROR(Table1[[#This Row],[Annual Operating Hours]]*Table1[[#This Row],[Proposed kW]],\"\")","v":""},null,null,null,{"$f":"IFERROR(_xlfn.IFS(Table1[[#This Row],[Proposed Control Strategy]]=\"Scheduled Dimming\",INDEX('2 - Hours and Schedules'!$AB$6:$AB$15,MATCH(Table1[[#This Row],[Operating Hours Group]],'2 - Hours and Schedules'!$AA$6:$AA$15,0)), Table1[[#This Row],[Proposed Control Strategy]]=\"Daylight\",'Controls Lookup'!$B$2,Table1[[#This Row],[Proposed Control Strategy]]=\"Occupancy Sensor\",'Controls Lookup'!$C$2*(1-Table1[[#This Row],[% Output, if not off\n(Only If Occupancy Sensor Selected)]]),Table1[[#This Row],[Proposed Control Strategy]]=\"None\",'Controls Lookup'!$E$2),\"\")","v":""},null,null,{"$f":"IFERROR(_xlfn.IFS(Table1[[#This Row],[Proposed Additional Control Strategy]]=\"Scheduled Dimming\",INDEX('2 - Hours and Schedules'!$AB$6:$AB$15,MATCH(Table1[[#This Row],[Operating Hours Group]],'2 - Hours and Schedules'!$AA$6:$AA$15,0)), Table1[[#This Row],[Proposed Additional Control Strategy]]=\"Daylight\",'Controls Lookup'!$B$2,Table1[[#This Row],[Proposed Additional Control Strategy]]=\"Occupancy Sensor\",'Controls Lookup'!$C$2*(1-Table1[[#This Row],[% Output, if not off\n (If Occupancy Sensor Selected)]]),Table1[[#This Row],[Proposed Additional Control Strategy]]=\"None\",'Controls Lookup'!$E$2),\"\")","v":""},{"$f":"SUM(IF(Table1[[#This Row],[Proposed High End Trim\n(% of Max Fixture Output)]]=\"\",0,(1-Table1[[#This Row],[Proposed High End Trim\n(% of Max Fixture Output)]])*(1-IF(Table1[[#This Row],[Percent Reduction from Control Strategies]]=\"\",0,Table1[[#This Row],[Percent Reduction from Control Strategies]])-IF(Table1[[#This Row],[Percent Reduction from Additional Controls Strategy]]=\"\",0,Table1[[#This Row],[Percent Reduction from Additional Controls Strategy]]))),IF(Table1[[#This Row],[Percent Reduction from Control Strategies]]=\"\",0,Table1[[#This Row],[Percent Reduction from Control Strategies]]),IF(Table1[[#This Row],[Percent Reduction from Additional Controls Strategy]]=\"\",0,Table1[[#This Row],[Percent Reduction from Additional Controls Strategy]]))","v":0},{"$f":"IFERROR(IF(Table1[[#This Row],[Existing kW]]=\"\",-Table1[[#This Row],[Proposed kW]],Table1[[#This Row],[Existing kW]]-Table1[[#This Row],[Proposed kW]]),\"\")","v":""},{"$f":"IF(AND(ISBLANK(Table1[[#This Row],[Manufacturer/Model Number]]),ISNUMBER(Table1[[#This Row],[Prop. Qty]])),\"Missing Req'd Info\",IFERROR(IF(VLOOKUP(Table1[[#This Row],[Operating Hours Group]],HoursTable,5,FALSE)=1,Table1[[#This Row],[Fixture kW Savings]],0),\"\"))","v":""},{"$f":"IF(AND(ISBLANK(Table1[[#This Row],[Manufacturer/Model Number]]),ISNUMBER(Table1[[#This Row],[Prop. Qty]])),\"Missing Req'd Info\",IFERROR(IF(VLOOKUP(Table1[[#This Row],[Operating Hours Group]],HoursTable,6,FALSE),Table1[[#This Row],[Fixture kW Savings]],0),\"\"))","v":""},{"$f":"IFERROR(Table1[[#This Row],[Fixture kW Savings]]*Table1[[#This Row],[Annual Operating Hours]],\"\")","v":""},{"$f":"IF(AND(ISBLANK(Table1[[#This Row],[Manufacturer/Model Number]]),ISNUMBER(Table1[[#This Row],[Prop. Qty]])),\"Missing Req'd Info\",IFERROR((Table1[[#This Row],[Total Controls Savings (%)]]*Table1[[#This Row],[Proposed kWh]]),0))","v":0},{"$f":"IFERROR(IF(OR(Table1[[#This Row],[DLC/ES?]]=\"No\",Table1[[#This Row],[Lighting Location: Conditioned Space (Cooled) or Unconditioned Space]]=\"Unconditioned Space\"),0,(Lookup!$G$12*Table1[[#This Row],[Fixture kW Savings]]*0.8/Lookup!$G$14)),0)","v":0},{"$f":"IF(AND(ISBLANK(Table1[[#This Row],[Manufacturer/Model Number]]),ISNUMBER(Table1[[#This Row],[Prop. Qty]])),\"Missing Req'd Info\",IFERROR(Table1[[#This Row],[Fixture kWh Savings]]+Table1[[#This Row],[Total Controls kWh Savings]]+Table1[[#This Row],[Cooling kWh Savings]],\"\"))","v":""},{"$f":"IF(AND(ISBLANK(Table1[[#This Row],[Manufacturer/Model Number]]),ISNUMBER(Table1[[#This Row],[Prop. Qty]])),\"Missing Req'd Info\",IFERROR(VLOOKUP(Table1[[#This Row],[Operating Hours Group]],HoursTable,4,0),\"\"))","v":""},{"$f":"IFERROR(INDEX((Table2[Application]),MATCH(Table1[[#This Row],[Proposed Fixture Description]],Table2[Fixture Description],0)),\"\")","v":""},{"$f":"IFERROR(INDEX((Table2[Equipment Type]),MATCH(Table1[[#This Row],[Proposed Fixture Description]],Table2[Fixture Description],0)),\"\")","v":""},{"$f":"IFERROR(INDEX((Table2[TLED Type]),MATCH(Table1[[#This Row],[Proposed Fixture Description]],Table2[Fixture Description],0)),\"\")","v":""},{"$f":"Table1[[#This Row],[Application]]&\"|\"&Table1[[#This Row],[Equipment Type]]","v":"|"},{"$f":"VLOOKUP(Table1[[#This Row],[Application & Equipment Type]],'EUL Calc'!$D$6:$F$17,3,0)","v":{"$error":"#N/A"}},{"$f":"VLOOKUP(Table1[[#This Row],[Application & Equipment Type]],'EUL Calc'!$D$6:$G$17,4,0)","v":{"$error":"#N/A"}},{"$f":"IFERROR(INDEX(Table2[DLC/ENERGY STAR Approved?],MATCH(Table1[[#This Row],[Proposed Fixture Description]],Table2[Fixture Description],0)),0)","v":0},{"$f":"IF(Table1[[#This Row],[Proposed High End Trim\n(% of Max Fixture Output)]]<>\"\", \"Yes\", \"No\")","v":"No"},{"$f":"IF(Table1[[#This Row],[Proposed Additional Control Strategy]]=\"\",Table1[[#This Row],[Proposed Control Strategy]],_xlfn.CONCAT(Table1[[#This Row],[Proposed Control Strategy]], \" & \",Table1[[#This Row],[Proposed Additional Control Strategy]]))","v":0},{"$f":"IFERROR(INDEX(Table2[Fixture Controlled?],MATCH(Table1[[#This Row],[Proposed Fixture Description]],Table2[Fixture Description],0)),\"\")","v":""},{"$f":"IFERROR((Table1[[#This Row],[Percent Reduction from Control Strategies]]+Table1[[#This Row],[Percent Reduction from Additional Controls Strategy]])*Table1[[#This Row],[Proposed kWh]], IFERROR(Table1[[#This Row],[Percent Reduction from Control Strategies]]*Table1[[#This Row],[Proposed kWh]],\"\"))","v":""},{"$f":"IFERROR(ABS(Table1[[#This Row],[Total Incentivized kWh Savings]]), \"N/A\")","v":"N/A"},{"$f":"IF(OR(Table1[[#This Row],[Application]]=0,Table1[[#This Row],[DLC/ES?]]=\"No\",AND($AP$4=\"No\",Table1[[#This Row],[TLED Type]]=\"A\")),0,IFERROR(IF(AND($S$3=\"Tier 2 - Network Controls\",$AP$3=\"Yes\",$AP$5=\"Yes\",$AP$6=\"Yes\"), Table1[[#This Row],[Fixture kWh Savings]]+Table1[[#This Row],[Total Controls kWh Savings]]+Table1[[#This Row],[Cooling kWh Savings]], IF(AND($S$3=\"Tier 1 - Luminaire Level or Wireless Control\",$AP$3=\"Yes\",$AP$5=\"Yes\",$AP$6=\"Yes\"), Table1[[#This Row],[Fixture kWh Savings]]+Table1[[#This Row],[Total Controls kWh Savings]]+Table1[[#This Row],[Cooling kWh Savings]], IF(AND($S$3=\"Fixture Replacement Only - No Controls\",$AP$3=\"Yes\",Table1[[#This Row],[DLC/ES?]]<>\"No\"), (Table1[[#This Row],[Fixture kWh Savings]]+Table1[[#This Row],[Cooling kWh Savings]]+Table1[[#This Row],[Total Controls kWh Savings]]), \"-\"))),\"-\"))","v":"-"},{"$f":"IF(OR(Table1[[#This Row],[Application]]=0,Table1[[#This Row],[DLC/ES?]]=\"No\",AND($AP$4=\"No\",Table1[[#This Row],[TLED Type]]=\"A\")),0,IFERROR(IF(AND($S$3=\"Tier 2 - Network Controls\",$AP$3=\"Yes\",$AP$5=\"Yes\",$AP$6=\"Yes\"), Table1[[#This Row],[Fixture kWh Savings]]+Table1[[#This Row],[Cooling kWh Savings]], IF(AND($S$3=\"Tier 1 - Luminaire Level or Wireless Control\",$AP$3=\"Yes\",$AP$5=\"Yes\",$AP$6=\"Yes\"), Table1[[#This Row],[Fixture kWh Savings]]+Table1[[#This Row],[Cooling kWh Savings]], IF(AND($S$3=\"Fixture Replacement Only - No Controls\",$AP$3=\"Yes\",Table1[[#This Row],[DLC/ES?]]<>\"No\"), (Table1[[#This Row],[Fixture kWh Savings]]+Table1[[#This Row],[Cooling kWh Savings]]), \"-\"))),\"-\"))","v":"-"},{"$f":"IF(OR(Table1[[#This Row],[Application]]=0,Table1[[#This Row],[DLC/ES?]]=\"No\",AND($AP$4=\"No\",Table1[[#This Row],[TLED Type]]=\"A\")),0,IFERROR(IF(AND($S$3=\"Tier 2 - Network Controls\",$AP$3=\"Yes\",$AP$5=\"Yes\",$AP$6=\"Yes\"), Table1[[#This Row],[Total Controls kWh Savings]], IF(AND($S$3=\"Tier 1 - Luminaire Level or Wireless Control\",$AP$3=\"Yes\",$AP$5=\"Yes\",$AP$6=\"Yes\"), Table1[[#This Row],[Total Controls kWh Savings]], IF(AND($S$3=\"Fixture Replacement Only - No Controls\",$AP$3=\"Yes\",Table1[[#This Row],[DLC/ES?]]<>\"No\"), (Table1[[#This Row],[Total Controls kWh Savings]]), \"-\"))),\"-\"))","v":"-"}]
[null,{"$f":"ROW(Table1[[#This Row],[Existing Lamp/Ballast Description]])-14","v":29},null,null,null,null,null,{"$f":"IFERROR(VLOOKUP(Table1[[#This Row],[Operating Hours Group]],HoursTable,3,0),\"\")","v":""},null,null,null,null,{"$f":"IFERROR(INDEX(Lookup!$B$3:$B$1550,MATCH(Table1[[#This Row],[Existing Lamp/Ballast Description]],Lookup!$C$3:$C$1550,0)),\"\")","v":""},{"$f":"IFERROR(IF(Table1[[#This Row],[Existing Fixture Code]]=\"\",(VLOOKUP(Table1[[#This Row],[Existing Device Code]],Lookup!$B$2:$D$1550,3,FALSE)), (VLOOKUP(Table1[[#This Row],[Existing Fixture Code]],Lookup!$B$2:$D$1550,3,FALSE))),\"\")","v":""},{"$f":"IFERROR(Table1[[#This Row],[Ex. Qty]]*Table1[[#This Row],[Existing Wattage]]/1000,\"\")","v":""},{"$f":"IFERROR(Table1[[#This Row],[Annual Operating Hours]]*Table1[[#This Row],[Existing kW]],\"\")","v":""},null,null,{"$f":"IFERROR(INDEX(Table2[[Merged model ]],MATCH(Table1[[#This Row],[Proposed Fixture Description]],Table2[Fixture Description],0)),\"\")","v":""},{"$f":"IFERROR(_xlfn.SINGLE(INDEX(ROUND(Table2[DLC/\nENERGY STAR Wattage],1),MATCH(Table1[[#This Row],[Proposed Fixture Description]],Table2[Fixture Description],0))),\"\")","v":""},{"$f":"IFERROR(IF(Table1[[#This Row],[Proposed Fixture Description]]=\"\",Table1[[#This Row],[Existing kW]],Table1[[#This Row],[Prop. Qty]]*Table1[[#This Row],[Proposed Wattage]]/1000),\"\")","v":""},{"$f":"IFERROR(Table1[[#This Row],[Annual Operating Hours]]*Table1[[#This Row],[Proposed kW]],\"\")","v":""},null,null,null,{"$f":"IFERROR(_xlfn.IFS(Table1[[#This Row],[Proposed Control Strategy]]=\"Scheduled Dimming\",INDEX('2 - Hours and Schedules'!$AB$6:$AB$15,MATCH(Table1[[#This Row],[Operating Hours Group]],'2 - Hours and Schedules'!$AA$6:$AA$15,0)), Table1[[#This Row],[Proposed Control Strategy]]=\"Daylight\",'Controls Lookup'!$B$2,Table1[[#This Row],[Proposed Control Strategy]]=\"Occupancy Sensor\",'Controls Lookup'!$C$2*(1-Table1[[#This Row],[% Output, if not off\n(Only If Occupancy Sensor Selected)]]),Table1[[#This Row],[Proposed Control Strategy]]=\"None\",'Controls Lookup'!$E$2),\"\")","v":""},null,null,{"$f":"IFERROR(_xlfn.IFS(Table1[[#This Row],[Proposed Additional Control Strategy]]=\"Scheduled Dimming\",INDEX('2 - Hours and Schedules'!$AB$6:$AB$15,MATCH(Table1[[#This Row],[Operating Hours Group]],'2 - Hours and Schedules'!$AA$6:$AA$15,0)), Table1[[#This Row],[Proposed Additional Control Strategy]]=\"Daylight\",'Controls Lookup'!$B$2,Table1[[#This Row],[Proposed Additional Control Strategy]]=\"Occupancy Sensor\",'Controls Lookup'!$C$2*(1-Table1[[#This Row],[% Output, if not off\n (If Occupancy Sensor Selected)]]),Table1[[#This Row],[Proposed Additional Control Strategy]]=\"None\",'Controls Lookup'!$E$2),\"\")","v":""},{"$f":"SUM(IF(Table1[[#This Row],[Proposed High End Trim\n(% of Max Fixture Output)]]=\"\",0,(1-Table1[[#This Row],[Proposed High End Trim\n(% of Max Fixture Output)]])*(1-IF(Table1[[#This Row],[Percent Reduction from Control Strategies]]=\"\",0,Table1[[#This Row],[Percent Reduction from Control Strategies]])-IF(Table1[[#This Row],[Percent Reduction from Additional Controls Strategy]]=\"\",0,Table1[[#This Row],[Percent Reduction from Additional Controls Strategy]]))),IF(Table1[[#This Row],[Percent Reduction from Control Strategies]]=\"\",0,Table1[[#This Row],[Percent Reduction from Control Strategies]]),IF(Table1[[#This Row],[Percent Reduction from Additional Controls Strategy]]=\"\",0,Table1[[#This Row],[Percent Reduction from Additional Controls Strategy]]))","v":0},{"$f":"IFERROR(IF(Table1[[#This Row],[Existing kW]]=\"\",-Table1[[#This Row],[Proposed kW]],Table1[[#This Row],[Existing kW]]-Table1[[#This Row],[Proposed kW]]),\"\")","v":""},{"$f":"IF(AND(ISBLANK(Table1[[#This Row],[Manufacturer/Model Number]]),ISNUMBER(Table1[[#This Row],[Prop. Qty]])),\"Missing Req'd Info\",IFERROR(IF(VLOOKUP(Table1[[#This Row],[Operating Hours Group]],HoursTable,5,FALSE)=1,Table1[[#This Row],[Fixture kW Savings]],0),\"\"))","v":""},{"$f":"IF(AND(ISBLANK(Table1[[#This Row],[Manufacturer/Model Number]]),ISNUMBER(Table1[[#This Row],[Prop. Qty]])),\"Missing Req'd Info\",IFERROR(IF(VLOOKUP(Table1[[#This Row],[Operating Hours Group]],HoursTable,6,FALSE),Table1[[#This Row],[Fixture kW Savings]],0),\"\"))","v":""},{"$f":"IFERROR(Table1[[#This Row],[Fixture kW Savings]]*Table1[[#This Row],[Annual Operating Hours]],\"\")","v":""},{"$f":"IF(AND(ISBLANK(Table1[[#This Row],[Manufacturer/Model Number]]),ISNUMBER(Table1[[#This Row],[Prop. Qty]])),\"Missing Req'd Info\",IFERROR((Table1[[#This Row],[Total Controls Savings (%)]]*Table1[[#This Row],[Proposed kWh]]),0))","v":0},{"$f":"IFERROR(IF(OR(Table1[[#This Row],[DLC/ES?]]=\"No\",Table1[[#This Row],[Lighting Location: Conditioned Space (Cooled) or Unconditioned Space]]=\"Unconditioned Space\"),0,(Lookup!$G$12*Table1[[#This Row],[Fixture kW Savings]]*0.8/Lookup!$G$14)),0)","v":0},{"$f":"IF(AND(ISBLANK(Table1[[#This Row],[Manufacturer/Model Number]]),ISNUMBER(Table1[[#This Row],[Prop. Qty]])),\"Missing Req'd Info\",IFERROR(Table1[[#This Row],[Fixture kWh Savings]]+Table1[[#This Row],[Total Controls kWh Savings]]+Table1[[#This Row],[Cooling kWh Savings]],\"\"))","v":""},{"$f":"IF(AND(ISBLANK(Table1[[#This Row],[Manufacturer/Model Number]]),ISNUMBER(Table1[[#This Row],[Prop. Qty]])),\"Missing Req'd Info\",IFERROR(VLOOKUP(Table1[[#This Row],[Operating Hours Group]],HoursTable,4,0),\"\"))","v":""},{"$f":"IFERROR(INDEX((Table2[Application]),MATCH(Table1[[#This Row],[Proposed Fixture Description]],Table2[Fixture Description],0)),\"\")","v":""},{"$f":"IFERROR(INDEX((Table2[Equipment Type]),MATCH(Table1[[#This Row],[Proposed Fixture Description]],Table2[Fixture Description],0)),\"\")","v":""},{"$f":"IFERROR(INDEX((Table2[TLED Type]),MATCH(Table1[[#This Row],[Proposed Fixture Description]],Table2[Fixture Description],0)),\"\")","v":""},{"$f":"Table1[[#This Row],[Application]]&\"|\"&Table1[[#This Row],[Equipment Type]]","v":"|"},{"$f":"VLOOKUP(Table1[[#This Row],[Application & Equipment Type]],'EUL Calc'!$D$6:$F$17,3,0)","v":{"$error":"#N/A"}},{"$f":"VLOOKUP(Table1[[#This Row],[Application & Equipment Type]],'EUL Calc'!$D$6:$G$17,4,0)","v":{"$error":"#N/A"}},{"$f":"IFERROR(INDEX(Table2[DLC/ENERGY STAR Approved?],MATCH(Table1[[#This Row],[Proposed Fixture Description]],Table2[Fixture Description],0)),0)","v":0},{"$f":"IF(Table1[[#This Row],[Proposed High End Trim\n(% of Max Fixture Output)]]<>\"\", \"Yes\", \"No\")","v":"No"},{"$f":"IF(Table1[[#This Row],[Proposed Additional Control Strategy]]=\"\",Table1[[#This Row],[Proposed Control Strategy]],_xlfn.CONCAT(Table1[[#This Row],[Proposed Control Strategy]], \" & \",Table1[[#This Row],[Proposed Additional Control Strategy]]))","v":0},{"$f":"IFERROR(INDEX(Table2[Fixture Controlled?],MATCH(Table1[[#This Row],[Proposed Fixture Description]],Table2[Fixture Description],0)),\"\")","v":""},{"$f":"IFERROR((Table1[[#This Row],[Percent Reduction from Control Strategies]]+Table1[[#This Row],[Percent Reduction from Additional Controls Strategy]])*Table1[[#This Row],[Proposed kWh]], IFERROR(Table1[[#This Row],[Percent Reduction from Control Strategies]]*Table1[[#This Row],[Proposed kWh]],\"\"))","v":""},{"$f":"IFERROR(ABS(Table1[[#This Row],[Total Incentivized kWh Savings]]), \"N/A\")","v":"N/A"},{"$f":"IF(OR(Table1[[#This Row],[Application]]=0,Table1[[#This Row],[DLC/ES?]]=\"No\",AND($AP$4=\"No\",Table1[[#This Row],[TLED Type]]=\"A\")),0,IFERROR(IF(AND($S$3=\"Tier 2 - Network Controls\",$AP$3=\"Yes\",$AP$5=\"Yes\",$AP$6=\"Yes\"), Table1[[#This Row],[Fixture kWh Savings]]+Table1[[#This Row],[Total Controls kWh Savings]]+Table1[[#This Row],[Cooling kWh Savings]], IF(AND($S$3=\"Tier 1 - Luminaire Level or Wireless Control\",$AP$3=\"Yes\",$AP$5=\"Yes\",$AP$6=\"Yes\"), Table1[[#This Row],[Fixture kWh Savings]]+Table1[[#This Row],[Total Controls kWh Savings]]+Table1[[#This Row],[Cooling kWh Savings]], IF(AND($S$3=\"Fixture Replacement Only - No Controls\",$AP$3=\"Yes\",Table1[[#This Row],[DLC/ES?]]<>\"No\"), (Table1[[#This Row],[Fixture kWh Savings]]+Table1[[#This Row],[Cooling kWh Savings]]+Table1[[#This Row],[Total Controls kWh Savings]]), \"-\"))),\"-\"))","v":"-"},{"$f":"IF(OR(Table1[[#This Row],[Application]]=0,Table1[[#This Row],[DLC/ES?]]=\"No\",AND($AP$4=\"No\",Table1[[#This Row],[TLED Type]]=\"A\")),0,IFERROR(IF(AND($S$3=\"Tier 2 - Network Controls\",$AP$3=\"Yes\",$AP$5=\"Yes\",$AP$6=\"Yes\"), Table1[[#This Row],[Fixture kWh Savings]]+Table1[[#This Row],[Cooling kWh Savings]], IF(AND($S$3=\"Tier 1 - Luminaire Level or Wireless Control\",$AP$3=\"Yes\",$AP$5=\"Yes\",$AP$6=\"Yes\"), Table1[[#This Row],[Fixture kWh Savings]]+Table1[[#This Row],[Cooling kWh Savings]], IF(AND($S$3=\"Fixture Replacement Only - No Controls\",$AP$3=\"Yes\",Table1[[#This Row],[DLC/ES?]]<>\"No\"), (Table1[[#This Row],[Fixture kWh Savings]]+Table1[[#This Row],[Cooling kWh Savings]]), \"-\"))),\"-\"))","v":"-"},{"$f":"IF(OR(Table1[[#This Row],[Application]]=0,Table1[[#This Row],[DLC/ES?]]=\"No\",AND($AP$4=\"No\",Table1[[#This Row],[TLED Type]]=\"A\")),0,IFERROR(IF(AND($S$3=\"Tier 2 - Network Controls\",$AP$3=\"Yes\",$AP$5=\"Yes\",$AP$6=\"Yes\"), Table1[[#This Row],[Total Controls kWh Savings]], IF(AND($S$3=\"Tier 1 - Luminaire Level or Wireless Control\",$AP$3=\"Yes\",$AP$5=\"Yes\",$AP$6=\"Yes\"), Table1[[#This Row],[Total Controls kWh Savings]], IF(AND($S$3=\"Fixture Replacement Only - No Controls\",$AP$3=\"Yes\",Table1[[#This Row],[DLC/ES?]]<>\"No\"), (Table1[[#This Row],[Total Controls kWh Savings]]), \"-\"))),\"-\"))","v":"-"}]
[null,{"$f":"ROW(Table1[[#This Row],[Existing Lamp/Ballast Description]])-14","v":30},null,null,null,null,null,{"$f":"IFERROR(VLOOKUP(Table1[[#This Row],[Operating Hours Group]],HoursTable,3,0),\"\")","v":""},null,null,null,null,{"$f":"IFERROR(INDEX(Lookup!$B$3:$B$1550,MATCH(Table1[[#This Row],[Existing Lamp/Ballast Description]],Lookup!$C$3:$C$1550,0)),\"\")","v":""},{"$f":"IFERROR(IF(Table1[[#This Row],[Existing Fixture Code]]=\"\",(VLOOKUP(Table1[[#This Row],[Existing Device Code]],Lookup!$B$2:$D$1550,3,FALSE)), (VLOOKUP(Table1[[#This Row],[Existing Fixture Code]],Lookup!$B$2:$D$1550,3,FALSE))),\"\")","v":""},{"$f":"IFERROR(Table1[[#This Row],[Ex. Qty]]*Table1[[#This Row],[Existing Wattage]]/1000,\"\")","v":""},{"$f":"IFERROR(Table1[[#This Row],[Annual Operating Hours]]*Table1[[#This Row],[Existing kW]],\"\")","v":""},null,null,{"$f":"IFERROR(INDEX(Table2[[Merged model ]],MATCH(Table1[[#This Row],[Proposed Fixture Description]],Table2[Fixture Description],0)),\"\")","v":""},{"$f":"IFERROR(_xlfn.SINGLE(INDEX(ROUND(Table2[DLC/\nENERGY STAR Wattage],1),MATCH(Table1[[#This Row],[Proposed Fixture Description]],Table2[Fixture Description],0))),\"\")","v":""},{"$f":"IFERROR(IF(Table1[[#This Row],[Proposed Fixture Description]]=\"\",Table1[[#This Row],[Existing kW]],Table1[[#This Row],[Prop. Qty]]*Table1[[#This Row],[Proposed Wattage]]/1000),\"\")","v":""},{"$f":"IFERROR(Table1[[#This Row],[Annual Operating Hours]]*Table1[[#This Row],[Proposed kW]],\"\")","v":""},null,null,null,{"$f":"IFERROR(_xlfn.IFS(Table1[[#This Row],[Proposed Control Strategy]]=\"Scheduled Dimming\",INDEX('2 - Hours and Schedules'!$AB$6:$AB$15,MATCH(Table1[[#This Row],[Operating Hours Group]],'2 - Hours and Schedules'!$AA$6:$AA$15,0)), Table1[[#This Row],[Proposed Control Strategy]]=\"Daylight\",'Controls Lookup'!$B$2,Table1[[#This Row],[Proposed Control Strategy]]=\"Occupancy Sensor\",'Controls Lookup'!$C$2*(1-Table1[[#This Row],[% Output, if not off\n(Only If Occupancy Sensor Selected)]]),Table1[[#This Row],[Proposed Control Strategy]]=\"None\",'Controls Lookup'!$E$2),\"\")","v":""},null,null,{"$f":"IFERROR(_xlfn.IFS(Table1[[#This Row],[Proposed Additional Control Strategy]]=\"Scheduled Dimming\",INDEX('2 - Hours and Schedules'!$AB$6:$AB$15,MATCH(Table1[[#This Row],[Operating Hours Group]],'2 - Hours and Schedules'!$AA$6:$AA$15,0)), Table1[[#This Row],[Proposed Additional Control Strategy]]=\"Daylight\",'Controls Lookup'!$B$2,Table1[[#This Row],[Proposed Additional Control Strategy]]=\"Occupancy Sensor\",'Controls Lookup'!$C$2*(1-Table1[[#This Row],[% Output, if not off\n (If Occupancy Sensor Selected)]]),Table1[[#This Row],[Proposed Additional Control Strategy]]=\"None\",'Controls Lookup'!$E$2),\"\")","v":""},{"$f":"SUM(IF(Table1[[#This Row],[Proposed High End Trim\n(% of Max Fixture Output)]]=\"\",0,(1-Table1[[#This Row],[Proposed High End Trim\n(% of Max Fixture Output)]])*(1-IF(Table1[[#This Row],[Percent Reduction from Control Strategies]]=\"\",0,Table1[[#This Row],[Percent Reduction from Control Strategies]])-IF(Table1[[#This Row],[Percent Reduction from Additional Controls Strategy]]=\"\",0,Table1[[#This Row],[Percent Reduction from Additional Controls Strategy]]))),IF(Table1[[#This Row],[Percent Reduction from Control Strategies]]=\"\",0,Table1[[#This Row],[Percent Reduction from Control Strategies]]),IF(Table1[[#This Row],[Percent Reduction from Additional Controls Strategy]]=\"\",0,Table1[[#This Row],[Percent Reduction from Additional Controls Strategy]]))","v":0},{"$f":"IFERROR(IF(Table1[[#This Row],[Existing kW]]=\"\",-Table1[[#This Row],[Proposed kW]],Table1[[#This Row],[Existing kW]]-Table1[[#This Row],[Proposed kW]]),\"\")","v":""},{"$f":"IF(AND(ISBLANK(Table1[[#This Row],[Manufacturer/Model Number]]),ISNUMBER(Table1[[#This Row],[Prop. Qty]])),\"Missing Req'd Info\",IFERROR(IF(VLOOKUP(Table1[[#This Row],[Operating Hours Group]],HoursTable,5,FALSE)=1,Table1[[#This Row],[Fixture kW Savings]],0),\"\"))","v":""},{"$f":"IF(AND(ISBLANK(Table1[[#This Row],[Manufacturer/Model Number]]),ISNUMBER(Table1[[#This Row],[Prop. Qty]])),\"Missing Req'd Info\",IFERROR(IF(VLOOKUP(Table1[[#This Row],[Operating Hours Group]],HoursTable,6,FALSE),Table1[[#This Row],[Fixture kW Savings]],0),\"\"))","v":""},{"$f":"IFERROR(Table1[[#This Row],[Fixture kW Savings]]*Table1[[#This Row],[Annual Operating Hours]],\"\")","v":""},{"$f":"IF(AND(ISBLANK(Table1[[#This Row],[Manufacturer/Model Number]]),ISNUMBER(Table1[[#This Row],[Prop. Qty]])),\"Missing Req'd Info\",IFERROR((Table1[[#This Row],[Total Controls Savings (%)]]*Table1[[#This Row],[Proposed kWh]]),0))","v":0},{"$f":"IFERROR(IF(OR(Table1[[#This Row],[DLC/ES?]]=\"No\",Table1[[#This Row],[Lighting Location: Conditioned Space (Cooled) or Unconditioned Space]]=\"Unconditioned Space\"),0,(Lookup!$G$12*Table1[[#This Row],[Fixture kW Savings]]*0.8/Lookup!$G$14)),0)","v":0},{"$f":"IF(AND(ISBLANK(Table1[[#This Row],[Manufacturer/Model Number]]),ISNUMBER(Table1[[#This Row],[Prop. Qty]])),\"Missing Req'd Info\",IFERROR(Table1[[#This Row],[Fixture kWh Savings]]+Table1[[#This Row],[Total Controls kWh Savings]]+Table1[[#This Row],[Cooling kWh Savings]],\"\"))","v":""},{"$f":"IF(AND(ISBLANK(Table1[[#This Row],[Manufacturer/Model Number]]),ISNUMBER(Table1[[#This Row],[Prop. Qty]])),\"Missing Req'd Info\",IFERROR(VLOOKUP(Table1[[#This Row],[Operating Hours Group]],HoursTable,4,0),\"\"))","v":""},{"$f":"IFERROR(INDEX((Table2[Application]),MATCH(Table1[[#This Row],[Proposed Fixture Description]],Table2[Fixture Description],0)),\"\")","v":""},{"$f":"IFERROR(INDEX((Table2[Equipment Type]),MATCH(Table1[[#This Row],[Proposed Fixture Description]],Table2[Fixture Description],0)),\"\")","v":""},{"$f":"IFERROR(INDEX((Table2[TLED Type]),MATCH(Table1[[#This Row],[Proposed Fixture Description]],Table2[Fixture Description],0)),\"\")","v":""},{"$f":"Table1[[#This Row],[Application]]&\"|\"&Table1[[#This Row],[Equipment Type]]","v":"|"},{"$f":"VLOOKUP(Table1[[#This Row],[Application & Equipment Type]],'EUL Calc'!$D$6:$F$17,3,0)","v":{"$error":"#N/A"}},{"$f":"VLOOKUP(Table1[[#This Row],[Application & Equipment Type]],'EUL Calc'!$D$6:$G$17,4,0)","v":{"$error":"#N/A"}},{"$f":"IFERROR(INDEX(Table2[DLC/ENERGY STAR Approved?],MATCH(Table1[[#This Row],[Proposed Fixture Description]],Table2[Fixture Description],0)),0)","v":0},{"$f":"IF(Table1[[#This Row],[Proposed High End Trim\n(% of Max Fixture Output)]]<>\"\", \"Yes\", \"No\")","v":"No"},{"$f":"IF(Table1[[#This Row],[Proposed Additional Control Strategy]]=\"\",Table1[[#This Row],[Proposed Control Strategy]],_xlfn.CONCAT(Table1[[#This Row],[Proposed Control Strategy]], \" & \",Table1[[#This Row],[Proposed Additional Control Strategy]]))","v":0},{"$f":"IFERROR(INDEX(Table2[Fixture Controlled?],MATCH(Table1[[#This Row],[Proposed Fixture Description]],Table2[Fixture Description],0)),\"\")","v":""},{"$f":"IFERROR((Table1[[#This Row],[Percent Reduction from Control Strategies]]+Table1[[#This Row],[Percent Reduction from Additional Controls Strategy]])*Table1[[#This Row],[Proposed kWh]], IFERROR(Table1[[#This Row],[Percent Reduction from Control Strategies]]*Table1[[#This Row],[Proposed kWh]],\"\"))","v":""},{"$f":"IFERROR(ABS(Table1[[#This Row],[Total Incentivized kWh Savings]]), \"N/A\")","v":"N/A"},{"$f":"IF(OR(Table1[[#This Row],[Application]]=0,Table1[[#This Row],[DLC/ES?]]=\"No\",AND($AP$4=\"No\",Table1[[#This Row],[TLED Type]]=\"A\")),0,IFERROR(IF(AND($S$3=\"Tier 2 - Network Controls\",$AP$3=\"Yes\",$AP$5=\"Yes\",$AP$6=\"Yes\"), Table1[[#This Row],[Fixture kWh Savings]]+Table1[[#This Row],[Total Controls kWh Savings]]+Table1[[#This Row],[Cooling kWh Savings]], IF(AND($S$3=\"Tier 1 - Luminaire Level or Wireless Control\",$AP$3=\"Yes\",$AP$5=\"Yes\",$AP$6=\"Yes\"), Table1[[#This Row],[Fixture kWh Savings]]+Table1[[#This Row],[Total Controls kWh Savings]]+Table1[[#This Row],[Cooling kWh Savings]], IF(AND($S$3=\"Fixture Replacement Only - No Controls\",$AP$3=\"Yes\",Table1[[#This Row],[DLC/ES?]]<>\"No\"), (Table1[[#This Row],[Fixture kWh Savings]]+Table1[[#This Row],[Cooling kWh Savings]]+Table1[[#This Row],[Total Controls kWh Savings]]), \"-\"))),\"-\"))","v":"-"},{"$f":"IF(OR(Table1[[#This Row],[Application]]=0,Table1[[#This Row],[DLC/ES?]]=\"No\",AND($AP$4=\"No\",Table1[[#This Row],[TLED Type]]=\"A\")),0,IFERROR(IF(AND($S$3=\"Tier 2 - Network Controls\",$AP$3=\"Yes\",$AP$5=\"Yes\",$AP$6=\"Yes\"), Table1[[#This Row],[Fixture kWh Savings]]+Table1[[#This Row],[Cooling kWh Savings]], IF(AND($S$3=\"Tier 1 - Luminaire Level or Wireless Control\",$AP$3=\"Yes\",$AP$5=\"Yes\",$AP$6=\"Yes\"), Table1[[#This Row],[Fixture kWh Savings]]+Table1[[#This Row],[Cooling kWh Savings]], IF(AND($S$3=\"Fixture Replacement Only - No Controls\",$AP$3=\"Yes\",Table1[[#This Row],[DLC/ES?]]<>\"No\"), (Table1[[#This Row],[Fixture kWh Savings]]+Table1[[#This Row],[Cooling kWh Savings]]), \"-\"))),\"-\"))","v":"-"},{"$f":"IF(OR(Table1[[#This Row],[Application]]=0,Table1[[#This Row],[DLC/ES?]]=\"No\",AND($AP$4=\"No\",Table1[[#This Row],[TLED Type]]=\"A\")),0,IFERROR(IF(AND($S$3=\"Tier 2 - Network Controls\",$AP$3=\"Yes\",$AP$5=\"Yes\",$AP$6=\"Yes\"), Table1[[#This Row],[Total Controls kWh Savings]], IF(AND($S$3=\"Tier 1 - Luminaire Level or Wireless Control\",$AP$3=\"Yes\",$AP$5=\"Yes\",$AP$6=\"Yes\"), Table1[[#This Row],[Total Controls kWh Savings]], IF(AND($S$3=\"Fixture Replacement Only - No Controls\",$AP$3=\"Yes\",Table1[[#This Row],[DLC/ES?]]<>\"No\"), (Table1[[#This Row],[Total Controls kWh Savings]]), \"-\"))),\"-\"))","v":"-"}]
[null,"Total",null,null,null,null,null,{"$f":"SUBTOTAL(101,Table1[Annual Operating Hours])","v":{"$error":"#DIV/0!"}},{"$f":"SUBTOTAL(109,Table1[Ex. Qty])","v":0},null,null,null,null,null,{"$f":"SUBTOTAL(109,Table1[Existing kW])","v":0},{"$f":"SUBTOTAL(109,Table1[Existing kWh])","v":0},{"$f":"SUBTOTAL(109,Table1[Prop. Qty])","v":0},null,null,null,{"$f":"SUBTOTAL(109,Table1[Proposed kW])","v":0},{"$f":"SUBTOTAL(109,Table1[Proposed kWh])","v":0},{"$f":"IFERROR(AVERAGE(Table1[Proposed High End Trim\n(% of Max Fixture Output)]),0)","v":0},null,null,{"$f":"SUBTOTAL(101,Table1[Percent Reduction from Control Strategies])","v":{"$error":"#DIV/0!"}},null,null,null,null,{"$f":"SUBTOTAL(109,Table1[Fixture kW Savings])","v":0},{"$f":"SUBTOTAL(109,Table1[Summer kW Reduction])","v":0},{"$f":"SUBTOTAL(109,Table1[Winter kW Reduction])","v":0},{"$f":"SUBTOTAL(109,Table1[Fixture kWh Savings])","v":0},{"$f":"SUBTOTAL(109,Table1[Total Controls kWh Savings])","v":0},{"$f":"SUBTOTAL(109,Table1[Cooling kWh Savings])","v":0},{"$f":"SUBTOTAL(109,Table1[Total kWh Savings])","v":0},{"$f":"SUMPRODUCT(Table1[Total kWh Savings],Table1[Percent On Peak kWh Savings])/Table1[[#Totals],[Total kWh Savings]]","v":{"$error":"#DIV/0!"}},null,null,null,null,null,null,null,null,null,null,null,null,{"$f":"SUBTOTAL(109,Table1[Total Incentivized kWh Savings])","v":0},{"$f":"SUBTOTAL(109,Table1[Total Incentivized Fixture kWh Savings])","v":0},{"$f":"SUBTOTAL(109,Table1[Total Incentivized Controls kWh Savings])","v":0}]

{"sheet":"Lookup","index":5,"n_rows":1550,"n_cols":43,"rows_kept":1550,"cut":false,"hidden":true,"merged":[[0,0,0,3],[0,16,0,18]]}
["Lighting Systems",null,null,null,null,null,null,null,null,null,null,null,null,null,null,null,"Prescriptive Code",null,null,null,null,null,null,null,null,null,null,null,null,null,null,null,null,null,null,null,null,null,null,null,null,null,"None"]
["Existing Fixture Description","Device Code","Device Description","Rated Watts",null,"Cooling system type","COP",null,null,"Application ","Ambient_Linear","High_Low_Bay","Exterior_Outdoor",null,"TLED Types",null,"Product Category","List of measure codes",null,null,null,null,null,null,null,null,null,null,null,null,null,null,null,null,null,null,null,null,null,null,null,null,"Remote Mounted Sensor"]
["Compact Fluorescents (CFL's)","1C0005S"," 5W COMPACT HW  ",7,null,"Packaged DX",2.9,null,null,"Ambient_Linear","LED Fixture","LED Fixture","LED Fixture",null,"A",null,"A-Line, 40/60W Equivalent","81A60",null,null,null,{"$f":"MATCH(AA13,$Q$3:$Q$43,0)","v":1},null,null,null,null,null,null,null,null,null,null,null,null,null,null,null,null,null,null,null,null,"Luminaire Level Control"]
["Compact Fluorescents (CFL's)","1C0007S"," 7W COMPACT HW  ",9,null,"Window DX",2.7,null,null,"High_Low_Bay","TLED","TLED","TLED",null,"B",null,"A-Line, 75/100W Equivalent","81A75",null,null,null,null,null,null,null,null,null,null,null,null,null,null,null,null,null,null,null,null,null,null,null,null,"Network Sensor"]
["Compact Fluorescents (CFL's)","1C0009S"," 9W COMPACT HW  ",11,null,"Chiller <200 Ton",4.7,null,null,"Exterior_Outdoor",null,"LED Lamp","LED Lamp",null,"C",null,"PAR16 or MR16 (pin or GU10 base type)","81A16",null,null,null,{"$f":"OFFSET(Lookup!$R$2,MATCH(AP14,Lookup!$Q$3:$Q$43,0),0, COUNTIF(Lookup!$Q$3:$Q$43,AP14),1)","v":{"$error":"#N/A"}}]
["Compact Fluorescents (CFL's)","1C2D10E"," 10W 2D COMPACT HW ELIG  ",12,null,"Chiller >200 Ton",5.5,null,null,"Screw_Based",null,null,null,null,null,null,"PAR20/R20","81A20"]
["Compact Fluorescents (CFL's)","1C0011S"," 11W COMPACT HW  ",13,null,"Air to Air Heat Pump",3.9,null,null,null,null,null,null,null,null,null,"PAR30 or BR30 or R30","81A30"]
["Compact Fluorescents (CFL's)","2C0005S"," 2/5W COMPACT HW  ",14,null,"Water to Air Heat Pump",4.4000000000000004,null,null,null,"Ambient_Linear","High_Low_Bay","Exterior_Outdoor","Screw_Based",null,null,"PAR38 or BR40 or R40","81A38"]
["Compact Fluorescents (CFL's)","1C0013S"," 13W COMPACT HW  ",15,null,"Refrigerated Area (High Temp)",1.4,null,null,"LED Fixture",11.4,11.4,11.4,"na",null,null,"G24 LED","81G24"]
["Compact Fluorescents (CFL's)","1C2D16E"," 16W 2D COMPACT HW ELIG  ",18,null,"Refrigerated Cases (Low Temp)",1.9,null,null,"TLED",11.4,11.4,11.4,"na",null,null,"G23 LED","81G23"]
["Compact Fluorescents (CFL's)","2C0007S"," 2/7W COMPACT HW  ",18,null,null,null,null,null,"LED Lamp","na",11.4,11.4,"na",null,null,"Decoratives (Globe, Candle, B-Shapes)","81AD"]
["Compact Fluorescents (CFL's)","1C0018E"," 18W COMPACT HW ELIG  ",20,null,"Interactive Cooling Hours",935,null,null,"A-Line","na","na","na",3.4109970000000001,null,null,"Down Light Fixtures – Hard Wired or GU-24 base  (250-4,000 lumens)  ","80A",null,null,null,"Prescriptive Fixture Code",null,null,null,null,null,null,null,null,null,null,null,null,null,null,"Controls Code"]
["Compact Fluorescents (CFL's)","1C0018S"," 18W COMPACT HW  ",20,null,null,null,null,null,"Downlight","na","na","na",5.6849959999999999,null,null,"Down Light Fixtures – Hard Wired or GU-24 base (>4,000-10,000 lumens) ","80B",null,null,null,"Measure Code","Min Watts Saved Requirement","Unit Incentive",null,null,"A-Line, 40/60W Equivalent",null,null,null,null,null,null,null,null,"Controls Description","Measure Code","Controlled wattage","Unit Incentive"]
["Compact Fluorescents (CFL's)","1C2D21E"," 21W 2D COMPACT HW ELIG  ",22,null,"Installed COP",{"$f":"INDEX(G3:G10,MATCH('1 - Project Info'!C6,Lookup!$F$3:$F$10,0))","v":{"$error":"#N/A"}},null,null,"Decorative","na","na","na",3.4109970000000001,null,null,"Down Light Fixtures – Hard Wired or GU-24 (>10,000 Lumens)  ","80C",null,null,null,"81A60",10,6,null,null,"A-Line, 75/100W Equivalent",null,null,null,null,null,null,null,null,"Occupancy Sensor (Remote Mount)",61,55,30]
["Compact Fluorescents (CFL's)","2C0009S"," 2/9W COMPACT HW  ",22,null,null,null,null,null,"*Updated from the study referenced in 2025 TRM Measure life appendix: DNV (2024). Rhode Island C&I Lighting Adjusted Measure Life Study Refresh.",null,null,null,null,null,null,"T8 LED 2' (UL Type A,B, AB replacement)","81AT8",null,null,null,"81A75",10,10,null,null,"PAR16 or MR16 (pin or GU10 base type)",null,null,null,null,null,null,null,null,"Occupancy Sensor (Wall Mount)",64,25,20]
["Compact Fluorescents (CFL's)","1C0022S"," 22W COMPACT HW  ",24,null,null,null,null,null,null,null,null,null,null,null,null,"T8 LED 3' (UL Type A,B, AB replacement)","81AT8",null,null,null,"81A16",10,12,null,null,"PAR20/R20",null,null,null,null,null,null,null,null,"Occupancy Sensor (High Bay)",68,70,25]
["Compact Fluorescents (CFL's)","1C0023E"," 1/23W COMPACT HW ELIG  ",25,null,null,null,null,null,null,"Measure ",null,null,"Controls tier","Rate ($/kWh)",null,"T8 LED 4' (UL Type A,B, AB replacement)","81AT8",null,null,null,"81A20",10,12,null,null,"PAR30 or BR30 or R30",null,null,null,null,null,null,null,null,"Daylighting Dimming",62,25,15]
["Compact Fluorescents (CFL's)","2C0011S"," 2/11W COMPACT HW  ",26,null,null,null,null,null,null,"Lighting - Exterior",null,null,"Fixture Replacement Only - No Controls",0.25,null,"T5 LED 4' (UL Type A,B, AB replacement)","81AT5",null,null,null,"81A30",10,18,null,null,"PAR38 or BR40 or R40",null,null,null,null,null,null,null,null,"Interior Integral Dual Sensors",63,25,20]
["Compact Fluorescents (CFL's)","1C0026E"," 26W COMPACT HW ELIG  ",28,null,null,null,null,null,null,"Lighting - Exterior Controls",null,null,"Tier 1 - Luminaire Level or Wireless Control",0.85,null,"T8 LED 8' Type A (UL Type A,B, AB replacement)","81ATU",null,null,null,"81A38",10,20,null,null,"G24 LED",null,null,null,null,null,null,null,null,"Interior Integral Dual Sensors with Adaptive, Network-Capable Controls","63A",25,30]
["Compact Fluorescents (CFL's)","1C0026S"," 26W COMPACT HW  ",28,null,null,null,null,null,null,"Lighting - Exterior with Controls",null,null,"Tier 2 - Network Controls",1.1000000000000001,null,"T8 LED U-Bend (UL Type A replacement ONLY)","81AT8",null,null,null,"81G24",10,12,null,null,"G23 LED",null,null,null,null,null,null,null,null,"Exterior Photocell Sensor with Integral Dual Sensors",65,50,25]
["Compact Fluorescents (CFL's)","1C2D28E"," 28W 2D COMPACT HW ELIG  ",28,null,null,null,null,null,null,"Lighting - Interior",null,null,null,null,null,"T8 LED 4' Type C",81,null,null,null,"81G23",10,14,null,null,"Decoratives (Globe, Candle, B-Shapes)",null,null,null,null,null,null,null,null,"Exterior Integral Dual Sensors with Adaptive, Network-Capable Controls","65A",null,50]
["Compact Fluorescents (CFL's)","2C0013E"," 2/13W COMPACT HW ELIG  ",28,null,null,null,null,null,null,"Lighting - Interior Controls",null,null,"TLEDSCREWIN",null,null,"T5 LED 4' Type C",81,null,null,null,"81AD",10,8,null,null,"Down Light Fixtures – Hard Wired or GU-24 base  (250-4,000 lumens)  ",null,null,null,null,null,null,null,null,"Adder for Ballast Upgrade","N/A"]
["Compact Fluorescents (CFL's)","1C0028S"," 28W COMPACT HW  ",30,null,null,null,null,null,null,"Lighting - Interior with Controls",null,null,"A-Line",null,null,"T8 U BEND LED Type C",81,null,null,null,"80A",10,25,null,null,"Down Light Fixtures – Hard Wired or GU-24 base (>4,000-10,000 lumens) "]
["Compact Fluorescents (CFL's)","2C0013S"," 2/13W COMPACT HW  ",30,null,null,null,null,null,null,null,null,null,"Downlight",null,null,"1x4, 2x2, 2x4 LED Retrofit Kit - Standard / Premium (2021)","88A",null,null,null,"80B",75,75,null,null,"Down Light Fixtures – Hard Wired or GU-24 (>10,000 Lumens)  "]
["Compact Fluorescents (CFL's)","3C0009S"," 3/9W COMPACT HW  ",33,null,null,null,null,null,null,null,null,null,"Decorative",null,null,"1x4, 2x2, 2x4 LED Troffer - Standard / Premium (2021)","88B",null,null,null,"80C",150,150,null,null,"T8 LED 2' (UL Type A,B, AB replacement)"]
["Compact Fluorescents (CFL's)","1C0032E"," 32W COMPACT HW ELIG  ",34,null,null,null,null,null,null,null,null,null,"TLED",null,null,"LED Linear Ambient (DIRECT: Strip/Wraps) - Standard / Premium (2021)",89,null,null,null,"81AT8",10,9,null,null,"T8 LED 3' (UL Type A,B, AB replacement)"]
["Compact Fluorescents (CFL's)","1C0032S"," 32W CIRCLINE HW  ",34,null,null,null,null,null,null,null,null,null,null,null,null,"LED Linear Ambient (INDIRECT) - Standard / Premium (2021)","89P",null,null,null,"81AT8",10,9,null,null,"T8 LED 4' (UL Type A,B, AB replacement)"]
["Compact Fluorescents (CFL's)","1C2D38E"," 38W 2D COMP.HW ELIG  ",36,null,null,null,null,null,null,null,null,null,null,null,null,"Interior Directional: Wall Wash/Wall Grazing Fixture - Standard / Premium (2021)",91,null,null,null,"81AT8",10,9,null,null,"T5 LED 4' (UL Type A,B, AB replacement)"]
["Compact Fluorescents (CFL's)","2C0018E"," 2/18W COMP. HW ELIG  ",40,null,null,null,null,null,null,null,null,null,null,null,null,"Track or Mono-Point Directional Fixtures",84,null,null,null,"81AT5",10,16,null,null,"T8 LED 8' Type A (UL Type A,B, AB replacement)"]
["Compact Fluorescents (CFL's)","3C0013S"," 3/13W COMPACT HW  ",45,null,null,null,null,null,null,null,null,null,null,null,null,"Display Case:  3’ / 4’ Fixture (A)  &  5’ / 6’ Fixture (B)  -  Standard / Premium (2021)","82A/B",null,null,null,"81ATU",10,9,null,null,"T8 LED U-Bend (UL Type A replacement ONLY)"]
["Compact Fluorescents (CFL's)","1C0044S"," 44W CIRCLINE HW  ",46,null,null,null,null,null,null,null,null,null,null,null,null,"Mogul Interior Low Bay","81M",null,null,null,"81AT8",10,16,null,null,"T8 LED 4' Type C"]
["Compact Fluorescents (CFL's)","1C0042E"," 1/42W COMPACT HW ELIG  ",48,null,null,"Equipment Type","Fixture Wattage","EUL","Lifetime Hours",null,null,null,null,null,null,"Mogul Interior High Bay","81MH",null,null,null,81,20,20,null,null,"T5 LED 4' Type C"]
["Compact Fluorescents (CFL's)","2C0026E"," 2/26W COMP. HW ELIG  ",54,null,"Ambient Linear","LED Fixture",32,11.36999,50000,null,null,null,null,null,null,"Mogul Exterior Low Output","81M",null,null,null,81,20,20,null,null,"T8 U BEND LED Type C"]
["Compact Fluorescents (CFL's)","1C2232S"," 22/32W CIRCLINE HW  ",58,null,"Ambient Linear","TLED",36,11.36999,50000,null,null,null,null,null,null,"Mogul Exterior Mid Output","81MH",null,null,null,81,20,20,null,null,"1x4, 2x2, 2x4 LED Retrofit Kit - Standard / Premium (2021)"]
["Compact Fluorescents (CFL's)","3C0018E"," 3/18W COMPACT HW ELIG  ",60,null,"High/Low Bay","LED Fixture",110,11.36999,50000,null,null,null,null,null,null,"Mogul Exterior High Out & Very High Output","81MH",null,null,null,"88A",27,50,null,null,"1x4, 2x2, 2x4 LED Troffer - Standard / Premium (2021)"]
["Compact Fluorescents (CFL's)","1C0057E"," 1/57W COMPACT HW ELIG  ",65,null,"High/Low Bay","TLED",112,11.36999,50000,null,null,null,null,null,null,"High/Low Bay:  Low Output  (250-5,000 lumens)   Standard / Premium (2021)","86A",null,null,null,"88B",27,60,null,null,"LED Linear Ambient (DIRECT: Strip/Wraps) - Standard / Premium (2021)"]
["Compact Fluorescents (CFL's)","2C0032E"," 2/32W COMPACT HW ELIG  ",68,null,"High/Low Bay","LED Lamp",125,11.36999,50000,null,null,null,null,null,null,"High/Low Bay:  Mid Output (>5,000-10,000 lumens)   Standard / Premium (2021)","86B",null,null,null,89,33,35,null,null,"LED Linear Ambient (INDIRECT) - Standard / Premium (2021)"]
["Compact Fluorescents (CFL's)","1C3240S"," 32/40W CIRCLINE HW  ",80,null,"Exterior/Outdoor","LED Fixture",110,11.36999,50000,null,null,null,null,null,null,"High/Low Bay:  High Output (>10,000-30,000 Lumens)   Standard / Premium (2021)","86B",null,null,null,"89P",33,60,null,null,"Interior Directional: Wall Wash/Wall Grazing Fixture - Standard / Premium (2021)"]
["Compact Fluorescents (CFL's)","4C0018E"," 4/18W COMPACT HW ELIG  ",80,null,"Exterior/Outdoor","TLED",112,11.36999,50000,null,null,null,null,null,null,"High/Low Bay:  Very High Output (>30,000 Lumens)   Standard / Premium (2021)","86C",null,null,null,91,27,50,null,null,"Track or Mono-Point Directional Fixtures"]
["Compact Fluorescents (CFL's)","3C0026E"," 3/26W COMPACT HW ELIG  ",82,null,"Exterior/Outdoor","LED Lamp",125,11.36999,50000,null,null,null,null,null,null,"Exterior:  Low Output  (250-5,000 lumens)   Standard / Premium (2021)","86A",null,null,null,84,30,30,null,null,"Display Case:  3’ / 4’ Fixture (A)  &  5’ / 6’ Fixture (B)  -  Standard / Premium (2021)"]
["Compact Fluorescents (CFL's)","2C0042E"," 2/42W COMPACT HW ELIG  ",100,null,"Screw-Based: A-Line","LED",10,3.4109970000000001,15000,null,null,null,null,null,null,"Exterior:  Mid Output (>5,000-10,000 lumens)   Standard / Premium (2021)","86B",null,null,null,"82A/B",23,40,null,null,"Mogul Interior Low Bay"]
["Compact Fluorescents (CFL's)","4C0026E"," 4/26W COMPACT HW ELIG  ",108,null,"Screw-Based: Downlight","LED",29.4,5.6849959999999999,25000,null,null,null,null,null,null,"Exterior:  High Output (>10,000-30,000 Lumens)   Standard / Premium (2021)","86B",null,null,null,"81M",200,60,null,null,"Mogul Interior High Bay"]
["Compact Fluorescents (CFL's)","3C0032E"," 3/32W COMPACT HW ELIG  ",114,null,"Screw-Based: Decorative","LED",26.4,3.4109970000000001,15000,null,null,null,null,null,null,"Exterior:  Very High Output (>30,000 Lumens)   Standard / Premium (2021)","86C",null,null,null,"81MH",100,80,null,null,"Mogul Exterior Low Output"]
["Compact Fluorescents (CFL's)","2C0057E"," 2/57W COMPACT HW ELIG  ",130,null,null,null,null,null,null,null,null,null,null,null,null,null,null,null,null,null,"81M",100,60,null,null,"Mogul Exterior Mid Output"]
["Compact Fluorescents (CFL's)","3C0042E"," 3/42W COMPACT HW ELIG  ",141,null,null,null,null,null,null,null,null,null,null,null,null,null,null,null,null,null,"81MH",150,80,null,null,"Mogul Exterior High Out & Very High Output"]
["Compact Fluorescents (CFL's)","4C0032E"," 4/32W COMPACT HW ELIG  ",152,null,null,null,null,null,null,null,null,null,null,null,null,null,null,null,null,null,"81MH",200,100,null,null,"High/Low Bay:  Low Output  (250-5,000 lumens)   Standard / Premium (2021)"]
["Compact Fluorescents (CFL's)","6C0026E"," 6/26W COMPACT HW ELIG  ",162,null,null,null,null,null,null,null,null,null,null,null,null,null,null,null,null,null,"86A",60,100,null,null,"High/Low Bay:  Mid Output (>5,000-10,000 lumens)   Standard / Premium (2021)"]
["Compact Fluorescents (CFL's)","4C0042E"," 4/42W COMPACT HW ELIG  ",188,null,null,null,null,null,null,null,null,null,null,null,null,null,null,null,null,null,"86B",150,150,null,null,"High/Low Bay:  High Output (>10,000-30,000 Lumens)   Standard / Premium (2021)"]
["Compact Fluorescents (CFL's)","8C0026E"," 8/26W COMPACT HW ELIG  ",216,null,null,null,null,null,null,null,null,null,null,null,null,null,null,null,null,null,"86B",400,200,null,null,"High/Low Bay:  Very High Output (>30,000 Lumens)   Standard / Premium (2021)"]
["Compact Fluorescents (CFL's)","6C0032E"," 6/32W COMPACT HW ELIG  ",228,null,null,null,null,null,null,null,null,null,null,null,null,null,null,null,null,null,"86C",null,250,null,null,"Exterior:  Low Output  (250-5,000 lumens)   Standard / Premium (2021)"]
["Compact Fluorescents (CFL's)","6C0042E"," 6/42W COMPACT HW ELIG  ",282,null,null,null,null,null,null,null,null,null,null,null,null,null,null,null,null,null,"86A",60,100,null,null,"Exterior:  Mid Output (>5,000-10,000 lumens)   Standard / Premium (2021)"]
["Compact Fluorescents (CFL's)","8C0032E"," 8/32W COMPACT HW ELIG  ",304,null,null,null,null,null,null,null,null,null,null,null,null,null,null,null,null,null,"86B",150,150,null,null,"Exterior:  High Output (>10,000-30,000 Lumens)   Standard / Premium (2021)"]
["Compact Fluorescents (CFL's)","8C0042E"," 8/42W COMPACT HW ELIG  ",376,null,null,null,null,null,null,null,null,null,null,null,null,null,null,null,null,null,"86B",400,200,null,null,"Exterior:  Very High Output (>30,000 Lumens)   Standard / Premium (2021)"]
["Eight Foot T12 Systems","1F96SEE"," 1L8’ EE/ELIG  ",60,null,null,null,null,null,null,null,null,null,null,null,null,null,null,null,null,null,"86C",null,250]
["Eight Foot T12 Systems","1F96SSE"," 1L8’ STD/ELIG  ",70]
["Eight Foot T12 Systems","1F96SES"," 1L8’ EE/STD  ",83]
["Eight Foot T12 Systems","1F96SSS"," 1L8’ STD/STD  ",100]
["Eight Foot T12 Systems","2F96SEE"," 2L8’ EE/ELIG  ",109]
["Eight Foot T12 Systems","2F96SEM"," 2L8’ EE/EEMAG  ",123]
["Eight Foot T12 Systems","2F96SSE"," 2L8’ STD/ELIG  ",134]
["Eight Foot T12 Systems","2F96SES"," 2L8’ EE/STD  ",138]
["Eight Foot T12 Systems","2F96SSM"," 2L8’ STD/EEMAG  ",158]
["Eight Foot T12 Systems","2F96SSS"," 2L8’ STD/STD  ",173]
["Eight Foot T12 Systems","4F96SEE"," 4L8’ EE/ELIG  ",218]
["Eight Foot T12 Systems","3F96SES"," 3L8’ EE/STD  ",221]
["Eight Foot T12 Systems","4F96SEM"," 4L8’ EE/EEMAG  ",246]
["Eight Foot T12 Systems","4F96SSE"," 4L8’ STD/ELIG  ",268]
["Eight Foot T12 Systems","3F96SSS"," 3L8’ STD/STD  ",273]
["Eight Foot T12 Systems","4F96SES"," 4L8’ EE/STD  ",276]
["Eight Foot T12 Systems","4F96SSM"," 4L8’ STD/EEMAG  ",316]
["Eight Foot T12 Systems","4F96SSS"," 4L8’ STD/STD  ",346]
["Eight Foot T12HO Systems","1F96HES"," 1L8’ HO/EE/STD  ",125]
["Eight Foot T12HO Systems","1F96HSS"," 1L8’ HO/STD/STD  ",135]
["Eight Foot T12HO Systems","2F96HEE"," 2L8’ HO/EE/ELIG  ",170]
["Eight Foot T12HO Systems","2F96HSE"," 2L8’ HO/STD/ELIG  ",195]
["Eight Foot T12HO Systems","2F96HEM"," 2L8’ HO/EE/EEMAG  ",207]
["Eight Foot T12HO Systems","2F96HES"," 2L8’ HO/EE/STD  ",227]
["Eight Foot T12HO Systems","2F96HSM"," 2L8’ HO/STD/EEMAG  ",237]
["Eight Foot T12HO Systems","2F96HSS"," 2L8’ HO/STD/STD  ",257]
["Eight Foot T12HO Systems","4F96HEE"," 4L8’ HO/EE/ELIG  ",340]
["Eight Foot T12HO Systems","3F96HES"," 3L8’ HO/EE/STD  ",352]
["Eight Foot T12HO Systems","4F96HSE"," 4L8’ HO/STD/ELIG  ",390]
["Eight Foot T12HO Systems","3F96HSS"," 3L8’ HO/STD/STD  ",392]
["Eight Foot T12HO Systems","4F96HEM"," 4L8’ HO/EE/EEMAG  ",414]
["Eight Foot T12HO Systems","4F96HES"," 4L8’ HO/EE/STD  ",454]
["Eight Foot T12HO Systems","4F96HSM"," 4L8’ HO/STD/EEMAG  ",474]
["Eight Foot T12HO Systems","4F96HSS"," 4L8’ HO/STD/STD  ",514]
["Eight Foot T12VHO Systems","1F96VES"," 1L8’ VHO/EE/STD  ",200]
["Eight Foot T12VHO Systems","1F96VSS"," 1L8’ VHO/STD/STD  ",230]
["Eight Foot T12VHO Systems","2F96VES"," 2L8’ VHO/EE/STD  ",390]
["Eight Foot T12VHO Systems","2F96VSS"," 2L8’ VHO/STD/STD  ",450]
["Eight Foot T12VHO Systems","3F96VES"," 3L8’ VHO/EE/STD  ",590]
["Eight Foot T12VHO Systems","3F96VSS"," 3L8’ VHO/STD/STD  ",680]
["Eight Foot T12VHO Systems","4F96VES"," 4L8’ VHO/EE/STD  ",780]
["Eight Foot T12VHO Systems","4F96VSS"," 4L8’ VHO/STD/STD  ",900]
["Eight Foot T8 Systems","1F59SSE"," 1L8’ T8/ELIG  ",60]
["Eight Foot T8 Systems","1F59SSE"," 1L8’ T8/ELIG  ",60]
["Eight Foot T8 Systems","1F80SSE"," 1L8’ T8 HO/ELIG  ",85]
["Eight Foot T8 Systems","1F80SSE"," 1L8’ T8 HO/ELIG  ",85]
["Eight Foot T8 Systems","2F59SSL"," 2L8’T8/ELIG LOW PWR  ",100]
["Eight Foot T8 Systems","2F59SSL"," 2L8’T8/ELIG LOW PWR  ",100]
["Eight Foot T8 Systems","2F59SSE"," 2L8’ T8/ELIG  ",109]
["Eight Foot T8 Systems","2F59SSE"," 2L8’ T8/ELIG  ",109]
["Eight Foot T8 Systems","2F80SSE"," 2L8’ T8 HO/ELIG  ",160]
["Eight Foot T8 Systems","2F80SSE"," 2L8’ T8 HO/ELIG  ",160]
["Eight Foot T8 Systems","4F59SSE"," 4L8’ T8/ELIG  ",218]
["Electronic Metal Halide Lamps","1M0150E"," 150W METAL HALIDE EB  ",160]
["Electronic Metal Halide Lamps","1M0200E"," 200W METAL HALIDE EB  ",215]
["Electronic Metal Halide Lamps","1M0250E"," 250W METAL HALIDE EB  ",270]
["Electronic Metal Halide Lamps","1M0320E"," 320W METAL HALIDE EB  ",345]
["Electronic Metal Halide Lamps","1M0350E"," 350W METAL HALIDE EB  ",375]
["Electronic Metal Halide Lamps","1M0400E"," 400W METAL HALIDE EB  ",430]
["Electronic Metal Halide Lamps","1M0450E"," 400W METAL HALIDE EB  ",480]
["Five Foot T8 / T12 Systems","1F40HSE"," 1L5’ HO/STD/ELIG  ",59]
["Five Foot T8 / T12 Systems","2F40TSE"," 2L5’T8/ELIG  ",68]
["Five Foot T8 / T12 Systems","1F60SSM"," 1L5’/STD/EEMAG  ",73]
["Five Foot T8 / T12 Systems","1F60HSM"," 1L5’ HO/STD/EEMAG  ",90]
["Five Foot T8 / T12 Systems","3F40TSE"," 3L5’T8/ELIG  ",106]
["Five Foot T8 / T12 Systems","2F60SSM"," 2L5’/STD/EEMAG  ",122]
["Five Foot T8 / T12 Systems","2F40HSE"," 2L5’ HO/STD/ELIG  ",123]
["Five Foot T8 / T12 Systems","1F60TSM"," 1L5’ T10HO/STD/EEMAG  ",135]
["Five Foot T8 / T12 Systems","2F60HSM"," 2L5’ HO/STD/EEMAG  ",178]
["Four Foot F48 / T12 Systems","1F48SES"," 1L4’ F48T12EE/STD  ",50]
["Four Foot F48 / T12 Systems","1F48SSS"," 1L4’ F48T12/STD  ",60]
["Four Foot F48 / T12 Systems","2F48SES"," 2L4’ F48T12EE/STD  ",82]
["Four Foot F48 / T12 Systems","2F48SSS"," 2L4’ F48T12/STD  ",102]
["Four Foot F48 / T12 Systems","3F48SES"," 3L4’ F48T12EE/STD  ",132]
["Four Foot F48 / T12 Systems","3F48SSS"," 3L4’ F48T12/STD  ",162]
["Four Foot F48 / T12 Systems","4F48SES"," 4L4’ F48T12EE/STD  ",164]
["Four Foot F48 / T12 Systems","4F48SSS"," 4L4’ F48T12/STD  ",204]
["Four Foot F48HO / T12 Systems","1F48HES"," 1L4’ F48HO/EE/STD  ",80]
["Four Foot F48HO / T12 Systems","1F48HSS"," 1L4’ F48H0/STD/STD  ",85]
["Four Foot F48HO / T12 Systems","2F48HES"," 2L4’ F48HO/EE/STD  ",135]
["Four Foot F48HO / T12 Systems","2F48HSS"," 2L4’ F48H0/STD/STD  ",145]
["Four Foot F48HO / T12 Systems","3F48HES"," 3L4’ F48HO/EE/STD  ",215]
["Four Foot F48HO / T12 Systems","3F48HSS"," 3L4’ F48H0/STD/STD  ",230]
["Four Foot F48HO / T12 Systems","4F48HES"," 4L4’ F48HO/EE/STD  ",270]
["Four Foot F48HO / T12 Systems","4F48HSS"," 4L4’ F48H0/STD/STD  ",290]
["Four Foot F48VHO / T12 Systems","1F48VES"," 1L4’ F48VHO/EE/STD  ",123]
["Four Foot F48VHO / T12 Systems","1F48VSS"," 1L4’ F48VHO/STD/STD  ",138]
["Four Foot F48VHO / T12 Systems","2F48VES"," 2L4’ F48VHO/EE/STD  ",210]
["Four Foot F48VHO / T12 Systems","2F48VSS"," 2L4’ F48VHO/STD/STD  ",240]
["Four Foot F48VHO / T12 Systems","3F48VES"," 3L4’ F48VHO/EE/STD  ",333]
["Four Foot F48VHO / T12 Systems","3F48VSS"," 3L4’ F48VHO/STD/STD  ",378]
["Four Foot F48VHO / T12 Systems","4F48VES"," 4L4’ F48VHO/EE/STD  ",420]
["Four Foot F48VHO / T12 Systems","4F48VSS"," 4L4’ F48VHO/STD/STD  ",480]
["Four Foot T12 Systems","1F40SEE"," 1L4’ EE/ELIG  ",38]
["Four Foot T12 Systems","1F40SEM"," 1L4’ EE/EEMAG  ",40]
["Four Foot T12 Systems","1F40SSE"," 1L4’ STD/ELIG  ",46]
["Four Foot T12 Systems","1F40SES"," 1L4’ EE/STD  ",50]
["Four Foot T12 Systems","1F40SSM"," 1L4’ STD/EEMAG  ",50]
["Four Foot T12 Systems","1F40SSS"," 1L4’ STD/STD  ",57]
["Four Foot T12 Systems","2F40SEE"," 2L4’ EE/ELIG  ",60]
["Four Foot T12 Systems","2F40SEM"," 2L4’ EE/EEMAG  ",70]
["Four Foot T12 Systems","2F40SSE"," 2L4’ STD/ELIG  ",72]
["Four Foot T12 Systems","2F40SES"," 2L4’ EE/STD  ",80]
["Four Foot T12 Systems","2F40SSM"," 2L4’ STD/EEMAG  ",86]
["Four Foot T12 Systems","3F40SEE"," 3L4’ EE/ELIG  ",90]
["Four Foot T12 Systems","2F40SSS"," 2L4’ STD/STD  ",94]
["Four Foot T12 Systems","3F40SEM"," 3L4’ EE/EEMAG  ",110]
["Four Foot T12 Systems","3F40SSE"," 3L4’ STD/ELIG  ",110]
["Four Foot T12 Systems","4F40SEE"," 4L4’ EE/ELIG  ",120]
["Four Foot T12 Systems","3F40SES"," 3L4’ EE/STD  ",130]
["Four Foot T12 Systems","3F40SSM"," 3L4’ STD/EEMAG  ",136]
["Four Foot T12 Systems","4F40SEM"," 4L4’ EE/EEMAG  ",140]
["Four Foot T12 Systems","4F40SSE"," 4L4’ STD/ELIG  ",144]
["Four Foot T12 Systems","3F40SSS"," 3L4’ STD/STD  ",151]
["Four Foot T12 Systems","4F40SES"," 4L4’ EE/STD  ",160]
["Four Foot T12 Systems","4F40SSM"," 4L4’ STD/EEMAG  ",172]
["Four Foot T12 Systems","4F40SSS"," 4L4’ STD/STD  ",188]
["Four Foot T12 Systems","6F40SSS"," 6L4’ STD/STD  ",282]
["Four Foot T8 High Efficient / Reduce Wattage Systems","1F25EEL"," 1L4’ 25W T8EE/ELEE LOW PWR  ",19]
["Four Foot T8 High Efficient / Reduce Wattage Systems","1F25EEE"," 1L4’ 25W T8EE/ELEE  ",22]
["Four Foot T8 High Efficient / Reduce Wattage Systems","1F28EEL"," 1L4’ 28W T8EE/ELEE LOW PWR  ",22]
["Four Foot T8 High Efficient / Reduce Wattage Systems","1F28EEE"," 1L4’ 28W T8EE/ELEE  ",24]
["Four Foot T8 High Efficient / Reduce Wattage Systems","1F30EEL"," 1L4’ 30W T8EE/ELEE LOW PWR  ",24]
["Four Foot T8 High Efficient / Reduce Wattage Systems","1F32EEL"," 1L4’ 32W T8EE/ELEE LOW PWR  ",25]
["Four Foot T8 High Efficient / Reduce Wattage Systems","1F30EEE"," 1L4’ 30W T8EE/ELEE  ",26]
["Four Foot T8 High Efficient / Reduce Wattage Systems","1F32EEE"," 1L4’ 32W T8EE/ELEE  ",28]
["Four Foot T8 High Efficient / Reduce Wattage Systems","1F25EEH"," 1L4’ 25W T8EE/ELEE HIGH PWR  ",30]
["Four Foot T8 High Efficient / Reduce Wattage Systems","1F28EEH"," 1L4’ 28W T8EE/ELEE HIGH PWR  ",33]
["Four Foot T8 High Efficient / Reduce Wattage Systems","1F30EEH"," 1L4’ 30W T8EE/ELEE HIGH PWR  ",36]
["Four Foot T8 High Efficient / Reduce Wattage Systems","2F25EEL"," 2L4’ 25W T8EE/ELEE LOW PWR  ",37]
["Four Foot T8 High Efficient / Reduce Wattage Systems","1F32EEH"," 1L4’ 32W T8EE/ELEE HIGH PWR  ",38]
["Four Foot T8 High Efficient / Reduce Wattage Systems","2F28EEL"," 2L4’ 28W T8EE/ELEE LOW PWR  ",42]
["Four Foot T8 High Efficient / Reduce Wattage Systems","2F25EEE"," 2L4’ 25W T8EE/ELEE  ",43]
["Four Foot T8 High Efficient / Reduce Wattage Systems","2F30EEL"," 2L4’ 30W T8EE/ELEE LOW PWR  ",45]
["Four Foot T8 High Efficient / Reduce Wattage Systems","2F32EEL"," 2L4’ 32W T8EE/ELEE LOW PWR  ",47]
["Four Foot T8 High Efficient / Reduce Wattage Systems","2F28EEE"," 2L4’ 28W T8EE/ELEE  ",48]
["Four Foot T8 High Efficient / Reduce Wattage Systems","2F30EEE"," 2L4’ 30W T8EE/ELEE  ",52]
["Four Foot T8 High Efficient / Reduce Wattage Systems","2F32EEE"," 2L4’ 32W T8EE/ELEE  ",53]
["Four Foot T8 High Efficient / Reduce Wattage Systems","2F25EEH"," 2L4’ 25W T8EE/ELEE HIGH PWR  ",57]
["Four Foot T8 High Efficient / Reduce Wattage Systems","3F25EEL"," 3L4’ 25W T8EE/ELEE LOW PWR  ",57]
["Four Foot T8 High Efficient / Reduce Wattage Systems","3F28EEL"," 3L4’ 28W T8EE/ELEE LOW PWR  ",63]
["Four Foot T8 High Efficient / Reduce Wattage Systems","2F28EEH"," 2L4’ 28WT8EE/ELEE HIGH PWR  ",64]
["Four Foot T8 High Efficient / Reduce Wattage Systems","3F25EEE"," 3L4’ 25W T8EE/ELEE  ",64]
["Four Foot T8 High Efficient / Reduce Wattage Systems","3F30EEL"," 3L4’ 30W T8EE/ELEE LOW PWR  ",68]
["Four Foot T8 High Efficient / Reduce Wattage Systems","2F30EEH"," 2L4’ 30WT8EE/ELEE HIGH PWR  ",69]
["Four Foot T8 High Efficient / Reduce Wattage Systems","3F28EEE"," 3L4’ 28W T8EE/ELEE  ",72]
["Four Foot T8 High Efficient / Reduce Wattage Systems","3F32EEL"," 3L4’ 32W T8EE/ELEE LOW PWR  ",72]
["Four Foot T8 High Efficient / Reduce Wattage Systems","2F32EEH"," 2L4’ 32W T8EE/ELEE HIGH PWR  ",73]
["Four Foot T8 High Efficient / Reduce Wattage Systems","4F25EEL"," 4L4’ 25W T8EE/ELEE LOW PWR  ",75]
["Four Foot T8 High Efficient / Reduce Wattage Systems","3F30EEE"," 3L4’ 30W T8EE/ELEE  ",77]
["Four Foot T8 High Efficient / Reduce Wattage Systems","3F32EEE"," 3L4’ 32W T8EE/ELEE  ",82]
["Four Foot T8 High Efficient / Reduce Wattage Systems","4F28EEL"," 4L4’ 28W T8EE/ELEE LOW PWR  ",83]
["Four Foot T8 High Efficient / Reduce Wattage Systems","3F25EEH"," 3L4’ 25W T8EE/ELEE HIGH PWR  ",86]
["Four Foot T8 High Efficient / Reduce Wattage Systems","4F25EEE"," 4L4’ 25W T8EE/ELEE  ",86]
["Four Foot T8 High Efficient / Reduce Wattage Systems","4F30EEL"," 4L4’ 30W T8EE/ELEE LOW PWR  ",89]
["Four Foot T8 High Efficient / Reduce Wattage Systems","4F28EEE"," 4L4’ 28W T8EE/ELEE  ",94]
["Four Foot T8 High Efficient / Reduce Wattage Systems","4F32EEL"," 4L4’ 32W T8EE/ELEE LOW PWR  ",95]
["Four Foot T8 High Efficient / Reduce Wattage Systems","3F28EEH"," 3L4’ 28W T8EE/ELEE HIGH PWR  ",96]
["Four Foot T8 High Efficient / Reduce Wattage Systems","4F30EEE"," 4L4’ 30W T8EE/ELEE  ",101]
["Four Foot T8 High Efficient / Reduce Wattage Systems","3F30EEH"," 3L4’ 30W T8EE/ELEE HIGH PWR  ",103]
["Four Foot T8 High Efficient / Reduce Wattage Systems","4F32EEE"," 4L4’ 32W T8EE/ELEE  ",107]
["Four Foot T8 High Efficient / Reduce Wattage Systems","3F32EEH"," 3L4’ 32W T8EE/ELEE HIGH PWR  ",109]
["Four Foot T8 High Efficient / Reduce Wattage Systems","4F25EEH"," 4L4’ 25W T8EE/ELEE HIGH PWR  ",111]
["Four Foot T8 High Efficient / Reduce Wattage Systems","4F28EEH"," 4L4’ 28W T8EE/ELEE HIGH PWR  ",126]
["Four Foot T8 High Efficient / Reduce Wattage Systems","6F28EEL"," 6L4’ 28W T8EE/ELEE LOW PWR  ",126]
["Four Foot T8 High Efficient / Reduce Wattage Systems","4F30EEH"," 4L4’ 30W T8EE/ELEE HIGH PWR  ",133]
["Four Foot T8 High Efficient / Reduce Wattage Systems","6F30EEL"," 6L4’ 30W T8EE/ELEE LOW PWR  ",136]
["Four Foot T8 High Efficient / Reduce Wattage Systems","4F32EEH"," 4L4’ 32W T8EE/ELEE HIGH PWR  ",141]
["Four Foot T8 High Efficient / Reduce Wattage Systems","6F28EEE"," 6L4’ 28W T8EE/ELEE  ",144]
["Four Foot T8 High Efficient / Reduce Wattage Systems","6F32EEL"," 6L4’ 32W T8EE/ELEE LOW PWR  ",146]
["Four Foot T8 High Efficient / Reduce Wattage Systems","6F30EEE"," 6L4’ 30W T8EE/ELEE  ",154]
["Four Foot T8 High Efficient / Reduce Wattage Systems","6F32EEE"," 6L4’ 32W T8EE/ELEE  ",168]
["Four Foot T8 High Efficient / Reduce Wattage Systems","5F32EEH"," 5L4’ 32W T8EE/ELEE HIGH PWR  ",182]
["Four Foot T8 High Efficient / Reduce Wattage Systems","6F28EEH"," 6L4’ 28W T8EE/ELEE HIGH PWR  ",192]
["Four Foot T8 High Efficient / Reduce Wattage Systems","6F32EEH"," 6L4’ 32W T8EE/ELEE HIGH PWR  ",218]
["Four Foot T8 High Efficient / Reduce Wattage Systems","7F32EEH"," 7L4’ 32W T8EE/ELEE HIGH PWR  ",250]
["Four Foot T8 Systems","1F32SSL"," 1L4 T8/ELIG LOW POWER  ",26]
["Four Foot T8 Systems","1F32SSE"," 1L4’ T8/ELIG  ",30]
["Four Foot T8 Systems","1F32SSM"," 1L4’ T8/EEMAG  ",37]
["Four Foot T8 Systems","2F32SSL"," 2L4 T8/ELIG LOW PWR  ",52]
["Four Foot T8 Systems","2F32SSE"," 2L4’ T8/ELIG  ",60]
["Four Foot T8 Systems","2F32SSM"," 2L4’ T8/EEMAG  ",70]
["Four Foot T8 Systems","3F32SSL"," 3L4 T8/ELIG LOW POWER  ",76]
["Four Foot T8 Systems","2F32SSH"," 2L4’T8/ELIG HIGH LMN  ",78]
["Four Foot T8 Systems","3F32SSE"," 3L4’ T8/ELIG  ",88]
["Four Foot T8 Systems","4F32SSL"," 4L4 T8/ELIG LOW PWR  ",98]
["Four Foot T8 Systems","3F32SSM"," 3L4’ T8/EEMAG  ",107]
["Four Foot T8 Systems","3F32SSH"," 3L4’T8/ELIG HIGH LMN  ",112]
["Four Foot T8 Systems","4F32SSE"," 4L4’ T8/ELIG  ",112]
["Four Foot T8 Systems","4F32SSM"," 4L4’ T8/EEMAG  ",140]
["Four Foot T8 Systems","5F32SSE"," 5L4’ T8/ELIG  ",148]
["Four Foot T8 Systems","4F32SSH"," 4L4’T8/ELIG HIGH LMN  ",156]
["Four Foot T8 Systems","6F32SSE"," 6L4’ T8/ELIG  ",174]
["Four Foot T8 Systems","5F32SSH"," 5L4’ T8/ELIG HIGH LMN  ",190]
["Four Foot T8 Systems","6F32SSH"," 6L4’ 32W T8/ELIG HIGH LMN  ",224]
["Four Foot T8 Systems","8F32SSH"," 8L4’T8/ELIG HIGH LMN  ",312]
["Halogen/Quartz Lamps","1T0035"," 35W HALOGEN LAMP  ",35]
["Halogen/Quartz Lamps","1T0040"," 40W HALOGEN LAMP  ",40]
["Halogen/Quartz Lamps","1T0042"," 42W HALOGEN LAMP  ",42]
["Halogen/Quartz Lamps","1T0045"," 45W HALOGEN LAMP  ",45]
["Halogen/Quartz Lamps","1T0047"," 47W HALOGEN LAMP  ",47]
["Halogen/Quartz Lamps","1T0050"," 50W HALOGEN LAMP  ",50]
["Halogen/Quartz Lamps","1T0052"," 52W HALOGEN LAMP  ",52]
["Halogen/Quartz Lamps","1T0055"," 55W HALOGEN LAMP  ",55]
["Halogen/Quartz Lamps","1T0060"," 60W HALOGEN LAMP  ",60]
["Halogen/Quartz Lamps","1T0072"," 72W HALOGEN LAMP  ",72]
["Halogen/Quartz Lamps","1T0075"," 75W HALOGEN LAMP  ",75]
["Halogen/Quartz Lamps","1T0090"," 90W HALOGEN LAMP  ",90]
["Halogen/Quartz Lamps","1T0100"," 100W HALOGEN LAMP  ",100]
["Halogen/Quartz Lamps","1T0150"," 150W HALOGEN LAMP  ",150]
["Halogen/Quartz Lamps","1T0200"," 200W HALOGEN LAMP  ",200]
["Halogen/Quartz Lamps","1T0250"," 250W HALOGEN LAMP  ",250]
["Halogen/Quartz Lamps","1T0300"," 300W HALOGEN LAMP  ",300]
["Halogen/Quartz Lamps","1T0350"," 350W HALOGEN LAMP  ",350]
["Halogen/Quartz Lamps","1T0400"," 400W HALOGEN LAMP  ",400]
["Halogen/Quartz Lamps","1T0425"," 425W HALOGEN LAMP  ",425]
["Halogen/Quartz Lamps","1T0500"," 500W HALOGEN LAMP  ",500]
["Halogen/Quartz Lamps","1T0750"," 750W HALOGEN LAMP  ",750]
["Halogen/Quartz Lamps","1T0900"," 900W HALOGEN LAMP  ",900]
["Halogen/Quartz Lamps","1T1000"," 1000W HALOGEN LAMP  ",1000]
["Halogen/Quartz Lamps","1T1200"," 1200W HALOGEN LAMP  ",1200]
["Halogen/Quartz Lamps","1T1500"," 1500W HALOGEN LAMP  ",1500]
["High Pressure Sodium (HPS)","1H0035S","35W HPS",45]
["High Pressure Sodium (HPS)","1H0050S","50W HPS",65]
["High Pressure Sodium (HPS)","1H0070S","70W HPS",90]
["High Pressure Sodium (HPS)","1H0100S","100W HPS",130]
["High Pressure Sodium (HPS)","1H0150S","150W HPS",190]
["High Pressure Sodium (HPS)","1H0200S","200W HPS",240]
["High Pressure Sodium (HPS)","1H0225S","225W HPS",275]
["High Pressure Sodium (HPS)","1H0250S","250W HPS",295]
["High Pressure Sodium (HPS)","1H0310S","310W HPS",350]
["High Pressure Sodium (HPS)","1H0360S","360W HPS",435]
["High Pressure Sodium (HPS)","1H0400S","400W HPS",460]
["High Pressure Sodium (HPS)","1H0600S","600W HPS",675]
["High Pressure Sodium (HPS)","1H0750S","750W HPS",835]
["High Pressure Sodium (HPS)","1H1000S","1000W HPS",1085]
["Incandescent Lamps","1I0015"," 15W INC  ",15]
["Incandescent Lamps","1I0020"," 20W INC  ",20]
["Incandescent Lamps","1I0025"," 25W INC  ",25]
["Incandescent Lamps","1I0034"," 34W INC  ",34]
["Incandescent Lamps","1I0036"," 36W INC  ",36]
["Incandescent Lamps","1I0040"," 40W INC  ",40]
["Incandescent Lamps","1I0042"," 42W INC  ",42]
["Incandescent Lamps","1I0045"," 45W INC  ",45]
["Incandescent Lamps","1I0050"," 50W INC  ",50]
["Incandescent Lamps","1I0052"," 52W INC  ",52]
["Incandescent Lamps","1I0054"," 54W INC  ",54]
["Incandescent Lamps","1I0055"," 55W INC  ",55]
["Incandescent Lamps","1I0060"," 60W INC  ",60]
["Incandescent Lamps","1I0065"," 65W INC  ",65]
["Incandescent Lamps","1I0067"," 67W INC  ",67]
["Incandescent Lamps","1I0069"," 69W INC  ",69]
["Incandescent Lamps","1I0072"," 72W INC  ",72]
["Incandescent Lamps","1I0075"," 75W INC  ",75]
["Incandescent Lamps","1I0080"," 80W INC  ",80]
["Incandescent Lamps","1I0085"," 85W INC  ",85]
["Incandescent Lamps","1I0090"," 90W INC  ",90]
["Incandescent Lamps","1I0093"," 93W INC  ",93]
["Incandescent Lamps","1I0100"," 100W INC  ",100]
["Incandescent Lamps","1I0120"," 120W INC  ",120]
["Incandescent Lamps","1I0125"," 125W INC  ",125]
["Incandescent Lamps","1I0135"," 135W INC  ",135]
["Incandescent Lamps","1I0150"," 150W INC  ",150]
["Incandescent Lamps","1I0200"," 200W INC  ",200]
["Incandescent Lamps","1I0300"," 300W INC  ",300]
["Incandescent Lamps","1I0448"," 448W INC  ",448]
["Incandescent Lamps","1I0500"," 500W INC  ",500]
["Incandescent Lamps","1I0750"," 750W INC  ",750]
["Incandescent Lamps","1I1000"," 1000W INC  ",1000]
["Incandescent Lamps","1I1500"," 1500W INC  ",1500]
["LED Exit Signs","1E0005C"," 0.5 WATT LEC  ",0.5]
["LED Exit Signs","1E0015"," 1.5 WATT LED  ",1.5]
["LED Exit Signs","1E0002"," 2.0 WATT LED  ",2]
["LED Exit Signs","1E0003"," 3.0 WATT LED  ",3]
["LED Exit Signs","1E0005"," 5.0 WLED  ",5]
["LED Exit Signs","1E0008"," 8.0 WLED  ",8]
["LED Exit Signs","1E0105"," 10.5 WATT LED  ",10.5]
["LED Lighting Fixtures","1L002","2 WATT LED",2]
["LED Lighting Fixtures","1L003","3 WATT LED",3]
["LED Lighting Fixtures","1L004","4 WATT LED",4]
["LED Lighting Fixtures","1L005","5 WATT LED",5]
["LED Lighting Fixtures","1L006","6 WATT LED",6]
["LED Lighting Fixtures","1L007","7 WATT LED",7]
["LED Lighting Fixtures","1L008","8 WATT LED",8]
["LED Lighting Fixtures","1L009","9 WATT LED",9]
["LED Lighting Fixtures","1L010","10 WATT LED",10]
["LED Lighting Fixtures","1L011","11 WATT LED",11]
["LED Lighting Fixtures","1L012","12 WATT LED",12]
["LED Lighting Fixtures","1L013","13 WATT LED",13]
["LED Lighting Fixtures","1L014","14 WATT LED",14]
["LED Lighting Fixtures","1L015","15 WATT LED",15]
["LED Lighting Fixtures","1L016","16 WATT LED",16]
["LED Lighting Fixtures","1L017","17 WATT LED",17]
["LED Lighting Fixtures","1L018","18 WATT LED",18]
["LED Lighting Fixtures","1L019","19 WATT LED",19]
["LED Lighting Fixtures","1L020","20 WATT LED",20]
["LED Lighting Fixtures","1L021","21 WATT LED",21]
["LED Lighting Fixtures","1L022","22 WATT LED",22]
["LED Lighting Fixtures","1L023","23 WATT LED",23]
["LED Lighting Fixtures","1L024","24 WATT LED",24]
["LED Lighting Fixtures","1L025","25 WATT LED",25]
["LED Lighting Fixtures","1L026","26 WATT LED",26]
["LED Lighting Fixtures","1L027","27 WATT LED",27]
["LED Lighting Fixtures","1L028","28 WATT LED",28]
["LED Lighting Fixtures","1L029","29 WATT LED",29]
["LED Lighting Fixtures","1L030","30 WATT LED",30]
["LED Lighting Fixtures","1L031","31 WATT LED",31]
["LED Lighting Fixtures","1L032","32 WATT LED",32]
["LED Lighting Fixtures","1L033","33 WATT LED",33]
["LED Lighting Fixtures","1L034","34 WATT LED",34]
["LED Lighting Fixtures","1L035","35 WATT LED",35]
["LED Lighting Fixtures","1L036","36 WATT LED",36]
["LED Lighting Fixtures","1L037","37 WATT LED",37]
["LED Lighting Fixtures","1L038","38 WATT LED",38]
["LED Lighting Fixtures","1L039","39 WATT LED",39]
["LED Lighting Fixtures","1L040","40 WATT LED",40]
["LED Lighting Fixtures","1L041","41 WATT LED",41]
["LED Lighting Fixtures","1L042","42 WATT LED",42]
["LED Lighting Fixtures","1L043","43 WATT LED",43]
["LED Lighting Fixtures","1L044","44 WATT LED",44]
["LED Lighting Fixtures","1L045","45 WATT LED",45]
["LED Lighting Fixtures","1L046","46 WATT LED",46]
["LED Lighting Fixtures","1L047","47 WATT LED",47]
["LED Lighting Fixtures","1L048","48 WATT LED",48]
["LED Lighting Fixtures","1L049","49 WATT LED",49]
["LED Lighting Fixtures","1L050","50 WATT LED",50]
["LED Lighting Fixtures","1L051","51 WATT LED",51]
["LED Lighting Fixtures","1L052","52 WATT LED",52]
["LED Lighting Fixtures","1L053","53 WATT LED",53]
["LED Lighting Fixtures","1L054","54 WATT LED",54]
["LED Lighting Fixtures","1L055","55 WATT LED",55]
["LED Lighting Fixtures","1L056","56 WATT LED",56]
["LED Lighting Fixtures","1L057","57 WATT LED",57]
["LED Lighting Fixtures","1L058","58 WATT LED",58]
["LED Lighting Fixtures","1L059","59 WATT LED",59]
["LED Lighting Fixtures","1L060","60 WATT LED",60]
["LED Lighting Fixtures","1L061","61 WATT LED",61]
["LED Lighting Fixtures","1L062","62 WATT LED",62]
["LED Lighting Fixtures","1L063","63 WATT LED",63]
["LED Lighting Fixtures","1L064","64 WATT LED",64]
["LED Lighting Fixtures","1L065","65 WATT LED",65]
["LED Lighting Fixtures","1L066","66 WATT LED",66]
["LED Lighting Fixtures","1L067","67 WATT LED",67]
["LED Lighting Fixtures","1L068","68 WATT LED",68]
["LED Lighting Fixtures","1L069","69 WATT LED",69]
["LED Lighting Fixtures","1L070","70 WATT LED",70]
["LED Lighting Fixtures","1L071","71 WATT LED",71]
["LED Lighting Fixtures","1L072","72 WATT LED",72]
["LED Lighting Fixtures","1L073","73 WATT LED",73]
["LED Lighting Fixtures","1L074","74 WATT LED",74]
["LED Lighting Fixtures","1L075","75 WATT LED",75]
["LED Lighting Fixtures","1L076","76 WATT LED",76]
["LED Lighting Fixtures","1L077","77 WATT LED",77]
["LED Lighting Fixtures","1L078","78 WATT LED",78]
["LED Lighting Fixtures","1L079","79 WATT LED",79]
["LED Lighting Fixtures","1L080","80 WATT LED",80]
["LED Lighting Fixtures","1L081","81 WATT LED",81]
["LED Lighting Fixtures","1L082","82 WATT LED",82]
["LED Lighting Fixtures","1L083","83 WATT LED",83]
["LED Lighting Fixtures","1L084","84 WATT LED",84]
["LED Lighting Fixtures","1L085","85 WATT LED",85]
["LED Lighting Fixtures","1L086","86 WATT LED",86]
["LED Lighting Fixtures","1L087","87 WATT LED",87]
["LED Lighting Fixtures","1L088","88 WATT LED",88]
["LED Lighting Fixtures","1L089","89 WATT LED",89]
["LED Lighting Fixtures","1L090","90 WATT LED",90]
["LED Lighting Fixtures","1L091","91 WATT LED",91]
["LED Lighting Fixtures","1L092","92 WATT LED",92]
["LED Lighting Fixtures","1L093","93 WATT LED",93]
["LED Lighting Fixtures","1L094","94 WATT LED",94]
["LED Lighting Fixtures","1L095","95 WATT LED",95]
["LED Lighting Fixtures","1L096","96 WATT LED",96]
["LED Lighting Fixtures","1L097","97 WATT LED",97]
["LED Lighting Fixtures","1L098","98 WATT LED",98]
["LED Lighting Fixtures","1L099","99 WATT LED",99]
["LED Lighting Fixtures","1L0100","100 WATT LED",100]
["LED Lighting Fixtures","1L0101","101 WATT LED",101]
["LED Lighting Fixtures","1L0102","102 WATT LED",102]
["LED Lighting Fixtures","1L0103","103 WATT LED",103]
["LED Lighting Fixtures","1L0104","104 WATT LED",104]
["LED Lighting Fixtures","1L0105","105 WATT LED",105]
["LED Lighting Fixtures","1L0106","106 WATT LED",106]
["LED Lighting Fixtures","1L0107","107 WATT LED",107]
["LED Lighting Fixtures","1L0108","108 WATT LED",108]
["LED Lighting Fixtures","1L0109","109 WATT LED",109]
["LED Lighting Fixtures","1L0110","110 WATT LED",110]
["LED Lighting Fixtures","1L0111","111 WATT LED",111]
["LED Lighting Fixtures","1L0112","112 WATT LED",112]
["LED Lighting Fixtures","1L0113","113 WATT LED",113]
["LED Lighting Fixtures","1L0114","114 WATT LED",114]
["LED Lighting Fixtures","1L0115","115 WATT LED",115]
["LED Lighting Fixtures","1L0116","116 WATT LED",116]
["LED Lighting Fixtures","1L0117","117 WATT LED",117]
["LED Lighting Fixtures","1L0118","118 WATT LED",118]
["LED Lighting Fixtures","1L0119","119 WATT LED",119]
["LED Lighting Fixtures","1L0120","120 WATT LED",120]
["LED Lighting Fixtures","1L0121","121 WATT LED",121]
["LED Lighting Fixtures","1L0122","122 WATT LED",122]
["LED Lighting Fixtures","1L0123","123 WATT LED",123]
["LED Lighting Fixtures","1L0124","124 WATT LED",124]
["LED Lighting Fixtures","1L0125","125 WATT LED",125]
["LED Lighting Fixtures","1L0126","126 WATT LED",126]
["LED Lighting Fixtures","1L0127","127 WATT LED",127]
["LED Lighting Fixtures","1L0128","128 WATT LED",128]
["LED Lighting Fixtures","1L0129","129 WATT LED",129]
["LED Lighting Fixtures","1L0130","130 WATT LED",130]
["LED Lighting Fixtures","1L0131","131 WATT LED",131]
["LED Lighting Fixtures","1L0132","132 WATT LED",132]
["LED Lighting Fixtures","1L0133","133 WATT LED",133]
["LED Lighting Fixtures","1L0134","134 WATT LED",134]
["LED Lighting Fixtures","1L0135","135 WATT LED",135]
["LED Lighting Fixtures","1L0136","136 WATT LED",136]
["LED Lighting Fixtures","1L0137","137 WATT LED",137]
["LED Lighting Fixtures","1L0138","138 WATT LED",138]
["LED Lighting Fixtures","1L0139","139 WATT LED",139]
["LED Lighting Fixtures","1L0140","140 WATT LED",140]
["LED Lighting Fixtures","1L0141","141 WATT LED",141]
["LED Lighting Fixtures","1L0142","142 WATT LED",142]
["LED Lighting Fixtures","1L0143","143 WATT LED",143]
["LED Lighting Fixtures","1L0144","144 WATT LED",144]
["LED Lighting Fixtures","1L0145","145 WATT LED",145]
["LED Lighting Fixtures","1L0146","146 WATT LED",146]
["LED Lighting Fixtures","1L0147","147 WATT LED",147]
["LED Lighting Fixtures","1L0148","148 WATT LED",148]
["LED Lighting Fixtures","1L0149","149 WATT LED",149]
["LED Lighting Fixtures","1L0150","150 WATT LED",150]
["LED Lighting Fixtures","1L0151","151 WATT LED",151]
["LED Lighting Fixtures","1L0152","152 WATT LED",152]
["LED Lighting Fixtures","1L0153","153 WATT LED",153]
["LED Lighting Fixtures","1L0154","154 WATT LED",154]
["LED Lighting Fixtures","1L0155","155 WATT LED",155]
["LED Lighting Fixtures","1L0156","156 WATT LED",156]
["LED Lighting Fixtures","1L0157","157 WATT LED",157]
["LED Lighting Fixtures","1L0158","158 WATT LED",158]
["LED Lighting Fixtures","1L0159","159 WATT LED",159]
["LED Lighting Fixtures","1L0160","160 WATT LED",160]
["LED Lighting Fixtures","1L0161","161 WATT LED",161]
["LED Lighting Fixtures","1L0162","162 WATT LED",162]
["LED Lighting Fixtures","1L0163","163 WATT LED",163]
["LED Lighting Fixtures","1L0164","164 WATT LED",164]
["LED Lighting Fixtures","1L0165","165 WATT LED",165]
["LED Lighting Fixtures","1L0166","166 WATT LED",166]
["LED Lighting Fixtures","1L0167","167 WATT LED",167]
["LED Lighting Fixtures","1L0168","168 WATT LED",168]
["LED Lighting Fixtures","1L0169","169 WATT LED",169]
["LED Lighting Fixtures","1L0170","170 WATT LED",170]
["LED Lighting Fixtures","1L0171","171 WATT LED",171]
["LED Lighting Fixtures","1L0172","172 WATT LED",172]
["LED Lighting Fixtures","1L0173","173 WATT LED",173]
["LED Lighting Fixtures","1L0174","174 WATT LED",174]
["LED Lighting Fixtures","1L0175","175 WATT LED",175]
["LED Lighting Fixtures","1L0176","176 WATT LED",176]
["LED Lighting Fixtures","1L0177","177 WATT LED",177]
["LED Lighting Fixtures","1L0178","178 WATT LED",178]
["LED Lighting Fixtures","1L0179","179 WATT LED",179]
["LED Lighting Fixtures","1L0180","180 WATT LED",180]
["LED Lighting Fixtures","1L0181","181 WATT LED",181]
["LED Lighting Fixtures","1L0182","182 WATT LED",182]
["LED Lighting Fixtures","1L0183","183 WATT LED",183]
["LED Lighting Fixtures","1L0184","184 WATT LED",184]
["LED Lighting Fixtures","1L0185","185 WATT LED",185]
["LED Lighting Fixtures","1L0186","186 WATT LED",186]
["LED Lighting Fixtures","1L0187","187 WATT LED",187]
["LED Lighting Fixtures","1L0188","188 WATT LED",188]
["LED Lighting Fixtures","1L0189","189 WATT LED",189]
["LED Lighting Fixtures","1L0190","190 WATT LED",190]
["LED Lighting Fixtures","1L0191","191 WATT LED",191]
["LED Lighting Fixtures","1L0192","192 WATT LED",192]
["LED Lighting Fixtures","1L0193","193 WATT LED",193]
["LED Lighting Fixtures","1L0194","194 WATT LED",194]
["LED Lighting Fixtures","1L0195","195 WATT LED",195]
["LED Lighting Fixtures","1L0196","196 WATT LED",196]
["LED Lighting Fixtures","1L0197","197 WATT LED",197]
["LED Lighting Fixtures","1L0198","198 WATT LED",198]
["LED Lighting Fixtures","1L0199","199 WATT LED",199]
["LED Lighting Fixtures","1L0200","200 WATT LED",200]
["LED Lighting Fixtures","1L0201","201 WATT LED",201]
["LED Lighting Fixtures","1L0202","202 WATT LED",202]
["LED Lighting Fixtures","1L0203","203 WATT LED",203]
["LED Lighting Fixtures","1L0204","204 WATT LED",204]
["LED Lighting Fixtures","1L0205","205 WATT LED",205]
["LED Lighting Fixtures","1L0206","206 WATT LED",206]
["LED Lighting Fixtures","1L0207","207 WATT LED",207]
["LED Lighting Fixtures","1L0208","208 WATT LED",208]
["LED Lighting Fixtures","1L0209","209 WATT LED",209]
["LED Lighting Fixtures","1L0210","210 WATT LED",210]
["LED Lighting Fixtures","1L0211","211 WATT LED",211]
["LED Lighting Fixtures","1L0212","212 WATT LED",212]
["LED Lighting Fixtures","1L0213","213 WATT LED",213]
["LED Lighting Fixtures","1L0214","214 WATT LED",214]
["LED Lighting Fixtures","1L0215","215 WATT LED",215]
["LED Lighting Fixtures","1L0216","216 WATT LED",216]
["LED Lighting Fixtures","1L0217","217 WATT LED",217]
["LED Lighting Fixtures","1L0218","218 WATT LED",218]
["LED Lighting Fixtures","1L0219","219 WATT LED",219]
["LED Lighting Fixtures","1L0220","220 WATT LED",220]
["LED Lighting Fixtures","1L0221","221 WATT LED",221]
["LED Lighting Fixtures","1L0222","222 WATT LED",222]
["LED Lighting Fixtures","1L0223","223 WATT LED",223]
["LED Lighting Fixtures","1L0224","224 WATT LED",224]
["LED Lighting Fixtures","1L0225","225 WATT LED",225]
["LED Lighting Fixtures","1L0226","226 WATT LED",226]
["LED Lighting Fixtures","1L0227","227 WATT LED",227]
["LED Lighting Fixtures","1L0228","228 WATT LED",228]
["LED Lighting Fixtures","1L0229","229 WATT LED",229]
["LED Lighting Fixtures","1L0230","230 WATT LED",230]
["LED Lighting Fixtures","1L0231","231 WATT LED",231]
["LED Lighting Fixtures","1L0232","232 WATT LED",232]
["LED Lighting Fixtures","1L0233","233 WATT LED",233]
["LED Lighting Fixtures","1L0234","234 WATT LED",234]
["LED Lighting Fixtures","1L0235","235 WATT LED",235]
["LED Lighting Fixtures","1L0236","236 WATT LED",236]
["LED Lighting Fixtures","1L0237","237 WATT LED",237]
["LED Lighting Fixtures","1L0238","238 WATT LED",238]
["LED Lighting Fixtures","1L0239","239 WATT LED",239]
["LED Lighting Fixtures","1L0240","240 WATT LED",240]
["LED Lighting Fixtures","1L0241","241 WATT LED",241]
["LED Lighting Fixtures","1L0242","242 WATT LED",242]
["LED Lighting Fixtures","1L0243","243 WATT LED",243]
["LED Lighting Fixtures","1L0244","244 WATT LED",244]
["LED Lighting Fixtures","1L0245","245 WATT LED",245]
["LED Lighting Fixtures","1L0246","246 WATT LED",246]
["LED Lighting Fixtures","1L0247","247 WATT LED",247]
["LED Lighting Fixtures","1L0248","248 WATT LED",248]
["LED Lighting Fixtures","1L0249","249 WATT LED",249]
["LED Lighting Fixtures","1L0250","250 WATT LED",250]
["LED Lighting Fixtures","1L0251","251 WATT LED",251]
["LED Lighting Fixtures","1L0252","252 WATT LED",252]
["LED Lighting Fixtures","1L0253","253 WATT LED",253]
["LED Lighting Fixtures","1L0254","254 WATT LED",254]
["LED Lighting Fixtures","1L0255","255 WATT LED",255]
["LED Lighting Fixtures","1L0256","256 WATT LED",256]
["LED Lighting Fixtures","1L0257","257 WATT LED",257]
["LED Lighting Fixtures","1L0258","258 WATT LED",258]
["LED Lighting Fixtures","1L0259","259 WATT LED",259]
["LED Lighting Fixtures","1L0260","260 WATT LED",260]
["LED Lighting Fixtures","1L0261","261 WATT LED",261]
["LED Lighting Fixtures","1L0262","262 WATT LED",262]
["LED Lighting Fixtures","1L0263","263 WATT LED",263]
["LED Lighting Fixtures","1L0264","264 WATT LED",264]
["LED Lighting Fixtures","1L0265","265 WATT LED",265]
["LED Lighting Fixtures","1L0266","266 WATT LED",266]
["LED Lighting Fixtures","1L0267","267 WATT LED",267]
["LED Lighting Fixtures","1L0268","268 WATT LED",268]
["LED Lighting Fixtures","1L0269","269 WATT LED",269]
["LED Lighting Fixtures","1L0270","270 WATT LED",270]
["LED Lighting Fixtures","1L0271","271 WATT LED",271]
["LED Lighting Fixtures","1L0272","272 WATT LED",272]
["LED Lighting Fixtures","1L0273","273 WATT LED",273]
["LED Lighting Fixtures","1L0274","274 WATT LED",274]
["LED Lighting Fixtures","1L0275","275 WATT LED",275]
["LED Lighting Fixtures","1L0276","276 WATT LED",276]
["LED Lighting Fixtures","1L0277","277 WATT LED",277]
["LED Lighting Fixtures","1L0278","278 WATT LED",278]
["LED Lighting Fixtures","1L0279","279 WATT LED",279]
["LED Lighting Fixtures","1L0280","280 WATT LED",280]
["LED Lighting Fixtures","1L0281","281 WATT LED",281]
["LED Lighting Fixtures","1L0282","282 WATT LED",282]
["LED Lighting Fixtures","1L0283","283 WATT LED",283]
["LED Lighting Fixtures","1L0284","284 WATT LED",284]
["LED Lighting Fixtures","1L0285","285 WATT LED",285]
["LED Lighting Fixtures","1L0286","286 WATT LED",286]
["LED Lighting Fixtures","1L0287","287 WATT LED",287]
["LED Lighting Fixtures","1L0288","288 WATT LED",288]
["LED Lighting Fixtures","1L0289","289 WATT LED",289]
["LED Lighting Fixtures","1L0290","290 WATT LED",290]
["LED Lighting Fixtures","1L0291","291 WATT LED",291]
["LED Lighting Fixtures","1L0292","292 WATT LED",292]
["LED Lighting Fixtures","1L0293","293 WATT LED",293]
["LED Lighting Fixtures","1L0294","294 WATT LED",294]
["LED Lighting Fixtures","1L0295","295 WATT LED",295]
["LED Lighting Fixtures","1L0296","296 WATT LED",296]
["LED Lighting Fixtures","1L0297","297 WATT LED",297]
["LED Lighting Fixtures","1L0298","298 WATT LED",298]
["LED Lighting Fixtures","1L0299","299 WATT LED",299]
["LED Lighting Fixtures","1L0300","300 WATT LED",300]
["LED Lighting Fixtures","1L0301","301 WATT LED",301]
["LED Lighting Fixtures","1L0302","302 WATT LED",302]
["LED Lighting Fixtures","1L0303","303 WATT LED",303]
["LED Lighting Fixtures","1L0304","304 WATT LED",304]
["LED Lighting Fixtures","1L0305","305 WATT LED",305]
["LED Lighting Fixtures","1L0306","306 WATT LED",306]
["LED Lighting Fixtures","1L0307","307 WATT LED",307]
["LED Lighting Fixtures","1L0308","308 WATT LED",308]
["LED Lighting Fixtures","1L0309","309 WATT LED",309]
["LED Lighting Fixtures","1L0310","310 WATT LED",310]
["LED Lighting Fixtures","1L0311","311 WATT LED",311]
["LED Lighting Fixtures","1L0312","312 WATT LED",312]
["LED Lighting Fixtures","1L0313","313 WATT LED",313]
["LED Lighting Fixtures","1L0314","314 WATT LED",314]
["LED Lighting Fixtures","1L0315","315 WATT LED",315]
["LED Lighting Fixtures","1L0316","316 WATT LED",316]
["LED Lighting Fixtures","1L0317","317 WATT LED",317]
["LED Lighting Fixtures","1L0318","318 WATT LED",318]
["LED Lighting Fixtures","1L0319","319 WATT LED",319]
["LED Lighting Fixtures","1L0320","320 WATT LED",320]
["LED Lighting Fixtures","1L0321","321 WATT LED",321]
["LED Lighting Fixtures","1L0322","322 WATT LED",322]
["LED Lighting Fixtures","1L0323","323 WATT LED",323]
["LED Lighting Fixtures","1L0324","324 WATT LED",324]
["LED Lighting Fixtures","1L0325","325 WATT LED",325]
["LED Lighting Fixtures","1L0326","326 WATT LED",326]
["LED Lighting Fixtures","1L0327","327 WATT LED",327]
["LED Lighting Fixtures","1L0328","328 WATT LED",328]
["LED Lighting Fixtures","1L0329","329 WATT LED",329]
["LED Lighting Fixtures","1L0330","330 WATT LED",330]
["LED Lighting Fixtures","1L0331","331 WATT LED",331]
["LED Lighting Fixtures","1L0332","332 WATT LED",332]
["LED Lighting Fixtures","1L0333","333 WATT LED",333]
["LED Lighting Fixtures","1L0334","334 WATT LED",334]
["LED Lighting Fixtures","1L0335","335 WATT LED",335]
["LED Lighting Fixtures","1L0336","336 WATT LED",336]
["LED Lighting Fixtures","1L0337","337 WATT LED",337]
["LED Lighting Fixtures","1L0338","338 WATT LED",338]
["LED Lighting Fixtures","1L0339","339 WATT LED",339]
["LED Lighting Fixtures","1L0340","340 WATT LED",340]
["LED Lighting Fixtures","1L0341","341 WATT LED",341]
["LED Lighting Fixtures","1L0342","342 WATT LED",342]
["LED Lighting Fixtures","1L0343","343 WATT LED",343]
["LED Lighting Fixtures","1L0344","344 WATT LED",344]
["LED Lighting Fixtures","1L0345","345 WATT LED",345]
["LED Lighting Fixtures","1L0346","346 WATT LED",346]
["LED Lighting Fixtures","1L0347","347 WATT LED",347]
["LED Lighting Fixtures","1L0348","348 WATT LED",348]
["LED Lighting Fixtures","1L0349","349 WATT LED",349]
["LED Lighting Fixtures","1L0350","350 WATT LED",350]
["LED Lighting Fixtures","1L0351","351 WATT LED",351]
["LED Lighting Fixtures","1L0352","352 WATT LED",352]
["LED Lighting Fixtures","1L0353","353 WATT LED",353]
["LED Lighting Fixtures","1L0354","354 WATT LED",354]
["LED Lighting Fixtures","1L0355","355 WATT LED",355]
["LED Lighting Fixtures","1L0356","356 WATT LED",356]
["LED Lighting Fixtures","1L0357","357 WATT LED",357]
["LED Lighting Fixtures","1L0358","358 WATT LED",358]
["LED Lighting Fixtures","1L0359","359 WATT LED",359]
["LED Lighting Fixtures","1L0360","360 WATT LED",360]
["LED Lighting Fixtures","1L0361","361 WATT LED",361]
["LED Lighting Fixtures","1L0362","362 WATT LED",362]
["LED Lighting Fixtures","1L0363","363 WATT LED",363]
["LED Lighting Fixtures","1L0364","364 WATT LED",364]
["LED Lighting Fixtures","1L0365","365 WATT LED",365]
["LED Lighting Fixtures","1L0366","366 WATT LED",366]
["LED Lighting Fixtures","1L0367","367 WATT LED",367]
["LED Lighting Fixtures","1L0368","368 WATT LED",368]
["LED Lighting Fixtures","1L0369","369 WATT LED",369]
["LED Lighting Fixtures","1L0370","370 WATT LED",370]
["LED Lighting Fixtures","1L0371","371 WATT LED",371]
["LED Lighting Fixtures","1L0372","372 WATT LED",372]
["LED Lighting Fixtures","1L0373","373 WATT LED",373]
["LED Lighting Fixtures","1L0374","374 WATT LED",374]
["LED Lighting Fixtures","1L0375","375 WATT LED",375]
["LED Lighting Fixtures","1L0376","376 WATT LED",376]
["LED Lighting Fixtures","1L0377","377 WATT LED",377]
["LED Lighting Fixtures","1L0378","378 WATT LED",378]
["LED Lighting Fixtures","1L0379","379 WATT LED",379]
["LED Lighting Fixtures","1L0380","380 WATT LED",380]
["LED Lighting Fixtures","1L0381","381 WATT LED",381]
["LED Lighting Fixtures","1L0382","382 WATT LED",382]
["LED Lighting Fixtures","1L0383","383 WATT LED",383]
["LED Lighting Fixtures","1L0384","384 WATT LED",384]
["LED Lighting Fixtures","1L0385","385 WATT LED",385]
["LED Lighting Fixtures","1L0386","386 WATT LED",386]
["LED Lighting Fixtures","1L0387","387 WATT LED",387]
["LED Lighting Fixtures","1L0388","388 WATT LED",388]
["LED Lighting Fixtures","1L0389","389 WATT LED",389]
["LED Lighting Fixtures","1L0390","390 WATT LED",390]
["LED Lighting Fixtures","1L0391","391 WATT LED",391]
["LED Lighting Fixtures","1L0392","392 WATT LED",392]
["LED Lighting Fixtures","1L0393","393 WATT LED",393]
["LED Lighting Fixtures","1L0394","394 WATT LED",394]
["LED Lighting Fixtures","1L0395","395 WATT LED",395]
["LED Lighting Fixtures","1L0396","396 WATT LED",396]
["LED Lighting Fixtures","1L0397","397 WATT LED",397]
["LED Lighting Fixtures","1L0398","398 WATT LED",398]
["LED Lighting Fixtures","1L0399","399 WATT LED",399]
["LED Lighting Fixtures","1L0400","400 WATT LED",400]
["LED Lighting Fixtures","1L0401","401 WATT LED",401]
["LED Lighting Fixtures","1L0402","402 WATT LED",402]
["LED Lighting Fixtures","1L0403","403 WATT LED",403]
["LED Lighting Fixtures","1L0404","404 WATT LED",404]
["LED Lighting Fixtures","1L0405","405 WATT LED",405]
["LED Lighting Fixtures","1L0406","406 WATT LED",406]
["LED Lighting Fixtures","1L0407","407 WATT LED",407]
["LED Lighting Fixtures","1L0408","408 WATT LED",408]
["LED Lighting Fixtures","1L0409","409 WATT LED",409]
["LED Lighting Fixtures","1L0410","410 WATT LED",410]
["LED Lighting Fixtures","1L0411","411 WATT LED",411]
["LED Lighting Fixtures","1L0412","412 WATT LED",412]
["LED Lighting Fixtures","1L0413","413 WATT LED",413]
["LED Lighting Fixtures","1L0414","414 WATT LED",414]
["LED Lighting Fixtures","1L0415","415 WATT LED",415]
["LED Lighting Fixtures","1L0416","416 WATT LED",416]
["LED Lighting Fixtures","1L0417","417 WATT LED",417]
["LED Lighting Fixtures","1L0418","418 WATT LED",418]
["LED Lighting Fixtures","1L0419","419 WATT LED",419]
["LED Lighting Fixtures","1L0420","420 WATT LED",420]
["LED Lighting Fixtures","1L0421","421 WATT LED",421]
["LED Lighting Fixtures","1L0422","422 WATT LED",422]
["LED Lighting Fixtures","1L0423","423 WATT LED",423]
["LED Lighting Fixtures","1L0424","424 WATT LED",424]
["LED Lighting Fixtures","1L0425","425 WATT LED",425]
["LED Lighting Fixtures","1L0426","426 WATT LED",426]
["LED Lighting Fixtures","1L0427","427 WATT LED",427]
["LED Lighting Fixtures","1L0428","428 WATT LED",428]
["LED Lighting Fixtures","1L0429","429 WATT LED",429]
["LED Lighting Fixtures","1L0430","430 WATT LED",430]
["LED Lighting Fixtures","1L0431","431 WATT LED",431]
["LED Lighting Fixtures","1L0432","432 WATT LED",432]
["LED Lighting Fixtures","1L0433","433 WATT LED",433]
["LED Lighting Fixtures","1L0434","434 WATT LED",434]
["LED Lighting Fixtures","1L0435","435 WATT LED",435]
["LED Lighting Fixtures","1L0436","436 WATT LED",436]
["LED Lighting Fixtures","1L0437","437 WATT LED",437]
["LED Lighting Fixtures","1L0438","438 WATT LED",438]
["LED Lighting Fixtures","1L0439","439 WATT LED",439]
["LED Lighting Fixtures","1L0440","440 WATT LED",440]
["LED Lighting Fixtures","1L0441","441 WATT LED",441]
["LED Lighting Fixtures","1L0442","442 WATT LED",442]
["LED Lighting Fixtures","1L0443","443 WATT LED",443]
["LED Lighting Fixtures","1L0444","444 WATT LED",444]
["LED Lighting Fixtures","1L0445","445 WATT LED",445]
["LED Lighting Fixtures","1L0446","446 WATT LED",446]
["LED Lighting Fixtures","1L0447","447 WATT LED",447]
["LED Lighting Fixtures","1L0448","448 WATT LED",448]
["LED Lighting Fixtures","1L0449","449 WATT LED",449]
["LED Lighting Fixtures","1L0450","450 WATT LED",450]
["LED Lighting Fixtures","1L0451","451 WATT LED",451]
["LED Lighting Fixtures","1L0452","452 WATT LED",452]
["LED Lighting Fixtures","1L0453","453 WATT LED",453]
["LED Lighting Fixtures","1L0454","454 WATT LED",454]
["LED Lighting Fixtures","1L0455","455 WATT LED",455]
["LED Lighting Fixtures","1L0456","456 WATT LED",456]
["LED Lighting Fixtures","1L0457","457 WATT LED",457]
["LED Lighting Fixtures","1L0458","458 WATT LED",458]
["LED Lighting Fixtures","1L0459","459 WATT LED",459]
["LED Lighting Fixtures","1L0460","460 WATT LED",460]
["LED Lighting Fixtures","1L0461","461 WATT LED",461]
["LED Lighting Fixtures","1L0462","462 WATT LED",462]
["LED Lighting Fixtures","1L0463","463 WATT LED",463]
["LED Lighting Fixtures","1L0464","464 WATT LED",464]
["LED Lighting Fixtures","1L0465","465 WATT LED",465]
["LED Lighting Fixtures","1L0466","466 WATT LED",466]
["LED Lighting Fixtures","1L0467","467 WATT LED",467]
["LED Lighting Fixtures","1L0468","468 WATT LED",468]
["LED Lighting Fixtures","1L0469","469 WATT LED",469]
["LED Lighting Fixtures","1L0470","470 WATT LED",470]
["LED Lighting Fixtures","1L0471","471 WATT LED",471]
["LED Lighting Fixtures","1L0472","472 WATT LED",472]
["LED Lighting Fixtures","1L0473","473 WATT LED",473]
["LED Lighting Fixtures","1L0474","474 WATT LED",474]
["LED Lighting Fixtures","1L0475","475 WATT LED",475]
["LED Lighting Fixtures","1L0476","476 WATT LED",476]
["LED Lighting Fixtures","1L0477","477 WATT LED",477]
["LED Lighting Fixtures","1L0478","478 WATT LED",478]
["LED Lighting Fixtures","1L0479","479 WATT LED",479]
["LED Lighting Fixtures","1L0480","480 WATT LED",480]
["LED Lighting Fixtures","1L0481","481 WATT LED",481]
["LED Lighting Fixtures","1L0482","482 WATT LED",482]
["LED Lighting Fixtures","1L0483","483 WATT LED",483]
["LED Lighting Fixtures","1L0484","484 WATT LED",484]
["LED Lighting Fixtures","1L0485","485 WATT LED",485]
["LED Lighting Fixtures","1L0486","486 WATT LED",486]
["LED Lighting Fixtures","1L0487","487 WATT LED",487]
["LED Lighting Fixtures","1L0488","488 WATT LED",488]
["LED Lighting Fixtures","1L0489","489 WATT LED",489]
["LED Lighting Fixtures","1L0490","490 WATT LED",490]
["LED Lighting Fixtures","1L0491","491 WATT LED",491]
["LED Lighting Fixtures","1L0492","492 WATT LED",492]
["LED Lighting Fixtures","1L0493","493 WATT LED",493]
["LED Lighting Fixtures","1L0494","494 WATT LED",494]
["LED Lighting Fixtures","1L0495","495 WATT LED",495]
["LED Lighting Fixtures","1L0496","496 WATT LED",496]
["LED Lighting Fixtures","1L0497","497 WATT LED",497]
["LED Lighting Fixtures","1L0498","498 WATT LED",498]
["LED Lighting Fixtures","1L0499","499 WATT LED",499]
["LED Lighting Fixtures","1L0500","500 WATT LED",500]
["LED Lighting Fixtures",{"$f":"\"1L0\"&D830","v":"1L0501"},"501 WATT LED",501]
["LED Lighting Fixtures","1L0502","502 WATT LED",502]
["LED Lighting Fixtures","1L0503","503 WATT LED",503]
["LED Lighting Fixtures","1L0504","504 WATT LED",504]
["LED Lighting Fixtures","1L0505","505 WATT LED",505]
["LED Lighting Fixtures","1L0506","506 WATT LED",506]
["LED Lighting Fixtures","1L0507","507 WATT LED",507]
["LED Lighting Fixtures","1L0508","508 WATT LED",508]
["LED Lighting Fixtures","1L0509","509 WATT LED",509]
["LED Lighting Fixtures","1L0510","510 WATT LED",510]
["LED Lighting Fixtures","1L0511","511 WATT LED",511]
["LED Lighting Fixtures","1L0512","512 WATT LED",512]
["LED Lighting Fixtures","1L0513","513 WATT LED",513]
["LED Lighting Fixtures","1L0514","514 WATT LED",514]
["LED Lighting Fixtures","1L0515","515 WATT LED",515]
["LED Lighting Fixtures","1L0516","516 WATT LED",516]
["LED Lighting Fixtures","1L0517","517 WATT LED",517]
["LED Lighting Fixtures","1L0518","518 WATT LED",518]
["LED Lighting Fixtures","1L0519","519 WATT LED",519]
["LED Lighting Fixtures","1L0520","520 WATT LED",520]
["LED Lighting Fixtures","1L0521","521 WATT LED",521]
["LED Lighting Fixtures","1L0522","522 WATT LED",522]
["LED Lighting Fixtures","1L0523","523 WATT LED",523]
["LED Lighting Fixtures","1L0524","524 WATT LED",524]
["LED Lighting Fixtures","1L0525","525 WATT LED",525]
["LED Lighting Fixtures","1L0526","526 WATT LED",526]
["LED Lighting Fixtures","1L0527","527 WATT LED",527]
["LED Lighting Fixtures","1L0528","528 WATT LED",528]
["LED Lighting Fixtures","1L0529","529 WATT LED",529]
["LED Lighting Fixtures","1L0530","530 WATT LED",530]
["LED Lighting Fixtures","1L0531","531 WATT LED",531]
["LED Lighting Fixtures","1L0532","532 WATT LED",532]
["LED Lighting Fixtures","1L0533","533 WATT LED",533]
["LED Lighting Fixtures","1L0534","534 WATT LED",534]
["LED Lighting Fixtures","1L0535","535 WATT LED",535]
["LED Lighting Fixtures","1L0536","536 WATT LED",536]
["LED Lighting Fixtures","1L0537","537 WATT LED",537]
["LED Lighting Fixtures","1L0538","538 WATT LED",538]
["LED Lighting Fixtures","1L0539","539 WATT LED",539]
["LED Lighting Fixtures","1L0540","540 WATT LED",540]
["LED Lighting Fixtures","1L0541","541 WATT LED",541]
["LED Lighting Fixtures","1L0542","542 WATT LED",542]
["LED Lighting Fixtures","1L0543","543 WATT LED",543]
["LED Lighting Fixtures","1L0544","544 WATT LED",544]
["LED Lighting Fixtures","1L0545","545 WATT LED",545]
["LED Lighting Fixtures","1L0546","546 WATT LED",546]
["LED Lighting Fixtures","1L0547","547 WATT LED",547]
["LED Lighting Fixtures","1L0548","548 WATT LED",548]
["LED Lighting Fixtures","1L0549","549 WATT LED",549]
["LED Lighting Fixtures","1L0550","550 WATT LED",550]
["LED Lighting Fixtures","1L0551","551 WATT LED",551]
["LED Lighting Fixtures","1L0552","552 WATT LED",552]
["LED Lighting Fixtures","1L0553","553 WATT LED",553]
["LED Lighting Fixtures","1L0554","554 WATT LED",554]
["LED Lighting Fixtures","1L0555","555 WATT LED",555]
["LED Lighting Fixtures","1L0556","556 WATT LED",556]
["LED Lighting Fixtures","1L0557","557 WATT LED",557]
["LED Lighting Fixtures","1L0558","558 WATT LED",558]
["LED Lighting Fixtures","1L0559","559 WATT LED",559]
["LED Lighting Fixtures","1L0560","560 WATT LED",560]
["LED Lighting Fixtures","1L0561","561 WATT LED",561]
["LED Lighting Fixtures","1L0562","562 WATT LED",562]
["LED Lighting Fixtures","1L0563","563 WATT LED",563]
["LED Lighting Fixtures","1L0564","564 WATT LED",564]
["LED Lighting Fixtures",{"$f":"\"1L0\"&D894","v":"1L0565"},"565 WATT LED",565]
["LED Lighting Fixtures","1L0566","566 WATT LED",566]
["LED Lighting Fixtures","1L0567","567 WATT LED",567]
["LED Lighting Fixtures","1L0568","568 WATT LED",568]
["LED Lighting Fixtures","1L0569","569 WATT LED",569]
["LED Lighting Fixtures","1L0570","570 WATT LED",570]
["LED Lighting Fixtures","1L0571","571 WATT LED",571]
["LED Lighting Fixtures","1L0572","572 WATT LED",572]
["LED Lighting Fixtures","1L0573","573 WATT LED",573]
["LED Lighting Fixtures","1L0574","574 WATT LED",574]
["LED Lighting Fixtures","1L0575","575 WATT LED",575]
["LED Lighting Fixtures","1L0576","576 WATT LED",576]
["LED Lighting Fixtures","1L0577","577 WATT LED",577]
["LED Lighting Fixtures","1L0578","578 WATT LED",578]
["LED Lighting Fixtures","1L0579","579 WATT LED",579]
["LED Lighting Fixtures","1L0580","580 WATT LED",580]
["LED Lighting Fixtures","1L0581","581 WATT LED",581]
["LED Lighting Fixtures","1L0582","582 WATT LED",582]
["LED Lighting Fixtures","1L0583","583 WATT LED",583]
["LED Lighting Fixtures","1L0584","584 WATT LED",584]
["LED Lighting Fixtures","1L0585","585 WATT LED",585]
["LED Lighting Fixtures","1L0586","586 WATT LED",586]
["LED Lighting Fixtures","1L0587","587 WATT LED",587]
["LED Lighting Fixtures","1L0588","588 WATT LED",588]
["LED Lighting Fixtures","1L0589","589 WATT LED",589]
["LED Lighting Fixtures","1L0590","590 WATT LED",590]
["LED Lighting Fixtures","1L0591","591 WATT LED",591]
["LED Lighting Fixtures","1L0592","592 WATT LED",592]
["LED Lighting Fixtures","1L0593","593 WATT LED",593]
["LED Lighting Fixtures","1L0594","594 WATT LED",594]
["LED Lighting Fixtures","1L0595","595 WATT LED",595]
["LED Lighting Fixtures","1L0596","596 WATT LED",596]
["LED Lighting Fixtures","1L0597","597 WATT LED",597]
["LED Lighting Fixtures","1L0598","598 WATT LED",598]
["LED Lighting Fixtures","1L0599","599 WATT LED",599]
["LED Lighting Fixtures","1L0600","600 WATT LED",600]
["LED Lighting Fixtures","1L0601","601 WATT LED",601]
["LED Lighting Fixtures","1L0602","602 WATT LED",602]
["LED Lighting Fixtures","1L0603","603 WATT LED",603]
["LED Lighting Fixtures","1L0604","604 WATT LED",604]
["LED Lighting Fixtures","1L0605","605 WATT LED",605]
["LED Lighting Fixtures","1L0606","606 WATT LED",606]
["LED Lighting Fixtures","1L0607","607 WATT LED",607]
["LED Lighting Fixtures","1L0608","608 WATT LED",608]
["LED Lighting Fixtures","1L0609","609 WATT LED",609]
["LED Lighting Fixtures","1L0610","610 WATT LED",610]
["LED Lighting Fixtures","1L0611","611 WATT LED",611]
["LED Lighting Fixtures","1L0612","612 WATT LED",612]
["LED Lighting Fixtures","1L0613","613 WATT LED",613]
["LED Lighting Fixtures","1L0614","614 WATT LED",614]
["LED Lighting Fixtures","1L0615","615 WATT LED",615]
["LED Lighting Fixtures","1L0616","616 WATT LED",616]
["LED Lighting Fixtures","1L0617","617 WATT LED",617]
["LED Lighting Fixtures","1L0618","618 WATT LED",618]
["LED Lighting Fixtures","1L0619","619 WATT LED",619]
["LED Lighting Fixtures","1L0620","620 WATT LED",620]
["LED Lighting Fixtures","1L0621","621 WATT LED",621]
["LED Lighting Fixtures","1L0622","622 WATT LED",622]
["LED Lighting Fixtures","1L0623","623 WATT LED",623]
["LED Lighting Fixtures","1L0624","624 WATT LED",624]
["LED Lighting Fixtures","1L0625","625 WATT LED",625]
["LED Lighting Fixtures","1L0626","626 WATT LED",626]
["LED Lighting Fixtures","1L0627","627 WATT LED",627]
["LED Lighting Fixtures","1L0628","628 WATT LED",628]
["LED Lighting Fixtures",{"$f":"\"1L0\"&D958","v":"1L0629"},"629 WATT LED",629]
["LED Lighting Fixtures","1L0630","630 WATT LED",630]
["LED Lighting Fixtures","1L0631","631 WATT LED",631]
["LED Lighting Fixtures","1L0632","632 WATT LED",632]
["LED Lighting Fixtures","1L0633","633 WATT LED",633]
["LED Lighting Fixtures","1L0634","634 WATT LED",634]
["LED Lighting Fixtures","1L0635","635 WATT LED",635]
["LED Lighting Fixtures","1L0636","636 WATT LED",636]
["LED Lighting Fixtures","1L0637","637 WATT LED",637]
["LED Lighting Fixtures","1L0638","638 WATT LED",638]
["LED Lighting Fixtures","1L0639","639 WATT LED",639]
["LED Lighting Fixtures","1L0640","640 WATT LED",640]
["LED Lighting Fixtures","1L0641","641 WATT LED",641]
["LED Lighting Fixtures","1L0642","642 WATT LED",642]
["LED Lighting Fixtures","1L0643","643 WATT LED",643]
["LED Lighting Fixtures","1L0644","644 WATT LED",644]
["LED Lighting Fixtures","1L0645","645 WATT LED",645]
["LED Lighting Fixtures","1L0646","646 WATT LED",646]
["LED Lighting Fixtures","1L0647","647 WATT LED",647]
["LED Lighting Fixtures","1L0648","648 WATT LED",648]
["LED Lighting Fixtures","1L0649","649 WATT LED",649]
["LED Lighting Fixtures","1L0650","650 WATT LED",650]
["LED Lighting Fixtures","1L0651","651 WATT LED",651]
["LED Lighting Fixtures","1L0652","652 WATT LED",652]
["LED Lighting Fixtures","1L0653","653 WATT LED",653]
["LED Lighting Fixtures","1L0654","654 WATT LED",654]
["LED Lighting Fixtures","1L0655","655 WATT LED",655]
["LED Lighting Fixtures","1L0656","656 WATT LED",656]
["LED Lighting Fixtures","1L0657","657 WATT LED",657]
["LED Lighting Fixtures","1L0658","658 WATT LED",658]
["LED Lighting Fixtures","1L0659","659 WATT LED",659]
["LED Lighting Fixtures","1L0660","660 WATT LED",660]
["LED Lighting Fixtures","1L0661","661 WATT LED",661]
["LED Lighting Fixtures","1L0662","662 WATT LED",662]
["LED Lighting Fixtures","1L0663","663 WATT LED",663]
["LED Lighting Fixtures","1L0664","664 WATT LED",664]
["LED Lighting Fixtures","1L0665","665 WATT LED",665]
["LED Lighting Fixtures","1L0666","666 WATT LED",666]
["LED Lighting Fixtures","1L0667","667 WATT LED",667]
["LED Lighting Fixtures","1L0668","668 WATT LED",668]
["LED Lighting Fixtures","1L0669","669 WATT LED",669]
["LED Lighting Fixtures","1L0670","670 WATT LED",670]
["LED Lighting Fixtures","1L0671","671 WATT LED",671]
["LED Lighting Fixtures","1L0672","672 WATT LED",672]
["LED Lighting Fixtures","1L0673","673 WATT LED",673]
["LED Lighting Fixtures","1L0674","674 WATT LED",674]
["LED Lighting Fixtures","1L0675","675 WATT LED",675]
["LED Lighting Fixtures","1L0676","676 WATT LED",676]
["LED Lighting Fixtures","1L0677","677 WATT LED",677]
["LED Lighting Fixtures","1L0678","678 WATT LED",678]
["LED Lighting Fixtures","1L0679","679 WATT LED",679]
["LED Lighting Fixtures","1L0680","680 WATT LED",680]
["LED Lighting Fixtures","1L0681","681 WATT LED",681]
["LED Lighting Fixtures","1L0682","682 WATT LED",682]
["LED Lighting Fixtures","1L0683","683 WATT LED",683]
["LED Lighting Fixtures","1L0684","684 WATT LED",684]
["LED Lighting Fixtures","1L0685","685 WATT LED",685]
["LED Lighting Fixtures","1L0686","686 WATT LED",686]
["LED Lighting Fixtures","1L0687","687 WATT LED",687]
["LED Lighting Fixtures","1L0688","688 WATT LED",688]
["LED Lighting Fixtures","1L0689","689 WATT LED",689]
["LED Lighting Fixtures","1L0690","690 WATT LED",690]
["LED Lighting Fixtures","1L0691","691 WATT LED",691]
["LED Lighting Fixtures","1L0692","692 WATT LED",692]
["LED Lighting Fixtures",{"$f":"\"1L0\"&D1022","v":"1L0693"},"693 WATT LED",693]
["LED Lighting Fixtures","1L0694","694 WATT LED",694]
["LED Lighting Fixtures","1L0695","695 WATT LED",695]
["LED Lighting Fixtures","1L0696","696 WATT LED",696]
["LED Lighting Fixtures","1L0697","697 WATT LED",697]
["LED Lighting Fixtures","1L0698","698 WATT LED",698]
["LED Lighting Fixtures","1L0699","699 WATT LED",699]
["LED Lighting Fixtures","1L0700","700 WATT LED",700]
["LED Lighting Fixtures","1L0701","701 WATT LED",701]
["LED Lighting Fixtures","1L0702","702 WATT LED",702]
["LED Lighting Fixtures","1L0703","703 WATT LED",703]
["LED Lighting Fixtures","1L0704","704 WATT LED",704]
["LED Lighting Fixtures","1L0705","705 WATT LED",705]
["LED Lighting Fixtures","1L0706","706 WATT LED",706]
["LED Lighting Fixtures","1L0707","707 WATT LED",707]
["LED Lighting Fixtures","1L0708","708 WATT LED",708]
["LED Lighting Fixtures","1L0709","709 WATT LED",709]
["LED Lighting Fixtures","1L0710","710 WATT LED",710]
["LED Lighting Fixtures","1L0711","711 WATT LED",711]
["LED Lighting Fixtures","1L0712","712 WATT LED",712]
["LED Lighting Fixtures","1L0713","713 WATT LED",713]
["LED Lighting Fixtures","1L0714","714 WATT LED",714]
["LED Lighting Fixtures","1L0715","715 WATT LED",715]
["LED Lighting Fixtures","1L0716","716 WATT LED",716]
["LED Lighting Fixtures","1L0717","717 WATT LED",717]
["LED Lighting Fixtures","1L0718","718 WATT LED",718]
["LED Lighting Fixtures","1L0719","719 WATT LED",719]
["LED Lighting Fixtures","1L0720","720 WATT LED",720]
["LED Lighting Fixtures","1L0721","721 WATT LED",721]
["LED Lighting Fixtures","1L0722","722 WATT LED",722]
["LED Lighting Fixtures","1L0723","723 WATT LED",723]
["LED Lighting Fixtures","1L0724","724 WATT LED",724]
["LED Lighting Fixtures","1L0725","725 WATT LED",725]
["LED Lighting Fixtures","1L0726","726 WATT LED",726]
["LED Lighting Fixtures","1L0727","727 WATT LED",727]
["LED Lighting Fixtures","1L0728","728 WATT LED",728]
["LED Lighting Fixtures","1L0729","729 WATT LED",729]
["LED Lighting Fixtures","1L0730","730 WATT LED",730]
["LED Lighting Fixtures","1L0731","731 WATT LED",731]
["LED Lighting Fixtures","1L0732","732 WATT LED",732]
["LED Lighting Fixtures","1L0733","733 WATT LED",733]
["LED Lighting Fixtures","1L0734","734 WATT LED",734]
["LED Lighting Fixtures","1L0735","735 WATT LED",735]
["LED Lighting Fixtures","1L0736","736 WATT LED",736]
["LED Lighting Fixtures","1L0737","737 WATT LED",737]
["LED Lighting Fixtures","1L0738","738 WATT LED",738]
["LED Lighting Fixtures","1L0739","739 WATT LED",739]
["LED Lighting Fixtures","1L0740","740 WATT LED",740]
["LED Lighting Fixtures","1L0741","741 WATT LED",741]
["LED Lighting Fixtures","1L0742","742 WATT LED",742]
["LED Lighting Fixtures","1L0743","743 WATT LED",743]
["LED Lighting Fixtures","1L0744","744 WATT LED",744]
["LED Lighting Fixtures","1L0745","745 WATT LED",745]
["LED Lighting Fixtures","1L0746","746 WATT LED",746]
["LED Lighting Fixtures","1L0747","747 WATT LED",747]
["LED Lighting Fixtures","1L0748","748 WATT LED",748]
["LED Lighting Fixtures","1L0749","749 WATT LED",749]
["LED Lighting Fixtures","1L0750","750 WATT LED",750]
["LED Lighting Fixtures","1L0751","751 WATT LED",751]
["LED Lighting Fixtures","1L0752","752 WATT LED",752]
["LED Lighting Fixtures","1L0753","753 WATT LED",753]
["LED Lighting Fixtures","1L0754","754 WATT LED",754]
["LED Lighting Fixtures","1L0755","755 WATT LED",755]
["LED Lighting Fixtures","1L0756","756 WATT LED",756]
["LED Lighting Fixtures",{"$f":"\"1L0\"&D1086","v":"1L0757"},"757 WATT LED",757]
["LED Lighting Fixtures","1L0758","758 WATT LED",758]
["LED Lighting Fixtures","1L0759","759 WATT LED",759]
["LED Lighting Fixtures","1L0760","760 WATT LED",760]
["LED Lighting Fixtures","1L0761","761 WATT LED",761]
["LED Lighting Fixtures","1L0762","762 WATT LED",762]
["LED Lighting Fixtures","1L0763","763 WATT LED",763]
["LED Lighting Fixtures","1L0764","764 WATT LED",764]
["LED Lighting Fixtures","1L0765","765 WATT LED",765]
["LED Lighting Fixtures","1L0766","766 WATT LED",766]
["LED Lighting Fixtures","1L0767","767 WATT LED",767]
["LED Lighting Fixtures","1L0768","768 WATT LED",768]
["LED Lighting Fixtures","1L0769","769 WATT LED",769]
["LED Lighting Fixtures","1L0770","770 WATT LED",770]
["LED Lighting Fixtures","1L0771","771 WATT LED",771]
["LED Lighting Fixtures","1L0772","772 WATT LED",772]
["LED Lighting Fixtures","1L0773","773 WATT LED",773]
["LED Lighting Fixtures","1L0774","774 WATT LED",774]
["LED Lighting Fixtures","1L0775","775 WATT LED",775]
["LED Lighting Fixtures","1L0776","776 WATT LED",776]
["LED Lighting Fixtures","1L0777","777 WATT LED",777]
["LED Lighting Fixtures","1L0778","778 WATT LED",778]
["LED Lighting Fixtures","1L0779","779 WATT LED",779]
["LED Lighting Fixtures","1L0780","780 WATT LED",780]
["LED Lighting Fixtures","1L0781","781 WATT LED",781]
["LED Lighting Fixtures","1L0782","782 WATT LED",782]
["LED Lighting Fixtures","1L0783","783 WATT LED",783]
["LED Lighting Fixtures","1L0784","784 WATT LED",784]
["LED Lighting Fixtures","1L0785","785 WATT LED",785]
["LED Lighting Fixtures","1L0786","786 WATT LED",786]
["LED Lighting Fixtures","1L0787","787 WATT LED",787]
["LED Lighting Fixtures","1L0788","788 WATT LED",788]
["LED Lighting Fixtures","1L0789","789 WATT LED",789]
["LED Lighting Fixtures","1L0790","790 WATT LED",790]
["LED Lighting Fixtures","1L0791","791 WATT LED",791]
["LED Lighting Fixtures","1L0792","792 WATT LED",792]
["LED Lighting Fixtures","1L0793","793 WATT LED",793]
["LED Lighting Fixtures","1L0794","794 WATT LED",794]
["LED Lighting Fixtures","1L0795","795 WATT LED",795]
["LED Lighting Fixtures","1L0796","796 WATT LED",796]
["LED Lighting Fixtures","1L0797","797 WATT LED",797]
["LED Lighting Fixtures","1L0798","798 WATT LED",798]
["LED Lighting Fixtures","1L0799","799 WATT LED",799]
["LED Lighting Fixtures","1L0800","800 WATT LED",800]
["LED Lighting Fixtures","1L0801","801 WATT LED",801]
["LED Lighting Fixtures","1L0802","802 WATT LED",802]
["LED Lighting Fixtures","1L0803","803 WATT LED",803]
["LED Lighting Fixtures","1L0804","804 WATT LED",804]
["LED Lighting Fixtures","1L0805","805 WATT LED",805]
["LED Lighting Fixtures","1L0806","806 WATT LED",806]
["LED Lighting Fixtures","1L0807","807 WATT LED",807]
["LED Lighting Fixtures","1L0808","808 WATT LED",808]
["LED Lighting Fixtures","1L0809","809 WATT LED",809]
["LED Lighting Fixtures","1L0810","810 WATT LED",810]
["LED Lighting Fixtures","1L0811","811 WATT LED",811]
["LED Lighting Fixtures","1L0812","812 WATT LED",812]
["LED Lighting Fixtures","1L0813","813 WATT LED",813]
["LED Lighting Fixtures","1L0814","814 WATT LED",814]
["LED Lighting Fixtures","1L0815","815 WATT LED",815]
["LED Lighting Fixtures","1L0816","816 WATT LED",816]
["LED Lighting Fixtures","1L0817","817 WATT LED",817]
["LED Lighting Fixtures","1L0818","818 WATT LED",818]
["LED Lighting Fixtures","1L0819","819 WATT LED",819]
["LED Lighting Fixtures","1L0820","820 WATT LED",820]
["LED Lighting Fixtures",{"$f":"\"1L0\"&D1150","v":"1L0821"},"821 WATT LED",821]
["LED Lighting Fixtures","1L0822","822 WATT LED",822]
["LED Lighting Fixtures","1L0823","823 WATT LED",823]
["LED Lighting Fixtures","1L0824","824 WATT LED",824]
["LED Lighting Fixtures","1L0825","825 WATT LED",825]
["LED Lighting Fixtures","1L0826","826 WATT LED",826]
["LED Lighting Fixtures","1L0827","827 WATT LED",827]
["LED Lighting Fixtures","1L0828","828 WATT LED",828]
["LED Lighting Fixtures","1L0829","829 WATT LED",829]
["LED Lighting Fixtures","1L0830","830 WATT LED",830]
["LED Lighting Fixtures","1L0831","831 WATT LED",831]
["LED Lighting Fixtures","1L0832","832 WATT LED",832]
["LED Lighting Fixtures","1L0833","833 WATT LED",833]
["LED Lighting Fixtures","1L0834","834 WATT LED",834]
["LED Lighting Fixtures","1L0835","835 WATT LED",835]
["LED Lighting Fixtures","1L0836","836 WATT LED",836]
["LED Lighting Fixtures","1L0837","837 WATT LED",837]
["LED Lighting Fixtures","1L0838","838 WATT LED",838]
["LED Lighting Fixtures","1L0839","839 WATT LED",839]
["LED Lighting Fixtures","1L0840","840 WATT LED",840]
["LED Lighting Fixtures","1L0841","841 WATT LED",841]
["LED Lighting Fixtures","1L0842","842 WATT LED",842]
["LED Lighting Fixtures","1L0843","843 WATT LED",843]
["LED Lighting Fixtures","1L0844","844 WATT LED",844]
["LED Lighting Fixtures","1L0845","845 WATT LED",845]
["LED Lighting Fixtures","1L0846","846 WATT LED",846]
["LED Lighting Fixtures","1L0847","847 WATT LED",847]
["LED Lighting Fixtures","1L0848","848 WATT LED",848]
["LED Lighting Fixtures","1L0849","849 WATT LED",849]
["LED Lighting Fixtures","1L0850","850 WATT LED",850]
["LED Lighting Fixtures","1L0851","851 WATT LED",851]
["LED Lighting Fixtures","1L0852","852 WATT LED",852]
["LED Lighting Fixtures","1L0853","853 WATT LED",853]
["LED Lighting Fixtures","1L0854","854 WATT LED",854]
["LED Lighting Fixtures","1L0855","855 WATT LED",855]
["LED Lighting Fixtures","1L0856","856 WATT LED",856]
["LED Lighting Fixtures","1L0857","857 WATT LED",857]
["LED Lighting Fixtures","1L0858","858 WATT LED",858]
["LED Lighting Fixtures","1L0859","859 WATT LED",859]
["LED Lighting Fixtures","1L0860","860 WATT LED",860]
["LED Lighting Fixtures","1L0861","861 WATT LED",861]
["LED Lighting Fixtures","1L0862","862 WATT LED",862]
["LED Lighting Fixtures","1L0863","863 WATT LED",863]
["LED Lighting Fixtures","1L0864","864 WATT LED",864]
["LED Lighting Fixtures","1L0865","865 WATT LED",865]
["LED Lighting Fixtures","1L0866","866 WATT LED",866]
["LED Lighting Fixtures","1L0867","867 WATT LED",867]
["LED Lighting Fixtures","1L0868","868 WATT LED",868]
["LED Lighting Fixtures","1L0869","869 WATT LED",869]
["LED Lighting Fixtures","1L0870","870 WATT LED",870]
["LED Lighting Fixtures","1L0871","871 WATT LED",871]
["LED Lighting Fixtures","1L0872","872 WATT LED",872]
["LED Lighting Fixtures","1L0873","873 WATT LED",873]
["LED Lighting Fixtures","1L0874","874 WATT LED",874]
["LED Lighting Fixtures","1L0875","875 WATT LED",875]
["LED Lighting Fixtures","1L0876","876 WATT LED",876]
["LED Lighting Fixtures","1L0877","877 WATT LED",877]
["LED Lighting Fixtures","1L0878","878 WATT LED",878]
["LED Lighting Fixtures","1L0879","879 WATT LED",879]
["LED Lighting Fixtures","1L0880","880 WATT LED",880]
["LED Lighting Fixtures","1L0881","881 WATT LED",881]
["LED Lighting Fixtures","1L0882","882 WATT LED",882]
["LED Lighting Fixtures","1L0883","883 WATT LED",883]
["LED Lighting Fixtures","1L0884","884 WATT LED",884]
["LED Lighting Fixtures",{"$f":"\"1L0\"&D1214","v":"1L0885"},"885 WATT LED",885]
["LED Lighting Fixtures","1L0886","886 WATT LED",886]
["LED Lighting Fixtures","1L0887","887 WATT LED",887]
["LED Lighting Fixtures","1L0888","888 WATT LED",888]
["LED Lighting Fixtures","1L0889","889 WATT LED",889]
["LED Lighting Fixtures","1L0890","890 WATT LED",890]
["LED Lighting Fixtures","1L0891","891 WATT LED",891]
["LED Lighting Fixtures","1L0892","892 WATT LED",892]
["LED Lighting Fixtures","1L0893","893 WATT LED",893]
["LED Lighting Fixtures","1L0894","894 WATT LED",894]
["LED Lighting Fixtures","1L0895","895 WATT LED",895]
["LED Lighting Fixtures","1L0896","896 WATT LED",896]
["LED Lighting Fixtures","1L0897","897 WATT LED",897]
["LED Lighting Fixtures","1L0898","898 WATT LED",898]
["LED Lighting Fixtures","1L0899","899 WATT LED",899]
["LED Lighting Fixtures","1L0900","900 WATT LED",900]
["LED Lighting Fixtures","1L0901","901 WATT LED",901]
["LED Lighting Fixtures","1L0902","902 WATT LED",902]
["LED Lighting Fixtures","1L0903","903 WATT LED",903]
["LED Lighting Fixtures","1L0904","904 WATT LED",904]
["LED Lighting Fixtures","1L0905","905 WATT LED",905]
["LED Lighting Fixtures","1L0906","906 WATT LED",906]
["LED Lighting Fixtures","1L0907","907 WATT LED",907]
["LED Lighting Fixtures","1L0908","908 WATT LED",908]
["LED Lighting Fixtures","1L0909","909 WATT LED",909]
["LED Lighting Fixtures","1L0910","910 WATT LED",910]
["LED Lighting Fixtures","1L0911","911 WATT LED",911]
["LED Lighting Fixtures","1L0912","912 WATT LED",912]
["LED Lighting Fixtures","1L0913","913 WATT LED",913]
["LED Lighting Fixtures","1L0914","914 WATT LED",914]
["LED Lighting Fixtures","1L0915","915 WATT LED",915]
["LED Lighting Fixtures","1L0916","916 WATT LED",916]
["LED Lighting Fixtures","1L0917","917 WATT LED",917]
["LED Lighting Fixtures","1L0918","918 WATT LED",918]
["LED Lighting Fixtures","1L0919","919 WATT LED",919]
["LED Lighting Fixtures","1L0920","920 WATT LED",920]
["LED Lighting Fixtures","1L0921","921 WATT LED",921]
["LED Lighting Fixtures","1L0922","922 WATT LED",922]
["LED Lighting Fixtures","1L0923","923 WATT LED",923]
["LED Lighting Fixtures","1L0924","924 WATT LED",924]
["LED Lighting Fixtures","1L0925","925 WATT LED",925]
["LED Lighting Fixtures","1L0926","926 WATT LED",926]
["LED Lighting Fixtures","1L0927","927 WATT LED",927]
["LED Lighting Fixtures","1L0928","928 WATT LED",928]
["LED Lighting Fixtures","1L0929","929 WATT LED",929]
["LED Lighting Fixtures","1L0930","930 WATT LED",930]
["LED Lighting Fixtures","1L0931","931 WATT LED",931]
["LED Lighting Fixtures","1L0932","932 WATT LED",932]
["LED Lighting Fixtures","1L0933","933 WATT LED",933]
["LED Lighting Fixtures","1L0934","934 WATT LED",934]
["LED Lighting Fixtures","1L0935","935 WATT LED",935]
["LED Lighting Fixtures","1L0936","936 WATT LED",936]
["LED Lighting Fixtures","1L0937","937 WATT LED",937]
["LED Lighting Fixtures","1L0938","938 WATT LED",938]
["LED Lighting Fixtures","1L0939","939 WATT LED",939]
["LED Lighting Fixtures","1L0940","940 WATT LED",940]
["LED Lighting Fixtures","1L0941","941 WATT LED",941]
["LED Lighting Fixtures","1L0942","942 WATT LED",942]
["LED Lighting Fixtures","1L0943","943 WATT LED",943]
["LED Lighting Fixtures","1L0944","944 WATT LED",944]
["LED Lighting Fixtures","1L0945","945 WATT LED",945]
["LED Lighting Fixtures","1L0946","946 WATT LED",946]
["LED Lighting Fixtures","1L0947","947 WATT LED",947]
["LED Lighting Fixtures","1L0948","948 WATT LED",948]
["LED Lighting Fixtures",{"$f":"\"1L0\"&D1278","v":"1L0949"},"949 WATT LED",949]
["LED Lighting Fixtures","1L0950","950 WATT LED",950]
["LED Lighting Fixtures","1L0951","951 WATT LED",951]
["LED Lighting Fixtures","1L0952","952 WATT LED",952]
["LED Lighting Fixtures","1L0953","953 WATT LED",953]
["LED Lighting Fixtures","1L0954","954 WATT LED",954]
["LED Lighting Fixtures","1L0955","955 WATT LED",955]
["LED Lighting Fixtures","1L0956","956 WATT LED",956]
["LED Lighting Fixtures","1L0957","957 WATT LED",957]
["LED Lighting Fixtures","1L0958","958 WATT LED",958]
["LED Lighting Fixtures","1L0959","959 WATT LED",959]
["LED Lighting Fixtures","1L0960","960 WATT LED",960]
["LED Lighting Fixtures","1L0961","961 WATT LED",961]
["LED Lighting Fixtures","1L0962","962 WATT LED",962]
["LED Lighting Fixtures","1L0963","963 WATT LED",963]
["LED Lighting Fixtures","1L0964","964 WATT LED",964]
["LED Lighting Fixtures","1L0965","965 WATT LED",965]
["LED Lighting Fixtures","1L0966","966 WATT LED",966]
["LED Lighting Fixtures","1L0967","967 WATT LED",967]
["LED Lighting Fixtures","1L0968","968 WATT LED",968]
["LED Lighting Fixtures","1L0969","969 WATT LED",969]
["LED Lighting Fixtures","1L0970","970 WATT LED",970]
["LED Lighting Fixtures","1L0971","971 WATT LED",971]
["LED Lighting Fixtures","1L0972","972 WATT LED",972]
["LED Lighting Fixtures","1L0973","973 WATT LED",973]
["LED Lighting Fixtures","1L0974","974 WATT LED",974]
["LED Lighting Fixtures","1L0975","975 WATT LED",975]
["LED Lighting Fixtures","1L0976","976 WATT LED",976]
["LED Lighting Fixtures","1L0977","977 WATT LED",977]
["LED Lighting Fixtures","1L0978","978 WATT LED",978]
["LED Lighting Fixtures","1L0979","979 WATT LED",979]
["LED Lighting Fixtures","1L0980","980 WATT LED",980]
["LED Lighting Fixtures","1L0981","981 WATT LED",981]
["LED Lighting Fixtures","1L0982","982 WATT LED",982]
["LED Lighting Fixtures","1L0983","983 WATT LED",983]
["LED Lighting Fixtures","1L0984","984 WATT LED",984]
["LED Lighting Fixtures","1L0985","985 WATT LED",985]
["LED Lighting Fixtures","1L0986","986 WATT LED",986]
["LED Lighting Fixtures","1L0987","987 WATT LED",987]
["LED Lighting Fixtures","1L0988","988 WATT LED",988]
["LED Lighting Fixtures","1L0989","989 WATT LED",989]
["LED Lighting Fixtures","1L0990","990 WATT LED",990]
["LED Lighting Fixtures","1L0991","991 WATT LED",991]
["LED Lighting Fixtures","1L0992","992 WATT LED",992]
["LED Lighting Fixtures","1L0993","993 WATT LED",993]
["LED Lighting Fixtures","1L0994","994 WATT LED",994]
["LED Lighting Fixtures","1L0995","995 WATT LED",995]
["LED Lighting Fixtures","1L0996","996 WATT LED",996]
["LED Lighting Fixtures","1L0997","997 WATT LED",997]
["LED Lighting Fixtures","1L0998","998 WATT LED",998]
["LED Lighting Fixtures","1L0999","999 WATT LED",999]
["Low Pressure Sodium (LPS)","1L0035S","35W LPS",60]
["Low Pressure Sodium (LPS)","1L0055S","55W LPS",85]
["Low Pressure Sodium (LPS)","1L0090S","90W LPS",130]
["Low Pressure Sodium (LPS)","1L0135S","135W LPS",180]
["Low Pressure Sodium (LPS)","1L0180S","180W LPS",230]
["Low Voltage Halogen Fixture (Includes Transformer)","1R0020"," 20W LV HALOGEN FIXT  ",30]
["Low Voltage Halogen Fixture (Includes Transformer)","1R0025"," 25W LV HALOGEN FIXT  ",35]
["Low Voltage Halogen Fixture (Includes Transformer)","1R0035"," 35W LV HALOGEN FIXT  ",45]
["Low Voltage Halogen Fixture (Includes Transformer)","1R0042"," 42W LV HALOGEN FIXT  ",52]
["Low Voltage Halogen Fixture (Includes Transformer)","1R0050"," 50W LV HALOGEN FIXT  ",60]
["Low Voltage Halogen Fixture (Includes Transformer)","1R0065"," 65W LV HALOGEN FIXT  ",75]
["Low Voltage Halogen Fixture (Includes Transformer)","1R0075"," 75W LV HALOGEN FIXT  ",85]
["Mercury Vapor (MV)","1V0040S"," 40W MERCURY  ",50]
["Mercury Vapor (MV)","1V0050S"," 50W MERCURY  ",75]
["Mercury Vapor (MV)","1V0075S"," 75W MERCURY  ",95]
["Mercury Vapor (MV)","1V0100S"," 100W MERCURY  ",120]
["Mercury Vapor (MV)","1V0175S"," 175W MERCURY  ",205]
["Mercury Vapor (MV)","1V0250S"," 250W MERCURY  ",290]
["Mercury Vapor (MV)","1V0400S"," 400W MERCURY  ",455]
["Mercury Vapor (MV)","1V0700S"," 700W MERCURY  ",775]
["Mercury Vapor (MV)","2V0400S"," 2/400W MERCURY  ",880]
["Mercury Vapor (MV)","1V1000S"," 1000W MERCURY  ",1075]
["Metal Halide (MH)","1M0032S","32W METAL HALIDE",40]
["Metal Halide (MH)","1M0050S","50W METAL HALIDE",65]
["Metal Halide (MH)","1M0070S","70W METAL HALIDE",95]
["Metal Halide (MH)","1M0100S","100W METAL HALIDE",120]
["Metal Halide (MH)","1M0150S","150W METAL HALIDE",190]
["Metal Halide (MH)","1M0175S","175W METAL HALIDE",205]
["Metal Halide (MH)","1M0250S","250W METAL HALIDE",295]
["Metal Halide (MH)","1M0360S","360W METAL HALIDE",430]
["Metal Halide (MH)","1M0400S","400W METAL HALIDE",455]
["Metal Halide (MH)","1M0750S","750W METAL HALIDE",825]
["Metal Halide (MH)","1M0875R","875W MH LINEAR",927]
["Metal Halide (MH)","1M0875P","875W MH CWA",950]
["Metal Halide (MH)","1M1000S","1000W METAL HALIDE",1075]
["Metal Halide (MH)","1M1500S","1500W METAL HALIDE",1615]
["Metal Halide (MH)","1M1800S","1800W METAL HALIDE",1875]
["Pulse Start Metal Halide Lamp/Ballast","1M0100R","100W MH LINEAR",118]
["Pulse Start Metal Halide Lamp/Ballast","1M0100P","100W MH CWA",128]
["Pulse Start Metal Halide Lamp/Ballast","1M0150R","150W MH LINEAR",172]
["Pulse Start Metal Halide Lamp/Ballast","1M0150P","150W MH CWA",190]
["Pulse Start Metal Halide Lamp/Ballast","1M0175R","175W MH LINEAR",190]
["Pulse Start Metal Halide Lamp/Ballast","1M0175P","175W MH CWA",208]
["Pulse Start Metal Halide Lamp/Ballast","1M0200R","200W MH LINEAR",218]
["Pulse Start Metal Halide Lamp/Ballast","1M0200P","200W MH CWA",232]
["Pulse Start Metal Halide Lamp/Ballast","1M0250R","250W MH LINEAR",265]
["Pulse Start Metal Halide Lamp/Ballast","1M0250P","250W MH CWA",288]
["Pulse Start Metal Halide Lamp/Ballast","1M0300R","300W MH LINEAR",324]
["Pulse Start Metal Halide Lamp/Ballast","1M0300P","300W MH CWA",342]
["Pulse Start Metal Halide Lamp/Ballast","1M0320R","320W MH LINEAR",345]
["Pulse Start Metal Halide Lamp/Ballast","1M0320P","320W MH CWA",365]
["Pulse Start Metal Halide Lamp/Ballast","1M0350R","350W MH LINEAR",375]
["Pulse Start Metal Halide Lamp/Ballast","1M0350P","350W MH CWA",400]
["Pulse Start Metal Halide Lamp/Ballast","1M0400R"," 400W MH LINEAR  ",430]
["Pulse Start Metal Halide Lamp/Ballast","1M0400P"," 400W MH CWA  ",455]
["Pulse Start Metal Halide Lamp/Ballast","1M0450R"," 450W MH LINEAR  ",480]
["Pulse Start Metal Halide Lamp/Ballast","1M0450P"," 450W MH CWA  ",508]
["Pulse Start Metal Halide Lamp/Ballast","1M0750R"," 750W MH LINEAR  ",805]
["Pulse Start Metal Halide Lamp/Ballast","1M0750P"," 750W MH CWA  ",815]
["Pulse Start Metal Halide Lamp/Ballast","1M1000P"," 1000W MH CWA  ",1080]
["Removed Not Replaced","Removed","Removed, Not Replaced",0]
["Six Foot T12 & T12HO Systems","1F72HSE"," 1L6’ T8HO/ELIG  ",80]
["Six Foot T12 & T12HO Systems","1F72SSM"," 1L6’ STD/EEMAG  ",80]
["Six Foot T12 & T12HO Systems","1F72SSS"," 1L6’ STD/STD  ",95]
["Six Foot T12 & T12HO Systems","1F72HSS"," 1L6’ F72HO/STD/STD  ",113]
["Six Foot T12 & T12HO Systems","2F72SSM"," 2L6’ STD/EEMAG  ",135]
["Six Foot T12 & T12HO Systems","2F72HSE"," 2L6’T8 HO/ELIG  ",160]
["Six Foot T12 & T12HO Systems","2F72SSS"," 2L6’ STD/STD  ",173]
["Six Foot T12 & T12HO Systems","2F72HSM"," 2L6’ F72HO/STD/EEMAG  ",193]
["Six Foot T12 & T12HO Systems","2F72HSS"," 2L6’ F72HO/STD  ",195]
["T5 Systems","1F14SSE"," 1L2’ 14W T5/ELIG  ",16]
["T5 Systems","1F21SSE"," 1L3’ 21W T5/ELIG  ",24]
["T5 Systems","1F24HSE"," 1L2’ 24W T5HO/ELIG  ",29]
["T5 Systems","1F28SSE"," 1L4’ 28W T5/ELIG  ",32]
["T5 Systems","2F14SSE"," 2L2’ 14W T5/ELIG  ",32]
["T5 Systems","1F39HSE"," 1L3’ 39W T5HO/ELIG  ",42]
["T5 Systems","2F21SSE"," 2L3’ 21W T5/ELIG  ",47]
["T5 Systems","3F14SSE"," 3L2’ 14W T5/ELIG  ",50]
["T5 Systems","2F24HSE"," 2L2’ 24W T5HO/ELIG  ",52]
["T5 Systems","1F47HSE"," 1L4’ 47W T5HO/ELIG  ",53]
["T5 Systems","1F50HSE"," 1L4’ 50W T5HO/ELIG  ",58]
["T5 Systems","1F54HSE"," 1L4’ 54W T5HO/ELIG  ",59]
["T5 Systems","2F28SSE"," 2L4’ 28W T5/ELIG  ",63]
["T5 Systems","4F14SSE"," 4L2’ 14W T5/ELIG  ",68]
["T5 Systems","3F24HSE"," 3L4’ T5HO/ELIG  ",80]
["T5 Systems","2F39HSE"," 2L3’ 39W T5HO/ELIG  ",85]
["T5 Systems","3F28SSE"," 3L4’ 28W T5/ELIG  ",95]
["T5 Systems","2F47HSE"," 2L4’ 47W T5HO/ELIG  ",103]
["T5 Systems","2F50HSE"," 2L4’ 50W T5HO/ELIG  ",110]
["T5 Systems","2F54HSE"," 2L4’ 54W T5HO/ELIG  ",117]
["T5 Systems","4F28SSE"," 4L4’ 28W T5/ELIG  ",126]
["T5 Systems","3F47HSE"," 3L4’ 47W T5HO/ELIG  ",157]
["T5 Systems","3F50HSE"," 3L4’ 50W T5HO/ELIG  ",168]
["T5 Systems","3F54HSE"," 3L4’ 54W T5HO/ELIG  ",177]
["T5 Systems","6F28SSE"," 6L4’ 28W T5/ELIG  ",189]
["T5 Systems","4F47HSE"," 4L4’ 47W T5HO/ELIG  ",200]
["T5 Systems","4F50HSE"," 4L4’ 50W T5HO/ELIG  ",215]
["T5 Systems","4F54ESH"," 4L4’ 54W T5HO/ELEE  ",218]
["T5 Systems","4F54HSE"," 4L4’ 54W T5HO/ELIG  ",234]
["T5 Systems","5F47HSE"," 5L4’ 47W T5HO/ELIG  ",260]
["T5 Systems","5F50HSE"," 5L4’ 50W T5HO/ELIG  ",278]
["T5 Systems","5F54HSE"," 5L4’ 54W T5HO/ELIG  ",294]
["T5 Systems","6F47HSE"," 6L4’ 47W T5HO/ELIG  ",303]
["T5 Systems","6F50HSE"," 6L4’ 50W T5HO/ELIG  ",325]
["T5 Systems","6F54HSE"," 6L4’ 54W T5HO/ELIG  ",351]
["T5 Systems","8F54HSE"," 8L4’ 54W T5HO/ELIG  ",468]
["T5 Systems","10F54HSE"," 10L4’ 54W T5HO/ELIG  ",585]
["Tandem Wired Fluorescent Systems","4W32SSL"," 4L4 TWT8/ELIG LOW POWER  ",25]
["Tandem Wired Fluorescent Systems","4W32SSE"," 4L4’ TW T8/ELIG  ",27]
["Tandem Wired Fluorescent Systems","3W32SSE"," 3L4’ TW T8/ELIG  ",29]
["Tandem Wired Fluorescent Systems","2W32SSE"," 2L4’ TW T8/ELIG  ",30]
["Tandem Wired Fluorescent Systems","2W40SEE"," 2L4’ TW EE/ELIG  ",30]
["Tandem Wired Fluorescent Systems","4D17SSE"," 4L2’ TW T8/ELIG  ",31]
["Tandem Wired Fluorescent Systems","2W40SSE"," 2L4’ TW STD/ELIG  ",36]
["Tandem Wired Fluorescent Systems","2W32SSH"," 2L4’ TW T8/HI-LUM  ",39]
["Tandem Wired Fluorescent Systems","4D32EEL"," 4L4’ DTW T8EE/ELEE LOW PWR  ",45]
["Tandem Wired Fluorescent Systems","4D32SSL"," 4L4 DTWT8/ELIG LOW POWER  ",49]
["Tandem Wired Fluorescent Systems","4D32EEE"," 4L4’ DTW T8EE/ELIG  ",51]
["Tandem Wired Fluorescent Systems","4D32SSE"," 4L4’ DTW T8/ELIG  ",53]
["Tandem Wired Fluorescent Systems","2W59SSE"," 2L8’ TW T8/ELIG  ",55]
["Tandem Wired Fluorescent Systems","2W96SEE"," 2L8’ TW EE/ELIG  ",55]
["Tandem Wired Fluorescent Systems","2W96SSE"," 2L8’ TW STD/ELIG  ",67]
["Tandem Wired Fluorescent Systems","2W59HSE"," 2L8’ TW T8 HO/ELIG  ",80]
["Tandem Wired Fluorescent Systems","2W96HEE"," 2L8’ TW HO-EE/ELIG  ",85]
["Tandem Wired Fluorescent Systems","2W96HSE"," 2L8’ TW HO-STD/ELIG  ",98]
["Tandem Wired T8 High Efficient ","2W32EEL"," 2L4’ TW T8EE/ELEE LOW PWR  ",24]
["Tandem Wired T8 High Efficient ","2W32EEE"," 2L4’ TW T8EE/ELIG  ",27]
["Tandem Wired T8 High Efficient ","3W32EEL"," 3L4’ TW T8EE/ELEE LOW PWR  ",34]
["Tandem Wired T8 High Efficient ","3W32EEE"," 3L4’ TW T8EE/ELIG  ",39]
["Tandem Wired T8 High Efficient ","4W32EEL"," 4L4’ TW T8EE/ELEE LOW PWR  ",45]
["Tandem Wired T8 High Efficient ","4W32EEE"," 4L4’ TW T8EE/ELIG  ",51]
["Three Foot High Efficiency T8 Systems","1F25ESL"," 1L3’ 25W T8EE/ELEE LOW PWR  ",21]
["Three Foot High Efficiency T8 Systems","1F25ESN"," 1L3’ 25W T8EE/ELEE  ",24]
["Three Foot High Efficiency T8 Systems","1F25ESH"," 1L3’ 25W T8EE/ELEE HIGH PWR  ",30]
["Three Foot High Efficiency T8 Systems","2F25ESL"," 2L3’ 25W T8EE/ELEE LOW PWR  ",40]
["Three Foot High Efficiency T8 Systems","2F25ESN"," 2L3’ 25W T8EE/ELEE  ",45]
["Three Foot High Efficiency T8 Systems","3F25ESL"," 3L3’ 25W T8EE/ELEE LOW PWR  ",58]
["Three Foot High Efficiency T8 Systems","2F25ESH"," 2L3’ 25W T8EE/ELEE HIGH PWR  ",60]
["Three Foot High Efficiency T8 Systems","3F25ESN"," 3L3’ 25W T8EE/ELEE  ",67]
["Three Foot High Efficiency T8 Systems","3F25ESH"," 3L3’ 25W T8EE/ELEE HIGH PWR  ",90]
["Three Foot T8 / T12 Systems","1F25SSE"," 1L3’ 25W T8/ELIG  ",24]
["Three Foot T8 / T12 Systems","1F30SEM"," 1L3’ 30W T12 EE/EEMAG  ",38]
["Three Foot T8 / T12 Systems","1F30SES"," 1L3’ 30W T12 EE/STD  ",42]
["Three Foot T8 / T12 Systems","1F30SSS"," 1L3’ 30W T12 STD/STD  ",46]
["Three Foot T8 / T12 Systems","2F25SSE"," 2L3’ 25W T8/ELIG  ",47]
["Three Foot T8 / T12 Systems","2F25SSE"," 2L3’ 25W T8/ELIG  ",47]
["Three Foot T8 / T12 Systems","2F30SEE"," 2L3’ 30W T12 EE/ELIG  ",49]
["Three Foot T8 / T12 Systems","2F25SSM"," 2L3’ 25W T8/EEMAG  ",65]
["Three Foot T8 / T12 Systems","2F25SSM"," 2L3’ 25W T8/EEMAG  ",65]
["Three Foot T8 / T12 Systems","2F30SEM"," 2L3’ 30W T12 EE/EEMAG  ",66]
["Three Foot T8 / T12 Systems","2F30SES"," 2L3’ 30W T12 EE/STD  ",73]
["Three Foot T8 / T12 Systems","4F25ESL"," 4L3’ 25W T8EE/ELEE LOW PWR’  ",74]
["Three Foot T8 / T12 Systems","4F25SSL"," 4L3’ 25WT8/ELIG LOW PWR  ",74]
["Three Foot T8 / T12 Systems","2F30SSS"," 2L3’ 30W T12 STD/STD  ",80]
["Three Foot T8 / T12 Systems","4F25SSE"," 4L3’ 25W T8/ELIG  ",88]
["Three Foot T8 / T12 Systems","4F25ESN"," 4L3’ 25W T8EE/ELEE’  ",90]
["Three Foot T8 / T12 Systems","4F25ESH"," 4L3’ 25W T8EE/ELEE HIGH PWR’  ",120]
["Three Foot T8 / T12 Systems","3F30SES"," 3L3’ 30W T12 EE/STD  ",127]
["Three Foot T8 / T12 Systems","3F30SSS"," 3L3’ 30W T12 STD/STD  ",140]
["Three Foot T8 / T12 Systems","4F30SES"," 4L3’ 30W T12EE/STD  ",146]
["Two Foot High Efficiency T8 Systems","1F17ESL"," 1L2’ 17W T8EE/ELEE LOW PWR  ",14]
["Two Foot High Efficiency T8 Systems","1F17ESN"," 1L2’ 17W T8EE/ELEE  ",17]
["Two Foot High Efficiency T8 Systems","1F17ESH"," 1L2’ 17W T8EE/ELEE HIGH PWR  ",20]
["Two Foot High Efficiency T8 Systems","2F17ESL"," 2L2’ 17W T8EE/ELEE LOW PWR  ",27]
["Two Foot High Efficiency T8 Systems","1F28BXE"," 1L2’ F28BX/ELIG  ",32]
["Two Foot High Efficiency T8 Systems","2F17ESN"," 2L2’ 17W T8EE/ELEE  ",32]
["Two Foot High Efficiency T8 Systems","3F17ESL"," 3L2’ 17W T8EE/ELEE LOW PWR  ",39]
["Two Foot High Efficiency T8 Systems","2F17ESH"," 2L2’ 17W T8EE/ELEE HIGH PWR  ",40]
["Two Foot High Efficiency T8 Systems","3F17ESN"," 3L2’ 17W T8EE/ELEE  ",46]
["Two Foot High Efficiency T8 Systems","3F17ESH"," 3L2’ 17W T8EE/ELEE HIGH PWR  ",61]
["Two Foot High Efficiency T8 Systems","2F28BXE"," 2L2’ F28BX/ELIG  ",63]
["Two Foot High Efficiency T8 Systems","3F28BXE"," 3L2’ F28BX/ELIG  ",94]
["Two Foot T8 / T12 Systems","1F17SSE"," 1L2’ 17WT8/ELIG  ",17]
["Two Foot T8 / T12 Systems","2F17SSL"," 2L2’ 17W T8/ELIG LOW POWER  ",27]
["Two Foot T8 / T12 Systems","2F17EEE"," 2L2’ 17W T8EE/ELEE  ",29]
["Two Foot T8 / T12 Systems","1F20SSS"," 1L2’ 20W T12/HPF(1)  ",32]
["Two Foot T8 / T12 Systems","1F28BXE"," 1L2’ F28BX/ELIG  ",32]
["Two Foot T8 / T12 Systems","2F14EEE"," 2L2’ T5/EEELIG  ",32]
["Two Foot T8 / T12 Systems","2F17SSE"," 2L2’ 17W T8/ELIG  ",37]
["Two Foot T8 / T12 Systems","3F17SSL"," 3L2’ 17W T8/ELIG LOW POWER  ",39]
["Two Foot T8 / T12 Systems","2F17SSM"," 2L2’ 17W T8/EEMAG  ",45]
["Two Foot T8 / T12 Systems","1F40BXE"," 1L2’ F40BX/ELIG  ",46]
["Two Foot T8 / T12 Systems","3F17SSE"," 3L2’ 17W T8/ELIG  ",53]
["Two Foot T8 / T12 Systems","1F50BXE"," 1L2’ F50BX/ELIG  ",54]
["Two Foot T8 / T12 Systems","1F55BXE"," 1L2’ F55BX/ELIG  ",56]
["Two Foot T8 / T12 Systems","2F20SSS"," 2L2’ 20WT12/HPF(2)  ",56]
["Two Foot T8 / T12 Systems","4F17SSE"," 4L2’ 17W T8/ELIG  ",62]
["Two Foot T8 / T12 Systems","2F28BXE"," 2L2’ F28BX/ELIG  ",63]
["Two Foot T8 / T12 Systems","2F40BXE"," 2L2’ F40BX/ELIG  ",72]
["Two Foot T8 / T12 Systems","3F20SSS"," 3L2’ 20WT12/HPF(3)  ",78]
["Two Foot T8 / T12 Systems","2F24HSS"," 2L2’ 24 T12HO/STD/STD  ",85]
["Two Foot T8 / T12 Systems","1F80BXE"," 1L2’F80BXE/ELIG  ",90]
["Two Foot T8 / T12 Systems","3F28BXE"," 3L2’ F28BX/ELIG  ",94]
["Two Foot T8 / T12 Systems","3F40BXE"," 3L2’ F40BX/ELIG  ",102]
["Two Foot T8 / T12 Systems","2F50BXE"," 2L2’ F50BX/ELIG  ",108]
["Two Foot T8 / T12 Systems","2F55BXE"," 2L2’55BXE/ELIG  ",112]
["Two Foot T8 / T12 Systems","4F20SSS"," 4L2’ 20WT12/HPF(2)  ",112]
["Two Foot T8 / T12 Systems","4F40BXE"," 4L2’ F40BX/ELIG  ",144]
["Two Foot T8 / T12 Systems","4F36BXE"," 4L2’ F36BX/ELIG  ",148]
["Two Foot T8 / T12 Systems","3F50BXE"," 3L2’ F50BX/ELIG  ",162]
["Two Foot T8 / T12 Systems","3F55BXE"," 3L2’ F55BX/ELIG  ",168]
["Two Foot T8 / T12 Systems","4F40BXH"," 4L 40W T5 (Std.) HIGH LMN  ",170]
["Two Foot T8 / T12 Systems","5F40BXE"," 5L2’ F40BX/ELIG  ",190]
["Two Foot T8 / T12 Systems","6F40BXE"," 6L2’ F40BX/ELIG  ",204]
["Two Foot T8 / T12 Systems","6F36BXE"," 6L2’ F36BX/ELIG  ",212]
["Two Foot T8 / T12 Systems","4F50BXE"," 4L2’ F50BX/ELIG  ",216]
["Two Foot T8 / T12 Systems","4F55BXE"," 4L2’ F55BX/ELIG  ",224]
["Two Foot T8 / T12 Systems","5F50BXE"," 5L2’ F50BX/ELIG  ",270]
["Two Foot T8 / T12 Systems","5F55BXE"," 5L2’ F55BX/ELIG  ",280]
["Two Foot T8 / T12 Systems","8F40BXE"," 8L2’ F40BX/ELIG  ",288]
["Two Foot T8 / T12 Systems","8F36BXE"," 8L2’ F36BX/ELIG  ",296]
["Two Foot T8 / T12 Systems","9F40BXE"," 9L2’ F40BX/ELIG  ",306]
["Two Foot T8 / T12 Systems","9F36BXE"," 9L2’ F36BX/ELIG  ",318]
["Two Foot T8 / T12 Systems","6F50BXE"," 6L2’ F50BX/ELIG  ",324]
["Two Foot T8 / T12 Systems","6F55BXE"," 6L2’ F55BX/ELIG  ",336]
["Two Foot T8 / T12 Systems","12F40BE"," 12L2’ F40BX/ELIG  ",408]
["Two Foot T8 / T12 Systems","8F50BXE"," 8L2’ F50BX/ELIG  ",432]
["Two Foot T8 / T12 Systems","8F55BXE"," 8L2’ F55BX/ELIG  ",448]
["Two Foot T8 / T12 Systems","9F50BXE"," 9L2’ F50BX/ELIG  ",486]
["Two Foot T8 / T12 Systems","9F55BXE"," 9L2’ F55BX/ELIG  ",504]
["Two Foot T8 / T12 Systems","12F50BE"," 12L2’ F50BX/ELIG  ",648]
["Two Foot T8 / T12 Systems","12F55BE"," 12L2’ F55BX/ELIG  ",672]

{"sheet":"4 - BCR Screening Inputs","index":6,"n_rows":27,"n_cols":8,"rows_kept":27,"cut":false,"hidden":false,"merged":[[8,0,9,0]]}
[]
["Screening Tool Measure Inputs - First Year Savings"]
["This tab includes all project and measure inputs to be entered into the Custom BCR Screening tool to screen for cost effectiveness."]
[]
[]
[null,"% Summer",{"$f":"'% On Peak Calc'!C5","v":0.33},{"$f":"'% On Peak Calc'!D5","v":0.33},{"$f":"'% On Peak Calc'!E5","v":0.33},0,0,0]
[null,"Override % Summer"]
[]
["Measure Information","Measure","Lighting - Interior","Lighting - Interior Controls","Lighting - Interior with Controls","Lighting - Exterior","Lighting - Exterior Controls","Lighting - Exterior with Controls"]
[null,"Estimated Useful Life (Years)",{"$f":"SUMIF('EUL Calc'!$B$22:$B$65, C9, 'EUL Calc'!$H$22:$H$65)","v":0},{"$f":"SUMIF('EUL Calc'!$L$22:$L$97, D9, 'EUL Calc'!$Q$22:$Q$97)","v":0},{"$f":"SUMIF('EUL Calc'!$B$22:$B$65, E9, 'EUL Calc'!$H$22:$H$65)","v":0},{"$f":"SUMIF('EUL Calc'!$B$22:$B$65, F9, 'EUL Calc'!$H$22:$H$65)","v":0},{"$f":"SUMIF('EUL Calc'!$L$22:$L$97, G9, 'EUL Calc'!$Q$22:$Q$97)","v":0},{"$f":"SUMIF('EUL Calc'!$B$22:$B$65, H9, 'EUL Calc'!$H$22:$H$65)","v":0}]
["Measure Costs","Proposed Cost ($)",{"$f":"IFERROR('1 - Project Info'!$F$7*C12/SUM($C$12:$H$12),\"\")","v":""},{"$f":"IFERROR('1 - Project Info'!$F$7*D12/SUM($C$12:$H$12),\"\")","v":""},{"$f":"IFERROR('1 - Project Info'!$F$7*E12/SUM($C$12:$H$12),\"\")","v":""},{"$f":"IFERROR('1 - Project Info'!$F$7*F12/SUM($C$12:$H$12),\"\")","v":""},{"$f":"IFERROR('1 - Project Info'!$F$7*G12/SUM($C$12:$H$12),\"\")","v":""},{"$f":"IFERROR('1 - Project Info'!$F$7*H12/SUM($C$12:$H$12),\"\")","v":""}]
["Gross Electric Energy","Energy (kWh)",{"$f":"SUMIF(Table1[Measure],C9, Table1[Total Incentivized kWh Savings])","v":0},{"$f":"SUMIF(Table1[Measure],D9, Table1[Total Incentivized kWh Savings])","v":0},{"$f":"SUMIF(Table1[Measure],E9, Table1[Total Incentivized kWh Savings])","v":0},{"$f":"SUMIF(Table1[Measure],F9, Table1[Total Incentivized kWh Savings])","v":0},{"$f":"SUMIF(Table1[Measure],G9, Table1[Total Incentivized kWh Savings])","v":0},{"$f":"SUMIF(Table1[Measure],H9, Table1[Total Incentivized kWh Savings])","v":0}]
["(Savings and Penalties)","% Summer On Peak",{"$f":"IFERROR('% On Peak Calc'!C4*'% On Peak Calc'!C6,\"\")","v":0},{"$f":"IFERROR('% On Peak Calc'!D4*'% On Peak Calc'!D6,\"\")","v":0},{"$f":"IFERROR('% On Peak Calc'!E4*'% On Peak Calc'!E6,\"\")","v":0},{"$f":"IFERROR('% On Peak Calc'!F4*'% On Peak Calc'!F6,\"\")","v":0},{"$f":"IFERROR('% On Peak Calc'!G4*'% On Peak Calc'!G6,\"\")","v":0},{"$f":"IFERROR('% On Peak Calc'!H4*'% On Peak Calc'!H6,\"\")","v":0}]
[null,"% Summer Off Peak",{"$f":"IFERROR((1-'% On Peak Calc'!C4)*'% On Peak Calc'!C6,\"\")","v":0.33},{"$f":"IFERROR((1-'% On Peak Calc'!D4)*'% On Peak Calc'!D6,\"\")","v":0.33},{"$f":"IFERROR((1-'% On Peak Calc'!E4)*'% On Peak Calc'!E6,\"\")","v":0.33},{"$f":"IFERROR((1-'% On Peak Calc'!F4)*'% On Peak Calc'!F6,\"\")","v":0.33},{"$f":"IFERROR((1-'% On Peak Calc'!G4)*'% On Peak Calc'!G6,\"\")","v":0.33},{"$f":"IFERROR((1-'% On Peak Calc'!H4)*'% On Peak Calc'!H6,\"\")","v":0.33}]
[null,"% Winter On Peak",{"$f":"IFERROR('% On Peak Calc'!C4*(1-'% On Peak Calc'!C6),\"\")","v":0},{"$f":"IFERROR('% On Peak Calc'!D4*(1-'% On Peak Calc'!D6),\"\")","v":0},{"$f":"IFERROR('% On Peak Calc'!E4*(1-'% On Peak Calc'!E6),\"\")","v":0},{"$f":"IFERROR('% On Peak Calc'!F4*(1-'% On Peak Calc'!F6),\"\")","v":0},{"$f":"IFERROR('% On Peak Calc'!G4*(1-'% On Peak Calc'!G6),\"\")","v":0},{"$f":"IFERROR('% On Peak Calc'!H4*(1-'% On Peak Calc'!H6),\"\")","v":0}]
[null,"% Winter Off Peak",{"$f":"IFERROR((1-'% On Peak Calc'!C4)*(1-'% On Peak Calc'!C6),\"\")","v":0.66999999999999993},{"$f":"IFERROR((1-'% On Peak Calc'!D4)*(1-'% On Peak Calc'!D6),\"\")","v":0.66999999999999993},{"$f":"IFERROR((1-'% On Peak Calc'!E4)*(1-'% On Peak Calc'!E6),\"\")","v":0.66999999999999993},{"$f":"IFERROR((1-'% On Peak Calc'!F4)*(1-'% On Peak Calc'!F6),\"\")","v":0.66999999999999993},{"$f":"IFERROR((1-'% On Peak Calc'!G4)*(1-'% On Peak Calc'!G6),\"\")","v":0.66999999999999993},{"$f":"IFERROR((1-'% On Peak Calc'!H4)*(1-'% On Peak Calc'!H6),\"\")","v":0.66999999999999993}]
["Gross Electric Capacity","Summer Peak kW",{"$f":"IFERROR(C12*C13/'% On Peak Calc'!$C$72,\"\")","v":0},{"$f":"IFERROR(D12*D13/'% On Peak Calc'!$C$72,\"\")","v":0},{"$f":"IFERROR(E12*E13/'% On Peak Calc'!$C$72,\"\")","v":0},{"$f":"IFERROR(F12*F13/'% On Peak Calc'!$C$72,\"\")","v":0},{"$f":"IFERROR(G12*G13/'% On Peak Calc'!$C$72,\"\")","v":0},{"$f":"IFERROR(H12*H13/'% On Peak Calc'!$C$72,\"\")","v":0}]
["(Savings and Penalties)","Winter Peak kW",{"$f":"IFERROR(C12*C15/'% On Peak Calc'!$C$73,\"\")","v":0},{"$f":"IFERROR(D12*D15/'% On Peak Calc'!$C$73,\"\")","v":0},{"$f":"IFERROR(E12*E15/'% On Peak Calc'!$C$73,\"\")","v":0},{"$f":"IFERROR(F12*F15/'% On Peak Calc'!$C$73,\"\")","v":0},{"$f":"IFERROR(G12*G15/'% On Peak Calc'!$C$73,\"\")","v":0},{"$f":"IFERROR(H12*H15/'% On Peak Calc'!$C$73,\"\")","v":0}]
[]
[]
[]
[]
[]
[]
[]
[]
[null,null,null," "]

{"sheet":"EUL Calc","index":7,"n_rows":79,"n_cols":17,"rows_kept":79,"cut":false,"hidden":true,"merged":[]}
[]
[]
[]
[]
[null,"Fixture Lookup Table ","*Updated from the study referenced in 2025 TRM Measure life appendix: DNV (2024). Rhode Island C&I Lighting Adjusted Measure Life Study Refresh.",null,null,null,null,null,null,null,null,"Control Lookup Table","*Updated based on 2025 TRM changes","https://ripuc.ri.gov/sites/g/files/xkgbur841/files/2024-10/24-39-EE%20Rhode%20Island%20Technical%20Reference%20Manual%20%E2%80%93%202025%20Program%20Year.pdf"]
[null,"Application","Equipment Type","Application | Equipment Type","Fixture Wattage","EUL","Lifetime Hours","Column1",null,null,null,"Control Type","EUL"]
[null,"Ambient_Linear","LED Fixture",{"$f":"Table5[[#This Row],[Application]]&\"|\"&Table5[[#This Row],[Equipment Type]]","v":"Ambient_Linear|LED Fixture"},32,11.4,50000,null,null,null,null,"Luminaire Level Control",9]
[null,"Ambient_Linear","TLED",{"$f":"Table5[[#This Row],[Application]]&\"|\"&Table5[[#This Row],[Equipment Type]]","v":"Ambient_Linear|TLED"},36,11.4,50000,null,null,null,null,"Network Sensor",11]
[null,"High_Low_Bay","LED Fixture",{"$f":"Table5[[#This Row],[Application]]&\"|\"&Table5[[#This Row],[Equipment Type]]","v":"High_Low_Bay|LED Fixture"},110,11.4,50000,null,null,null,null,"Daylight",9]
[null,"High_Low_Bay","TLED",{"$f":"Table5[[#This Row],[Application]]&\"|\"&Table5[[#This Row],[Equipment Type]]","v":"High_Low_Bay|TLED"},112,11.4,50000,null,null,null,null,"Occupancy Sensor",9]
[null,"High_Low_Bay","LED Lamp",{"$f":"Table5[[#This Row],[Application]]&\"|\"&Table5[[#This Row],[Equipment Type]]","v":"High_Low_Bay|LED Lamp"},125,11.4,50000,null,null,null,null,"Scheduled Dimming",9]
[null,"Exterior_Outdoor","LED Fixture",{"$f":"Table5[[#This Row],[Application]]&\"|\"&Table5[[#This Row],[Equipment Type]]","v":"Exterior_Outdoor|LED Fixture"},110,11.4,50000,null,null,null,null,"Daylight & Occupancy Sensor",9]
[null,"Exterior_Outdoor","TLED",{"$f":"Table5[[#This Row],[Application]]&\"|\"&Table5[[#This Row],[Equipment Type]]","v":"Exterior_Outdoor|TLED"},112,11.4,50000,null,null,null,null,"Daylight & Scheduled Dimming",9]
[null,"Exterior_Outdoor","LED Lamp",{"$f":"Table5[[#This Row],[Application]]&\"|\"&Table5[[#This Row],[Equipment Type]]","v":"Exterior_Outdoor|LED Lamp"},125,11.4,50000,null,null,null,null,"Occupancy Sensor & Daylight",9]
[null,"Screw_Based","A-Line",{"$f":"Table5[[#This Row],[Application]]&\"|\"&Table5[[#This Row],[Equipment Type]]","v":"Screw_Based|A-Line"},10,3.4109970000000001,15000,null,null,null,null,"Occupancy Sensor & Scheduled Dimming",9]
[null,"Screw_Based","Downlight",{"$f":"Table5[[#This Row],[Application]]&\"|\"&Table5[[#This Row],[Equipment Type]]","v":"Screw_Based|Downlight"},29.4,5.6849959999999999,25000,null,null,null,null,"Scheduled Dimming & Occupancy Sensor",9]
[null,"Screw_Based","Decorative",{"$f":"Table5[[#This Row],[Application]]&\"|\"&Table5[[#This Row],[Equipment Type]]","v":"Screw_Based|Decorative"},26.4,3.4109970000000001,15000,null,null,null,null,"Scheduled Dimming & Daylight",9]
[]
[]
[null,"Fixture Calculation Table ",null,null,null,null,null,null,null,null,null,"Control Calculation Table"]
[null,"Measure","Application","Equipment Type","Application | Equipment Type","% First Year Savings Per Measure Type","EUL","Weighted EUL",null,null,null,"Measure","Controls Installed","Control Type","% First Year Savings Per Control Type","EUL","Weighted EUL"]
[null,"Lighting - Interior","Ambient_Linear","LED Fixture",{"$f":"C22&\"|\"&D22","v":"Ambient_Linear|LED Fixture"},{"$f":"IFERROR(SUMIFS(Table1[Absolute Value of Total Incentivized kWh Savings], Table1[Measure], B22, Table1[Application], C22, Table1[Equipment Type], D22)/SUMIF(Table1[Measure], B22, Table1[Absolute Value of Total Incentivized kWh Savings]),\"N/A\")","v":"N/A"},{"$f":"VLOOKUP(E22,$D$6:$F$17,3,0)","v":11.4},{"$f":"IFERROR(G22*F22, \"N/A\")","v":"N/A"},null,null,null,"Lighting - Interior Controls","Luminaire Level Control",null,{"$f":"IFERROR(SUMIFS(Table1[Controls kWh Savings Excluding High-End Trim], Table1[Measure], L22, Table1[Controls\nInstalled], M22)/SUMIF(Table1[Measure], L22, Table1[Controls kWh Savings Excluding High-End Trim]), \"N/A\")","v":"N/A"},{"$f":"VLOOKUP(M22,$L$6:$M$17,2,0)","v":9},{"$f":"IFERROR(O22*P22, \"N/A\")","v":"N/A"}]
[null,"Lighting - Interior","Ambient_Linear","TLED",{"$f":"C23&\"|\"&D23","v":"Ambient_Linear|TLED"},{"$f":"IFERROR(SUMIFS(Table1[Absolute Value of Total Incentivized kWh Savings], Table1[Measure], B23, Table1[Application], C23, Table1[Equipment Type], D23)/SUMIF(Table1[Measure], B23, Table1[Absolute Value of Total Incentivized kWh Savings]),\"N/A\")","v":"N/A"},{"$f":"VLOOKUP(E23,$D$6:$F$17,3,0)","v":11.4},{"$f":"IFERROR(G23*F23, \"N/A\")","v":"N/A"},null,null,null,"Lighting - Interior Controls","Network Sensor",null,{"$f":"IFERROR(SUMIFS(Table1[Controls kWh Savings Excluding High-End Trim], Table1[Measure], L23, Table1[Controls\nInstalled], M23)/SUMIF(Table1[Measure], L23, Table1[Controls kWh Savings Excluding High-End Trim]), \"N/A\")","v":"N/A"},{"$f":"VLOOKUP(M23,$L$6:$M$17,2,0)","v":11},{"$f":"IFERROR(O23*P23, \"N/A\")","v":"N/A"}]
[null,"Lighting - Interior","High_Low_Bay","LED Fixture","High_Low_Bay|LED Fixture",{"$f":"IFERROR(SUMIFS(Table1[Absolute Value of Total Incentivized kWh Savings], Table1[Measure], B24, Table1[Application], C24, Table1[Equipment Type], D24)/SUMIF(Table1[Measure], B24, Table1[Absolute Value of Total Incentivized kWh Savings]),\"N/A\")","v":"N/A"},11.4,"N/A",null,null,null,"Lighting - Interior Controls","Remote Mounted Sensor","Daylight",{"$f":"IFERROR(SUMIFS(Table1[Controls kWh Savings Excluding High-End Trim], Table1[Measure], L24, Table1[Controls\nInstalled], M24, Table1[Controls], N24)/SUMIF(Table1[Measure], L24, Table1[Controls kWh Savings Excluding High-End Trim]), \"N/A\")","v":"N/A"},{"$f":"VLOOKUP(N24,$L$6:$M$17,2,0)","v":9},"N/A"]
[null,"Lighting - Interior","High_Low_Bay","TLED","High_Low_Bay|TLED",{"$f":"IFERROR(SUMIFS(Table1[Absolute Value of Total Incentivized kWh Savings], Table1[Measure], B25, Table1[Application], C25, Table1[Equipment Type], D25)/SUMIF(Table1[Measure], B25, Table1[Absolute Value of Total Incentivized kWh Savings]),\"N/A\")","v":"N/A"},11.4,"N/A",null,null,null,"Lighting - Interior Controls","None","Daylight",{"$f":"IFERROR(SUMIFS(Table1[Controls kWh Savings Excluding High-End Trim], Table1[Measure], L25, Table1[Controls\nInstalled], M25, Table1[Controls], N25)/SUMIF(Table1[Measure], L25, Table1[Controls kWh Savings Excluding High-End Trim]), \"N/A\")","v":"N/A"},9,"N/A"]
[null,"Lighting - Interior","High_Low_Bay","LED Lamp","High_Low_Bay|LED Lamp",{"$f":"IFERROR(SUMIFS(Table1[Absolute Value of Total Incentivized kWh Savings], Table1[Measure], B26, Table1[Application], C26, Table1[Equipment Type], D26)/SUMIF(Table1[Measure], B26, Table1[Absolute Value of Total Incentivized kWh Savings]),\"N/A\")","v":"N/A"},11.4,"N/A",null,null,null,"Lighting - Interior Controls",0,"Daylight",{"$f":"IFERROR(SUMIFS(Table1[Controls kWh Savings Excluding High-End Trim], Table1[Measure], L26, Table1[Controls\nInstalled], M26, Table1[Controls], N26)/SUMIF(Table1[Measure], L26, Table1[Controls kWh Savings Excluding High-End Trim]), \"N/A\")","v":"N/A"},9,"N/A"]
[null,"Lighting - Interior","Exterior_Outdoor","LED Fixture","Exterior_Outdoor|LED Fixture",{"$f":"IFERROR(SUMIFS(Table1[Absolute Value of Total Incentivized kWh Savings], Table1[Measure], B27, Table1[Application], C27, Table1[Equipment Type], D27)/SUMIF(Table1[Measure], B27, Table1[Absolute Value of Total Incentivized kWh Savings]),\"N/A\")","v":"N/A"},11.4,"N/A",null,null,null,"Lighting - Interior Controls","Remote Mounted Sensor","Occupancy Sensor",{"$f":"IFERROR(SUMIFS(Table1[Controls kWh Savings Excluding High-End Trim], Table1[Measure], L27, Table1[Controls\nInstalled], M27, Table1[Controls], N27)/SUMIF(Table1[Measure], L27, Table1[Controls kWh Savings Excluding High-End Trim]), \"N/A\")","v":"N/A"},{"$f":"VLOOKUP(N27,$L$6:$M$17,2,0)","v":9},"N/A"]
[null,"Lighting - Interior","Exterior_Outdoor","TLED","Exterior_Outdoor|TLED",{"$f":"IFERROR(SUMIFS(Table1[Absolute Value of Total Incentivized kWh Savings], Table1[Measure], B28, Table1[Application], C28, Table1[Equipment Type], D28)/SUMIF(Table1[Measure], B28, Table1[Absolute Value of Total Incentivized kWh Savings]),\"N/A\")","v":"N/A"},11.4,"N/A",null,null,null,"Lighting - Interior Controls","None","Occupancy Sensor",{"$f":"IFERROR(SUMIFS(Table1[Controls kWh Savings Excluding High-End Trim], Table1[Measure], L28, Table1[Controls\nInstalled], M28, Table1[Controls], N28)/SUMIF(Table1[Measure], L28, Table1[Controls kWh Savings Excluding High-End Trim]), \"N/A\")","v":"N/A"},9,"N/A"]
[null,"Lighting - Interior","Exterior_Outdoor","LED Lamp","Exterior_Outdoor|LED Lamp",{"$f":"IFERROR(SUMIFS(Table1[Absolute Value of Total Incentivized kWh Savings], Table1[Measure], B29, Table1[Application], C29, Table1[Equipment Type], D29)/SUMIF(Table1[Measure], B29, Table1[Absolute Value of Total Incentivized kWh Savings]),\"N/A\")","v":"N/A"},11.4,"N/A",null,null,null,"Lighting - Interior Controls",0,"Occupancy Sensor",{"$f":"IFERROR(SUMIFS(Table1[Controls kWh Savings Excluding High-End Trim], Table1[Measure], L29, Table1[Controls\nInstalled], M29, Table1[Controls], N29)/SUMIF(Table1[Measure], L29, Table1[Controls kWh Savings Excluding High-End Trim]), \"N/A\")","v":"N/A"},9,"N/A"]
[null,"Lighting - Interior with Controls","Ambient_Linear","LED Fixture","Ambient_Linear|LED Fixture",{"$f":"IFERROR(SUMIFS(Table1[Absolute Value of Total Incentivized kWh Savings], Table1[Measure], B30, Table1[Application], C30, Table1[Equipment Type], D30)/SUMIF(Table1[Measure], B30, Table1[Absolute Value of Total Incentivized kWh Savings]),\"N/A\")","v":"N/A"},11.4,"N/A",null,null,null,"Lighting - Interior Controls","Remote Mounted Sensor","Scheduled Dimming",{"$f":"IFERROR(SUMIFS(Table1[Controls kWh Savings Excluding High-End Trim], Table1[Measure], L30, Table1[Controls\nInstalled], M30, Table1[Controls], N30)/SUMIF(Table1[Measure], L30, Table1[Controls kWh Savings Excluding High-End Trim]), \"N/A\")","v":"N/A"},9,"N/A"]
[null,"Lighting - Interior with Controls","Ambient_Linear","TLED","Ambient_Linear|TLED",{"$f":"IFERROR(SUMIFS(Table1[Absolute Value of Total Incentivized kWh Savings], Table1[Measure], B31, Table1[Application], C31, Table1[Equipment Type], D31)/SUMIF(Table1[Measure], B31, Table1[Absolute Value of Total Incentivized kWh Savings]),\"N/A\")","v":"N/A"},11.4,"N/A",null,null,null,"Lighting - Interior Controls","None","Scheduled Dimming",{"$f":"IFERROR(SUMIFS(Table1[Controls kWh Savings Excluding High-End Trim], Table1[Measure], L31, Table1[Controls\nInstalled], M31, Table1[Controls], N31)/SUMIF(Table1[Measure], L31, Table1[Controls kWh Savings Excluding High-End Trim]), \"N/A\")","v":"N/A"},9,"N/A"]
[null,"Lighting - Interior with Controls","High_Low_Bay","LED Fixture","High_Low_Bay|LED Fixture",{"$f":"IFERROR(SUMIFS(Table1[Absolute Value of Total Incentivized kWh Savings], Table1[Measure], B32, Table1[Application], C32, Table1[Equipment Type], D32)/SUMIF(Table1[Measure], B32, Table1[Absolute Value of Total Incentivized kWh Savings]),\"N/A\")","v":"N/A"},11.4,"N/A",null,null,null,"Lighting - Interior Controls",0,"Scheduled Dimming",{"$f":"IFERROR(SUMIFS(Table1[Controls kWh Savings Excluding High-End Trim], Table1[Measure], L32, Table1[Controls\nInstalled], M32, Table1[Controls], N32)/SUMIF(Table1[Measure], L32, Table1[Controls kWh Savings Excluding High-End Trim]), \"N/A\")","v":"N/A"},9,"N/A"]
[null,"Lighting - Interior with Controls","High_Low_Bay","TLED","High_Low_Bay|TLED",{"$f":"IFERROR(SUMIFS(Table1[Absolute Value of Total Incentivized kWh Savings], Table1[Measure], B33, Table1[Application], C33, Table1[Equipment Type], D33)/SUMIF(Table1[Measure], B33, Table1[Absolute Value of Total Incentivized kWh Savings]),\"N/A\")","v":"N/A"},11.4,"N/A",null,null,null,"Lighting - Interior Controls","Remote Mounted Sensor","Daylight & Occupancy Sensor",{"$f":"IFERROR(SUMIFS(Table1[Controls kWh Savings Excluding High-End Trim], Table1[Measure], L33, Table1[Controls\nInstalled], M33, Table1[Controls], N33)/SUMIF(Table1[Measure], L33, Table1[Controls kWh Savings Excluding High-End Trim]), \"N/A\")","v":"N/A"},9,"N/A"]
[null,"Lighting - Interior with Controls","High_Low_Bay","LED Lamp","High_Low_Bay|LED Lamp",{"$f":"IFERROR(SUMIFS(Table1[Absolute Value of Total Incentivized kWh Savings], Table1[Measure], B34, Table1[Application], C34, Table1[Equipment Type], D34)/SUMIF(Table1[Measure], B34, Table1[Absolute Value of Total Incentivized kWh Savings]),\"N/A\")","v":"N/A"},11.4,"N/A",null,null,null,"Lighting - Interior Controls","None","Daylight & Occupancy Sensor",{"$f":"IFERROR(SUMIFS(Table1[Controls kWh Savings Excluding High-End Trim], Table1[Measure], L34, Table1[Controls\nInstalled], M34, Table1[Controls], N34)/SUMIF(Table1[Measure], L34, Table1[Controls kWh Savings Excluding High-End Trim]), \"N/A\")","v":"N/A"},9,"N/A"]
[null,"Lighting - Interior with Controls","Exterior_Outdoor","LED Fixture","Exterior_Outdoor|LED Fixture",{"$f":"IFERROR(SUMIFS(Table1[Absolute Value of Total Incentivized kWh Savings], Table1[Measure], B35, Table1[Application], C35, Table1[Equipment Type], D35)/SUMIF(Table1[Measure], B35, Table1[Absolute Value of Total Incentivized kWh Savings]),\"N/A\")","v":"N/A"},11.4,"N/A",null,null,null,"Lighting - Interior Controls",0,"Daylight & Occupancy Sensor",{"$f":"IFERROR(SUMIFS(Table1[Controls kWh Savings Excluding High-End Trim], Table1[Measure], L35, Table1[Controls\nInstalled], M35, Table1[Controls], N35)/SUMIF(Table1[Measure], L35, Table1[Controls kWh Savings Excluding High-End Trim]), \"N/A\")","v":"N/A"},9,"N/A"]
[null,"Lighting - Interior with Controls","Exterior_Outdoor","TLED","Exterior_Outdoor|TLED",{"$f":"IFERROR(SUMIFS(Table1[Absolute Value of Total Incentivized kWh Savings], Table1[Measure], B36, Table1[Application], C36, Table1[Equipment Type], D36)/SUMIF(Table1[Measure], B36, Table1[Absolute Value of Total Incentivized kWh Savings]),\"N/A\")","v":"N/A"},11.4,"N/A",null,null,null,"Lighting - Interior Controls","Remote Mounted Sensor","Daylight & Scheduled Dimming",{"$f":"IFERROR(SUMIFS(Table1[Controls kWh Savings Excluding High-End Trim], Table1[Measure], L36, Table1[Controls\nInstalled], M36, Table1[Controls], N36)/SUMIF(Table1[Measure], L36, Table1[Controls kWh Savings Excluding High-End Trim]), \"N/A\")","v":"N/A"},9,"N/A"]
[null,"Lighting - Interior with Controls","Exterior_Outdoor","LED Lamp","Exterior_Outdoor|LED Lamp",{"$f":"IFERROR(SUMIFS(Table1[Absolute Value of Total Incentivized kWh Savings], Table1[Measure], B37, Table1[Application], C37, Table1[Equipment Type], D37)/SUMIF(Table1[Measure], B37, Table1[Absolute Value of Total Incentivized kWh Savings]),\"N/A\")","v":"N/A"},11.4,"N/A",null,null,null,"Lighting - Interior Controls","None","Daylight & Scheduled Dimming",{"$f":"IFERROR(SUMIFS(Table1[Controls kWh Savings Excluding High-End Trim], Table1[Measure], L37, Table1[Controls\nInstalled], M37, Table1[Controls], N37)/SUMIF(Table1[Measure], L37, Table1[Controls kWh Savings Excluding High-End Trim]), \"N/A\")","v":"N/A"},9,"N/A"]
[null,"Lighting - Exterior","Ambient_Linear","LED Fixture","Ambient_Linear|LED Fixture",{"$f":"IFERROR(SUMIFS(Table1[Absolute Value of Total Incentivized kWh Savings], Table1[Measure], B38, Table1[Application], C38, Table1[Equipment Type], D38)/SUMIF(Table1[Measure], B38, Table1[Absolute Value of Total Incentivized kWh Savings]),\"N/A\")","v":"N/A"},{"$f":"VLOOKUP(E38,$D$6:$F$17,3,0)","v":11.4},"N/A",null,null,null,"Lighting - Interior Controls",0,"Daylight & Scheduled Dimming",{"$f":"IFERROR(SUMIFS(Table1[Controls kWh Savings Excluding High-End Trim], Table1[Measure], L38, Table1[Controls\nInstalled], M38, Table1[Controls], N38)/SUMIF(Table1[Measure], L38, Table1[Controls kWh Savings Excluding High-End Trim]), \"N/A\")","v":"N/A"},9,"N/A"]
[null,"Lighting - Exterior","Ambient_Linear","TLED","Ambient_Linear|TLED",{"$f":"IFERROR(SUMIFS(Table1[Absolute Value of Total Incentivized kWh Savings], Table1[Measure], B39, Table1[Application], C39, Table1[Equipment Type], D39)/SUMIF(Table1[Measure], B39, Table1[Absolute Value of Total Incentivized kWh Savings]),\"N/A\")","v":"N/A"},11.4,"N/A",null,null,null,"Lighting - Interior Controls","Remote Mounted Sensor","Occupancy Sensor & Daylight",{"$f":"IFERROR(SUMIFS(Table1[Controls kWh Savings Excluding High-End Trim], Table1[Measure], L39, Table1[Controls\nInstalled], M39, Table1[Controls], N39)/SUMIF(Table1[Measure], L39, Table1[Controls kWh Savings Excluding High-End Trim]), \"N/A\")","v":"N/A"},9,"N/A"]
[null,"Lighting - Exterior","High_Low_Bay","LED Fixture","High_Low_Bay|LED Fixture",{"$f":"IFERROR(SUMIFS(Table1[Absolute Value of Total Incentivized kWh Savings], Table1[Measure], B40, Table1[Application], C40, Table1[Equipment Type], D40)/SUMIF(Table1[Measure], B40, Table1[Absolute Value of Total Incentivized kWh Savings]),\"N/A\")","v":"N/A"},11.4,"N/A",null,null,null,"Lighting - Interior Controls","None","Occupancy Sensor & Daylight",{"$f":"IFERROR(SUMIFS(Table1[Controls kWh Savings Excluding High-End Trim], Table1[Measure], L40, Table1[Controls\nInstalled], M40, Table1[Controls], N40)/SUMIF(Table1[Measure], L40, Table1[Controls kWh Savings Excluding High-End Trim]), \"N/A\")","v":"N/A"},9,"N/A"]
[null,"Lighting - Exterior","High_Low_Bay","TLED","High_Low_Bay|TLED",{"$f":"IFERROR(SUMIFS(Table1[Absolute Value of Total Incentivized kWh Savings], Table1[Measure], B41, Table1[Application], C41, Table1[Equipment Type], D41)/SUMIF(Table1[Measure], B41, Table1[Absolute Value of Total Incentivized kWh Savings]),\"N/A\")","v":"N/A"},{"$f":"VLOOKUP(E41,$D$6:$F$17,3,0)","v":11.4},"N/A",null,null,null,"Lighting - Interior Controls",0,"Occupancy Sensor & Daylight",{"$f":"IFERROR(SUMIFS(Table1[Controls kWh Savings Excluding High-End Trim], Table1[Measure], L41, Table1[Controls\nInstalled], M41, Table1[Controls], N41)/SUMIF(Table1[Measure], L41, Table1[Controls kWh Savings Excluding High-End Trim]), \"N/A\")","v":"N/A"},9,"N/A"]
[null,"Lighting - Exterior","High_Low_Bay","LED Lamp","High_Low_Bay|LED Lamp",{"$f":"IFERROR(SUMIFS(Table1[Absolute Value of Total Incentivized kWh Savings], Table1[Measure], B42, Table1[Application], C42, Table1[Equipment Type], D42)/SUMIF(Table1[Measure], B42, Table1[Absolute Value of Total Incentivized kWh Savings]),\"N/A\")","v":"N/A"},11.4,"N/A",null,null,null,"Lighting - Interior Controls","Remote Mounted Sensor","Occupancy Sensor & Scheduled Dimming",{"$f":"IFERROR(SUMIFS(Table1[Controls kWh Savings Excluding High-End Trim], Table1[Measure], L42, Table1[Controls\nInstalled], M42, Table1[Controls], N42)/SUMIF(Table1[Measure], L42, Table1[Controls kWh Savings Excluding High-End Trim]), \"N/A\")","v":"N/A"},9,"N/A"]
[null,"Lighting - Exterior","Exterior_Outdoor","LED Fixture","Exterior_Outdoor|LED Fixture",{"$f":"IFERROR(SUMIFS(Table1[Absolute Value of Total Incentivized kWh Savings], Table1[Measure], B43, Table1[Application], C43, Table1[Equipment Type], D43)/SUMIF(Table1[Measure], B43, Table1[Absolute Value of Total Incentivized kWh Savings]),\"N/A\")","v":"N/A"},11.4,"N/A",null,null,null,"Lighting - Interior Controls","None","Occupancy Sensor & Scheduled Dimming",{"$f":"IFERROR(SUMIFS(Table1[Controls kWh Savings Excluding High-End Trim], Table1[Measure], L43, Table1[Controls\nInstalled], M43, Table1[Controls], N43)/SUMIF(Table1[Measure], L43, Table1[Controls kWh Savings Excluding High-End Trim]), \"N/A\")","v":"N/A"},9,"N/A"]
[null,"Lighting - Exterior","Exterior_Outdoor","TLED","Exterior_Outdoor|TLED",{"$f":"IFERROR(SUMIFS(Table1[Absolute Value of Total Incentivized kWh Savings], Table1[Measure], B44, Table1[Application], C44, Table1[Equipment Type], D44)/SUMIF(Table1[Measure], B44, Table1[Absolute Value of Total Incentivized kWh Savings]),\"N/A\")","v":"N/A"},11.4,"N/A",null,null,null,"Lighting - Interior Controls",0,"Occupancy Sensor & Scheduled Dimming",{"$f":"IFERROR(SUMIFS(Table1[Controls kWh Savings Excluding High-End Trim], Table1[Measure], L44, Table1[Controls\nInstalled], M44, Table1[Controls], N44)/SUMIF(Table1[Measure], L44, Table1[Controls kWh Savings Excluding High-End Trim]), \"N/A\")","v":"N/A"},9,"N/A"]
[null,"Lighting - Exterior","Exterior_Outdoor","LED Lamp","Exterior_Outdoor|LED Lamp",{"$f":"IFERROR(SUMIFS(Table1[Absolute Value of Total Incentivized kWh Savings], Table1[Measure], B45, Table1[Application], C45, Table1[Equipment Type], D45)/SUMIF(Table1[Measure], B45, Table1[Absolute Value of Total Incentivized kWh Savings]),\"N/A\")","v":"N/A"},11.4,"N/A",null,null,null,"Lighting - Interior Controls","Remote Mounted Sensor","Scheduled Dimming & Occupancy Sensor",{"$f":"IFERROR(SUMIFS(Table1[Controls kWh Savings Excluding High-End Trim], Table1[Measure], L45, Table1[Controls\nInstalled], M45, Table1[Controls], N45)/SUMIF(Table1[Measure], L45, Table1[Controls kWh Savings Excluding High-End Trim]), \"N/A\")","v":"N/A"},9,"N/A"]
[null,"Lighting - Exterior with Controls","Ambient_Linear","LED Fixture","Ambient_Linear|LED Fixture",{"$f":"IFERROR(SUMIFS(Table1[Absolute Value of Total Incentivized kWh Savings], Table1[Measure], B46, Table1[Application], C46, Table1[Equipment Type], D46)/SUMIF(Table1[Measure], B46, Table1[Absolute Value of Total Incentivized kWh Savings]),\"N/A\")","v":"N/A"},11.4,"N/A",null,null,null,"Lighting - Interior Controls","None","Scheduled Dimming & Occupancy Sensor",{"$f":"IFERROR(SUMIFS(Table1[Controls kWh Savings Excluding High-End Trim], Table1[Measure], L46, Table1[Controls\nInstalled], M46, Table1[Controls], N46)/SUMIF(Table1[Measure], L46, Table1[Controls kWh Savings Excluding High-End Trim]), \"N/A\")","v":"N/A"},9,"N/A"]
[null,"Lighting - Exterior with Controls","Ambient_Linear","TLED","Ambient_Linear|TLED",{"$f":"IFERROR(SUMIFS(Table1[Absolute Value of Total Incentivized kWh Savings], Table1[Measure], B47, Table1[Application], C47, Table1[Equipment Type], D47)/SUMIF(Table1[Measure], B47, Table1[Absolute Value of Total Incentivized kWh Savings]),\"N/A\")","v":"N/A"},11.4,"N/A",null,null,null,"Lighting - Interior Controls",0,"Scheduled Dimming & Occupancy Sensor",{"$f":"IFERROR(SUMIFS(Table1[Controls kWh Savings Excluding High-End Trim], Table1[Measure], L47, Table1[Controls\nInstalled], M47, Table1[Controls], N47)/SUMIF(Table1[Measure], L47, Table1[Controls kWh Savings Excluding High-End Trim]), \"N/A\")","v":"N/A"},9,"N/A"]
[null,"Lighting - Exterior with Controls","High_Low_Bay","LED Fixture","High_Low_Bay|LED Fixture",{"$f":"IFERROR(SUMIFS(Table1[Absolute Value of Total Incentivized kWh Savings], Table1[Measure], B48, Table1[Application], C48, Table1[Equipment Type], D48)/SUMIF(Table1[Measure], B48, Table1[Absolute Value of Total Incentivized kWh Savings]),\"N/A\")","v":"N/A"},11.4,"N/A",null,null,null,"Lighting - Interior Controls","Remote Mounted Sensor","Scheduled Dimming & Daylight",{"$f":"IFERROR(SUMIFS(Table1[Controls kWh Savings Excluding High-End Trim], Table1[Measure], L48, Table1[Controls\nInstalled], M48, Table1[Controls], N48)/SUMIF(Table1[Measure], L48, Table1[Controls kWh Savings Excluding High-End Trim]), \"N/A\")","v":"N/A"},9,"N/A"]
[null,"Lighting - Exterior with Controls","High_Low_Bay","TLED","High_Low_Bay|TLED",{"$f":"IFERROR(SUMIFS(Table1[Absolute Value of Total Incentivized kWh Savings], Table1[Measure], B49, Table1[Application], C49, Table1[Equipment Type], D49)/SUMIF(Table1[Measure], B49, Table1[Absolute Value of Total Incentivized kWh Savings]),\"N/A\")","v":"N/A"},11.4,"N/A",null,null,null,"Lighting - Interior Controls","None","Scheduled Dimming & Daylight",{"$f":"IFERROR(SUMIFS(Table1[Controls kWh Savings Excluding High-End Trim], Table1[Measure], L49, Table1[Controls\nInstalled], M49, Table1[Controls], N49)/SUMIF(Table1[Measure], L49, Table1[Controls kWh Savings Excluding High-End Trim]), \"N/A\")","v":"N/A"},9,"N/A"]
[null,"Lighting - Exterior with Controls","High_Low_Bay","LED Lamp","High_Low_Bay|LED Lamp",{"$f":"IFERROR(SUMIFS(Table1[Absolute Value of Total Incentivized kWh Savings], Table1[Measure], B50, Table1[Application], C50, Table1[Equipment Type], D50)/SUMIF(Table1[Measure], B50, Table1[Absolute Value of Total Incentivized kWh Savings]),\"N/A\")","v":"N/A"},11.4,"N/A",null,null,null,"Lighting - Interior Controls",0,"Scheduled Dimming & Daylight",{"$f":"IFERROR(SUMIFS(Table1[Controls kWh Savings Excluding High-End Trim], Table1[Measure], L50, Table1[Controls\nInstalled], M50, Table1[Controls], N50)/SUMIF(Table1[Measure], L50, Table1[Controls kWh Savings Excluding High-End Trim]), \"N/A\")","v":"N/A"},9,"N/A"]
[null,"Lighting - Exterior with Controls","Exterior_Outdoor","LED Fixture","Exterior_Outdoor|LED Fixture",{"$f":"IFERROR(SUMIFS(Table1[Absolute Value of Total Incentivized kWh Savings], Table1[Measure], B51, Table1[Application], C51, Table1[Equipment Type], D51)/SUMIF(Table1[Measure], B51, Table1[Absolute Value of Total Incentivized kWh Savings]),\"N/A\")","v":"N/A"},11.4,"N/A",null,null,null,"Lighting - Exterior Controls","Luminaire Level Control",null,{"$f":"IFERROR(SUMIFS(Table1[Controls kWh Savings Excluding High-End Trim], Table1[Measure], L51, Table1[Controls\nInstalled], M51)/SUMIF(Table1[Measure], L51, Table1[Controls kWh Savings Excluding High-End Trim]), \"N/A\")","v":"N/A"},{"$f":"VLOOKUP(M51,$L$6:$M$17,2,0)","v":9},"N/A"]
[null,"Lighting - Exterior with Controls","Exterior_Outdoor","TLED","Exterior_Outdoor|TLED",{"$f":"IFERROR(SUMIFS(Table1[Absolute Value of Total Incentivized kWh Savings], Table1[Measure], B52, Table1[Application], C52, Table1[Equipment Type], D52)/SUMIF(Table1[Measure], B52, Table1[Absolute Value of Total Incentivized kWh Savings]),\"N/A\")","v":"N/A"},11.4,"N/A",null,null,null,"Lighting - Exterior Controls","Network Sensor",null,{"$f":"IFERROR(SUMIFS(Table1[Controls kWh Savings Excluding High-End Trim], Table1[Measure], L52, Table1[Controls\nInstalled], M52)/SUMIF(Table1[Measure], L52, Table1[Controls kWh Savings Excluding High-End Trim]), \"N/A\")","v":"N/A"},{"$f":"VLOOKUP(M52,$L$6:$M$17,2,0)","v":11},"N/A"]
[null,"Lighting - Exterior with Controls","Exterior_Outdoor","LED Lamp","Exterior_Outdoor|LED Lamp",{"$f":"IFERROR(SUMIFS(Table1[Absolute Value of Total Incentivized kWh Savings], Table1[Measure], B53, Table1[Application], C53, Table1[Equipment Type], D53)/SUMIF(Table1[Measure], B53, Table1[Absolute Value of Total Incentivized kWh Savings]),\"N/A\")","v":"N/A"},11.4,"N/A",null,null,null,"Lighting - Exterior Controls","Remote Mounted Sensor","Daylight",{"$f":"IFERROR(SUMIFS(Table1[Controls kWh Savings Excluding High-End Trim], Table1[Measure], L53, Table1[Controls\nInstalled], M53, Table1[Controls], N53)/SUMIF(Table1[Measure], L53, Table1[Controls kWh Savings Excluding High-End Trim]), \"N/A\")","v":"N/A"},9,"N/A"]
[null,null,null,null,null,null,null,null,null,null,null,"Lighting - Exterior Controls","None","Daylight",{"$f":"IFERROR(SUMIFS(Table1[Controls kWh Savings Excluding High-End Trim], Table1[Measure], L54, Table1[Controls\nInstalled], M54, Table1[Controls], N54)/SUMIF(Table1[Measure], L54, Table1[Controls kWh Savings Excluding High-End Trim]), \"N/A\")","v":"N/A"},9,"N/A"]
[null,null,null,null,null,null,null,null,null,null,null,"Lighting - Exterior Controls",0,"Daylight",{"$f":"IFERROR(SUMIFS(Table1[Controls kWh Savings Excluding High-End Trim], Table1[Measure], L55, Table1[Controls\nInstalled], M55, Table1[Controls], N55)/SUMIF(Table1[Measure], L55, Table1[Controls kWh Savings Excluding High-End Trim]), \"N/A\")","v":"N/A"},9,"N/A"]
[null,null,null,null,null,null,null,null,null,null,null,"Lighting - Exterior Controls","Remote Mounted Sensor","Occupancy Sensor",{"$f":"IFERROR(SUMIFS(Table1[Controls kWh Savings Excluding High-End Trim], Table1[Measure], L56, Table1[Controls\nInstalled], M56, Table1[Controls], N56)/SUMIF(Table1[Measure], L56, Table1[Controls kWh Savings Excluding High-End Trim]), \"N/A\")","v":"N/A"},9,"N/A"]
[null,null,null,null,null,null,null,null,null,null,null,"Lighting - Exterior Controls","None","Occupancy Sensor",{"$f":"IFERROR(SUMIFS(Table1[Controls kWh Savings Excluding High-End Trim], Table1[Measure], L57, Table1[Controls\nInstalled], M57, Table1[Controls], N57)/SUMIF(Table1[Measure], L57, Table1[Controls kWh Savings Excluding High-End Trim]), \"N/A\")","v":"N/A"},9,"N/A"]
[null,null,null,null,null,null,null,null,null,null,null,"Lighting - Exterior Controls",0,"Occupancy Sensor",{"$f":"IFERROR(SUMIFS(Table1[Controls kWh Savings Excluding High-End Trim], Table1[Measure], L58, Table1[Controls\nInstalled], M58, Table1[Controls], N58)/SUMIF(Table1[Measure], L58, Table1[Controls kWh Savings Excluding High-End Trim]), \"N/A\")","v":"N/A"},9,"N/A"]
[null,null,null,null,null,null,null,null,null,null,null,"Lighting - Exterior Controls","Remote Mounted Sensor","Scheduled Dimming",{"$f":"IFERROR(SUMIFS(Table1[Controls kWh Savings Excluding High-End Trim], Table1[Measure], L59, Table1[Controls\nInstalled], M59, Table1[Controls], N59)/SUMIF(Table1[Measure], L59, Table1[Controls kWh Savings Excluding High-End Trim]), \"N/A\")","v":"N/A"},9,"N/A"]
[null,null,null,null,null,null,null,null,null,null,null,"Lighting - Exterior Controls","None","Scheduled Dimming",{"$f":"IFERROR(SUMIFS(Table1[Controls kWh Savings Excluding High-End Trim], Table1[Measure], L60, Table1[Controls\nInstalled], M60, Table1[Controls], N60)/SUMIF(Table1[Measure], L60, Table1[Controls kWh Savings Excluding High-End Trim]), \"N/A\")","v":"N/A"},9,"N/A"]
[null,null,null,null,null,null,null,null,null,null,null,"Lighting - Exterior Controls",0,"Scheduled Dimming",{"$f":"IFERROR(SUMIFS(Table1[Controls kWh Savings Excluding High-End Trim], Table1[Measure], L61, Table1[Controls\nInstalled], M61, Table1[Controls], N61)/SUMIF(Table1[Measure], L61, Table1[Controls kWh Savings Excluding High-End Trim]), \"N/A\")","v":"N/A"},9,"N/A"]
[null,null,null,null,null,null,null,null,null,null,null,"Lighting - Exterior Controls","Remote Mounted Sensor","Daylight & Occupancy Sensor",{"$f":"IFERROR(SUMIFS(Table1[Controls kWh Savings Excluding High-End Trim], Table1[Measure], L62, Table1[Controls\nInstalled], M62, Table1[Controls], N62)/SUMIF(Table1[Measure], L62, Table1[Controls kWh Savings Excluding High-End Trim]), \"N/A\")","v":"N/A"},9,"N/A"]
[null,null,null,null,null,null,null,null,null,null,null,"Lighting - Exterior Controls","None","Daylight & Occupancy Sensor",{"$f":"IFERROR(SUMIFS(Table1[Controls kWh Savings Excluding High-End Trim], Table1[Measure], L63, Table1[Controls\nInstalled], M63, Table1[Controls], N63)/SUMIF(Table1[Measure], L63, Table1[Controls kWh Savings Excluding High-End Trim]), \"N/A\")","v":"N/A"},9,"N/A"]
[null,null,null,null,null,null,null,null,null,null,null,"Lighting - Exterior Controls",0,"Daylight & Occupancy Sensor",{"$f":"IFERROR(SUMIFS(Table1[Controls kWh Savings Excluding High-End Trim], Table1[Measure], L64, Table1[Controls\nInstalled], M64, Table1[Controls], N64)/SUMIF(Table1[Measure], L64, Table1[Controls kWh Savings Excluding High-End Trim]), \"N/A\")","v":"N/A"},9,"N/A"]
[null,null,null,null,null,null,null,null,null,null,null,"Lighting - Exterior Controls","Remote Mounted Sensor","Daylight & Scheduled Dimming",{"$f":"IFERROR(SUMIFS(Table1[Controls kWh Savings Excluding High-End Trim], Table1[Measure], L65, Table1[Controls\nInstalled], M65, Table1[Controls], N65)/SUMIF(Table1[Measure], L65, Table1[Controls kWh Savings Excluding High-End Trim]), \"N/A\")","v":"N/A"},9,"N/A"]
[null,null,null,null,null,null,null,null,null,null,null,"Lighting - Exterior Controls","None","Daylight & Scheduled Dimming",{"$f":"IFERROR(SUMIFS(Table1[Controls kWh Savings Excluding High-End Trim], Table1[Measure], L66, Table1[Controls\nInstalled], M66, Table1[Controls], N66)/SUMIF(Table1[Measure], L66, Table1[Controls kWh Savings Excluding High-End Trim]), \"N/A\")","v":"N/A"},9,"N/A"]
[null,null,null,null,null,null,null,null,null,null,null,"Lighting - Exterior Controls",0,"Daylight & Scheduled Dimming",{"$f":"IFERROR(SUMIFS(Table1[Controls kWh Savings Excluding High-End Trim], Table1[Measure], L67, Table1[Controls\nInstalled], M67, Table1[Controls], N67)/SUMIF(Table1[Measure], L67, Table1[Controls kWh Savings Excluding High-End Trim]), \"N/A\")","v":"N/A"},9,"N/A"]
[null,null,null,null,null,null,null,null,null,null,null,"Lighting - Exterior Controls","Remote Mounted Sensor","Occupancy Sensor & Daylight",{"$f":"IFERROR(SUMIFS(Table1[Controls kWh Savings Excluding High-End Trim], Table1[Measure], L68, Table1[Controls\nInstalled], M68, Table1[Controls], N68)/SUMIF(Table1[Measure], L68, Table1[Controls kWh Savings Excluding High-End Trim]), \"N/A\")","v":"N/A"},9,"N/A"]
[null,null,null,null,null,null,null,null,null,null,null,"Lighting - Exterior Controls","None","Occupancy Sensor & Daylight",{"$f":"IFERROR(SUMIFS(Table1[Controls kWh Savings Excluding High-End Trim], Table1[Measure], L69, Table1[Controls\nInstalled], M69, Table1[Controls], N69)/SUMIF(Table1[Measure], L69, Table1[Controls kWh Savings Excluding High-End Trim]), \"N/A\")","v":"N/A"},9,"N/A"]
[null,null,null,null,null,null,null,null,null,null,null,"Lighting - Exterior Controls",0,"Occupancy Sensor & Daylight",{"$f":"IFERROR(SUMIFS(Table1[Controls kWh Savings Excluding High-End Trim], Table1[Measure], L70, Table1[Controls\nInstalled], M70, Table1[Controls], N70)/SUMIF(Table1[Measure], L70, Table1[Controls kWh Savings Excluding High-End Trim]), \"N/A\")","v":"N/A"},9,"N/A"]
[null,null,null,null,null,null,null,null,null,null,null,"Lighting - Exterior Controls","Remote Mounted Sensor","Occupancy Sensor & Scheduled Dimming",{"$f":"IFERROR(SUMIFS(Table1[Controls kWh Savings Excluding High-End Trim], Table1[Measure], L71, Table1[Controls\nInstalled], M71, Table1[Controls], N71)/SUMIF(Table1[Measure], L71, Table1[Controls kWh Savings Excluding High-End Trim]), \"N/A\")","v":"N/A"},9,"N/A"]
[null,null,null,null,null,null,null,null,null,null,null,"Lighting - Exterior Controls","None","Occupancy Sensor & Scheduled Dimming",{"$f":"IFERROR(SUMIFS(Table1[Controls kWh Savings Excluding High-End Trim], Table1[Measure], L72, Table1[Controls\nInstalled], M72, Table1[Controls], N72)/SUMIF(Table1[Measure], L72, Table1[Controls kWh Savings Excluding High-End Trim]), \"N/A\")","v":"N/A"},9,"N/A"]
[null,null,null,null,null,null,null,null,null,null,null,"Lighting - Exterior Controls",0,"Occupancy Sensor & Scheduled Dimming",{"$f":"IFERROR(SUMIFS(Table1[Controls kWh Savings Excluding High-End Trim], Table1[Measure], L73, Table1[Controls\nInstalled], M73, Table1[Controls], N73)/SUMIF(Table1[Measure], L73, Table1[Controls kWh Savings Excluding High-End Trim]), \"N/A\")","v":"N/A"},9,"N/A"]
[null,null,null,null,null,null,null,null,null,null,null,"Lighting - Exterior Controls","Remote Mounted Sensor","Scheduled Dimming & Occupancy Sensor",{"$f":"IFERROR(SUMIFS(Table1[Controls kWh Savings Excluding High-End Trim], Table1[Measure], L74, Table1[Controls\nInstalled], M74, Table1[Controls], N74)/SUMIF(Table1[Measure], L74, Table1[Controls kWh Savings Excluding High-End Trim]), \"N/A\")","v":"N/A"},9,"N/A"]
[null,null,null,null,null,null,null,null,null,null,null,"Lighting - Exterior Controls","None","Scheduled Dimming & Occupancy Sensor",{"$f":"IFERROR(SUMIFS(Table1[Controls kWh Savings Excluding High-End Trim], Table1[Measure], L75, Table1[Controls\nInstalled], M75, Table1[Controls], N75)/SUMIF(Table1[Measure], L75, Table1[Controls kWh Savings Excluding High-End Trim]), \"N/A\")","v":"N/A"},9,"N/A"]
[null,null,null,null,null,null,null,null,null,null,null,"Lighting - Exterior Controls",0,"Scheduled Dimming & Occupancy Sensor",{"$f":"IFERROR(SUMIFS(Table1[Controls kWh Savings Excluding High-End Trim], Table1[Measure], L76, Table1[Controls\nInstalled], M76, Table1[Controls], N76)/SUMIF(Table1[Measure], L76, Table1[Controls kWh Savings Excluding High-End Trim]), \"N/A\")","v":"N/A"},9,"N/A"]
[null,null,null,null,null,null,null,null,null,null,null,"Lighting - Exterior Controls","Remote Mounted Sensor","Scheduled Dimming & Daylight",{"$f":"IFERROR(SUMIFS(Table1[Controls kWh Savings Excluding High-End Trim], Table1[Measure], L77, Table1[Controls\nInstalled], M77, Table1[Controls], N77)/SUMIF(Table1[Measure], L77, Table1[Controls kWh Savings Excluding High-End Trim]), \"N/A\")","v":"N/A"},9,"N/A"]
[null,null,null,null,null,null,null,null,null,null,null,"Lighting - Exterior Controls","None","Scheduled Dimming & Daylight",{"$f":"IFERROR(SUMIFS(Table1[Controls kWh Savings Excluding High-End Trim], Table1[Measure], L78, Table1[Controls\nInstalled], M78, Table1[Controls], N78)/SUMIF(Table1[Measure], L78, Table1[Controls kWh Savings Excluding High-End Trim]), \"N/A\")","v":"N/A"},9,"N/A"]
[null,null,null,null,null,null,null,null,null,null,null,"Lighting - Exterior Controls",0,"Scheduled Dimming & Daylight",{"$f":"IFERROR(SUMIFS(Table1[Controls kWh Savings Excluding High-End Trim], Table1[Measure], L79, Table1[Controls\nInstalled], M79, Table1[Controls], N79)/SUMIF(Table1[Measure], L79, Table1[Controls kWh Savings Excluding High-End Trim]), \"N/A\")","v":"N/A"},9,"N/A"]

{"sheet":"Tier Screening","index":8,"n_rows":34,"n_cols":15,"rows_kept":34,"cut":false,"hidden":true,"merged":[]}
[]
[null,"Requirements"]
[]
[null,null,"Base","Tier 1","Tier 2"]
[null,"Average a minimum of 2,000 hours per year (before controls)","Required","Required","Required",null,null,null,null,null,"Tier Eligibility Check"]
[null,"UL Type A TLEDs and Screw-in LED lamps must be less than 10% of the installed wattage","Required","Required","Required"]
[null,"DLC/ES models must be at least 75% of the installed wattage","Not Required","Required","Required",null,null,null,null,null,"User-Selected Tier",{"$f":"'3 - Savings Analysis'!S3","v":0},"Meets Tier Requirements?"]
[null,"At least 30% of the installed wattage must have high-end trim","Not Required","Required","Required",null,null,null,null,null,"Average Hours Per Year (Before Controls)",{"$f":"IFERROR(Table1[[#Totals],[Annual Operating Hours]], 0)","v":0},{"$f":"IF(L8>=2000, \"Yes\",\"No\")","v":"No"},null,"Project Override Approval Entered?"]
[null,"Incentivized kWh Savings","DLC/ES kWh savings only","Total kWh savings","Total kWh savings",null,null,null,null,null,"% TLED Type A/Screw-in - Installed Wattage",{"$f":"IFERROR((SUMIFS(Table1[Proposed kW], Table1[Equipment Type],\"TLED\", Table1[TLED Type],\"A\", Table1[DLC/ES?], \"Yes\")+SUMIF(Table1[Equipment Type],\"A-Line\",Table1[Proposed kW])+SUMIF(Table1[Equipment Type],\"Decorative\",Table1[Proposed kW])+SUMIF(Table1[Equipment Type],\"DownLight\",Table1[Proposed kW]))/Table1[[#Totals],[Proposed kW]],\"-\")","v":"-"},{"$f":"IF(L9<0.1, \"Yes\", IF(O9=\"Yes\", \"Yes\", \"No\"))","v":"No"},null,{"$f":"IF('3 - Savings Analysis'!Q10<>\"\",\"Yes\",\"No\")","v":"No"}]
[null,null,null,null,null,null,null,null,null,null,"% DLC/ES - Installed Wattage",{"$f":"IFERROR((SUMIF(Table1[DLC/ES?],\"Yes\",Table1[Proposed kW])+SUMIF(Table1[DLC/ES?],\"ES approved\",Table1[Proposed kW]))/Table1[[#Totals],[Proposed kW]],\"-\")","v":"-"},{"$f":"IF(L7=\"Fixture Replacement Only - No Controls\",\"Yes\", IF(L10>0.75,\"Yes\",\"No\"))","v":"Yes"}]
[null,null,null,null,null,null,null,null,null,null,"% High-End Trim - Installed Wattage",{"$f":"IFERROR((SUMIF(Table1[High End Trim?],\"Yes\",Table1[Proposed kW]))/Table1[[#Totals],[Proposed kW]],0)","v":0},{"$f":"IF(L7=\"Fixture Replacement Only - No Controls\",\"Yes\", IF(L11>0.3,\"Yes\",IF(O11=\"Yes\",\"Yes\",\"No\")))","v":"No"},null,{"$f":"IF('3 - Savings Analysis'!W12<>\"\",\"Yes\",\"No\")","v":"No"}]
[null,"Lookup",null,null,null,null,null,null,null,null,"# of Control Systems Required",{"$f":"IF(AND(L7=\"Tier 2 - Network Controls\", COUNTIF(Table1[Measure], \"Lighting - Exterior\") + COUNTIF(Table1[Measure], \"Lighting - Exterior Controls\") + COUNTIF(Table1[Measure], \"Lighting - Exterior with Controls\"))=0, 3, IF(L7=\"Fixture Replacement Only - No Controls\", 0, 2))","v":2}]
[null,null,null,null,null,null,null,null,null,null,"# of Control Systems Installed",{"$f":"COUNTIF(M14:M17, \"Meets Program Requirements\")","v":0},{"$f":"IF(L13>=L12,\"Yes\",\"No\")","v":"No"}]
[null,"User-Selected Tier","Average Hours Per Year (Before Controls)","% TLED/Screw-in - Connected Wattage","% DLC/ES - Connected Wattage","Project Incentive","Incentivized Fixture kWh Savings","Incentivized Controls kWh Savings","Incentivized kWh Savings",null,"     High-End Trim Output",{"$f":"Table1[[#Totals],[Proposed High End Trim\n(% of Max Fixture Output)]]","v":0},{"$f":"IF(O11=\"Yes\",\"Meets Program Requirements\",IF(L14=0,\"Not Installed\", IF(AND((1-L14)>0.25, O11=\"No\"),\"Needs RI Energy Approval\",\"Meets Program Requirements\")))","v":"Not Installed"}]
[null,"Fixture Replacement Only - No Controls","No","No","N/A","Ineligible for incentives","N/A","N/A","N/A",null,"     Occupancy Sensor",null,{"$f":"IF(COUNTIF(Table1[Proposed Control Strategy],\"Occupancy Sensor\")>0,\"Meets Program Requirements\", IF(COUNTIF(Table1[Proposed Additional Control Strategy],\"Occupancy Sensor\")>0,\"Meets Program Requirements\",\"Not Installed\"))","v":"Not Installed"}]
[null,"Fixture Replacement Only - No Controls","No","Yes","N/A","Ineligible for incentives","N/A","N/A","N/A",null,"     Daylight",null,{"$f":"IF(COUNTIF(Table1[Proposed Control Strategy],\"Daylight\")>0,\"Meets Program Requirements\", IF(COUNTIF(Table1[Proposed Additional Control Strategy],\"Daylight\")>0,\"Meets Program Requirements\",\"Not Installed\"))","v":"Not Installed"}]
[null,"Fixture Replacement Only - No Controls","Yes","No","N/A","Ineligible for incentives","N/A","N/A","N/A",null,"     Scheduled Dimming",null,{"$f":"IF(COUNTIF(Table1[Proposed Control Strategy],\"Scheduled Dimming\")>0,\"Meets Program Requirements\", IF(COUNTIF(Table1[Proposed Additional Control Strategy],\"Scheduled Dimming\")>0,\"Meets Program Requirements\",\"Not Installed\"))","v":"Not Installed"}]
[null,"Fixture Replacement Only - No Controls","Yes","Yes","N/A","Negotiated incentive to be approved by Rhode Island Energy",{"$f":" IFERROR(IF(AND('3 - Savings Analysis'!S3='Tier Screening'!B18, ,'3 - Savings Analysis'!AP3=\"Yes\",'3 - Savings Analysis'!AP4=\"Yes\", Table1[DLC/ES?]<>\"No\"), SUM(Table1[Fixture kWh Savings]+Table1[Cooling kWh Savings]),\"N/A\"), \"N/A\")","v":"N/A"},"N/A",{"$f":"IF('3 - Savings Analysis'!S3 = B18, G18, \"N/A\")","v":"N/A"},null,"Incentivized kWh Savings",{"$f":"IF(AND(L7 = \"Tier 2 - Network Controls\", M8=\"Yes\", M9=\"Yes\", M10=\"Yes\", M11=\"Yes\", M13=\"Yes\"), I34, IF(AND(L7=\"Tier 1 - Luminaire Level or Wireless Control\", M8=\"Yes\", M9=\"Yes\", M10=\"Yes\", M11=\"Yes\", M13=\"Yes\"), I26, IF(AND(L7=\"Fixture Replacement Only - No Controls\", M8=\"Yes\", M9=\"Yes\"), I18, \"Not Eligible For Selected Tier Incentive\")))","v":"Not Eligible For Selected Tier Incentive"}]
[null,"Tier 1 - Luminaire Level or Wireless Control","No","No","No","Ineligible for incentives","N/A","N/A","N/A",null,"Estimated Project Incentive",{"$f":"IF(AND(L7=\"Tier 2 - Network Controls\",M8=\"Yes\",M9=\"Yes\",M10=\"Yes\", M11=\"Yes\", M13=\"Yes\"),F34,IF(AND(L7=\"Tier 1 - Luminaire Level or Wireless Control\",M8=\"Yes\",M9=\"Yes\",M10=\"Yes\", M11=\"Yes\", M13=\"Yes\"),F26,IF(AND(L7=\"Fixture Replacement Only - No Controls\",M8=\"Yes\",M9=\"Yes\"),F18,\"Not Eligible For Selected Tier Incentive\")))","v":"Not Eligible For Selected Tier Incentive"}]
[null,"Tier 1 - Luminaire Level or Wireless Control","No","No","Yes","Ineligible for incentives","N/A","N/A","N/A",null,"Incentive Cap (65% of Project Cost)",{"$f":"0.65*'1 - Project Info'!F7","v":0}]
[null,"Tier 1 - Luminaire Level or Wireless Control","No","Yes","Yes","Ineligible for incentives","N/A","N/A","N/A",null,"Project Incentive",{"$f":"IF(L19>L20, L20, L19)","v":0}]
[null,"Tier 1 - Luminaire Level or Wireless Control","No","Yes","No","Ineligible for incentives","N/A","N/A","N/A"]
[null,"Tier 1 - Luminaire Level or Wireless Control","Yes","No","No","Ineligible for incentives","N/A","N/A","N/A",null,"Controls Tier","Fixture kWh Savings Incentive Rate ($/kWh)","Controls kWh Savings Incentive Rate ($/kWh)"]
[null,"Tier 1 - Luminaire Level or Wireless Control","Yes","No","Yes","Ineligible for incentives","N/A","N/A","N/A",null,"Fixture Replacement Only - No Controls","Negotiated w/RIE","N/A"]
[null,"Tier 1 - Luminaire Level or Wireless Control","Yes","Yes","No","Ineligible for incentives","N/A","N/A","N/A",null,"Tier 1 - Luminaire Level or Wireless Control",0.25,0.85]
[null,"Tier 1 - Luminaire Level or Wireless Control","Yes","Yes","Yes",{"$f":"IFERROR(IF('3 - Savings Analysis'!S3 = B26, (G26*L25)+(H26*M25), \"N/A\"), \"N/A\")","v":"N/A"},{"$f":"IF('3 - Savings Analysis'!S3='Tier Screening'!B26, SUM(Table1[Fixture kWh Savings],Table1[Cooling kWh Savings]), \"N/A\")","v":"N/A"},{"$f":"IF(AND('3 - Savings Analysis'!S3='Tier Screening'!B26, '3 - Savings Analysis'!AP3=\"Yes\", '3 - Savings Analysis'!AP4=\"Yes\",'3 - Savings Analysis'!AP5=\"Yes\",'3 - Savings Analysis'!AP6=\"Yes\"), SUM(Table1[Total Controls kWh Savings]), \"N/A\")","v":"N/A"},{"$f":"IFERROR(IF('3 - Savings Analysis'!S3 = B26, G26+H26, \"N/A\"), \"N/A\")","v":"N/A"},null,"Tier 2 - Network Controls",0.25,1.1000000000000001]
[null,"Tier 2 - Network Controls","No","No","No","Ineligible for incentives","N/A","N/A","N/A",null,"*Incentive capped at 65% of project cost"]
[null,"Tier 2 - Network Controls","No","No","Yes","Ineligible for incentives","N/A","N/A","N/A"]
[null,"Tier 2 - Network Controls","No","Yes","Yes","Ineligible for incentives","N/A","N/A","N/A"]
[null,"Tier 2 - Network Controls","No","Yes","No","Ineligible for incentives","N/A","N/A","N/A"]
[null,"Tier 2 - Network Controls","Yes","No","No","Ineligible for incentives","N/A","N/A","N/A"]
[null,"Tier 2 - Network Controls","Yes","No","Yes","Ineligible for incentives","N/A","N/A","N/A"]
[null,"Tier 2 - Network Controls","Yes","Yes","No","Ineligible for incentives","N/A","N/A","N/A"]
[null,"Tier 2 - Network Controls","Yes","Yes","Yes",{"$f":"IF('3 - Savings Analysis'!S3 = B34, (G34*L26)+(H34*M26), \"N/A\")","v":"N/A"},{"$f":"IF('3 - Savings Analysis'!S3='Tier Screening'!B34, SUM(Table1[Total Incentivized Fixture kWh Savings]), \"N/A\")","v":"N/A"},{"$f":"IF(AND('3 - Savings Analysis'!S3='Tier Screening'!B34, '3 - Savings Analysis'!AP3=\"Yes\", '3 - Savings Analysis'!AP4=\"Yes\",'3 - Savings Analysis'!AP5=\"Yes\",'3 - Savings Analysis'!AP6=\"Yes\"), SUM(Table1[Total Incentivized Controls kWh Savings]), \"N/A\")","v":"N/A"},{"$f":"IF('3 - Savings Analysis'!S3 = B34, G34+H34, \"N/A\")","v":"N/A"}]

{"sheet":"% On Peak Calc","index":9,"n_rows":74,"n_cols":8,"rows_kept":74,"cut":false,"hidden":true,"merged":[[71,3,71,6],[72,3,72,6],[73,3,73,6]]}
[]
[]
[null,"Measure","Lighting - Interior","Lighting - Interior Controls","Lighting - Interior with Controls","Lighting - Exterior","Lighting - Exterior Controls","Lighting - Exterior with Controls"]
[null,"% Energy On Peak",{"$f":"SUMIF($B$10:$B$69, C3, $F$10:$F$69)","v":0},0,0,0,0,0]
[null,"% Summer",0.33,0.33,0.33,0.33,0.33,0.33]
[null,"% Summer or Override",{"$f":"('4 - BCR Screening Inputs'!C7<>\"\")*'4 - BCR Screening Inputs'!C7+('4 - BCR Screening Inputs'!C7=\"\")*C5","v":0.33},{"$f":"('4 - BCR Screening Inputs'!D7<>\"\")*'4 - BCR Screening Inputs'!D7+('4 - BCR Screening Inputs'!D7=\"\")*D5","v":0.33},{"$f":"('4 - BCR Screening Inputs'!E7<>\"\")*'4 - BCR Screening Inputs'!E7+('4 - BCR Screening Inputs'!E7=\"\")*E5","v":0.33},{"$f":"('4 - BCR Screening Inputs'!F7<>\"\")*'4 - BCR Screening Inputs'!F7+('4 - BCR Screening Inputs'!F7=\"\")*F5","v":0.33},{"$f":"('4 - BCR Screening Inputs'!G7<>\"\")*'4 - BCR Screening Inputs'!G7+('4 - BCR Screening Inputs'!G7=\"\")*G5","v":0.33},{"$f":"('4 - BCR Screening Inputs'!H7<>\"\")*'4 - BCR Screening Inputs'!H7+('4 - BCR Screening Inputs'!H7=\"\")*H5","v":0.33}]
[]
[]
[null,"Measure","Operating Hours Group","% On Peak","% First Year Savings Per Measure Type","Weighted % On Peak"]
[null,"Lighting - Interior",{"$f":"'2 - Hours and Schedules'!$AK$3","v":"Usage Group A"},{"$f":"VLOOKUP(C10,'2 - Hours and Schedules'!$AK$3:$AN$12,4,0)","v":{"$error":"#DIV/0!"}},{"$f":"SUMIFS(Table1[Total Incentivized kWh Savings], Table1[Measure], B10, Table1[Operating Hours Group], C10)/SUMIF(Table1[Measure], B10, Table1[Total Incentivized kWh Savings])","v":{"$error":"#DIV/0!"}},{"$f":"IFERROR(D10*E10, \"N/A\")","v":"N/A"}]
[null,"Lighting - Interior",{"$f":"'2 - Hours and Schedules'!$AK$4","v":"Usage Group B"},{"$f":"VLOOKUP(C11,'2 - Hours and Schedules'!$AK$3:$AN$12,4,0)","v":{"$error":"#DIV/0!"}},{"$f":"SUMIFS(Table1[Total Incentivized kWh Savings], Table1[Measure], B11, Table1[Operating Hours Group], C11)/SUMIF(Table1[Measure], B11, Table1[Total Incentivized kWh Savings])","v":{"$error":"#DIV/0!"}},{"$f":"IFERROR(D11*E11, \"N/A\")","v":"N/A"}]
[null,"Lighting - Interior",{"$f":"'2 - Hours and Schedules'!$AK$5","v":"Usage Group C"},{"$f":"VLOOKUP(C12,'2 - Hours and Schedules'!$AK$3:$AN$12,4,0)","v":{"$error":"#DIV/0!"}},{"$f":"SUMIFS(Table1[Total Incentivized kWh Savings], Table1[Measure], B12, Table1[Operating Hours Group], C12)/SUMIF(Table1[Measure], B12, Table1[Total Incentivized kWh Savings])","v":{"$error":"#DIV/0!"}},"N/A"]
[null,"Lighting - Interior",{"$f":"'2 - Hours and Schedules'!$AK$6","v":"Usage Group D"},{"$f":"VLOOKUP(C13,'2 - Hours and Schedules'!$AK$3:$AN$12,4,0)","v":{"$error":"#DIV/0!"}},{"$f":"SUMIFS(Table1[Total Incentivized kWh Savings], Table1[Measure], B13, Table1[Operating Hours Group], C13)/SUMIF(Table1[Measure], B13, Table1[Total Incentivized kWh Savings])","v":{"$error":"#DIV/0!"}},"N/A"]
[null,"Lighting - Interior",{"$f":"'2 - Hours and Schedules'!$AK$7","v":"Usage Group E"},{"$f":"VLOOKUP(C14,'2 - Hours and Schedules'!$AK$3:$AN$12,4,0)","v":{"$error":"#DIV/0!"}},{"$f":"SUMIFS(Table1[Total Incentivized kWh Savings], Table1[Measure], B14, Table1[Operating Hours Group], C14)/SUMIF(Table1[Measure], B14, Table1[Total Incentivized kWh Savings])","v":{"$error":"#DIV/0!"}},"N/A"]
[null,"Lighting - Interior",{"$f":"'2 - Hours and Schedules'!$AK$8","v":"Usage Group F"},{"$f":"VLOOKUP(C15,'2 - Hours and Schedules'!$AK$3:$AN$12,4,0)","v":{"$error":"#DIV/0!"}},{"$f":"SUMIFS(Table1[Total Incentivized kWh Savings], Table1[Measure], B15, Table1[Operating Hours Group], C15)/SUMIF(Table1[Measure], B15, Table1[Total Incentivized kWh Savings])","v":{"$error":"#DIV/0!"}},"N/A"]
[null,"Lighting - Interior",{"$f":"'2 - Hours and Schedules'!$AK$9","v":"Usage Group G"},{"$f":"VLOOKUP(C16,'2 - Hours and Schedules'!$AK$3:$AN$12,4,0)","v":{"$error":"#DIV/0!"}},{"$f":"SUMIFS(Table1[Total Incentivized kWh Savings], Table1[Measure], B16, Table1[Operating Hours Group], C16)/SUMIF(Table1[Measure], B16, Table1[Total Incentivized kWh Savings])","v":{"$error":"#DIV/0!"}},"N/A"]
[null,"Lighting - Interior",{"$f":"'2 - Hours and Schedules'!$AK$10","v":"Usage Group H"},{"$f":"VLOOKUP(C17,'2 - Hours and Schedules'!$AK$3:$AN$12,4,0)","v":{"$error":"#DIV/0!"}},{"$f":"SUMIFS(Table1[Total Incentivized kWh Savings], Table1[Measure], B17, Table1[Operating Hours Group], C17)/SUMIF(Table1[Measure], B17, Table1[Total Incentivized kWh Savings])","v":{"$error":"#DIV/0!"}},"N/A"]
[null,"Lighting - Interior",{"$f":"'2 - Hours and Schedules'!$AK$11","v":"Usage Group I"},{"$f":"VLOOKUP(C18,'2 - Hours and Schedules'!$AK$3:$AN$12,4,0)","v":{"$error":"#DIV/0!"}},{"$f":"SUMIFS(Table1[Total Incentivized kWh Savings], Table1[Measure], B18, Table1[Operating Hours Group], C18)/SUMIF(Table1[Measure], B18, Table1[Total Incentivized kWh Savings])","v":{"$error":"#DIV/0!"}},"N/A"]
[null,"Lighting - Interior",{"$f":"'2 - Hours and Schedules'!$AK$12","v":"Usage Group J"},{"$f":"VLOOKUP(C19,'2 - Hours and Schedules'!$AK$3:$AN$12,4,0)","v":{"$error":"#DIV/0!"}},{"$f":"SUMIFS(Table1[Total Incentivized kWh Savings], Table1[Measure], B19, Table1[Operating Hours Group], C19)/SUMIF(Table1[Measure], B19, Table1[Total Incentivized kWh Savings])","v":{"$error":"#DIV/0!"}},"N/A"]
[null,"Lighting - Interior Controls",{"$f":"'2 - Hours and Schedules'!$AK$3","v":"Usage Group A"},{"$f":"VLOOKUP(C20,'2 - Hours and Schedules'!$AK$3:$AN$12,4,0)","v":{"$error":"#DIV/0!"}},{"$f":"SUMIFS(Table1[Total Incentivized kWh Savings], Table1[Measure], B20, Table1[Operating Hours Group], C20)/SUMIF(Table1[Measure], B20, Table1[Total Incentivized kWh Savings])","v":{"$error":"#DIV/0!"}},"N/A"]
[null,"Lighting - Interior Controls",{"$f":"'2 - Hours and Schedules'!$AK$4","v":"Usage Group B"},{"$f":"VLOOKUP(C21,'2 - Hours and Schedules'!$AK$3:$AN$12,4,0)","v":{"$error":"#DIV/0!"}},{"$f":"SUMIFS(Table1[Total Incentivized kWh Savings], Table1[Measure], B21, Table1[Operating Hours Group], C21)/SUMIF(Table1[Measure], B21, Table1[Total Incentivized kWh Savings])","v":{"$error":"#DIV/0!"}},"N/A"]
[null,"Lighting - Interior Controls",{"$f":"'2 - Hours and Schedules'!$AK$5","v":"Usage Group C"},{"$f":"VLOOKUP(C22,'2 - Hours and Schedules'!$AK$3:$AN$12,4,0)","v":{"$error":"#DIV/0!"}},{"$f":"SUMIFS(Table1[Total Incentivized kWh Savings], Table1[Measure], B22, Table1[Operating Hours Group], C22)/SUMIF(Table1[Measure], B22, Table1[Total Incentivized kWh Savings])","v":{"$error":"#DIV/0!"}},"N/A"]
[null,"Lighting - Interior Controls",{"$f":"'2 - Hours and Schedules'!$AK$6","v":"Usage Group D"},{"$f":"VLOOKUP(C23,'2 - Hours and Schedules'!$AK$3:$AN$12,4,0)","v":{"$error":"#DIV/0!"}},{"$f":"SUMIFS(Table1[Total Incentivized kWh Savings], Table1[Measure], B23, Table1[Operating Hours Group], C23)/SUMIF(Table1[Measure], B23, Table1[Total Incentivized kWh Savings])","v":{"$error":"#DIV/0!"}},"N/A"]
[null,"Lighting - Interior Controls",{"$f":"'2 - Hours and Schedules'!$AK$7","v":"Usage Group E"},{"$f":"VLOOKUP(C24,'2 - Hours and Schedules'!$AK$3:$AN$12,4,0)","v":{"$error":"#DIV/0!"}},{"$f":"SUMIFS(Table1[Total Incentivized kWh Savings], Table1[Measure], B24, Table1[Operating Hours Group], C24)/SUMIF(Table1[Measure], B24, Table1[Total Incentivized kWh Savings])","v":{"$error":"#DIV/0!"}},"N/A"]
[null,"Lighting - Interior Controls",{"$f":"'2 - Hours and Schedules'!$AK$8","v":"Usage Group F"},{"$f":"VLOOKUP(C25,'2 - Hours and Schedules'!$AK$3:$AN$12,4,0)","v":{"$error":"#DIV/0!"}},{"$f":"SUMIFS(Table1[Total Incentivized kWh Savings], Table1[Measure], B25, Table1[Operating Hours Group], C25)/SUMIF(Table1[Measure], B25, Table1[Total Incentivized kWh Savings])","v":{"$error":"#DIV/0!"}},"N/A"]
[null,"Lighting - Interior Controls",{"$f":"'2 - Hours and Schedules'!$AK$9","v":"Usage Group G"},{"$f":"VLOOKUP(C26,'2 - Hours and Schedules'!$AK$3:$AN$12,4,0)","v":{"$error":"#DIV/0!"}},{"$f":"SUMIFS(Table1[Total Incentivized kWh Savings], Table1[Measure], B26, Table1[Operating Hours Group], C26)/SUMIF(Table1[Measure], B26, Table1[Total Incentivized kWh Savings])","v":{"$error":"#DIV/0!"}},"N/A"]
[null,"Lighting - Interior Controls",{"$f":"'2 - Hours and Schedules'!$AK$10","v":"Usage Group H"},{"$f":"VLOOKUP(C27,'2 - Hours and Schedules'!$AK$3:$AN$12,4,0)","v":{"$error":"#DIV/0!"}},{"$f":"SUMIFS(Table1[Total Incentivized kWh Savings], Table1[Measure], B27, Table1[Operating Hours Group], C27)/SUMIF(Table1[Measure], B27, Table1[Total Incentivized kWh Savings])","v":{"$error":"#DIV/0!"}},"N/A"]
[null,"Lighting - Interior Controls",{"$f":"'2 - Hours and Schedules'!$AK$11","v":"Usage Group I"},{"$f":"VLOOKUP(C28,'2 - Hours and Schedules'!$AK$3:$AN$12,4,0)","v":{"$error":"#DIV/0!"}},{"$f":"SUMIFS(Table1[Total Incentivized kWh Savings], Table1[Measure], B28, Table1[Operating Hours Group], C28)/SUMIF(Table1[Measure], B28, Table1[Total Incentivized kWh Savings])","v":{"$error":"#DIV/0!"}},"N/A"]
[null,"Lighting - Interior Controls",{"$f":"'2 - Hours and Schedules'!$AK$12","v":"Usage Group J"},{"$f":"VLOOKUP(C29,'2 - Hours and Schedules'!$AK$3:$AN$12,4,0)","v":{"$error":"#DIV/0!"}},{"$f":"SUMIFS(Table1[Total Incentivized kWh Savings], Table1[Measure], B29, Table1[Operating Hours Group], C29)/SUMIF(Table1[Measure], B29, Table1[Total Incentivized kWh Savings])","v":{"$error":"#DIV/0!"}},"N/A"]
[null,"Lighting - Interior with Controls",{"$f":"'2 - Hours and Schedules'!$AK$3","v":"Usage Group A"},{"$f":"VLOOKUP(C30,'2 - Hours and Schedules'!$AK$3:$AN$12,4,0)","v":{"$error":"#DIV/0!"}},{"$f":"SUMIFS(Table1[Total Incentivized kWh Savings], Table1[Measure], B30, Table1[Operating Hours Group], C30)/SUMIF(Table1[Measure], B30, Table1[Total Incentivized kWh Savings])","v":{"$error":"#DIV/0!"}},"N/A"]
[null,"Lighting - Interior with Controls",{"$f":"'2 - Hours and Schedules'!$AK$4","v":"Usage Group B"},{"$f":"VLOOKUP(C31,'2 - Hours and Schedules'!$AK$3:$AN$12,4,0)","v":{"$error":"#DIV/0!"}},{"$f":"SUMIFS(Table1[Total Incentivized kWh Savings], Table1[Measure], B31, Table1[Operating Hours Group], C31)/SUMIF(Table1[Measure], B31, Table1[Total Incentivized kWh Savings])","v":{"$error":"#DIV/0!"}},"N/A"]
[null,"Lighting - Interior with Controls",{"$f":"'2 - Hours and Schedules'!$AK$5","v":"Usage Group C"},{"$f":"VLOOKUP(C32,'2 - Hours and Schedules'!$AK$3:$AN$12,4,0)","v":{"$error":"#DIV/0!"}},{"$f":"SUMIFS(Table1[Total Incentivized kWh Savings], Table1[Measure], B32, Table1[Operating Hours Group], C32)/SUMIF(Table1[Measure], B32, Table1[Total Incentivized kWh Savings])","v":{"$error":"#DIV/0!"}},"N/A"]
[null,"Lighting - Interior with Controls",{"$f":"'2 - Hours and Schedules'!$AK$6","v":"Usage Group D"},{"$f":"VLOOKUP(C33,'2 - Hours and Schedules'!$AK$3:$AN$12,4,0)","v":{"$error":"#DIV/0!"}},{"$f":"SUMIFS(Table1[Total Incentivized kWh Savings], Table1[Measure], B33, Table1[Operating Hours Group], C33)/SUMIF(Table1[Measure], B33, Table1[Total Incentivized kWh Savings])","v":{"$error":"#DIV/0!"}},"N/A"]
[null,"Lighting - Interior with Controls",{"$f":"'2 - Hours and Schedules'!$AK$7","v":"Usage Group E"},{"$f":"VLOOKUP(C34,'2 - Hours and Schedules'!$AK$3:$AN$12,4,0)","v":{"$error":"#DIV/0!"}},{"$f":"SUMIFS(Table1[Total Incentivized kWh Savings], Table1[Measure], B34, Table1[Operating Hours Group], C34)/SUMIF(Table1[Measure], B34, Table1[Total Incentivized kWh Savings])","v":{"$error":"#DIV/0!"}},"N/A"]
[null,"Lighting - Interior with Controls",{"$f":"'2 - Hours and Schedules'!$AK$8","v":"Usage Group F"},{"$f":"VLOOKUP(C35,'2 - Hours and Schedules'!$AK$3:$AN$12,4,0)","v":{"$error":"#DIV/0!"}},{"$f":"SUMIFS(Table1[Total Incentivized kWh Savings], Table1[Measure], B35, Table1[Operating Hours Group], C35)/SUMIF(Table1[Measure], B35, Table1[Total Incentivized kWh Savings])","v":{"$error":"#DIV/0!"}},"N/A"]
[null,"Lighting - Interior with Controls",{"$f":"'2 - Hours and Schedules'!$AK$9","v":"Usage Group G"},{"$f":"VLOOKUP(C36,'2 - Hours and Schedules'!$AK$3:$AN$12,4,0)","v":{"$error":"#DIV/0!"}},{"$f":"SUMIFS(Table1[Total Incentivized kWh Savings], Table1[Measure], B36, Table1[Operating Hours Group], C36)/SUMIF(Table1[Measure], B36, Table1[Total Incentivized kWh Savings])","v":{"$error":"#DIV/0!"}},"N/A"]
[null,"Lighting - Interior with Controls",{"$f":"'2 - Hours and Schedules'!$AK$10","v":"Usage Group H"},{"$f":"VLOOKUP(C37,'2 - Hours and Schedules'!$AK$3:$AN$12,4,0)","v":{"$error":"#DIV/0!"}},{"$f":"SUMIFS(Table1[Total Incentivized kWh Savings], Table1[Measure], B37, Table1[Operating Hours Group], C37)/SUMIF(Table1[Measure], B37, Table1[Total Incentivized kWh Savings])","v":{"$error":"#DIV/0!"}},"N/A"]
[null,"Lighting - Interior with Controls",{"$f":"'2 - Hours and Schedules'!$AK$11","v":"Usage Group I"},{"$f":"VLOOKUP(C38,'2 - Hours and Schedules'!$AK$3:$AN$12,4,0)","v":{"$error":"#DIV/0!"}},{"$f":"SUMIFS(Table1[Total Incentivized kWh Savings], Table1[Measure], B38, Table1[Operating Hours Group], C38)/SUMIF(Table1[Measure], B38, Table1[Total Incentivized kWh Savings])","v":{"$error":"#DIV/0!"}},"N/A"]
[null,"Lighting - Interior with Controls",{"$f":"'2 - Hours and Schedules'!$AK$12","v":"Usage Group J"},{"$f":"VLOOKUP(C39,'2 - Hours and Schedules'!$AK$3:$AN$12,4,0)","v":{"$error":"#DIV/0!"}},{"$f":"SUMIFS(Table1[Total Incentivized kWh Savings], Table1[Measure], B39, Table1[Operating Hours Group], C39)/SUMIF(Table1[Measure], B39, Table1[Total Incentivized kWh Savings])","v":{"$error":"#DIV/0!"}},"N/A"]
[null,"Lighting - Exterior",{"$f":"'2 - Hours and Schedules'!$AK$3","v":"Usage Group A"},{"$f":"VLOOKUP(C40,'2 - Hours and Schedules'!$AK$3:$AN$12,4,0)","v":{"$error":"#DIV/0!"}},{"$f":"SUMIFS(Table1[Total Incentivized kWh Savings], Table1[Measure], B40, Table1[Operating Hours Group], C40)/SUMIF(Table1[Measure], B40, Table1[Total Incentivized kWh Savings])","v":{"$error":"#DIV/0!"}},"N/A"]
[null,"Lighting - Exterior",{"$f":"'2 - Hours and Schedules'!$AK$4","v":"Usage Group B"},{"$f":"VLOOKUP(C41,'2 - Hours and Schedules'!$AK$3:$AN$12,4,0)","v":{"$error":"#DIV/0!"}},{"$f":"SUMIFS(Table1[Total Incentivized kWh Savings], Table1[Measure], B41, Table1[Operating Hours Group], C41)/SUMIF(Table1[Measure], B41, Table1[Total Incentivized kWh Savings])","v":{"$error":"#DIV/0!"}},"N/A"]
[null,"Lighting - Exterior",{"$f":"'2 - Hours and Schedules'!$AK$5","v":"Usage Group C"},{"$f":"VLOOKUP(C42,'2 - Hours and Schedules'!$AK$3:$AN$12,4,0)","v":{"$error":"#DIV/0!"}},{"$f":"SUMIFS(Table1[Total Incentivized kWh Savings], Table1[Measure], B42, Table1[Operating Hours Group], C42)/SUMIF(Table1[Measure], B42, Table1[Total Incentivized kWh Savings])","v":{"$error":"#DIV/0!"}},"N/A"]
[null,"Lighting - Exterior",{"$f":"'2 - Hours and Schedules'!$AK$6","v":"Usage Group D"},{"$f":"VLOOKUP(C43,'2 - Hours and Schedules'!$AK$3:$AN$12,4,0)","v":{"$error":"#DIV/0!"}},{"$f":"SUMIFS(Table1[Total Incentivized kWh Savings], Table1[Measure], B43, Table1[Operating Hours Group], C43)/SUMIF(Table1[Measure], B43, Table1[Total Incentivized kWh Savings])","v":{"$error":"#DIV/0!"}},"N/A"]
[null,"Lighting - Exterior",{"$f":"'2 - Hours and Schedules'!$AK$7","v":"Usage Group E"},{"$f":"VLOOKUP(C44,'2 - Hours and Schedules'!$AK$3:$AN$12,4,0)","v":{"$error":"#DIV/0!"}},{"$f":"SUMIFS(Table1[Total Incentivized kWh Savings], Table1[Measure], B44, Table1[Operating Hours Group], C44)/SUMIF(Table1[Measure], B44, Table1[Total Incentivized kWh Savings])","v":{"$error":"#DIV/0!"}},"N/A"]
[null,"Lighting - Exterior",{"$f":"'2 - Hours and Schedules'!$AK$8","v":"Usage Group F"},{"$f":"VLOOKUP(C45,'2 - Hours and Schedules'!$AK$3:$AN$12,4,0)","v":{"$error":"#DIV/0!"}},{"$f":"SUMIFS(Table1[Total Incentivized kWh Savings], Table1[Measure], B45, Table1[Operating Hours Group], C45)/SUMIF(Table1[Measure], B45, Table1[Total Incentivized kWh Savings])","v":{"$error":"#DIV/0!"}},"N/A"]
[null,"Lighting - Exterior",{"$f":"'2 - Hours and Schedules'!$AK$9","v":"Usage Group G"},{"$f":"VLOOKUP(C46,'2 - Hours and Schedules'!$AK$3:$AN$12,4,0)","v":{"$error":"#DIV/0!"}},{"$f":"SUMIFS(Table1[Total Incentivized kWh Savings], Table1[Measure], B46, Table1[Operating Hours Group], C46)/SUMIF(Table1[Measure], B46, Table1[Total Incentivized kWh Savings])","v":{"$error":"#DIV/0!"}},"N/A"]
[null,"Lighting - Exterior",{"$f":"'2 - Hours and Schedules'!$AK$10","v":"Usage Group H"},{"$f":"VLOOKUP(C47,'2 - Hours and Schedules'!$AK$3:$AN$12,4,0)","v":{"$error":"#DIV/0!"}},{"$f":"SUMIFS(Table1[Total Incentivized kWh Savings], Table1[Measure], B47, Table1[Operating Hours Group], C47)/SUMIF(Table1[Measure], B47, Table1[Total Incentivized kWh Savings])","v":{"$error":"#DIV/0!"}},"N/A"]
[null,"Lighting - Exterior",{"$f":"'2 - Hours and Schedules'!$AK$11","v":"Usage Group I"},{"$f":"VLOOKUP(C48,'2 - Hours and Schedules'!$AK$3:$AN$12,4,0)","v":{"$error":"#DIV/0!"}},{"$f":"SUMIFS(Table1[Total Incentivized kWh Savings], Table1[Measure], B48, Table1[Operating Hours Group], C48)/SUMIF(Table1[Measure], B48, Table1[Total Incentivized kWh Savings])","v":{"$error":"#DIV/0!"}},"N/A"]
[null,"Lighting - Exterior",{"$f":"'2 - Hours and Schedules'!$AK$12","v":"Usage Group J"},{"$f":"VLOOKUP(C49,'2 - Hours and Schedules'!$AK$3:$AN$12,4,0)","v":{"$error":"#DIV/0!"}},{"$f":"SUMIFS(Table1[Total Incentivized kWh Savings], Table1[Measure], B49, Table1[Operating Hours Group], C49)/SUMIF(Table1[Measure], B49, Table1[Total Incentivized kWh Savings])","v":{"$error":"#DIV/0!"}},"N/A"]
[null,"Lighting - Exterior Controls",{"$f":"'2 - Hours and Schedules'!$AK$3","v":"Usage Group A"},{"$f":"VLOOKUP(C50,'2 - Hours and Schedules'!$AK$3:$AN$12,4,0)","v":{"$error":"#DIV/0!"}},{"$f":"SUMIFS(Table1[Total Incentivized kWh Savings], Table1[Measure], B50, Table1[Operating Hours Group], C50)/SUMIF(Table1[Measure], B50, Table1[Total Incentivized kWh Savings])","v":{"$error":"#DIV/0!"}},"N/A"]
[null,"Lighting - Exterior Controls",{"$f":"'2 - Hours and Schedules'!$AK$4","v":"Usage Group B"},{"$f":"VLOOKUP(C51,'2 - Hours and Schedules'!$AK$3:$AN$12,4,0)","v":{"$error":"#DIV/0!"}},{"$f":"SUMIFS(Table1[Total Incentivized kWh Savings], Table1[Measure], B51, Table1[Operating Hours Group], C51)/SUMIF(Table1[Measure], B51, Table1[Total Incentivized kWh Savings])","v":{"$error":"#DIV/0!"}},"N/A"]
[null,"Lighting - Exterior Controls",{"$f":"'2 - Hours and Schedules'!$AK$5","v":"Usage Group C"},{"$f":"VLOOKUP(C52,'2 - Hours and Schedules'!$AK$3:$AN$12,4,0)","v":{"$error":"#DIV/0!"}},{"$f":"SUMIFS(Table1[Total Incentivized kWh Savings], Table1[Measure], B52, Table1[Operating Hours Group], C52)/SUMIF(Table1[Measure], B52, Table1[Total Incentivized kWh Savings])","v":{"$error":"#DIV/0!"}},"N/A"]
[null,"Lighting - Exterior Controls",{"$f":"'2 - Hours and Schedules'!$AK$6","v":"Usage Group D"},{"$f":"VLOOKUP(C53,'2 - Hours and Schedules'!$AK$3:$AN$12,4,0)","v":{"$error":"#DIV/0!"}},{"$f":"SUMIFS(Table1[Total Incentivized kWh Savings], Table1[Measure], B53, Table1[Operating Hours Group], C53)/SUMIF(Table1[Measure], B53, Table1[Total Incentivized kWh Savings])","v":{"$error":"#DIV/0!"}},"N/A"]
[null,"Lighting - Exterior Controls",{"$f":"'2 - Hours and Schedules'!$AK$7","v":"Usage Group E"},{"$f":"VLOOKUP(C54,'2 - Hours and Schedules'!$AK$3:$AN$12,4,0)","v":{"$error":"#DIV/0!"}},{"$f":"SUMIFS(Table1[Total Incentivized kWh Savings], Table1[Measure], B54, Table1[Operating Hours Group], C54)/SUMIF(Table1[Measure], B54, Table1[Total Incentivized kWh Savings])","v":{"$error":"#DIV/0!"}},"N/A"]
[null,"Lighting - Exterior Controls",{"$f":"'2 - Hours and Schedules'!$AK$8","v":"Usage Group F"},{"$f":"VLOOKUP(C55,'2 - Hours and Schedules'!$AK$3:$AN$12,4,0)","v":{"$error":"#DIV/0!"}},{"$f":"SUMIFS(Table1[Total Incentivized kWh Savings], Table1[Measure], B55, Table1[Operating Hours Group], C55)/SUMIF(Table1[Measure], B55, Table1[Total Incentivized kWh Savings])","v":{"$error":"#DIV/0!"}},"N/A"]
[null,"Lighting - Exterior Controls",{"$f":"'2 - Hours and Schedules'!$AK$9","v":"Usage Group G"},{"$f":"VLOOKUP(C56,'2 - Hours and Schedules'!$AK$3:$AN$12,4,0)","v":{"$error":"#DIV/0!"}},{"$f":"SUMIFS(Table1[Total Incentivized kWh Savings], Table1[Measure], B56, Table1[Operating Hours Group], C56)/SUMIF(Table1[Measure], B56, Table1[Total Incentivized kWh Savings])","v":{"$error":"#DIV/0!"}},"N/A"]
[null,"Lighting - Exterior Controls",{"$f":"'2 - Hours and Schedules'!$AK$10","v":"Usage Group H"},{"$f":"VLOOKUP(C57,'2 - Hours and Schedules'!$AK$3:$AN$12,4,0)","v":{"$error":"#DIV/0!"}},{"$f":"SUMIFS(Table1[Total Incentivized kWh Savings], Table1[Measure], B57, Table1[Operating Hours Group], C57)/SUMIF(Table1[Measure], B57, Table1[Total Incentivized kWh Savings])","v":{"$error":"#DIV/0!"}},"N/A"]
[null,"Lighting - Exterior Controls",{"$f":"'2 - Hours and Schedules'!$AK$11","v":"Usage Group I"},{"$f":"VLOOKUP(C58,'2 - Hours and Schedules'!$AK$3:$AN$12,4,0)","v":{"$error":"#DIV/0!"}},{"$f":"SUMIFS(Table1[Total Incentivized kWh Savings], Table1[Measure], B58, Table1[Operating Hours Group], C58)/SUMIF(Table1[Measure], B58, Table1[Total Incentivized kWh Savings])","v":{"$error":"#DIV/0!"}},"N/A"]
[null,"Lighting - Exterior with Controls",{"$f":"'2 - Hours and Schedules'!$AK$12","v":"Usage Group J"},{"$f":"VLOOKUP(C59,'2 - Hours and Schedules'!$AK$3:$AN$12,4,0)","v":{"$error":"#DIV/0!"}},{"$f":"SUMIFS(Table1[Total Incentivized kWh Savings], Table1[Measure], B59, Table1[Operating Hours Group], C59)/SUMIF(Table1[Measure], B59, Table1[Total Incentivized kWh Savings])","v":{"$error":"#DIV/0!"}},"N/A"]
[null,"Lighting - Exterior with Controls",{"$f":"'2 - Hours and Schedules'!$AK$3","v":"Usage Group A"},{"$f":"VLOOKUP(C60,'2 - Hours and Schedules'!$AK$3:$AN$12,4,0)","v":{"$error":"#DIV/0!"}},{"$f":"SUMIFS(Table1[Total Incentivized kWh Savings], Table1[Measure], B60, Table1[Operating Hours Group], C60)/SUMIF(Table1[Measure], B60, Table1[Total Incentivized kWh Savings])","v":{"$error":"#DIV/0!"}},"N/A"]
[null,"Lighting - Exterior with Controls",{"$f":"'2 - Hours and Schedules'!$AK$4","v":"Usage Group B"},{"$f":"VLOOKUP(C61,'2 - Hours and Schedules'!$AK$3:$AN$12,4,0)","v":{"$error":"#DIV/0!"}},{"$f":"SUMIFS(Table1[Total Incentivized kWh Savings], Table1[Measure], B61, Table1[Operating Hours Group], C61)/SUMIF(Table1[Measure], B61, Table1[Total Incentivized kWh Savings])","v":{"$error":"#DIV/0!"}},"N/A"]
[null,"Lighting - Exterior with Controls",{"$f":"'2 - Hours and Schedules'!$AK$5","v":"Usage Group C"},{"$f":"VLOOKUP(C62,'2 - Hours and Schedules'!$AK$3:$AN$12,4,0)","v":{"$error":"#DIV/0!"}},{"$f":"SUMIFS(Table1[Total Incentivized kWh Savings], Table1[Measure], B62, Table1[Operating Hours Group], C62)/SUMIF(Table1[Measure], B62, Table1[Total Incentivized kWh Savings])","v":{"$error":"#DIV/0!"}},"N/A"]
[null,"Lighting - Exterior with Controls",{"$f":"'2 - Hours and Schedules'!$AK$6","v":"Usage Group D"},{"$f":"VLOOKUP(C63,'2 - Hours and Schedules'!$AK$3:$AN$12,4,0)","v":{"$error":"#DIV/0!"}},{"$f":"SUMIFS(Table1[Total Incentivized kWh Savings], Table1[Measure], B63, Table1[Operating Hours Group], C63)/SUMIF(Table1[Measure], B63, Table1[Total Incentivized kWh Savings])","v":{"$error":"#DIV/0!"}},"N/A"]
[null,"Lighting - Exterior with Controls",{"$f":"'2 - Hours and Schedules'!$AK$7","v":"Usage Group E"},{"$f":"VLOOKUP(C64,'2 - Hours and Schedules'!$AK$3:$AN$12,4,0)","v":{"$error":"#DIV/0!"}},{"$f":"SUMIFS(Table1[Total Incentivized kWh Savings], Table1[Measure], B64, Table1[Operating Hours Group], C64)/SUMIF(Table1[Measure], B64, Table1[Total Incentivized kWh Savings])","v":{"$error":"#DIV/0!"}},"N/A"]
[null,"Lighting - Exterior with Controls",{"$f":"'2 - Hours and Schedules'!$AK$8","v":"Usage Group F"},{"$f":"VLOOKUP(C65,'2 - Hours and Schedules'!$AK$3:$AN$12,4,0)","v":{"$error":"#DIV/0!"}},{"$f":"SUMIFS(Table1[Total Incentivized kWh Savings], Table1[Measure], B65, Table1[Operating Hours Group], C65)/SUMIF(Table1[Measure], B65, Table1[Total Incentivized kWh Savings])","v":{"$error":"#DIV/0!"}},"N/A"]
[null,"Lighting - Exterior with Controls",{"$f":"'2 - Hours and Schedules'!$AK$9","v":"Usage Group G"},{"$f":"VLOOKUP(C66,'2 - Hours and Schedules'!$AK$3:$AN$12,4,0)","v":{"$error":"#DIV/0!"}},{"$f":"SUMIFS(Table1[Total Incentivized kWh Savings], Table1[Measure], B66, Table1[Operating Hours Group], C66)/SUMIF(Table1[Measure], B66, Table1[Total Incentivized kWh Savings])","v":{"$error":"#DIV/0!"}},"N/A"]
[null,"Lighting - Exterior with Controls",{"$f":"'2 - Hours and Schedules'!$AK$10","v":"Usage Group H"},{"$f":"VLOOKUP(C67,'2 - Hours and Schedules'!$AK$3:$AN$12,4,0)","v":{"$error":"#DIV/0!"}},{"$f":"SUMIFS(Table1[Total Incentivized kWh Savings], Table1[Measure], B67, Table1[Operating Hours Group], C67)/SUMIF(Table1[Measure], B67, Table1[Total Incentivized kWh Savings])","v":{"$error":"#DIV/0!"}},"N/A"]
[null,"Lighting - Exterior with Controls",{"$f":"'2 - Hours and Schedules'!$AK$11","v":"Usage Group I"},{"$f":"VLOOKUP(C68,'2 - Hours and Schedules'!$AK$3:$AN$12,4,0)","v":{"$error":"#DIV/0!"}},{"$f":"SUMIFS(Table1[Total Incentivized kWh Savings], Table1[Measure], B68, Table1[Operating Hours Group], C68)/SUMIF(Table1[Measure], B68, Table1[Total Incentivized kWh Savings])","v":{"$error":"#DIV/0!"}},"N/A"]
[null,"Lighting - Exterior with Controls",{"$f":"'2 - Hours and Schedules'!$AK$12","v":"Usage Group J"},{"$f":"VLOOKUP(C69,'2 - Hours and Schedules'!$AK$3:$AN$12,4,0)","v":{"$error":"#DIV/0!"}},{"$f":"SUMIFS(Table1[Total Incentivized kWh Savings], Table1[Measure], B69, Table1[Operating Hours Group], C69)/SUMIF(Table1[Measure], B69, Table1[Total Incentivized kWh Savings])","v":{"$error":"#DIV/0!"}},"N/A"]
[]
[]
[null,"Hours in Summer On Peak Period",1380,"Summer On Peak period is between 7am-11pm, M-F, June-Sept, excluding holidays."]
[null,"Hours in Winter On Peak Period",2600,"Winter On Peak period is between 7am-11pm, M-F, Oct-May, excluding holidays.  "]
[null,"% Summer","Varies by measure type","Measure type specific estimate of percent electric energy savings that occur during the summer.  Used to calculate default loadshape percentages. For example, measures with savings occurring evenly through the year, like lighting, are assumed to generate 33% of annual savings during the summer months."]

{"sheet":"MRD_T","index":10,"n_rows":94,"n_cols":13,"rows_kept":94,"cut":false,"hidden":true,"merged":[[5,9,5,10],[5,1,5,7],[677,2,677,3],[677,4,677,7],[677,8,677,9],[0,12,1,21],[3,12,3,22],[675,2,675,3],[675,4,675,7],[675,8,675,9],[676,2,676,3],[676,4,676,7],[676,8,676,9],[673,2,673,3],[673,4,673,7],[673,8,673,9],[674,2,674,3],[674,4,674,7],[674,8,674,9],[671,2,671,3],[671,4,671,7],[671,8,671,9],[672,2,672,3],[672,4,672,7],[672,8,672,9],[669,2,669,3],[669,4,669,7],[669,8,669,9],[670,2,670,3],[670,4,670,7],[670,8,670,9],[667,2,667,3],[667,4,667,7],[667,8,667,9],[668,2,668,3],[668,4,668,7],[668,8,668,9],[665,2,665,3],[665,4,665,7],[665,8,665,9],[666,2,666,3],[666,4,666,7],[666,8,666,9],[663,2,663,3],[663,4,663,7],[663,8,663,9],[664,2,664,3],[664,4,664,7],[664,8,664,9],[661,2,661,3],[661,4,661,7],[661,8,661,9],[662,2,662,3],[662,4,662,7],[662,8,662,9],[659,2,659,3],[659,4,659,7],[659,8,659,9],[660,2,660,3],[660,4,660,7],[660,8,660,9],[657,2,657,3],[657,4,657,7],[657,8,657,9],[658,2,658,3],[658,4,658,7],[658,8,658,9],[655,2,655,3],[655,4,655,7],[655,8,655,9],[656,2,656,3],[656,4,656,7],[656,8,656,9],[653,2,653,3],[653,4,653,7],[653,8,653,9],[654,2,654,3],[654,4,654,7],[654,8,654,9],[651,2,651,3],[651,4,651,7],[651,8,651,9],[652,2,652,3],[652,4,652,7],[652,8,652,9],[649,2,649,3],[649,4,649,7],[649,8,649,9],[650,2,650,3],[650,4,650,7],[650,8,650,9],[647,2,647,3],[647,4,647,7],[647,8,647,9],[648,2,648,3],[648,4,648,7],[648,8,648,9],[645,2,645,3],[645,4,645,7],[645,8,645,9],[646,2,646,3],[646,4,646,7],[646,8,646,9],[643,2,643,3],[643,4,643,7],[643,8,643,9],[644,2,644,3],[644,4,644,7],[644,8,644,9],[641,2,641,3],[641,4,641,7],[641,8,641,9],[642,2,642,3],[642,4,642,7],[642,8,642,9],[639,2,639,3],[639,4,639,7],[639,8,639,9],[640,2,640,3],[640,4,640,7],[640,8,640,9],[637,2,637,3],[637,4,637,7],[637,8,637,9],[638,2,638,3],[638,4,638,7],[638,8,638,9],[635,2,635,3],[635,4,635,7],[635,8,635,9],[636,2,636,3],[636,4,636,7],[636,8,636,9],[633,2,633,3],[633,4,633,7],[633,8,633,9],[634,2,634,3],[634,4,634,7],[634,8,634,9],[631,2,631,3],[631,4,631,7],[631,8,631,9],[632,2,632,3],[632,4,632,7],[632,8,632,9],[629,2,629,3],[629,4,629,7],[629,8,629,9],[630,2,630,3],[630,4,630,7],[630,8,630,9],[627,2,627,3],[627,4,627,7],[627,8,627,9],[628,2,628,3],[628,4,628,7],[628,8,628,9],[625,2,625,3],[625,4,625,7],[625,8,625,9],[626,2,626,3],[626,4,626,7],[626,8,626,9],[623,2,623,3],[623,4,623,7],[623,8,623,9],[624,2,624,3],[624,4,624,7],[624,8,624,9],[621,2,621,3],[621,4,621,7],[621,8,621,9],[622,2,622,3],[622,4,622,7],[622,8,622,9],[619,2,619,3],[619,4,619,7],[619,8,619,9],[620,2,620,3],[620,4,620,7],[620,8,620,9],[617,2,617,3],[617,4,617,7],[617,8,617,9],[618,2,618,3],[618,4,618,7],[618,8,618,9],[615,2,615,3],[615,4,615,7],[615,8,615,9],[616,2,616,3],[616,4,616,7],[616,8,616,9],[613,2,613,3],[613,4,613,7],[613,8,613,9],[614,2,614,3],[614,4,614,7],[614,8,614,9],[611,2,611,3],[611,4,611,7],[611,8,611,9],[612,2,612,3],[612,4,612,7],[612,8,612,9],[609,2,609,3],[609,4,609,7],[609,8,609,9],[610,2,610,3],[610,4,610,7],[610,8,610,9],[607,2,607,3],[607,4,607,7],[607,8,607,9],[608,2,608,3],[608,4,608,7],[608,8,608,9],[605,2,605,3],[605,4,605,7],[605,8,605,9],[606,2,606,3],[606,4,606,7],[606,8,606,9],[603,2,603,3],[603,4,603,7],[603,8,603,9],[604,2,604,3],[604,4,604,7],[604,8,604,9],[601,2,601,3],[601,4,601,7],[601,8,601,9],[602,2,602,3],[602,4,602,7],[602,8,602,9],[599,2,599,3],[599,4,599,7],[599,8,599,9],[600,2,600,3],[600,4,600,7],[600,8,600,9],[597,2,597,3],[597,4,597,7],[597,8,597,9],[598,2,598,3],[598,4,598,7],[598,8,598,9],[595,2,595,3],[595,4,595,7],[595,8,595,9],[596,2,596,3],[596,4,596,7],[596,8,596,9],[593,2,593,3],[593,4,593,7],[593,8,593,9],[594,2,594,3],[594,4,594,7],[594,8,594,9],[591,2,591,3],[591,4,591,7],[591,8,591,9],[592,2,592,3],[592,4,592,7],[592,8,592,9],[589,2,589,3],[589,4,589,7],[589,8,589,9],[590,2,590,3],[590,4,590,7],[590,8,590,9],[587,2,587,3],[587,4,587,7],[587,8,587,9],[588,2,588,3],[588,4,588,7],[588,8,588,9],[585,2,585,3],[585,4,585,7],[585,8,585,9],[586,2,586,3],[586,4,586,7],[586,8,586,9],[583,2,583,3],[583,4,583,7],[583,8,583,9],[584,2,584,3],[584,4,584,7],[584,8,584,9],[581,2,581,3],[581,4,581,7],[581,8,581,9],[582,2,582,3],[582,4,582,7],[582,8,582,9],[579,2,579,3],[579,4,579,7],[579,8,579,9],[580,2,580,3],[580,4,580,7],[580,8,580,9],[577,2,577,3],[577,4,577,7],[577,8,577,9],[578,2,578,3],[578,4,578,7],[578,8,578,9],[575,2,575,3],[575,4,575,7],[575,8,575,9],[576,2,576,3],[576,4,576,7],[576,8,576,9],[573,2,573,3],[573,4,573,7],[573,8,573,9],[574,2,574,3],[574,4,574,7],[574,8,574,9],[571,2,571,3],[571,4,571,7],[571,8,571,9],[572,2,572,3],[572,4,572,7],[572,8,572,9],[569,2,569,3],[569,4,569,7],[569,8,569,9],[570,2,570,3],[570,4,570,7],[570,8,570,9],[567,2,567,3],[567,4,567,7],[567,8,567,9],[568,2,568,3],[568,4,568,7],[568,8,568,9],[565,2,565,3],[565,4,565,7],[565,8,565,9],[566,2,566,3],[566,4,566,7],[566,8,566,9],[563,2,563,3],[563,4,563,7],[563,8,563,9],[564,2,564,3],[564,4,564,7],[564,8,564,9],[561,2,561,3],[561,4,561,7],[561,8,561,9],[562,2,562,3],[562,4,562,7],[562,8,562,9],[559,2,559,3],[559,4,559,7],[559,8,559,9],[560,2,560,3],[560,4,560,7],[560,8,560,9],[557,2,557,3],[557,4,557,7],[557,8,557,9],[558,2,558,3],[558,4,558,7],[558,8,558,9],[555,2,555,3],[555,4,555,7],[555,8,555,9],[556,2,556,3],[556,4,556,7],[556,8,556,9],[553,2,553,3],[553,4,553,7],[553,8,553,9],[554,2,554,3],[554,4,554,7],[554,8,554,9],[551,2,551,3],[551,4,551,7],[551,8,551,9],[552,2,552,3],[552,4,552,7],[552,8,552,9],[549,2,549,3],[549,4,549,7],[549,8,549,9],[550,2,550,3],[550,4,550,7],[550,8,550,9],[547,2,547,3],[547,4,547,7],[547,8,547,9],[548,2,548,3],[548,4,548,7],[548,8,548,9],[545,2,545,3],[545,4,545,7],[545,8,545,9],[546,2,546,3],[546,4,546,7],[546,8,546,9],[543,2,543,3],[543,4,543,7],[543,8,543,9],[544,2,544,3],[544,4,544,7],[544,8,544,9],[541,2,541,3],[541,4,541,7],[541,8,541,9],[542,2,542,3],[542,4,542,7],[542,8,542,9],[539,2,539,3],[539,4,539,7],[539,8,539,9],[540,2,540,3],[540,4,540,7],[540,8,540,9],[537,2,537,3],[537,4,537,7],[537,8,537,9],[538,2,538,3],[538,4,538,7],[538,8,538,9],[535,2,535,3],[535,4,535,7],[535,8,535,9],[536,2,536,3],[536,4,536,7],[536,8,536,9],[533,2,533,3],[533,4,533,7],[533,8,533,9],[534,2,534,3],[534,4,534,7],[534,8,534,9],[531,2,531,3],[531,4,531,7],[531,8,531,9],[532,2,532,3],[532,4,532,7],[532,8,532,9],[529,2,529,3],[529,4,529,7],[529,8,529,9],[530,2,530,3],[530,4,530,7],[530,8,530,9],[527,2,527,3],[527,4,527,7],[527,8,527,9],[528,2,528,3],[528,4,528,7],[528,8,528,9],[525,2,525,3],[525,4,525,7],[525,8,525,9],[526,2,526,3],[526,4,526,7],[526,8,526,9],[523,2,523,3],[523,4,523,7],[523,8,523,9],[524,2,524,3],[524,4,524,7],[524,8,524,9],[521,2,521,3],[521,4,521,7],[521,8,521,9],[522,2,522,3],[522,4,522,7],[522,8,522,9],[519,2,519,3],[519,4,519,7],[519,8,519,9],[520,2,520,3],[520,4,520,7],[520,8,520,9],[517,2,517,3],[517,4,517,7],[517,8,517,9],[518,2,518,3],[518,4,518,7],[518,8,518,9],[515,2,515,3],[515,4,515,7],[515,8,515,9],[516,2,516,3],[516,4,516,7],[516,8,516,9],[513,2,513,3],[513,4,513,7],[513,8,513,9],[514,2,514,3],[514,4,514,7],[514,8,514,9],[511,2,511,3],[511,4,511,7],[511,8,511,9],[512,2,512,3],[512,4,512,7],[512,8,512,9],[509,2,509,3],[509,4,509,7],[509,8,509,9],[510,2,510,3],[510,4,510,7],[510,8,510,9],[507,2,507,3],[507,4,507,7],[507,8,507,9],[508,2,508,3],[508,4,508,7],[508,8,508,9],[505,2,505,3],[505,4,505,7],[505,8,505,9],[506,2,506,3],[506,4,506,7],[506,8,506,9],[503,2,503,3],[503,4,503,7],[503,8,503,9],[504,2,504,3],[504,4,504,7],[504,8,504,9],[501,2,501,3],[501,4,501,7],[501,8,501,9],[502,2,502,3],[502,4,502,7],[502,8,502,9],[499,2,499,3],[499,4,499,7],[499,8,499,9],[500,2,500,3],[500,4,500,7],[500,8,500,9],[497,2,497,3],[497,4,497,7],[497,8,497,9],[498,2,498,3],[498,4,498,7],[498,8,498,9],[495,2,495,3],[495,4,495,7],[495,8,495,9],[496,2,496,3],[496,4,496,7],[496,8,496,9],[493,2,493,3],[493,4,493,7],[493,8,493,9],[494,2,494,3],[494,4,494,7],[494,8,494,9],[491,2,491,3],[491,4,491,7],[491,8,491,9],[492,2,492,3],[492,4,492,7],[492,8,492,9],[489,2,489,3],[489,4,489,7],[489,8,489,9],[490,2,490,3],[490,4,490,7],[490,8,490,9],[487,2,487,3],[487,4,487,7],[487,8,487,9],[488,2,488,3],[488,4,488,7],[488,8,488,9],[485,2,485,3],[485,4,485,7],[485,8,485,9],[486,2,486,3],[486,4,486,7],[486,8,486,9],[483,2,483,3],[483,4,483,7],[483,8,483,9],[484,2,484,3],[484,4,484,7],[484,8,484,9],[481,2,481,3],[481,4,481,7],[481,8,481,9],[482,2,482,3],[482,4,482,7],[482,8,482,9],[479,2,479,3],[479,4,479,7],[479,8,479,9],[480,2,480,3],[480,4,480,7],[480,8,480,9],[477,2,477,3],[477,4,477,7],[477,8,477,9],[478,2,478,3],[478,4,478,7],[478,8,478,9],[475,2,475,3],[475,4,475,7],[475,8,475,9],[476,2,476,3],[476,4,476,7],[476,8,476,9],[473,2,473,3],[473,4,473,7],[473,8,473,9],[474,2,474,3],[474,4,474,7],[474,8,474,9],[471,2,471,3],[471,4,471,7],[471,8,471,9],[472,2,472,3],[472,4,472,7],[472,8,472,9],[469,2,469,3],[469,4,469,7],[469,8,469,9],[470,2,470,3],[470,4,470,7],[470,8,470,9],[467,2,467,3],[467,4,467,7],[467,8,467,9],[468,2,468,3],[468,4,468,7],[468,8,468,9],[465,2,465,3],[465,4,465,7],[465,8,465,9],[466,2,466,3],[466,4,466,7],[466,8,466,9],[463,2,463,3],[463,4,463,7],[463,8,463,9],[464,2,464,3],[464,4,464,7],[464,8,464,9],[461,2,461,3],[461,4,461,7],[461,8,461,9],[462,2,462,3],[462,4,462,7],[462,8,462,9],[459,2,459,3],[459,4,459,7],[459,8,459,9],[460,2,460,3],[460,4,460,7],[460,8,460,9],[457,2,457,3],[457,4,457,7],[457,8,457,9],[458,2,458,3],[458,4,458,7],[458,8,458,9],[455,2,455,3],[455,4,455,7],[455,8,455,9],[456,2,456,3],[456,4,456,7],[456,8,456,9],[453,2,453,3],[453,4,453,7],[453,8,453,9],[454,2,454,3],[454,4,454,7],[454,8,454,9],[451,2,451,3],[451,4,451,7],[451,8,451,9],[452,2,452,3],[452,4,452,7],[452,8,452,9],[449,2,449,3],[449,4,449,7],[449,8,449,9],[450,2,450,3],[450,4,450,7],[450,8,450,9],[447,2,447,3],[447,4,447,7],[447,8,447,9],[448,2,448,3],[448,4,448,7],[448,8,448,9],[445,2,445,3],[445,4,445,7],[445,8,445,9],[446,2,446,3],[446,4,446,7],[446,8,446,9],[443,2,443,3],[443,4,443,7],[443,8,443,9],[444,2,444,3],[444,4,444,7],[444,8,444,9],[441,2,441,3],[441,4,441,7],[441,8,441,9],[442,2,442,3],[442,4,442,7],[442,8,442,9],[439,2,439,3],[439,4,439,7],[439,8,439,9],[440,2,440,3],[440,4,440,7],[440,8,440,9],[437,2,437,3],[437,4,437,7],[437,8,437,9],[438,2,438,3],[438,4,438,7],[438,8,438,9],[435,2,435,3],[435,4,435,7],[435,8,435,9],[436,2,436,3],[436,4,436,7],[436,8,436,9],[433,2,433,3],[433,4,433,7],[433,8,433,9],[434,2,434,3],[434,4,434,7],[434,8,434,9],[431,2,431,3],[431,4,431,7],[431,8,431,9],[432,2,432,3],[432,4,432,7],[432,8,432,9],[429,2,429,3],[429,4,429,7],[429,8,429,9],[430,2,430,3],[430,4,430,7],[430,8,430,9],[427,2,427,3],[427,4,427,7],[427,8,427,9],[428,2,428,3],[428,4,428,7],[428,8,428,9],[425,2,425,3],[425,4,425,7],[425,8,425,9],[426,2,426,3],[426,4,426,7],[426,8,426,9],[423,2,423,3],[423,4,423,7],[423,8,423,9],[424,2,424,3],[424,4,424,7],[424,8,424,9],[421,2,421,3],[421,4,421,7],[421,8,421,9],[422,2,422,3],[422,4,422,7],[422,8,422,9],[419,2,419,3],[419,4,419,7],[419,8,419,9],[420,2,420,3],[420,4,420,7],[420,8,420,9],[417,2,417,3],[417,4,417,7],[417,8,417,9],[418,2,418,3],[418,4,418,7],[418,8,418,9],[415,2,415,3],[415,4,415,7],[415,8,415,9],[416,2,416,3],[416,4,416,7],[416,8,416,9],[413,2,413,3],[413,4,413,7],[413,8,413,9],[414,2,414,3],[414,4,414,7],[414,8,414,9],[411,2,411,3],[411,4,411,7],[411,8,411,9],[412,2,412,3],[412,4,412,7],[412,8,412,9],[409,2,409,3],[409,4,409,7],[409,8,409,9],[410,2,410,3],[410,4,410,7],[410,8,410,9],[407,2,407,3],[407,4,407,7],[407,8,407,9],[408,2,408,3],[408,4,408,7],[408,8,408,9],[405,2,405,3],[405,4,405,7],[405,8,405,9],[406,2,406,3],[406,4,406,7],[406,8,406,9],[403,2,403,3],[403,4,403,7],[403,8,403,9],[404,2,404,3],[404,4,404,7],[404,8,404,9],[401,2,401,3],[401,4,401,7],[401,8,401,9],[402,2,402,3],[402,4,402,7],[402,8,402,9],[399,2,399,3],[399,4,399,7],[399,8,399,9],[400,2,400,3],[400,4,400,7],[400,8,400,9],[397,2,397,3],[397,4,397,7],[397,8,397,9],[398,2,398,3],[398,4,398,7],[398,8,398,9],[395,2,395,3],[395,4,395,7],[395,8,395,9],[396,2,396,3],[396,4,396,7],[396,8,396,9],[393,2,393,3],[393,4,393,7],[393,8,393,9],[394,2,394,3],[394,4,394,7],[394,8,394,9],[391,2,391,3],[391,4,391,7],[391,8,391,9],[392,2,392,3],[392,4,392,7],[392,8,392,9],[389,2,389,3],[389,4,389,7],[389,8,389,9],[390,2,390,3],[390,4,390,7],[390,8,390,9],[387,2,387,3],[387,4,387,7],[387,8,387,9],[388,2,388,3],[388,4,388,7],[388,8,388,9],[385,2,385,3],[385,4,385,7],[385,8,385,9],[386,2,386,3],[386,4,386,7],[386,8,386,9],[383,2,383,3],[383,4,383,7],[383,8,383,9],[384,2,384,3],[384,4,384,7],[384,8,384,9],[381,2,381,3],[381,4,381,7],[381,8,381,9],[382,2,382,3],[382,4,382,7],[382,8,382,9],[379,2,379,3],[379,4,379,7],[379,8,379,9],[380,2,380,3],[380,4,380,7],[380,8,380,9],[377,2,377,3],[377,4,377,7],[377,8,377,9],[378,2,378,3],[378,4,378,7],[378,8,378,9],[375,2,375,3],[375,4,375,7],[375,8,375,9],[376,2,376,3],[376,4,376,7],[376,8,376,9],[373,2,373,3],[373,4,373,7],[373,8,373,9],[374,2,374,3],[374,4,374,7],[374,8,374,9],[371,2,371,3],[371,4,371,7],[371,8,371,9],[372,2,372,3],[372,4,372,7],[372,8,372,9],[369,2,369,3],[369,4,369,7],[369,8,369,9],[370,2,370,3],[370,4,370,7],[370,8,370,9],[367,2,367,3],[367,4,367,7],[367,8,367,9],[368,2,368,3],[368,4,368,7],[368,8,368,9],[365,2,365,3],[365,4,365,7],[365,8,365,9],[366,2,366,3],[366,4,366,7],[366,8,366,9],[363,2,363,3],[363,4,363,7],[363,8,363,9],[364,2,364,3],[364,4,364,7],[364,8,364,9],[361,2,361,3],[361,4,361,7],[361,8,361,9],[362,2,362,3],[362,4,362,7],[362,8,362,9],[359,2,359,3],[359,4,359,7],[359,8,359,9],[360,2,360,3],[360,4,360,7],[360,8,360,9],[357,2,357,3],[357,4,357,7],[357,8,357,9],[358,2,358,3],[358,4,358,7],[358,8,358,9],[355,2,355,3],[355,4,355,7],[355,8,355,9],[356,2,356,3],[356,4,356,7],[356,8,356,9],[353,2,353,3],[353,4,353,7],[353,8,353,9],[354,2,354,3],[354,4,354,7],[354,8,354,9],[351,2,351,3],[351,4,351,7],[351,8,351,9],[352,2,352,3],[352,4,352,7],[352,8,352,9],[349,2,349,3],[349,4,349,7],[349,8,349,9],[350,2,350,3],[350,4,350,7],[350,8,350,9],[347,2,347,3],[347,4,347,7],[347,8,347,9],[348,2,348,3],[348,4,348,7],[348,8,348,9],[345,2,345,3],[345,4,345,7],[345,8,345,9]],"merged_total":2137,"flags":["merged_cut"]}
["Minimum Requirements Document",null,null,null,null,null,null,null,null,null,null,null,"Minimum Requirements Document"]
[]
[]
["Customer",{"$f":"'1 - Project Info'!C2","v":0},null,null,null,null,null,null,"Program","EI",null,null,"Table 1: Proposed Lighting Fixtures"]
["Facility",{"$f":"'1 - Project Info'!C3","v":0},null,null,null,null,null,null,"Application #",{"$f":"'1 - Project Info'!C5","v":0}]
["Measure","Custom Retrofit Lighting",null,null,null,null,null,null,"Cooling Type",{"$f":"'1 - Project Info'!C6","v":0}]
[]
["This document specifies the agreed upon minimum equipment specifications and operational requirements of the proposed system. These requirements shall address the criteria necessary to be met to achieve the demand and energy savings estimated in the engineering analysis for this project. Yes/No checkboxes are intended for use as National Grid’s post-installation inspection record (check one).  "]
[]
[]
[]
[]
[]
["EQUIPMENT: Provide a list of equipment or materials installed as part of this project. Include equipment counts, HP, kW, efficiency  "]
["and capacity ratings, rating conditions, location of controls hardware, etc."]
[null,"Project Design Intent",null,null,null,null,null,null,"Post Inspection Findings"]
[null,"1.",{"$f":"\"Install \"&'3 - Savings Analysis'!Q45&\" lighting fixtures, per manufacturer's recommendation with fixture model numbers and counts per attached inventory, Table 1.\"","v":"Install 0 lighting fixtures, per manufacturer's recommendation with fixture model numbers and counts per attached inventory, Table 1."}]
[]
[]
[]
[]
["CONTROLS: Provide a description of equipment controls and associated operating hours reduction . "]
[".","2.",{"$f":"\"Verify the individual fixture control type per attached inventory Table 2.\"","v":"Verify the individual fixture control type per attached inventory Table 2."}]
[]
[]
[]
["SEQUENCES OF OPERATION: Provide a description of equipment operating sequences, setpoints, operating schedules, "]
[" balancing requirements (flow, velocity, head, etc) or any other required operating parameters. Describe requirements seperately."]
[null,"3.",{"$f":"\"Verify the facility operating hours per attached inventory, Table 3.\"","v":"Verify the facility operating hours per attached inventory, Table 3."}]
[]
[]
[]
["DOCUMENTATION: List written documentation required to train, verify, operate, or maintain the equipment being installed or "]
["controlled. This may include specification sheets, test reports, construction drawings, etc."]
[null,"4.","Provide documentation (invoices, etc.) of all material, labor, and engineering costs as applicable to document the total installed project costs."]
[]
[]
[]
[]
[]
["POST INSTALLATION VERIFICATION: Provide a list of controls and monitoring capabilities required to verify proper system "]
["operation. Trends should document operational sequences, set points and scheduling of equipment as described in TA Study."]
[null,"5."]
[]
[]
[]
[]
[]
[]
["Minimum Requirements Document"]
[]
[]
["Other Requirements: Describe any other requirements for demolition, removal, etc. of existing equipment. "]
[null,"6."]
[]
[]
[]
[]
["The pre-approved incentive is subject to National Grid’s POST INSPECTION of final specifications, drawings and operation of the proposed equipment.  In the event the proposed system is altered from the above description, notify the Company of the change prior to the equipment purchase and installation as the change in design and operation may impact the available incentive"]
[]
[]
[]
[]
[]
["The National Grid signature below indicates the National Grid engineer, or their representative, has reviewed and agrees to the requirements stated in this MRD. The customer signature below indicates the customer also agrees with the requirements of this MRD and will implement as stated.  The customer should only sign below if this MRD has been signed by National Grid or its representative."]
[]
[]
[]
[]
[]
[]
[]
[]
[]
[]
[]
["National Grid Engineer or Representative",null,null,"Date",null,null,null,"Customer Agremeent Signature",null,null,"Date"]
[]
[]
[]
["Once the installation is complete and the equipment is operational, the post inspector will sign below, confirming all requirements of this MRD have been met, and/or any discrepancies have been noted.  National Grid will review any discrepancies to determine their impact on energy savings or incentive. The final customer signature indicates that they agree with the findings of the post inspector, including any discrepancies noted, and are satisfied with the installation. \n"]
[]
[]
[]
[]
[]
[]
[]
[]
[]
[]
[]
[]
["National Grid Engineer or Representative",null,null,"Date",null,null,null,"Customer Agremeent Signature",null,null,"Date"]

{"sheet":"SortedCodes","index":11,"n_rows":999,"n_cols":35,"rows_kept":999,"cut":false,"hidden":true,"merged":[]}
["Unique SortedCodes","Truncated","CompactFluorescentsCFLs","EightFootT12Systems","EightFootT12HOSystems","EightFootT12VHOSystems","EightFootT8Systems","ElectronicMetalHalideLamps","FiveFootT8T12Systems","FourFootF48T12Systems","FourFootF48HOT12Systems","FourFootF48VHOT12Systems","FourFootT12Systems","FourFootT8HighEfficientReduceWattageSystems","FourFootT8Systems","HalogenQuartzLamps","HighPressureSodiumHPS","IncandescentLamps","LEDExitSigns","LEDLightingFixtures","LowPressureSodiumLPS","LowVoltageHalogenFixtureIncludesTransformer","MercuryVaporMV","MetalHalideMH","PulseStartMetalHalideLampBallast","RemovedNotReplaced","SixFootT12T12HOSystems","T5Systems","TandemWiredFluorescentSystems","TandemWiredT8HighEfficient","ThreeFootHighEfficiencyT8Systems","ThreeFootT8T12Systems","TwoFootHighEfficiencyT8Systems","TwoFootT8T12Systems",""]
["Compact Fluorescents (CFL's)","CompactFluorescentsCFLs"," 5W COMPACT HW  "," 1L8’ EE/ELIG  "," 1L8’ HO/EE/STD  "," 1L8’ VHO/EE/STD  "," 1L8’ T8/ELIG  "," 150W METAL HALIDE EB  "," 1L5’ HO/STD/ELIG  "," 1L4’ F48T12EE/STD  "," 1L4’ F48HO/EE/STD  "," 1L4’ F48VHO/EE/STD  "," 1L4’ EE/ELIG  "," 1L4’ 25W T8EE/ELEE LOW PWR  "," 1L4 T8/ELIG LOW POWER  "," 35W HALOGEN LAMP  ","35W HPS"," 15W INC  "," 0.5 WATT LEC  ","2 WATT LED","35W LPS"," 20W LV HALOGEN FIXT  "," 40W MERCURY  ","32W METAL HALIDE","100W MH LINEAR","Removed, Not Replaced"," 1L6’ T8HO/ELIG  "," 1L2’ 14W T5/ELIG  "," 4L4 TWT8/ELIG LOW POWER  "," 2L4’ TW T8EE/ELEE LOW PWR  "," 1L3’ 25W T8EE/ELEE LOW PWR  "," 1L3’ 25W T8/ELIG  "," 1L2’ 17W T8EE/ELEE LOW PWR  "," 1L2’ 17WT8/ELIG  "]
["Eight Foot T12 Systems","EightFootT12Systems"," 7W COMPACT HW  "," 1L8’ STD/ELIG  "," 1L8’ HO/STD/STD  "," 1L8’ VHO/STD/STD  "," 1L8’ T8/ELIG  "," 200W METAL HALIDE EB  "," 2L5’T8/ELIG  "," 1L4’ F48T12/STD  "," 1L4’ F48H0/STD/STD  "," 1L4’ F48VHO/STD/STD  "," 1L4’ EE/EEMAG  "," 1L4’ 25W T8EE/ELEE  "," 1L4’ T8/ELIG  "," 40W HALOGEN LAMP  ","50W HPS"," 20W INC  "," 1.5 WATT LED  ","3 WATT LED","55W LPS"," 25W LV HALOGEN FIXT  "," 50W MERCURY  ","50W METAL HALIDE","100W MH CWA",null," 1L6’ STD/EEMAG  "," 1L3’ 21W T5/ELIG  "," 4L4’ TW T8/ELIG  "," 2L4’ TW T8EE/ELIG  "," 1L3’ 25W T8EE/ELEE  "," 1L3’ 30W T12 EE/EEMAG  "," 1L2’ 17W T8EE/ELEE  "," 2L2’ 17W T8/ELIG LOW POWER  "]
["Eight Foot T12HO Systems","EightFootT12HOSystems"," 9W COMPACT HW  "," 1L8’ EE/STD  "," 2L8’ HO/EE/ELIG  "," 2L8’ VHO/EE/STD  "," 1L8’ T8 HO/ELIG  "," 250W METAL HALIDE EB  "," 1L5’/STD/EEMAG  "," 2L4’ F48T12EE/STD  "," 2L4’ F48HO/EE/STD  "," 2L4’ F48VHO/EE/STD  "," 1L4’ STD/ELIG  "," 1L4’ 28W T8EE/ELEE LOW PWR  "," 1L4’ T8/EEMAG  "," 42W HALOGEN LAMP  ","70W HPS"," 25W INC  "," 2.0 WATT LED  ","4 WATT LED","90W LPS"," 35W LV HALOGEN FIXT  "," 75W MERCURY  ","70W METAL HALIDE","150W MH LINEAR",null," 1L6’ STD/STD  "," 1L2’ 24W T5HO/ELIG  "," 3L4’ TW T8/ELIG  "," 3L4’ TW T8EE/ELEE LOW PWR  "," 1L3’ 25W T8EE/ELEE HIGH PWR  "," 1L3’ 30W T12 EE/STD  "," 1L2’ 17W T8EE/ELEE HIGH PWR  "," 2L2’ 17W T8EE/ELEE  "]
["Eight Foot T12VHO Systems","EightFootT12VHOSystems"," 10W 2D COMPACT HW ELIG  "," 1L8’ STD/STD  "," 2L8’ HO/STD/ELIG  "," 2L8’ VHO/STD/STD  "," 1L8’ T8 HO/ELIG  "," 320W METAL HALIDE EB  "," 1L5’ HO/STD/EEMAG  "," 2L4’ F48T12/STD  "," 2L4’ F48H0/STD/STD  "," 2L4’ F48VHO/STD/STD  "," 1L4’ EE/STD  "," 1L4’ 28W T8EE/ELEE  "," 2L4 T8/ELIG LOW PWR  "," 45W HALOGEN LAMP  ","100W HPS"," 34W INC  "," 3.0 WATT LED  ","5 WATT LED","135W LPS"," 42W LV HALOGEN FIXT  "," 100W MERCURY  ","100W METAL HALIDE","150W MH CWA",null," 1L6’ F72HO/STD/STD  "," 1L4’ 28W T5/ELIG  "," 2L4’ TW T8/ELIG  "," 3L4’ TW T8EE/ELIG  "," 2L3’ 25W T8EE/ELEE LOW PWR  "," 1L3’ 30W T12 STD/STD  "," 2L2’ 17W T8EE/ELEE LOW PWR  "," 1L2’ 20W T12/HPF(1)  "]
["Eight Foot T8 Systems","EightFootT8Systems"," 11W COMPACT HW  "," 2L8’ EE/ELIG  "," 2L8’ HO/EE/EEMAG  "," 3L8’ VHO/EE/STD  "," 2L8’T8/ELIG LOW PWR  "," 350W METAL HALIDE EB  "," 3L5’T8/ELIG  "," 3L4’ F48T12EE/STD  "," 3L4’ F48HO/EE/STD  "," 3L4’ F48VHO/EE/STD  "," 1L4’ STD/EEMAG  "," 1L4’ 30W T8EE/ELEE LOW PWR  "," 2L4’ T8/ELIG  "," 47W HALOGEN LAMP  ","150W HPS"," 36W INC  "," 5.0 WLED  ","6 WATT LED","180W LPS"," 50W LV HALOGEN FIXT  "," 175W MERCURY  ","150W METAL HALIDE","175W MH LINEAR",null," 2L6’ STD/EEMAG  "," 2L2’ 14W T5/ELIG  "," 2L4’ TW EE/ELIG  "," 4L4’ TW T8EE/ELEE LOW PWR  "," 2L3’ 25W T8EE/ELEE  "," 2L3’ 25W T8/ELIG  "," 1L2’ F28BX/ELIG  "," 1L2’ F28BX/ELIG  "]
["Electronic Metal Halide Lamps","ElectronicMetalHalideLamps"," 2/5W COMPACT HW  "," 2L8’ EE/EEMAG  "," 2L8’ HO/EE/STD  "," 3L8’ VHO/STD/STD  "," 2L8’T8/ELIG LOW PWR  "," 400W METAL HALIDE EB  "," 2L5’/STD/EEMAG  "," 3L4’ F48T12/STD  "," 3L4’ F48H0/STD/STD  "," 3L4’ F48VHO/STD/STD  "," 1L4’ STD/STD  "," 1L4’ 32W T8EE/ELEE LOW PWR  "," 2L4’ T8/EEMAG  "," 50W HALOGEN LAMP  ","200W HPS"," 40W INC  "," 8.0 WLED  ","7 WATT LED",null," 65W LV HALOGEN FIXT  "," 250W MERCURY  ","175W METAL HALIDE","175W MH CWA",null," 2L6’T8 HO/ELIG  "," 1L3’ 39W T5HO/ELIG  "," 4L2’ TW T8/ELIG  "," 4L4’ TW T8EE/ELIG  "," 3L3’ 25W T8EE/ELEE LOW PWR  "," 2L3’ 25W T8/ELIG  "," 2L2’ 17W T8EE/ELEE  "," 2L2’ T5/EEELIG  "]
["Five Foot T8 / T12 Systems","FiveFootT8T12Systems"," 13W COMPACT HW  "," 2L8’ STD/ELIG  "," 2L8’ HO/STD/EEMAG  "," 4L8’ VHO/EE/STD  "," 2L8’ T8/ELIG  "," 400W METAL HALIDE EB  "," 2L5’ HO/STD/ELIG  "," 4L4’ F48T12EE/STD  "," 4L4’ F48HO/EE/STD  "," 4L4’ F48VHO/EE/STD  "," 2L4’ EE/ELIG  "," 1L4’ 30W T8EE/ELEE  "," 3L4 T8/ELIG LOW POWER  "," 52W HALOGEN LAMP  ","225W HPS"," 42W INC  "," 10.5 WATT LED  ","8 WATT LED",null," 75W LV HALOGEN FIXT  "," 400W MERCURY  ","250W METAL HALIDE","200W MH LINEAR",null," 2L6’ STD/STD  "," 2L3’ 21W T5/ELIG  "," 2L4’ TW STD/ELIG  ",null," 2L3’ 25W T8EE/ELEE HIGH PWR  "," 2L3’ 30W T12 EE/ELIG  "," 3L2’ 17W T8EE/ELEE LOW PWR  "," 2L2’ 17W T8/ELIG  "]
["Four Foot F48 / T12 Systems","FourFootF48T12Systems"," 16W 2D COMPACT HW ELIG  "," 2L8’ EE/STD  "," 2L8’ HO/STD/STD  "," 4L8’ VHO/STD/STD  "," 2L8’ T8/ELIG  ",null," 1L5’ T10HO/STD/EEMAG  "," 4L4’ F48T12/STD  "," 4L4’ F48H0/STD/STD  "," 4L4’ F48VHO/STD/STD  "," 2L4’ EE/EEMAG  "," 1L4’ 32W T8EE/ELEE  "," 2L4’T8/ELIG HIGH LMN  "," 55W HALOGEN LAMP  ","250W HPS"," 45W INC  ",null,"9 WATT LED",null,null," 700W MERCURY  ","360W METAL HALIDE","200W MH CWA",null," 2L6’ F72HO/STD/EEMAG  "," 3L2’ 14W T5/ELIG  "," 2L4’ TW T8/HI-LUM  ",null," 3L3’ 25W T8EE/ELEE  "," 2L3’ 25W T8/EEMAG  "," 2L2’ 17W T8EE/ELEE HIGH PWR  "," 3L2’ 17W T8/ELIG LOW POWER  "]
["Four Foot F48HO / T12 Systems","FourFootF48HOT12Systems"," 2/7W COMPACT HW  "," 2L8’ STD/EEMAG  "," 4L8’ HO/EE/ELIG  ",null," 2L8’ T8 HO/ELIG  ",null," 2L5’ HO/STD/EEMAG  ",null,null,null," 2L4’ STD/ELIG  "," 1L4’ 25W T8EE/ELEE HIGH PWR  "," 3L4’ T8/ELIG  "," 60W HALOGEN LAMP  ","310W HPS"," 50W INC  ",null,"10 WATT LED",null,null," 2/400W MERCURY  ","400W METAL HALIDE","250W MH LINEAR",null," 2L6’ F72HO/STD  "," 2L2’ 24W T5HO/ELIG  "," 4L4’ DTW T8EE/ELEE LOW PWR  ",null," 3L3’ 25W T8EE/ELEE HIGH PWR  "," 2L3’ 25W T8/EEMAG  "," 3L2’ 17W T8EE/ELEE  "," 2L2’ 17W T8/EEMAG  "]
["Four Foot F48VHO / T12 Systems","FourFootF48VHOT12Systems"," 18W COMPACT HW ELIG  "," 2L8’ STD/STD  "," 3L8’ HO/EE/STD  ",null," 2L8’ T8 HO/ELIG  ",null,null,null,null,null," 2L4’ EE/STD  "," 1L4’ 28W T8EE/ELEE HIGH PWR  "," 4L4 T8/ELIG LOW PWR  "," 72W HALOGEN LAMP  ","360W HPS"," 52W INC  ",null,"11 WATT LED",null,null," 1000W MERCURY  ","750W METAL HALIDE","250W MH CWA",null,null," 1L4’ 47W T5HO/ELIG  "," 4L4 DTWT8/ELIG LOW POWER  ",null,null," 2L3’ 30W T12 EE/EEMAG  "," 3L2’ 17W T8EE/ELEE HIGH PWR  "," 1L2’ F40BX/ELIG  "]
["Four Foot T12 Systems","FourFootT12Systems"," 18W COMPACT HW  "," 4L8’ EE/ELIG  "," 4L8’ HO/STD/ELIG  ",null," 4L8’ T8/ELIG  ",null,null,null,null,null," 2L4’ STD/EEMAG  "," 1L4’ 30W T8EE/ELEE HIGH PWR  "," 3L4’ T8/EEMAG  "," 75W HALOGEN LAMP  ","400W HPS"," 54W INC  ",null,"12 WATT LED",null,null,null,"875W MH LINEAR","300W MH LINEAR",null,null," 1L4’ 50W T5HO/ELIG  "," 4L4’ DTW T8EE/ELIG  ",null,null," 2L3’ 30W T12 EE/STD  "," 2L2’ F28BX/ELIG  "," 3L2’ 17W T8/ELIG  "]
["Four Foot T8 High Efficient / Reduce Wattage Systems","FourFootT8HighEfficientReduceWattageSystems"," 21W 2D COMPACT HW ELIG  "," 3L8’ EE/STD  "," 3L8’ HO/STD/STD  ",null,null,null,null,null,null,null," 3L4’ EE/ELIG  "," 2L4’ 25W T8EE/ELEE LOW PWR  "," 3L4’T8/ELIG HIGH LMN  "," 90W HALOGEN LAMP  ","600W HPS"," 55W INC  ",null,"13 WATT LED",null,null,null,"875W MH CWA","300W MH CWA",null,null," 1L4’ 54W T5HO/ELIG  "," 4L4’ DTW T8/ELIG  ",null,null," 4L3’ 25W T8EE/ELEE LOW PWR’  "," 3L2’ F28BX/ELIG  "," 1L2’ F50BX/ELIG  "]
["Four Foot T8 Systems","FourFootT8Systems"," 2/9W COMPACT HW  "," 4L8’ EE/EEMAG  "," 4L8’ HO/EE/EEMAG  ",null,null,null,null,null,null,null," 2L4’ STD/STD  "," 1L4’ 32W T8EE/ELEE HIGH PWR  "," 4L4’ T8/ELIG  "," 100W HALOGEN LAMP  ","750W HPS"," 60W INC  ",null,"14 WATT LED",null,null,null,"1000W METAL HALIDE","320W MH LINEAR",null,null," 2L4’ 28W T5/ELIG  "," 2L8’ TW T8/ELIG  ",null,null," 4L3’ 25WT8/ELIG LOW PWR  ",null," 1L2’ F55BX/ELIG  "]
["Halogen/Quartz Lamps","HalogenQuartzLamps"," 22W COMPACT HW  "," 4L8’ STD/ELIG  "," 4L8’ HO/EE/STD  ",null,null,null,null,null,null,null," 3L4’ EE/EEMAG  "," 2L4’ 28W T8EE/ELEE LOW PWR  "," 4L4’ T8/EEMAG  "," 150W HALOGEN LAMP  ","1000W HPS"," 65W INC  ",null,"15 WATT LED",null,null,null,"1500W METAL HALIDE","320W MH CWA",null,null," 4L2’ 14W T5/ELIG  "," 2L8’ TW EE/ELIG  ",null,null," 2L3’ 30W T12 STD/STD  ",null," 2L2’ 20WT12/HPF(2)  "]
["High Pressure Sodium (HPS)","HighPressureSodiumHPS"," 1/23W COMPACT HW ELIG  "," 3L8’ STD/STD  "," 4L8’ HO/STD/EEMAG  ",null,null,null,null,null,null,null," 3L4’ STD/ELIG  "," 2L4’ 25W T8EE/ELEE  "," 5L4’ T8/ELIG  "," 200W HALOGEN LAMP  ",null," 67W INC  ",null,"16 WATT LED",null,null,null,"1800W METAL HALIDE","350W MH LINEAR",null,null," 3L4’ T5HO/ELIG  "," 2L8’ TW STD/ELIG  ",null,null," 4L3’ 25W T8/ELIG  ",null," 4L2’ 17W T8/ELIG  "]
["Incandescent Lamps","IncandescentLamps"," 2/11W COMPACT HW  "," 4L8’ EE/STD  "," 4L8’ HO/STD/STD  ",null,null,null,null,null,null,null," 4L4’ EE/ELIG  "," 2L4’ 30W T8EE/ELEE LOW PWR  "," 4L4’T8/ELIG HIGH LMN  "," 250W HALOGEN LAMP  ",null," 69W INC  ",null,"17 WATT LED",null,null,null,null,"350W MH CWA",null,null," 2L3’ 39W T5HO/ELIG  "," 2L8’ TW T8 HO/ELIG  ",null,null," 4L3’ 25W T8EE/ELEE’  ",null," 2L2’ F28BX/ELIG  "]
["LED Exit Signs","LEDExitSigns"," 26W COMPACT HW ELIG  "," 4L8’ STD/EEMAG  ",null,null,null,null,null,null,null,null," 3L4’ EE/STD  "," 2L4’ 32W T8EE/ELEE LOW PWR  "," 6L4’ T8/ELIG  "," 300W HALOGEN LAMP  ",null," 72W INC  ",null,"18 WATT LED",null,null,null,null," 400W MH LINEAR  ",null,null," 3L4’ 28W T5/ELIG  "," 2L8’ TW HO-EE/ELIG  ",null,null," 4L3’ 25W T8EE/ELEE HIGH PWR’  ",null," 2L2’ F40BX/ELIG  "]
["LED Lighting Fixtures","LEDLightingFixtures"," 26W COMPACT HW  "," 4L8’ STD/STD  ",null,null,null,null,null,null,null,null," 3L4’ STD/EEMAG  "," 2L4’ 28W T8EE/ELEE  "," 5L4’ T8/ELIG HIGH LMN  "," 350W HALOGEN LAMP  ",null," 75W INC  ",null,"19 WATT LED",null,null,null,null," 400W MH CWA  ",null,null," 2L4’ 47W T5HO/ELIG  "," 2L8’ TW HO-STD/ELIG  ",null,null," 3L3’ 30W T12 EE/STD  ",null," 3L2’ 20WT12/HPF(3)  "]
["Low Pressure Sodium (LPS)","LowPressureSodiumLPS"," 28W 2D COMPACT HW ELIG  ",null,null,null,null,null,null,null,null,null," 4L4’ EE/EEMAG  "," 2L4’ 30W T8EE/ELEE  "," 6L4’ 32W T8/ELIG HIGH LMN  "," 400W HALOGEN LAMP  ",null," 80W INC  ",null,"20 WATT LED",null,null,null,null," 450W MH LINEAR  ",null,null," 2L4’ 50W T5HO/ELIG  ",null,null,null," 3L3’ 30W T12 STD/STD  ",null," 2L2’ 24 T12HO/STD/STD  "]
["Low Voltage Halogen Fixture (Includes Transformer)","LowVoltageHalogenFixtureIncludesTransformer"," 2/13W COMPACT HW ELIG  ",null,null,null,null,null,null,null,null,null," 4L4’ STD/ELIG  "," 2L4’ 32W T8EE/ELEE  "," 8L4’T8/ELIG HIGH LMN  "," 425W HALOGEN LAMP  ",null," 85W INC  ",null,"21 WATT LED",null,null,null,null," 450W MH CWA  ",null,null," 2L4’ 54W T5HO/ELIG  ",null,null,null," 4L3’ 30W T12EE/STD  ",null," 1L2’F80BXE/ELIG  "]
["Mercury Vapor (MV)","MercuryVaporMV"," 28W COMPACT HW  ",null,null,null,null,null,null,null,null,null," 3L4’ STD/STD  "," 2L4’ 25W T8EE/ELEE HIGH PWR  ",null," 500W HALOGEN LAMP  ",null," 90W INC  ",null,"22 WATT LED",null,null,null,null," 750W MH LINEAR  ",null,null," 4L4’ 28W T5/ELIG  ",null,null,null,null,null," 3L2’ F28BX/ELIG  "]
["Metal Halide (MH)","MetalHalideMH"," 2/13W COMPACT HW  ",null,null,null,null,null,null,null,null,null," 4L4’ EE/STD  "," 3L4’ 25W T8EE/ELEE LOW PWR  ",null," 750W HALOGEN LAMP  ",null," 93W INC  ",null,"23 WATT LED",null,null,null,null," 750W MH CWA  ",null,null," 3L4’ 47W T5HO/ELIG  ",null,null,null,null,null," 3L2’ F40BX/ELIG  "]
["Pulse Start Metal Halide Lamp/Ballast","PulseStartMetalHalideLampBallast"," 3/9W COMPACT HW  ",null,null,null,null,null,null,null,null,null," 4L4’ STD/EEMAG  "," 3L4’ 28W T8EE/ELEE LOW PWR  ",null," 900W HALOGEN LAMP  ",null," 100W INC  ",null,"24 WATT LED",null,null,null,null," 1000W MH CWA  ",null,null," 3L4’ 50W T5HO/ELIG  ",null,null,null,null,null," 2L2’ F50BX/ELIG  "]
["Removed Not Replaced","RemovedNotReplaced"," 32W COMPACT HW ELIG  ",null,null,null,null,null,null,null,null,null," 4L4’ STD/STD  "," 2L4’ 28WT8EE/ELEE HIGH PWR  ",null," 1000W HALOGEN LAMP  ",null," 120W INC  ",null,"25 WATT LED",null,null,null,null,null,null,null," 3L4’ 54W T5HO/ELIG  ",null,null,null,null,null," 2L2’55BXE/ELIG  "]
["Six Foot T12 & T12HO Systems","SixFootT12T12HOSystems"," 32W CIRCLINE HW  ",null,null,null,null,null,null,null,null,null," 6L4’ STD/STD  "," 3L4’ 25W T8EE/ELEE  ",null," 1200W HALOGEN LAMP  ",null," 125W INC  ",null,"26 WATT LED",null,null,null,null,null,null,null," 6L4’ 28W T5/ELIG  ",null,null,null,null,null," 4L2’ 20WT12/HPF(2)  "]
["T5 Systems","T5Systems"," 38W 2D COMP.HW ELIG  ",null,null,null,null,null,null,null,null,null,null," 3L4’ 30W T8EE/ELEE LOW PWR  ",null," 1500W HALOGEN LAMP  ",null," 135W INC  ",null,"27 WATT LED",null,null,null,null,null,null,null," 4L4’ 47W T5HO/ELIG  ",null,null,null,null,null," 4L2’ F40BX/ELIG  "]
["Tandem Wired Fluorescent Systems","TandemWiredFluorescentSystems"," 2/18W COMP. HW ELIG  ",null,null,null,null,null,null,null,null,null,null," 2L4’ 30WT8EE/ELEE HIGH PWR  ",null,null,null," 150W INC  ",null,"28 WATT LED",null,null,null,null,null,null,null," 4L4’ 50W T5HO/ELIG  ",null,null,null,null,null," 4L2’ F36BX/ELIG  "]
["Tandem Wired T8 High Efficient ","TandemWiredT8HighEfficient"," 3/13W COMPACT HW  ",null,null,null,null,null,null,null,null,null,null," 3L4’ 28W T8EE/ELEE  ",null,null,null," 200W INC  ",null,"29 WATT LED",null,null,null,null,null,null,null," 4L4’ 54W T5HO/ELEE  ",null,null,null,null,null," 3L2’ F50BX/ELIG  "]
["Three Foot High Efficiency T8 Systems","ThreeFootHighEfficiencyT8Systems"," 44W CIRCLINE HW  ",null,null,null,null,null,null,null,null,null,null," 3L4’ 32W T8EE/ELEE LOW PWR  ",null,null,null," 300W INC  ",null,"30 WATT LED",null,null,null,null,null,null,null," 4L4’ 54W T5HO/ELIG  ",null,null,null,null,null," 3L2’ F55BX/ELIG  "]
["Three Foot T8 / T12 Systems","ThreeFootT8T12Systems"," 1/42W COMPACT HW ELIG  ",null,null,null,null,null,null,null,null,null,null," 2L4’ 32W T8EE/ELEE HIGH PWR  ",null,null,null," 448W INC  ",null,"31 WATT LED",null,null,null,null,null,null,null," 5L4’ 47W T5HO/ELIG  ",null,null,null,null,null," 4L 40W T5 (Std.) HIGH LMN  "]
["Two Foot High Efficiency T8 Systems","TwoFootHighEfficiencyT8Systems"," 2/26W COMP. HW ELIG  ",null,null,null,null,null,null,null,null,null,null," 4L4’ 25W T8EE/ELEE LOW PWR  ",null,null,null," 500W INC  ",null,"32 WATT LED",null,null,null,null,null,null,null," 5L4’ 50W T5HO/ELIG  ",null,null,null,null,null," 5L2’ F40BX/ELIG  "]
["Two Foot T8 / T12 Systems","TwoFootT8T12Systems"," 22/32W CIRCLINE HW  ",null,null,null,null,null,null,null,null,null,null," 3L4’ 30W T8EE/ELEE  ",null,null,null," 750W INC  ",null,"33 WATT LED",null,null,null,null,null,null,null," 5L4’ 54W T5HO/ELIG  ",null,null,null,null,null," 6L2’ F40BX/ELIG  "]
[null,""," 3/18W COMPACT HW ELIG  ",null,null,null,null,null,null,null,null,null,null," 3L4’ 32W T8EE/ELEE  ",null,null,null," 1000W INC  ",null,"34 WATT LED",null,null,null,null,null,null,null," 6L4’ 47W T5HO/ELIG  ",null,null,null,null,null," 6L2’ F36BX/ELIG  "]
[null,null," 1/57W COMPACT HW ELIG  ",null,null,null,null,null,null,null,null,null,null," 4L4’ 28W T8EE/ELEE LOW PWR  ",null,null,null," 1500W INC  ",null,"35 WATT LED",null,null,null,null,null,null,null," 6L4’ 50W T5HO/ELIG  ",null,null,null,null,null," 4L2’ F50BX/ELIG  "]
[null,null," 2/32W COMPACT HW ELIG  ",null,null,null,null,null,null,null,null,null,null," 3L4’ 25W T8EE/ELEE HIGH PWR  ",null,null,null,null,null,"36 WATT LED",null,null,null,null,null,null,null," 6L4’ 54W T5HO/ELIG  ",null,null,null,null,null," 4L2’ F55BX/ELIG  "]
[null,null," 32/40W CIRCLINE HW  ",null,null,null,null,null,null,null,null,null,null," 4L4’ 25W T8EE/ELEE  ",null,null,null,null,null,"37 WATT LED",null,null,null,null,null,null,null," 8L4’ 54W T5HO/ELIG  ",null,null,null,null,null," 5L2’ F50BX/ELIG  "]
[null,null," 4/18W COMPACT HW ELIG  ",null,null,null,null,null,null,null,null,null,null," 4L4’ 30W T8EE/ELEE LOW PWR  ",null,null,null,null,null,"38 WATT LED",null,null,null,null,null,null,null," 10L4’ 54W T5HO/ELIG  ",null,null,null,null,null," 5L2’ F55BX/ELIG  "]
[null,null," 3/26W COMPACT HW ELIG  ",null,null,null,null,null,null,null,null,null,null," 4L4’ 28W T8EE/ELEE  ",null,null,null,null,null,"39 WATT LED",null,null,null,null,null,null,null,null,null,null,null,null,null," 8L2’ F40BX/ELIG  "]
[null,null," 2/42W COMPACT HW ELIG  ",null,null,null,null,null,null,null,null,null,null," 4L4’ 32W T8EE/ELEE LOW PWR  ",null,null,null,null,null,"40 WATT LED",null,null,null,null,null,null,null,null,null,null,null,null,null," 8L2’ F36BX/ELIG  "]
[null,null," 4/26W COMPACT HW ELIG  ",null,null,null,null,null,null,null,null,null,null," 3L4’ 28W T8EE/ELEE HIGH PWR  ",null,null,null,null,null,"41 WATT LED",null,null,null,null,null,null,null,null,null,null,null,null,null," 9L2’ F40BX/ELIG  "]
[null,null," 3/32W COMPACT HW ELIG  ",null,null,null,null,null,null,null,null,null,null," 4L4’ 30W T8EE/ELEE  ",null,null,null,null,null,"42 WATT LED",null,null,null,null,null,null,null,null,null,null,null,null,null," 9L2’ F36BX/ELIG  "]
[null,null," 2/57W COMPACT HW ELIG  ",null,null,null,null,null,null,null,null,null,null," 3L4’ 30W T8EE/ELEE HIGH PWR  ",null,null,null,null,null,"43 WATT LED",null,null,null,null,null,null,null,null,null,null,null,null,null," 6L2’ F50BX/ELIG  "]
[null,null," 3/42W COMPACT HW ELIG  ",null,null,null,null,null,null,null,null,null,null," 4L4’ 32W T8EE/ELEE  ",null,null,null,null,null,"44 WATT LED",null,null,null,null,null,null,null,null,null,null,null,null,null," 6L2’ F55BX/ELIG  "]
[null,null," 4/32W COMPACT HW ELIG  ",null,null,null,null,null,null,null,null,null,null," 3L4’ 32W T8EE/ELEE HIGH PWR  ",null,null,null,null,null,"45 WATT LED",null,null,null,null,null,null,null,null,null,null,null,null,null," 12L2’ F40BX/ELIG  "]
[null,null," 6/26W COMPACT HW ELIG  ",null,null,null,null,null,null,null,null,null,null," 4L4’ 25W T8EE/ELEE HIGH PWR  ",null,null,null,null,null,"46 WATT LED",null,null,null,null,null,null,null,null,null,null,null,null,null," 8L2’ F50BX/ELIG  "]
[null,null," 4/42W COMPACT HW ELIG  ",null,null,null,null,null,null,null,null,null,null," 4L4’ 28W T8EE/ELEE HIGH PWR  ",null,null,null,null,null,"47 WATT LED",null,null,null,null,null,null,null,null,null,null,null,null,null," 8L2’ F55BX/ELIG  "]
[null,null," 8/26W COMPACT HW ELIG  ",null,null,null,null,null,null,null,null,null,null," 6L4’ 28W T8EE/ELEE LOW PWR  ",null,null,null,null,null,"48 WATT LED",null,null,null,null,null,null,null,null,null,null,null,null,null," 9L2’ F50BX/ELIG  "]
[null,null," 6/32W COMPACT HW ELIG  ",null,null,null,null,null,null,null,null,null,null," 4L4’ 30W T8EE/ELEE HIGH PWR  ",null,null,null,null,null,"49 WATT LED",null,null,null,null,null,null,null,null,null,null,null,null,null," 9L2’ F55BX/ELIG  "]
[null,null," 6/42W COMPACT HW ELIG  ",null,null,null,null,null,null,null,null,null,null," 6L4’ 30W T8EE/ELEE LOW PWR  ",null,null,null,null,null,"50 WATT LED",null,null,null,null,null,null,null,null,null,null,null,null,null," 12L2’ F50BX/ELIG  "]
[null,null," 8/32W COMPACT HW ELIG  ",null,null,null,null,null,null,null,null,null,null," 4L4’ 32W T8EE/ELEE HIGH PWR  ",null,null,null,null,null,"51 WATT LED",null,null,null,null,null,null,null,null,null,null,null,null,null," 12L2’ F55BX/ELIG  "]
[null,null," 8/42W COMPACT HW ELIG  ",null,null,null,null,null,null,null,null,null,null," 6L4’ 28W T8EE/ELEE  ",null,null,null,null,null,"52 WATT LED"]
[null,null,null,null,null,null,null,null,null,null,null,null,null," 6L4’ 32W T8EE/ELEE LOW PWR  ",null,null,null,null,null,"53 WATT LED"]
[null,null,null,null,null,null,null,null,null,null,null,null,null," 6L4’ 30W T8EE/ELEE  ",null,null,null,null,null,"54 WATT LED"]
[null,null,null,null,null,null,null,null,null,null,null,null,null," 6L4’ 32W T8EE/ELEE  ",null,null,null,null,null,"55 WATT LED"]
[null,null,null,null,null,null,null,null,null,null,null,null,null," 5L4’ 32W T8EE/ELEE HIGH PWR  ",null,null,null,null,null,"56 WATT LED"]
[null,null,null,null,null,null,null,null,null,null,null,null,null," 6L4’ 28W T8EE/ELEE HIGH PWR  ",null,null,null,null,null,"57 WATT LED"]
[null,null,null,null,null,null,null,null,null,null,null,null,null," 6L4’ 32W T8EE/ELEE HIGH PWR  ",null,null,null,null,null,"58 WATT LED"]
[null,null,null,null,null,null,null,null,null,null,null,null,null," 7L4’ 32W T8EE/ELEE HIGH PWR  ",null,null,null,null,null,"59 WATT LED"]
[null,null,null,null,null,null,null,null,null,null,null,null,null,null,null,null,null,null,null,"60 WATT LED"]
[null,null,null,null,null,null,null,null,null,null,null,null,null,null,null,null,null,null,null,"61 WATT LED"]
[null,null,null,null,null,null,null,null,null,null,null,null,null,null,null,null,null,null,null,"62 WATT LED"]
[null,null,null,null,null,null,null,null,null,null,null,null,null,null,null,null,null,null,null,"63 WATT LED"]
[null,null,null,null,null,null,null,null,null,null,null,null,null,null,null,null,null,null,null,"64 WATT LED"]
[null,null,null,null,null,null,null,null,null,null,null,null,null,null,null,null,null,null,null,"65 WATT LED"]
[null,null,null,null,null,null,null,null,null,null,null,null,null,null,null,null,null,null,null,"66 WATT LED"]
[null,null,null,null,null,null,null,null,null,null,null,null,null,null,null,null,null,null,null,"67 WATT LED"]
[null,null,null,null,null,null,null,null,null,null,null,null,null,null,null,null,null,null,null,"68 WATT LED"]
[null,null,null,null,null,null,null,null,null,null,null,null,null,null,null,null,null,null,null,"69 WATT LED"]
[null,null,null,null,null,null,null,null,null,null,null,null,null,null,null,null,null,null,null,"70 WATT LED"]
[null,null,null,null,null,null,null,null,null,null,null,null,null,null,null,null,null,null,null,"71 WATT LED"]
[null,null,null,null,null,null,null,null,null,null,null,null,null,null,null,null,null,null,null,"72 WATT LED"]
[null,null,null,null,null,null,null,null,null,null,null,null,null,null,null,null,null,null,null,"73 WATT LED"]
[null,null,null,null,null,null,null,null,null,null,null,null,null,null,null,null,null,null,null,"74 WATT LED"]
[null,null,null,null,null,null,null,null,null,null,null,null,null,null,null,null,null,null,null,"75 WATT LED"]
[null,null,null,null,null,null,null,null,null,null,null,null,null,null,null,null,null,null,null,"76 WATT LED"]
[null,null,null,null,null,null,null,null,null,null,null,null,null,null,null,null,null,null,null,"77 WATT LED"]
[null,null,null,null,null,null,null,null,null,null,null,null,null,null,null,null,null,null,null,"78 WATT LED"]
[null,null,null,null,null,null,null,null,null,null,null,null,null,null,null,null,null,null,null,"79 WATT LED"]
[null,null,null,null,null,null,null,null,null,null,null,null,null,null,null,null,null,null,null,"80 WATT LED"]
[null,null,null,null,null,null,null,null,null,null,null,null,null,null,null,null,null,null,null,"81 WATT LED"]
[null,null,null,null,null,null,null,null,null,null,null,null,null,null,null,null,null,null,null,"82 WATT LED"]
[null,null,null,null,null,null,null,null,null,null,null,null,null,null,null,null,null,null,null,"83 WATT LED"]
[null,null,null,null,null,null,null,null,null,null,null,null,null,null,null,null,null,null,null,"84 WATT LED"]
[null,null,null,null,null,null,null,null,null,null,null,null,null,null,null,null,null,null,null,"85 WATT LED"]
[null,null,null,null,null,null,null,null,null,null,null,null,null,null,null,null,null,null,null,"86 WATT LED"]
[null,null,null,null,null,null,null,null,null,null,null,null,null,null,null,null,null,null,null,"87 WATT LED"]
[null,null,null,null,null,null,null,null,null,null,null,null,null,null,null,null,null,null,null,"88 WATT LED"]
[null,null,null,null,null,null,null,null,null,null,null,null,null,null,null,null,null,null,null,"89 WATT LED"]
[null,null,null,null,null,null,null,null,null,null,null,null,null,null,null,null,null,null,null,"90 WATT LED"]
[null,null,null,null,null,null,null,null,null,null,null,null,null,null,null,null,null,null,null,"91 WATT LED"]
[null,null,null,null,null,null,null,null,null,null,null,null,null,null,null,null,null,null,null,"92 WATT LED"]
[null,null,null,null,null,null,null,null,null,null,null,null,null,null,null,null,null,null,null,"93 WATT LED"]
[null,null,null,null,null,null,null,null,null,null,null,null,null,null,null,null,null,null,null,"94 WATT LED"]
[null,null,null,null,null,null,null,null,null,null,null,null,null,null,null,null,null,null,null,"95 WATT LED"]
[null,null,null,null,null,null,null,null,null,null,null,null,null,null,null,null,null,null,null,"96 WATT LED"]
[null,null,null,null,null,null,null,null,null,null,null,null,null,null,null,null,null,null,null,"97 WATT LED"]
[null,null,null,null,null,null,null,null,null,null,null,null,null,null,null,null,null,null,null,"98 WATT LED"]
[null,null,null,null,null,null,null,null,null,null,null,null,null,null,null,null,null,null,null,"99 WATT LED"]
[null,null,null,null,null,null,null,null,null,null,null,null,null,null,null,null,null,null,null,"100 WATT LED"]
[null,null,null,null,null,null,null,null,null,null,null,null,null,null,null,null,null,null,null,"101 WATT LED"]
[null,null,null,null,null,null,null,null,null,null,null,null,null,null,null,null,null,null,null,"102 WATT LED"]
[null,null,null,null,null,null,null,null,null,null,null,null,null,null,null,null,null,null,null,"103 WATT LED"]
[null,null,null,null,null,null,null,null,null,null,null,null,null,null,null,null,null,null,null,"104 WATT LED"]
[null,null,null,null,null,null,null,null,null,null,null,null,null,null,null,null,null,null,null,"105 WATT LED"]
[null,null,null,null,null,null,null,null,null,null,null,null,null,null,null,null,null,null,null,"106 WATT LED"]
[null,null,null,null,null,null,null,null,null,null,null,null,null,null,null,null,null,null,null,"107 WATT LED"]
[null,null,null,null,null,null,null,null,null,null,null,null,null,null,null,null,null,null,null,"108 WATT LED"]
[null,null,null,null,null,null,null,null,null,null,null,null,null,null,null,null,null,null,null,"109 WATT LED"]
[null,null,null,null,null,null,null,null,null,null,null,null,null,null,null,null,null,null,null,"110 WATT LED"]
[null,null,null,null,null,null,null,null,null,null,null,null,null,null,null,null,null,null,null,"111 WATT LED"]
[null,null,null,null,null,null,null,null,null,null,null,null,null,null,null,null,null,null,null,"112 WATT LED"]
[null,null,null,null,null,null,null,null,null,null,null,null,null,null,null,null,null,null,null,"113 WATT LED"]
[null,null,null,null,null,null,null,null,null,null,null,null,null,null,null,null,null,null,null,"114 WATT LED"]
[null,null,null,null,null,null,null,null,null,null,null,null,null,null,null,null,null,null,null,"115 WATT LED"]
[null,null,null,null,null,null,null,null,null,null,null,null,null,null,null,null,null,null,null,"116 WATT LED"]
[null,null,null,null,null,null,null,null,null,null,null,null,null,null,null,null,null,null,null,"117 WATT LED"]
[null,null,null,null,null,null,null,null,null,null,null,null,null,null,null,null,null,null,null,"118 WATT LED"]
[null,null,null,null,null,null,null,null,null,null,null,null,null,null,null,null,null,null,null,"119 WATT LED"]
[null,null,null,null,null,null,null,null,null,null,null,null,null,null,null,null,null,null,null,"120 WATT LED"]
[null,null,null,null,null,null,null,null,null,null,null,null,null,null,null,null,null,null,null,"121 WATT LED"]
[null,null,null,null,null,null,null,null,null,null,null,null,null,null,null,null,null,null,null,"122 WATT LED"]
[null,null,null,null,null,null,null,null,null,null,null,null,null,null,null,null,null,null,null,"123 WATT LED"]
[null,null,null,null,null,null,null,null,null,null,null,null,null,null,null,null,null,null,null,"124 WATT LED"]
[null,null,null,null,null,null,null,null,null,null,null,null,null,null,null,null,null,null,null,"125 WATT LED"]
[null,null,null,null,null,null,null,null,null,null,null,null,null,null,null,null,null,null,null,"126 WATT LED"]
[null,null,null,null,null,null,null,null,null,null,null,null,null,null,null,null,null,null,null,"127 WATT LED"]
[null,null,null,null,null,null,null,null,null,null,null,null,null,null,null,null,null,null,null,"128 WATT LED"]
[null,null,null,null,null,null,null,null,null,null,null,null,null,null,null,null,null,null,null,"129 WATT LED"]
[null,null,null,null,null,null,null,null,null,null,null,null,null,null,null,null,null,null,null,"130 WATT LED"]
[null,null,null,null,null,null,null,null,null,null,null,null,null,null,null,null,null,null,null,"131 WATT LED"]
[null,null,null,null,null,null,null,null,null,null,null,null,null,null,null,null,null,null,null,"132 WATT LED"]
[null,null,null,null,null,null,null,null,null,null,null,null,null,null,null,null,null,null,null,"133 WATT LED"]
[null,null,null,null,null,null,null,null,null,null,null,null,null,null,null,null,null,null,null,"134 WATT LED"]
[null,null,null,null,null,null,null,null,null,null,null,null,null,null,null,null,null,null,null,"135 WATT LED"]
[null,null,null,null,null,null,null,null,null,null,null,null,null,null,null,null,null,null,null,"136 WATT LED"]
[null,null,null,null,null,null,null,null,null,null,null,null,null,null,null,null,null,null,null,"137 WATT LED"]
[null,null,null,null,null,null,null,null,null,null,null,null,null,null,null,null,null,null,null,"138 WATT LED"]
[null,null,null,null,null,null,null,null,null,null,null,null,null,null,null,null,null,null,null,"139 WATT LED"]
[null,null,null,null,null,null,null,null,null,null,null,null,null,null,null,null,null,null,null,"140 WATT LED"]
[null,null,null,null,null,null,null,null,null,null,null,null,null,null,null,null,null,null,null,"141 WATT LED"]
[null,null,null,null,null,null,null,null,null,null,null,null,null,null,null,null,null,null,null,"142 WATT LED"]
[null,null,null,null,null,null,null,null,null,null,null,null,null,null,null,null,null,null,null,"143 WATT LED"]
[null,null,null,null,null,null,null,null,null,null,null,null,null,null,null,null,null,null,null,"144 WATT LED"]
[null,null,null,null,null,null,null,null,null,null,null,null,null,null,null,null,null,null,null,"145 WATT LED"]
[null,null,null,null,null,null,null,null,null,null,null,null,null,null,null,null,null,null,null,"146 WATT LED"]
[null,null,null,null,null,null,null,null,null,null,null,null,null,null,null,null,null,null,null,"147 WATT LED"]
[null,null,null,null,null,null,null,null,null,null,null,null,null,null,null,null,null,null,null,"148 WATT LED"]
[null,null,null,null,null,null,null,null,null,null,null,null,null,null,null,null,null,null,null,"149 WATT LED"]
[null,null,null,null,null,null,null,null,null,null,null,null,null,null,null,null,null,null,null,"150 WATT LED"]
[null,null,null,null,null,null,null,null,null,null,null,null,null,null,null,null,null,null,null,"151 WATT LED"]
[null,null,null,null,null,null,null,null,null,null,null,null,null,null,null,null,null,null,null,"152 WATT LED"]
[null,null,null,null,null,null,null,null,null,null,null,null,null,null,null,null,null,null,null,"153 WATT LED"]
[null,null,null,null,null,null,null,null,null,null,null,null,null,null,null,null,null,null,null,"154 WATT LED"]
[null,null,null,null,null,null,null,null,null,null,null,null,null,null,null,null,null,null,null,"155 WATT LED"]
[null,null,null,null,null,null,null,null,null,null,null,null,null,null,null,null,null,null,null,"156 WATT LED"]
[null,null,null,null,null,null,null,null,null,null,null,null,null,null,null,null,null,null,null,"157 WATT LED"]
[null,null,null,null,null,null,null,null,null,null,null,null,null,null,null,null,null,null,null,"158 WATT LED"]
[null,null,null,null,null,null,null,null,null,null,null,null,null,null,null,null,null,null,null,"159 WATT LED"]
[null,null,null,null,null,null,null,null,null,null,null,null,null,null,null,null,null,null,null,"160 WATT LED"]
[null,null,null,null,null,null,null,null,null,null,null,null,null,null,null,null,null,null,null,"161 WATT LED"]
[null,null,null,null,null,null,null,null,null,null,null,null,null,null,null,null,null,null,null,"162 WATT LED"]
[null,null,null,null,null,null,null,null,null,null,null,null,null,null,null,null,null,null,null,"163 WATT LED"]
[null,null,null,null,null,null,null,null,null,null,null,null,null,null,null,null,null,null,null,"164 WATT LED"]
[null,null,null,null,null,null,null,null,null,null,null,null,null,null,null,null,null,null,null,"165 WATT LED"]
[null,null,null,null,null,null,null,null,null,null,null,null,null,null,null,null,null,null,null,"166 WATT LED"]
[null,null,null,null,null,null,null,null,null,null,null,null,null,null,null,null,null,null,null,"167 WATT LED"]
[null,null,null,null,null,null,null,null,null,null,null,null,null,null,null,null,null,null,null,"168 WATT LED"]
[null,null,null,null,null,null,null,null,null,null,null,null,null,null,null,null,null,null,null,"169 WATT LED"]
[null,null,null,null,null,null,null,null,null,null,null,null,null,null,null,null,null,null,null,"170 WATT LED"]
[null,null,null,null,null,null,null,null,null,null,null,null,null,null,null,null,null,null,null,"171 WATT LED"]
[null,null,null,null,null,null,null,null,null,null,null,null,null,null,null,null,null,null,null,"172 WATT LED"]
[null,null,null,null,null,null,null,null,null,null,null,null,null,null,null,null,null,null,null,"173 WATT LED"]
[null,null,null,null,null,null,null,null,null,null,null,null,null,null,null,null,null,null,null,"174 WATT LED"]
[null,null,null,null,null,null,null,null,null,null,null,null,null,null,null,null,null,null,null,"175 WATT LED"]
[null,null,null,null,null,null,null,null,null,null,null,null,null,null,null,null,null,null,null,"176 WATT LED"]
[null,null,null,null,null,null,null,null,null,null,null,null,null,null,null,null,null,null,null,"177 WATT LED"]
[null,null,null,null,null,null,null,null,null,null,null,null,null,null,null,null,null,null,null,"178 WATT LED"]
[null,null,null,null,null,null,null,null,null,null,null,null,null,null,null,null,null,null,null,"179 WATT LED"]
[null,null,null,null,null,null,null,null,null,null,null,null,null,null,null,null,null,null,null,"180 WATT LED"]
[null,null,null,null,null,null,null,null,null,null,null,null,null,null,null,null,null,null,null,"181 WATT LED"]
[null,null,null,null,null,null,null,null,null,null,null,null,null,null,null,null,null,null,null,"182 WATT LED"]
[null,null,null,null,null,null,null,null,null,null,null,null,null,null,null,null,null,null,null,"183 WATT LED"]
[null,null,null,null,null,null,null,null,null,null,null,null,null,null,null,null,null,null,null,"184 WATT LED"]
[null,null,null,null,null,null,null,null,null,null,null,null,null,null,null,null,null,null,null,"185 WATT LED"]
[null,null,null,null,null,null,null,null,null,null,null,null,null,null,null,null,null,null,null,"186 WATT LED"]
[null,null,null,null,null,null,null,null,null,null,null,null,null,null,null,null,null,null,null,"187 WATT LED"]
[null,null,null,null,null,null,null,null,null,null,null,null,null,null,null,null,null,null,null,"188 WATT LED"]
[null,null,null,null,null,null,null,null,null,null,null,null,null,null,null,null,null,null,null,"189 WATT LED"]
[null,null,null,null,null,null,null,null,null,null,null,null,null,null,null,null,null,null,null,"190 WATT LED"]
[null,null,null,null,null,null,null,null,null,null,null,null,null,null,null,null,null,null,null,"191 WATT LED"]
[null,null,null,null,null,null,null,null,null,null,null,null,null,null,null,null,null,null,null,"192 WATT LED"]
[null,null,null,null,null,null,null,null,null,null,null,null,null,null,null,null,null,null,null,"193 WATT LED"]
[null,null,null,null,null,null,null,null,null,null,null,null,null,null,null,null,null,null,null,"194 WATT LED"]
[null,null,null,null,null,null,null,null,null,null,null,null,null,null,null,null,null,null,null,"195 WATT LED"]
[null,null,null,null,null,null,null,null,null,null,null,null,null,null,null,null,null,null,null,"196 WATT LED"]
[null,null,null,null,null,null,null,null,null,null,null,null,null,null,null,null,null,null,null,"197 WATT LED"]
[null,null,null,null,null,null,null,null,null,null,null,null,null,null,null,null,null,null,null,"198 WATT LED"]
[null,null,null,null,null,null,null,null,null,null,null,null,null,null,null,null,null,null,null,"199 WATT LED"]
[null,null,null,null,null,null,null,null,null,null,null,null,null,null,null,null,null,null,null,"200 WATT LED"]
[null,null,null,null,null,null,null,null,null,null,null,null,null,null,null,null,null,null,null,"201 WATT LED"]
[null,null,null,null,null,null,null,null,null,null,null,null,null,null,null,null,null,null,null,"202 WATT LED"]
[null,null,null,null,null,null,null,null,null,null,null,null,null,null,null,null,null,null,null,"203 WATT LED"]
[null,null,null,null,null,null,null,null,null,null,null,null,null,null,null,null,null,null,null,"204 WATT LED"]
[null,null,null,null,null,null,null,null,null,null,null,null,null,null,null,null,null,null,null,"205 WATT LED"]
[null,null,null,null,null,null,null,null,null,null,null,null,null,null,null,null,null,null,null,"206 WATT LED"]
[null,null,null,null,null,null,null,null,null,null,null,null,null,null,null,null,null,null,null,"207 WATT LED"]
[null,null,null,null,null,null,null,null,null,null,null,null,null,null,null,null,null,null,null,"208 WATT LED"]
[null,null,null,null,null,null,null,null,null,null,null,null,null,null,null,null,null,null,null,"209 WATT LED"]
[null,null,null,null,null,null,null,null,null,null,null,null,null,null,null,null,null,null,null,"210 WATT LED"]
[null,null,null,null,null,null,null,null,null,null,null,null,null,null,null,null,null,null,null,"211 WATT LED"]
[null,null,null,null,null,null,null,null,null,null,null,null,null,null,null,null,null,null,null,"212 WATT LED"]
[null,null,null,null,null,null,null,null,null,null,null,null,null,null,null,null,null,null,null,"213 WATT LED"]
[null,null,null,null,null,null,null,null,null,null,null,null,null,null,null,null,null,null,null,"214 WATT LED"]
[null,null,null,null,null,null,null,null,null,null,null,null,null,null,null,null,null,null,null,"215 WATT LED"]
[null,null,null,null,null,null,null,null,null,null,null,null,null,null,null,null,null,null,null,"216 WATT LED"]
[null,null,null,null,null,null,null,null,null,null,null,null,null,null,null,null,null,null,null,"217 WATT LED"]
[null,null,null,null,null,null,null,null,null,null,null,null,null,null,null,null,null,null,null,"218 WATT LED"]
[null,null,null,null,null,null,null,null,null,null,null,null,null,null,null,null,null,null,null,"219 WATT LED"]
[null,null,null,null,null,null,null,null,null,null,null,null,null,null,null,null,null,null,null,"220 WATT LED"]
[null,null,null,null,null,null,null,null,null,null,null,null,null,null,null,null,null,null,null,"221 WATT LED"]
[null,null,null,null,null,null,null,null,null,null,null,null,null,null,null,null,null,null,null,"222 WATT LED"]
[null,null,null,null,null,null,null,null,null,null,null,null,null,null,null,null,null,null,null,"223 WATT LED"]
[null,null,null,null,null,null,null,null,null,null,null,null,null,null,null,null,null,null,null,"224 WATT LED"]
[null,null,null,null,null,null,null,null,null,null,null,null,null,null,null,null,null,null,null,"225 WATT LED"]
[null,null,null,null,null,null,null,null,null,null,null,null,null,null,null,null,null,null,null,"226 WATT LED"]
[null,null,null,null,null,null,null,null,null,null,null,null,null,null,null,null,null,null,null,"227 WATT LED"]
[null,null,null,null,null,null,null,null,null,null,null,null,null,null,null,null,null,null,null,"228 WATT LED"]
[null,null,null,null,null,null,null,null,null,null,null,null,null,null,null,null,null,null,null,"229 WATT LED"]
[null,null,null,null,null,null,null,null,null,null,null,null,null,null,null,null,null,null,null,"230 WATT LED"]
[null,null,null,null,null,null,null,null,null,null,null,null,null,null,null,null,null,null,null,"231 WATT LED"]
[null,null,null,null,null,null,null,null,null,null,null,null,null,null,null,null,null,null,null,"232 WATT LED"]
[null,null,null,null,null,null,null,null,null,null,null,null,null,null,null,null,null,null,null,"233 WATT LED"]
[null,null,null,null,null,null,null,null,null,null,null,null,null,null,null,null,null,null,null,"234 WATT LED"]
[null,null,null,null,null,null,null,null,null,null,null,null,null,null,null,null,null,null,null,"235 WATT LED"]
[null,null,null,null,null,null,null,null,null,null,null,null,null,null,null,null,null,null,null,"236 WATT LED"]
[null,null,null,null,null,null,null,null,null,null,null,null,null,null,null,null,null,null,null,"237 WATT LED"]
[null,null,null,null,null,null,null,null,null,null,null,null,null,null,null,null,null,null,null,"238 WATT LED"]
[null,null,null,null,null,null,null,null,null,null,null,null,null,null,null,null,null,null,null,"239 WATT LED"]
[null,null,null,null,null,null,null,null,null,null,null,null,null,null,null,null,null,null,null,"240 WATT LED"]
[null,null,null,null,null,null,null,null,null,null,null,null,null,null,null,null,null,null,null,"241 WATT LED"]
[null,null,null,null,null,null,null,null,null,null,null,null,null,null,null,null,null,null,null,"242 WATT LED"]
[null,null,null,null,null,null,null,null,null,null,null,null,null,null,null,null,null,null,null,"243 WATT LED"]
[null,null,null,null,null,null,null,null,null,null,null,null,null,null,null,null,null,null,null,"244 WATT LED"]
[null,null,null,null,null,null,null,null,null,null,null,null,null,null,null,null,null,null,null,"245 WATT LED"]
[null,null,null,null,null,null,null,null,null,null,null,null,null,null,null,null,null,null,null,"246 WATT LED"]
[null,null,null,null,null,null,null,null,null,null,null,null,null,null,null,null,null,null,null,"247 WATT LED"]
[null,null,null,null,null,null,null,null,null,null,null,null,null,null,null,null,null,null,null,"248 WATT LED"]
[null,null,null,null,null,null,null,null,null,null,null,null,null,null,null,null,null,null,null,"249 WATT LED"]
[null,null,null,null,null,null,null,null,null,null,null,null,null,null,null,null,null,null,null,"250 WATT LED"]
[null,null,null,null,null,null,null,null,null,null,null,null,null,null,null,null,null,null,null,"251 WATT LED"]
[null,null,null,null,null,null,null,null,null,null,null,null,null,null,null,null,null,null,null,"252 WATT LED"]
[null,null,null,null,null,null,null,null,null,null,null,null,null,null,null,null,null,null,null,"253 WATT LED"]
[null,null,null,null,null,null,null,null,null,null,null,null,null,null,null,null,null,null,null,"254 WATT LED"]
[null,null,null,null,null,null,null,null,null,null,null,null,null,null,null,null,null,null,null,"255 WATT LED"]
[null,null,null,null,null,null,null,null,null,null,null,null,null,null,null,null,null,null,null,"256 WATT LED"]
[null,null,null,null,null,null,null,null,null,null,null,null,null,null,null,null,null,null,null,"257 WATT LED"]
[null,null,null,null,null,null,null,null,null,null,null,null,null,null,null,null,null,null,null,"258 WATT LED"]
[null,null,null,null,null,null,null,null,null,null,null,null,null,null,null,null,null,null,null,"259 WATT LED"]
[null,null,null,null,null,null,null,null,null,null,null,null,null,null,null,null,null,null,null,"260 WATT LED"]
[null,null,null,null,null,null,null,null,null,null,null,null,null,null,null,null,null,null,null,"261 WATT LED"]
[null,null,null,null,null,null,null,null,null,null,null,null,null,null,null,null,null,null,null,"262 WATT LED"]
[null,null,null,null,null,null,null,null,null,null,null,null,null,null,null,null,null,null,null,"263 WATT LED"]
[null,null,null,null,null,null,null,null,null,null,null,null,null,null,null,null,null,null,null,"264 WATT LED"]
[null,null,null,null,null,null,null,null,null,null,null,null,null,null,null,null,null,null,null,"265 WATT LED"]
[null,null,null,null,null,null,null,null,null,null,null,null,null,null,null,null,null,null,null,"266 WATT LED"]
[null,null,null,null,null,null,null,null,null,null,null,null,null,null,null,null,null,null,null,"267 WATT LED"]
[null,null,null,null,null,null,null,null,null,null,null,null,null,null,null,null,null,null,null,"268 WATT LED"]
[null,null,null,null,null,null,null,null,null,null,null,null,null,null,null,null,null,null,null,"269 WATT LED"]
[null,null,null,null,null,null,null,null,null,null,null,null,null,null,null,null,null,null,null,"270 WATT LED"]
[null,null,null,null,null,null,null,null,null,null,null,null,null,null,null,null,null,null,null,"271 WATT LED"]
[null,null,null,null,null,null,null,null,null,null,null,null,null,null,null,null,null,null,null,"272 WATT LED"]
[null,null,null,null,null,null,null,null,null,null,null,null,null,null,null,null,null,null,null,"273 WATT LED"]
[null,null,null,null,null,null,null,null,null,null,null,null,null,null,null,null,null,null,null,"274 WATT LED"]
[null,null,null,null,null,null,null,null,null,null,null,null,null,null,null,null,null,null,null,"275 WATT LED"]
[null,null,null,null,null,null,null,null,null,null,null,null,null,null,null,null,null,null,null,"276 WATT LED"]
[null,null,null,null,null,null,null,null,null,null,null,null,null,null,null,null,null,null,null,"277 WATT LED"]
[null,null,null,null,null,null,null,null,null,null,null,null,null,null,null,null,null,null,null,"278 WATT LED"]
[null,null,null,null,null,null,null,null,null,null,null,null,null,null,null,null,null,null,null,"279 WATT LED"]
[null,null,null,null,null,null,null,null,null,null,null,null,null,null,null,null,null,null,null,"280 WATT LED"]
[null,null,null,null,null,null,null,null,null,null,null,null,null,null,null,null,null,null,null,"281 WATT LED"]
[null,null,null,null,null,null,null,null,null,null,null,null,null,null,null,null,null,null,null,"282 WATT LED"]
[null,null,null,null,null,null,null,null,null,null,null,null,null,null,null,null,null,null,null,"283 WATT LED"]
[null,null,null,null,null,null,null,null,null,null,null,null,null,null,null,null,null,null,null,"284 WATT LED"]
[null,null,null,null,null,null,null,null,null,null,null,null,null,null,null,null,null,null,null,"285 WATT LED"]
[null,null,null,null,null,null,null,null,null,null,null,null,null,null,null,null,null,null,null,"286 WATT LED"]
[null,null,null,null,null,null,null,null,null,null,null,null,null,null,null,null,null,null,null,"287 WATT LED"]
[null,null,null,null,null,null,null,null,null,null,null,null,null,null,null,null,null,null,null,"288 WATT LED"]
[null,null,null,null,null,null,null,null,null,null,null,null,null,null,null,null,null,null,null,"289 WATT LED"]
[null,null,null,null,null,null,null,null,null,null,null,null,null,null,null,null,null,null,null,"290 WATT LED"]
[null,null,null,null,null,null,null,null,null,null,null,null,null,null,null,null,null,null,null,"291 WATT LED"]
[null,null,null,null,null,null,null,null,null,null,null,null,null,null,null,null,null,null,null,"292 WATT LED"]
[null,null,null,null,null,null,null,null,null,null,null,null,null,null,null,null,null,null,null,"293 WATT LED"]
[null,null,null,null,null,null,null,null,null,null,null,null,null,null,null,null,null,null,null,"294 WATT LED"]
[null,null,null,null,null,null,null,null,null,null,null,null,null,null,null,null,null,null,null,"295 WATT LED"]
[null,null,null,null,null,null,null,null,null,null,null,null,null,null,null,null,null,null,null,"296 WATT LED"]
[null,null,null,null,null,null,null,null,null,null,null,null,null,null,null,null,null,null,null,"297 WATT LED"]
[null,null,null,null,null,null,null,null,null,null,null,null,null,null,null,null,null,null,null,"298 WATT LED"]
[null,null,null,null,null,null,null,null,null,null,null,null,null,null,null,null,null,null,null,"299 WATT LED"]
[null,null,null,null,null,null,null,null,null,null,null,null,null,null,null,null,null,null,null,"300 WATT LED"]
[null,null,null,null,null,null,null,null,null,null,null,null,null,null,null,null,null,null,null,"301 WATT LED"]
[null,null,null,null,null,null,null,null,null,null,null,null,null,null,null,null,null,null,null,"302 WATT LED"]
[null,null,null,null,null,null,null,null,null,null,null,null,null,null,null,null,null,null,null,"303 WATT LED"]
[null,null,null,null,null,null,null,null,null,null,null,null,null,null,null,null,null,null,null,"304 WATT LED"]
[null,null,null,null,null,null,null,null,null,null,null,null,null,null,null,null,null,null,null,"305 WATT LED"]
[null,null,null,null,null,null,null,null,null,null,null,null,null,null,null,null,null,null,null,"306 WATT LED"]
[null,null,null,null,null,null,null,null,null,null,null,null,null,null,null,null,null,null,null,"307 WATT LED"]
[null,null,null,null,null,null,null,null,null,null,null,null,null,null,null,null,null,null,null,"308 WATT LED"]
[null,null,null,null,null,null,null,null,null,null,null,null,null,null,null,null,null,null,null,"309 WATT LED"]
[null,null,null,null,null,null,null,null,null,null,null,null,null,null,null,null,null,null,null,"310 WATT LED"]
[null,null,null,null,null,null,null,null,null,null,null,null,null,null,null,null,null,null,null,"311 WATT LED"]
[null,null,null,null,null,null,null,null,null,null,null,null,null,null,null,null,null,null,null,"312 WATT LED"]
[null,null,null,null,null,null,null,null,null,null,null,null,null,null,null,null,null,null,null,"313 WATT LED"]
[null,null,null,null,null,null,null,null,null,null,null,null,null,null,null,null,null,null,null,"314 WATT LED"]
[null,null,null,null,null,null,null,null,null,null,null,null,null,null,null,null,null,null,null,"315 WATT LED"]
[null,null,null,null,null,null,null,null,null,null,null,null,null,null,null,null,null,null,null,"316 WATT LED"]
[null,null,null,null,null,null,null,null,null,null,null,null,null,null,null,null,null,null,null,"317 WATT LED"]
[null,null,null,null,null,null,null,null,null,null,null,null,null,null,null,null,null,null,null,"318 WATT LED"]
[null,null,null,null,null,null,null,null,null,null,null,null,null,null,null,null,null,null,null,"319 WATT LED"]
[null,null,null,null,null,null,null,null,null,null,null,null,null,null,null,null,null,null,null,"320 WATT LED"]
[null,null,null,null,null,null,null,null,null,null,null,null,null,null,null,null,null,null,null,"321 WATT LED"]
[null,null,null,null,null,null,null,null,null,null,null,null,null,null,null,null,null,null,null,"322 WATT LED"]
[null,null,null,null,null,null,null,null,null,null,null,null,null,null,null,null,null,null,null,"323 WATT LED"]
[null,null,null,null,null,null,null,null,null,null,null,null,null,null,null,null,null,null,null,"324 WATT LED"]
[null,null,null,null,null,null,null,null,null,null,null,null,null,null,null,null,null,null,null,"325 WATT LED"]
[null,null,null,null,null,null,null,null,null,null,null,null,null,null,null,null,null,null,null,"326 WATT LED"]
[null,null,null,null,null,null,null,null,null,null,null,null,null,null,null,null,null,null,null,"327 WATT LED"]
[null,null,null,null,null,null,null,null,null,null,null,null,null,null,null,null,null,null,null,"328 WATT LED"]
[null,null,null,null,null,null,null,null,null,null,null,null,null,null,null,null,null,null,null,"329 WATT LED"]
[null,null,null,null,null,null,null,null,null,null,null,null,null,null,null,null,null,null,null,"330 WATT LED"]
[null,null,null,null,null,null,null,null,null,null,null,null,null,null,null,null,null,null,null,"331 WATT LED"]
[null,null,null,null,null,null,null,null,null,null,null,null,null,null,null,null,null,null,null,"332 WATT LED"]
[null,null,null,null,null,null,null,null,null,null,null,null,null,null,null,null,null,null,null,"333 WATT LED"]
[null,null,null,null,null,null,null,null,null,null,null,null,null,null,null,null,null,null,null,"334 WATT LED"]
[null,null,null,null,null,null,null,null,null,null,null,null,null,null,null,null,null,null,null,"335 WATT LED"]
[null,null,null,null,null,null,null,null,null,null,null,null,null,null,null,null,null,null,null,"336 WATT LED"]
[null,null,null,null,null,null,null,null,null,null,null,null,null,null,null,null,null,null,null,"337 WATT LED"]
[null,null,null,null,null,null,null,null,null,null,null,null,null,null,null,null,null,null,null,"338 WATT LED"]
[null,null,null,null,null,null,null,null,null,null,null,null,null,null,null,null,null,null,null,"339 WATT LED"]
[null,null,null,null,null,null,null,null,null,null,null,null,null,null,null,null,null,null,null,"340 WATT LED"]
[null,null,null,null,null,null,null,null,null,null,null,null,null,null,null,null,null,null,null,"341 WATT LED"]
[null,null,null,null,null,null,null,null,null,null,null,null,null,null,null,null,null,null,null,"342 WATT LED"]
[null,null,null,null,null,null,null,null,null,null,null,null,null,null,null,null,null,null,null,"343 WATT LED"]
[null,null,null,null,null,null,null,null,null,null,null,null,null,null,null,null,null,null,null,"344 WATT LED"]
[null,null,null,null,null,null,null,null,null,null,null,null,null,null,null,null,null,null,null,"345 WATT LED"]
[null,null,null,null,null,null,null,null,null,null,null,null,null,null,null,null,null,null,null,"346 WATT LED"]
[null,null,null,null,null,null,null,null,null,null,null,null,null,null,null,null,null,null,null,"347 WATT LED"]
[null,null,null,null,null,null,null,null,null,null,null,null,null,null,null,null,null,null,null,"348 WATT LED"]
[null,null,null,null,null,null,null,null,null,null,null,null,null,null,null,null,null,null,null,"349 WATT LED"]
[null,null,null,null,null,null,null,null,null,null,null,null,null,null,null,null,null,null,null,"350 WATT LED"]
[null,null,null,null,null,null,null,null,null,null,null,null,null,null,null,null,null,null,null,"351 WATT LED"]
[null,null,null,null,null,null,null,null,null,null,null,null,null,null,null,null,null,null,null,"352 WATT LED"]
[null,null,null,null,null,null,null,null,null,null,null,null,null,null,null,null,null,null,null,"353 WATT LED"]
[null,null,null,null,null,null,null,null,null,null,null,null,null,null,null,null,null,null,null,"354 WATT LED"]
[null,null,null,null,null,null,null,null,null,null,null,null,null,null,null,null,null,null,null,"355 WATT LED"]
[null,null,null,null,null,null,null,null,null,null,null,null,null,null,null,null,null,null,null,"356 WATT LED"]
[null,null,null,null,null,null,null,null,null,null,null,null,null,null,null,null,null,null,null,"357 WATT LED"]
[null,null,null,null,null,null,null,null,null,null,null,null,null,null,null,null,null,null,null,"358 WATT LED"]
[null,null,null,null,null,null,null,null,null,null,null,null,null,null,null,null,null,null,null,"359 WATT LED"]
[null,null,null,null,null,null,null,null,null,null,null,null,null,null,null,null,null,null,null,"360 WATT LED"]
[null,null,null,null,null,null,null,null,null,null,null,null,null,null,null,null,null,null,null,"361 WATT LED"]
[null,null,null,null,null,null,null,null,null,null,null,null,null,null,null,null,null,null,null,"362 WATT LED"]
[null,null,null,null,null,null,null,null,null,null,null,null,null,null,null,null,null,null,null,"363 WATT LED"]
[null,null,null,null,null,null,null,null,null,null,null,null,null,null,null,null,null,null,null,"364 WATT LED"]
[null,null,null,null,null,null,null,null,null,null,null,null,null,null,null,null,null,null,null,"365 WATT LED"]
[null,null,null,null,null,null,null,null,null,null,null,null,null,null,null,null,null,null,null,"366 WATT LED"]
[null,null,null,null,null,null,null,null,null,null,null,null,null,null,null,null,null,null,null,"367 WATT LED"]
[null,null,null,null,null,null,null,null,null,null,null,null,null,null,null,null,null,null,null,"368 WATT LED"]
[null,null,null,null,null,null,null,null,null,null,null,null,null,null,null,null,null,null,null,"369 WATT LED"]
[null,null,null,null,null,null,null,null,null,null,null,null,null,null,null,null,null,null,null,"370 WATT LED"]
[null,null,null,null,null,null,null,null,null,null,null,null,null,null,null,null,null,null,null,"371 WATT LED"]
[null,null,null,null,null,null,null,null,null,null,null,null,null,null,null,null,null,null,null,"372 WATT LED"]
[null,null,null,null,null,null,null,null,null,null,null,null,null,null,null,null,null,null,null,"373 WATT LED"]
[null,null,null,null,null,null,null,null,null,null,null,null,null,null,null,null,null,null,null,"374 WATT LED"]
[null,null,null,null,null,null,null,null,null,null,null,null,null,null,null,null,null,null,null,"375 WATT LED"]
[null,null,null,null,null,null,null,null,null,null,null,null,null,null,null,null,null,null,null,"376 WATT LED"]
[null,null,null,null,null,null,null,null,null,null,null,null,null,null,null,null,null,null,null,"377 WATT LED"]
[null,null,null,null,null,null,null,null,null,null,null,null,null,null,null,null,null,null,null,"378 WATT LED"]
[null,null,null,null,null,null,null,null,null,null,null,null,null,null,null,null,null,null,null,"379 WATT LED"]
[null,null,null,null,null,null,null,null,null,null,null,null,null,null,null,null,null,null,null,"380 WATT LED"]
[null,null,null,null,null,null,null,null,null,null,null,null,null,null,null,null,null,null,null,"381 WATT LED"]
[null,null,null,null,null,null,null,null,null,null,null,null,null,null,null,null,null,null,null,"382 WATT LED"]
[null,null,null,null,null,null,null,null,null,null,null,null,null,null,null,null,null,null,null,"383 WATT LED"]
[null,null,null,null,null,null,null,null,null,null,null,null,null,null,null,null,null,null,null,"384 WATT LED"]
[null,null,null,null,null,null,null,null,null,null,null,null,null,null,null,null,null,null,null,"385 WATT LED"]
[null,null,null,null,null,null,null,null,null,null,null,null,null,null,null,null,null,null,null,"386 WATT LED"]
[null,null,null,null,null,null,null,null,null,null,null,null,null,null,null,null,null,null,null,"387 WATT LED"]
[null,null,null,null,null,null,null,null,null,null,null,null,null,null,null,null,null,null,null,"388 WATT LED"]
[null,null,null,null,null,null,null,null,null,null,null,null,null,null,null,null,null,null,null,"389 WATT LED"]
[null,null,null,null,null,null,null,null,null,null,null,null,null,null,null,null,null,null,null,"390 WATT LED"]
[null,null,null,null,null,null,null,null,null,null,null,null,null,null,null,null,null,null,null,"391 WATT LED"]
[null,null,null,null,null,null,null,null,null,null,null,null,null,null,null,null,null,null,null,"392 WATT LED"]
[null,null,null,null,null,null,null,null,null,null,null,null,null,null,null,null,null,null,null,"393 WATT LED"]
[null,null,null,null,null,null,null,null,null,null,null,null,null,null,null,null,null,null,null,"394 WATT LED"]
[null,null,null,null,null,null,null,null,null,null,null,null,null,null,null,null,null,null,null,"395 WATT LED"]
[null,null,null,null,null,null,null,null,null,null,null,null,null,null,null,null,null,null,null,"396 WATT LED"]
[null,null,null,null,null,null,null,null,null,null,null,null,null,null,null,null,null,null,null,"397 WATT LED"]
[null,null,null,null,null,null,null,null,null,null,null,null,null,null,null,null,null,null,null,"398 WATT LED"]
[null,null,null,null,null,null,null,null,null,null,null,null,null,null,null,null,null,null,null,"399 WATT LED"]
[null,null,null,null,null,null,null,null,null,null,null,null,null,null,null,null,null,null,null,"400 WATT LED"]
[null,null,null,null,null,null,null,null,null,null,null,null,null,null,null,null,null,null,null,"401 WATT LED"]
[null,null,null,null,null,null,null,null,null,null,null,null,null,null,null,null,null,null,null,"402 WATT LED"]
[null,null,null,null,null,null,null,null,null,null,null,null,null,null,null,null,null,null,null,"403 WATT LED"]
[null,null,null,null,null,null,null,null,null,null,null,null,null,null,null,null,null,null,null,"404 WATT LED"]
[null,null,null,null,null,null,null,null,null,null,null,null,null,null,null,null,null,null,null,"405 WATT LED"]
[null,null,null,null,null,null,null,null,null,null,null,null,null,null,null,null,null,null,null,"406 WATT LED"]
[null,null,null,null,null,null,null,null,null,null,null,null,null,null,null,null,null,null,null,"407 WATT LED"]
[null,null,null,null,null,null,null,null,null,null,null,null,null,null,null,null,null,null,null,"408 WATT LED"]
[null,null,null,null,null,null,null,null,null,null,null,null,null,null,null,null,null,null,null,"409 WATT LED"]
[null,null,null,null,null,null,null,null,null,null,null,null,null,null,null,null,null,null,null,"410 WATT LED"]
[null,null,null,null,null,null,null,null,null,null,null,null,null,null,null,null,null,null,null,"411 WATT LED"]
[null,null,null,null,null,null,null,null,null,null,null,null,null,null,null,null,null,null,null,"412 WATT LED"]
[null,null,null,null,null,null,null,null,null,null,null,null,null,null,null,null,null,null,null,"413 WATT LED"]
[null,null,null,null,null,null,null,null,null,null,null,null,null,null,null,null,null,null,null,"414 WATT LED"]
[null,null,null,null,null,null,null,null,null,null,null,null,null,null,null,null,null,null,null,"415 WATT LED"]
[null,null,null,null,null,null,null,null,null,null,null,null,null,null,null,null,null,null,null,"416 WATT LED"]
[null,null,null,null,null,null,null,null,null,null,null,null,null,null,null,null,null,null,null,"417 WATT LED"]
[null,null,null,null,null,null,null,null,null,null,null,null,null,null,null,null,null,null,null,"418 WATT LED"]
[null,null,null,null,null,null,null,null,null,null,null,null,null,null,null,null,null,null,null,"419 WATT LED"]
[null,null,null,null,null,null,null,null,null,null,null,null,null,null,null,null,null,null,null,"420 WATT LED"]
[null,null,null,null,null,null,null,null,null,null,null,null,null,null,null,null,null,null,null,"421 WATT LED"]
[null,null,null,null,null,null,null,null,null,null,null,null,null,null,null,null,null,null,null,"422 WATT LED"]
[null,null,null,null,null,null,null,null,null,null,null,null,null,null,null,null,null,null,null,"423 WATT LED"]
[null,null,null,null,null,null,null,null,null,null,null,null,null,null,null,null,null,null,null,"424 WATT LED"]
[null,null,null,null,null,null,null,null,null,null,null,null,null,null,null,null,null,null,null,"425 WATT LED"]
[null,null,null,null,null,null,null,null,null,null,null,null,null,null,null,null,null,null,null,"426 WATT LED"]
[null,null,null,null,null,null,null,null,null,null,null,null,null,null,null,null,null,null,null,"427 WATT LED"]
[null,null,null,null,null,null,null,null,null,null,null,null,null,null,null,null,null,null,null,"428 WATT LED"]
[null,null,null,null,null,null,null,null,null,null,null,null,null,null,null,null,null,null,null,"429 WATT LED"]
[null,null,null,null,null,null,null,null,null,null,null,null,null,null,null,null,null,null,null,"430 WATT LED"]
[null,null,null,null,null,null,null,null,null,null,null,null,null,null,null,null,null,null,null,"431 WATT LED"]
[null,null,null,null,null,null,null,null,null,null,null,null,null,null,null,null,null,null,null,"432 WATT LED"]
[null,null,null,null,null,null,null,null,null,null,null,null,null,null,null,null,null,null,null,"433 WATT LED"]
[null,null,null,null,null,null,null,null,null,null,null,null,null,null,null,null,null,null,null,"434 WATT LED"]
[null,null,null,null,null,null,null,null,null,null,null,null,null,null,null,null,null,null,null,"435 WATT LED"]
[null,null,null,null,null,null,null,null,null,null,null,null,null,null,null,null,null,null,null,"436 WATT LED"]
[null,null,null,null,null,null,null,null,null,null,null,null,null,null,null,null,null,null,null,"437 WATT LED"]
[null,null,null,null,null,null,null,null,null,null,null,null,null,null,null,null,null,null,null,"438 WATT LED"]
[null,null,null,null,null,null,null,null,null,null,null,null,null,null,null,null,null,null,null,"439 WATT LED"]
[null,null,null,null,null,null,null,null,null,null,null,null,null,null,null,null,null,null,null,"440 WATT LED"]
[null,null,null,null,null,null,null,null,null,null,null,null,null,null,null,null,null,null,null,"441 WATT LED"]
[null,null,null,null,null,null,null,null,null,null,null,null,null,null,null,null,null,null,null,"442 WATT LED"]
[null,null,null,null,null,null,null,null,null,null,null,null,null,null,null,null,null,null,null,"443 WATT LED"]
[null,null,null,null,null,null,null,null,null,null,null,null,null,null,null,null,null,null,null,"444 WATT LED"]
[null,null,null,null,null,null,null,null,null,null,null,null,null,null,null,null,null,null,null,"445 WATT LED"]
[null,null,null,null,null,null,null,null,null,null,null,null,null,null,null,null,null,null,null,"446 WATT LED"]
[null,null,null,null,null,null,null,null,null,null,null,null,null,null,null,null,null,null,null,"447 WATT LED"]
[null,null,null,null,null,null,null,null,null,null,null,null,null,null,null,null,null,null,null,"448 WATT LED"]
[null,null,null,null,null,null,null,null,null,null,null,null,null,null,null,null,null,null,null,"449 WATT LED"]
[null,null,null,null,null,null,null,null,null,null,null,null,null,null,null,null,null,null,null,"450 WATT LED"]
[null,null,null,null,null,null,null,null,null,null,null,null,null,null,null,null,null,null,null,"451 WATT LED"]
[null,null,null,null,null,null,null,null,null,null,null,null,null,null,null,null,null,null,null,"452 WATT LED"]
[null,null,null,null,null,null,null,null,null,null,null,null,null,null,null,null,null,null,null,"453 WATT LED"]
[null,null,null,null,null,null,null,null,null,null,null,null,null,null,null,null,null,null,null,"454 WATT LED"]
[null,null,null,null,null,null,null,null,null,null,null,null,null,null,null,null,null,null,null,"455 WATT LED"]
[null,null,null,null,null,null,null,null,null,null,null,null,null,null,null,null,null,null,null,"456 WATT LED"]
[null,null,null,null,null,null,null,null,null,null,null,null,null,null,null,null,null,null,null,"457 WATT LED"]
[null,null,null,null,null,null,null,null,null,null,null,null,null,null,null,null,null,null,null,"458 WATT LED"]
[null,null,null,null,null,null,null,null,null,null,null,null,null,null,null,null,null,null,null,"459 WATT LED"]
[null,null,null,null,null,null,null,null,null,null,null,null,null,null,null,null,null,null,null,"460 WATT LED"]
[null,null,null,null,null,null,null,null,null,null,null,null,null,null,null,null,null,null,null,"461 WATT LED"]
[null,null,null,null,null,null,null,null,null,null,null,null,null,null,null,null,null,null,null,"462 WATT LED"]
[null,null,null,null,null,null,null,null,null,null,null,null,null,null,null,null,null,null,null,"463 WATT LED"]
[null,null,null,null,null,null,null,null,null,null,null,null,null,null,null,null,null,null,null,"464 WATT LED"]
[null,null,null,null,null,null,null,null,null,null,null,null,null,null,null,null,null,null,null,"465 WATT LED"]
[null,null,null,null,null,null,null,null,null,null,null,null,null,null,null,null,null,null,null,"466 WATT LED"]
[null,null,null,null,null,null,null,null,null,null,null,null,null,null,null,null,null,null,null,"467 WATT LED"]
[null,null,null,null,null,null,null,null,null,null,null,null,null,null,null,null,null,null,null,"468 WATT LED"]
[null,null,null,null,null,null,null,null,null,null,null,null,null,null,null,null,null,null,null,"469 WATT LED"]
[null,null,null,null,null,null,null,null,null,null,null,null,null,null,null,null,null,null,null,"470 WATT LED"]
[null,null,null,null,null,null,null,null,null,null,null,null,null,null,null,null,null,null,null,"471 WATT LED"]
[null,null,null,null,null,null,null,null,null,null,null,null,null,null,null,null,null,null,null,"472 WATT LED"]
[null,null,null,null,null,null,null,null,null,null,null,null,null,null,null,null,null,null,null,"473 WATT LED"]
[null,null,null,null,null,null,null,null,null,null,null,null,null,null,null,null,null,null,null,"474 WATT LED"]
[null,null,null,null,null,null,null,null,null,null,null,null,null,null,null,null,null,null,null,"475 WATT LED"]
[null,null,null,null,null,null,null,null,null,null,null,null,null,null,null,null,null,null,null,"476 WATT LED"]
[null,null,null,null,null,null,null,null,null,null,null,null,null,null,null,null,null,null,null,"477 WATT LED"]
[null,null,null,null,null,null,null,null,null,null,null,null,null,null,null,null,null,null,null,"478 WATT LED"]
[null,null,null,null,null,null,null,null,null,null,null,null,null,null,null,null,null,null,null,"479 WATT LED"]
[null,null,null,null,null,null,null,null,null,null,null,null,null,null,null,null,null,null,null,"480 WATT LED"]
[null,null,null,null,null,null,null,null,null,null,null,null,null,null,null,null,null,null,null,"481 WATT LED"]
[null,null,null,null,null,null,null,null,null,null,null,null,null,null,null,null,null,null,null,"482 WATT LED"]
[null,null,null,null,null,null,null,null,null,null,null,null,null,null,null,null,null,null,null,"483 WATT LED"]
[null,null,null,null,null,null,null,null,null,null,null,null,null,null,null,null,null,null,null,"484 WATT LED"]
[null,null,null,null,null,null,null,null,null,null,null,null,null,null,null,null,null,null,null,"485 WATT LED"]
[null,null,null,null,null,null,null,null,null,null,null,null,null,null,null,null,null,null,null,"486 WATT LED"]
[null,null,null,null,null,null,null,null,null,null,null,null,null,null,null,null,null,null,null,"487 WATT LED"]
[null,null,null,null,null,null,null,null,null,null,null,null,null,null,null,null,null,null,null,"488 WATT LED"]
[null,null,null,null,null,null,null,null,null,null,null,null,null,null,null,null,null,null,null,"489 WATT LED"]
[null,null,null,null,null,null,null,null,null,null,null,null,null,null,null,null,null,null,null,"490 WATT LED"]
[null,null,null,null,null,null,null,null,null,null,null,null,null,null,null,null,null,null,null,"491 WATT LED"]
[null,null,null,null,null,null,null,null,null,null,null,null,null,null,null,null,null,null,null,"492 WATT LED"]
[null,null,null,null,null,null,null,null,null,null,null,null,null,null,null,null,null,null,null,"493 WATT LED"]
[null,null,null,null,null,null,null,null,null,null,null,null,null,null,null,null,null,null,null,"494 WATT LED"]
[null,null,null,null,null,null,null,null,null,null,null,null,null,null,null,null,null,null,null,"495 WATT LED"]
[null,null,null,null,null,null,null,null,null,null,null,null,null,null,null,null,null,null,null,"496 WATT LED"]
[null,null,null,null,null,null,null,null,null,null,null,null,null,null,null,null,null,null,null,"497 WATT LED"]
[null,null,null,null,null,null,null,null,null,null,null,null,null,null,null,null,null,null,null,"498 WATT LED"]
[null,null,null,null,null,null,null,null,null,null,null,null,null,null,null,null,null,null,null,"499 WATT LED"]
[null,null,null,null,null,null,null,null,null,null,null,null,null,null,null,null,null,null,null,"500 WATT LED"]
[null,null,null,null,null,null,null,null,null,null,null,null,null,null,null,null,null,null,null,"501 WATT LED"]
[null,null,null,null,null,null,null,null,null,null,null,null,null,null,null,null,null,null,null,"502 WATT LED"]
[null,null,null,null,null,null,null,null,null,null,null,null,null,null,null,null,null,null,null,"503 WATT LED"]
[null,null,null,null,null,null,null,null,null,null,null,null,null,null,null,null,null,null,null,"504 WATT LED"]
[null,null,null,null,null,null,null,null,null,null,null,null,null,null,null,null,null,null,null,"505 WATT LED"]
[null,null,null,null,null,null,null,null,null,null,null,null,null,null,null,null,null,null,null,"506 WATT LED"]
[null,null,null,null,null,null,null,null,null,null,null,null,null,null,null,null,null,null,null,"507 WATT LED"]
[null,null,null,null,null,null,null,null,null,null,null,null,null,null,null,null,null,null,null,"508 WATT LED"]
[null,null,null,null,null,null,null,null,null,null,null,null,null,null,null,null,null,null,null,"509 WATT LED"]
[null,null,null,null,null,null,null,null,null,null,null,null,null,null,null,null,null,null,null,"510 WATT LED"]
[null,null,null,null,null,null,null,null,null,null,null,null,null,null,null,null,null,null,null,"511 WATT LED"]
[null,null,null,null,null,null,null,null,null,null,null,null,null,null,null,null,null,null,null,"512 WATT LED"]
[null,null,null,null,null,null,null,null,null,null,null,null,null,null,null,null,null,null,null,"513 WATT LED"]
[null,null,null,null,null,null,null,null,null,null,null,null,null,null,null,null,null,null,null,"514 WATT LED"]
[null,null,null,null,null,null,null,null,null,null,null,null,null,null,null,null,null,null,null,"515 WATT LED"]
[null,null,null,null,null,null,null,null,null,null,null,null,null,null,null,null,null,null,null,"516 WATT LED"]
[null,null,null,null,null,null,null,null,null,null,null,null,null,null,null,null,null,null,null,"517 WATT LED"]
[null,null,null,null,null,null,null,null,null,null,null,null,null,null,null,null,null,null,null,"518 WATT LED"]
[null,null,null,null,null,null,null,null,null,null,null,null,null,null,null,null,null,null,null,"519 WATT LED"]
[null,null,null,null,null,null,null,null,null,null,null,null,null,null,null,null,null,null,null,"520 WATT LED"]
[null,null,null,null,null,null,null,null,null,null,null,null,null,null,null,null,null,null,null,"521 WATT LED"]
[null,null,null,null,null,null,null,null,null,null,null,null,null,null,null,null,null,null,null,"522 WATT LED"]
[null,null,null,null,null,null,null,null,null,null,null,null,null,null,null,null,null,null,null,"523 WATT LED"]
[null,null,null,null,null,null,null,null,null,null,null,null,null,null,null,null,null,null,null,"524 WATT LED"]
[null,null,null,null,null,null,null,null,null,null,null,null,null,null,null,null,null,null,null,"525 WATT LED"]
[null,null,null,null,null,null,null,null,null,null,null,null,null,null,null,null,null,null,null,"526 WATT LED"]
[null,null,null,null,null,null,null,null,null,null,null,null,null,null,null,null,null,null,null,"527 WATT LED"]
[null,null,null,null,null,null,null,null,null,null,null,null,null,null,null,null,null,null,null,"528 WATT LED"]
[null,null,null,null,null,null,null,null,null,null,null,null,null,null,null,null,null,null,null,"529 WATT LED"]
[null,null,null,null,null,null,null,null,null,null,null,null,null,null,null,null,null,null,null,"530 WATT LED"]
[null,null,null,null,null,null,null,null,null,null,null,null,null,null,null,null,null,null,null,"531 WATT LED"]
[null,null,null,null,null,null,null,null,null,null,null,null,null,null,null,null,null,null,null,"532 WATT LED"]
[null,null,null,null,null,null,null,null,null,null,null,null,null,null,null,null,null,null,null,"533 WATT LED"]
[null,null,null,null,null,null,null,null,null,null,null,null,null,null,null,null,null,null,null,"534 WATT LED"]
[null,null,null,null,null,null,null,null,null,null,null,null,null,null,null,null,null,null,null,"535 WATT LED"]
[null,null,null,null,null,null,null,null,null,null,null,null,null,null,null,null,null,null,null,"536 WATT LED"]
[null,null,null,null,null,null,null,null,null,null,null,null,null,null,null,null,null,null,null,"537 WATT LED"]
[null,null,null,null,null,null,null,null,null,null,null,null,null,null,null,null,null,null,null,"538 WATT LED"]
[null,null,null,null,null,null,null,null,null,null,null,null,null,null,null,null,null,null,null,"539 WATT LED"]
[null,null,null,null,null,null,null,null,null,null,null,null,null,null,null,null,null,null,null,"540 WATT LED"]
[null,null,null,null,null,null,null,null,null,null,null,null,null,null,null,null,null,null,null,"541 WATT LED"]
[null,null,null,null,null,null,null,null,null,null,null,null,null,null,null,null,null,null,null,"542 WATT LED"]
[null,null,null,null,null,null,null,null,null,null,null,null,null,null,null,null,null,null,null,"543 WATT LED"]
[null,null,null,null,null,null,null,null,null,null,null,null,null,null,null,null,null,null,null,"544 WATT LED"]
[null,null,null,null,null,null,null,null,null,null,null,null,null,null,null,null,null,null,null,"545 WATT LED"]
[null,null,null,null,null,null,null,null,null,null,null,null,null,null,null,null,null,null,null,"546 WATT LED"]
[null,null,null,null,null,null,null,null,null,null,null,null,null,null,null,null,null,null,null,"547 WATT LED"]
[null,null,null,null,null,null,null,null,null,null,null,null,null,null,null,null,null,null,null,"548 WATT LED"]
[null,null,null,null,null,null,null,null,null,null,null,null,null,null,null,null,null,null,null,"549 WATT LED"]
[null,null,null,null,null,null,null,null,null,null,null,null,null,null,null,null,null,null,null,"550 WATT LED"]
[null,null,null,null,null,null,null,null,null,null,null,null,null,null,null,null,null,null,null,"551 WATT LED"]
[null,null,null,null,null,null,null,null,null,null,null,null,null,null,null,null,null,null,null,"552 WATT LED"]
[null,null,null,null,null,null,null,null,null,null,null,null,null,null,null,null,null,null,null,"553 WATT LED"]
[null,null,null,null,null,null,null,null,null,null,null,null,null,null,null,null,null,null,null,"554 WATT LED"]
[null,null,null,null,null,null,null,null,null,null,null,null,null,null,null,null,null,null,null,"555 WATT LED"]
[null,null,null,null,null,null,null,null,null,null,null,null,null,null,null,null,null,null,null,"556 WATT LED"]
[null,null,null,null,null,null,null,null,null,null,null,null,null,null,null,null,null,null,null,"557 WATT LED"]
[null,null,null,null,null,null,null,null,null,null,null,null,null,null,null,null,null,null,null,"558 WATT LED"]
[null,null,null,null,null,null,null,null,null,null,null,null,null,null,null,null,null,null,null,"559 WATT LED"]
[null,null,null,null,null,null,null,null,null,null,null,null,null,null,null,null,null,null,null,"560 WATT LED"]
[null,null,null,null,null,null,null,null,null,null,null,null,null,null,null,null,null,null,null,"561 WATT LED"]
[null,null,null,null,null,null,null,null,null,null,null,null,null,null,null,null,null,null,null,"562 WATT LED"]
[null,null,null,null,null,null,null,null,null,null,null,null,null,null,null,null,null,null,null,"563 WATT LED"]
[null,null,null,null,null,null,null,null,null,null,null,null,null,null,null,null,null,null,null,"564 WATT LED"]
[null,null,null,null,null,null,null,null,null,null,null,null,null,null,null,null,null,null,null,"565 WATT LED"]
[null,null,null,null,null,null,null,null,null,null,null,null,null,null,null,null,null,null,null,"566 WATT LED"]
[null,null,null,null,null,null,null,null,null,null,null,null,null,null,null,null,null,null,null,"567 WATT LED"]
[null,null,null,null,null,null,null,null,null,null,null,null,null,null,null,null,null,null,null,"568 WATT LED"]
[null,null,null,null,null,null,null,null,null,null,null,null,null,null,null,null,null,null,null,"569 WATT LED"]
[null,null,null,null,null,null,null,null,null,null,null,null,null,null,null,null,null,null,null,"570 WATT LED"]
[null,null,null,null,null,null,null,null,null,null,null,null,null,null,null,null,null,null,null,"571 WATT LED"]
[null,null,null,null,null,null,null,null,null,null,null,null,null,null,null,null,null,null,null,"572 WATT LED"]
[null,null,null,null,null,null,null,null,null,null,null,null,null,null,null,null,null,null,null,"573 WATT LED"]
[null,null,null,null,null,null,null,null,null,null,null,null,null,null,null,null,null,null,null,"574 WATT LED"]
[null,null,null,null,null,null,null,null,null,null,null,null,null,null,null,null,null,null,null,"575 WATT LED"]
[null,null,null,null,null,null,null,null,null,null,null,null,null,null,null,null,null,null,null,"576 WATT LED"]
[null,null,null,null,null,null,null,null,null,null,null,null,null,null,null,null,null,null,null,"577 WATT LED"]
[null,null,null,null,null,null,null,null,null,null,null,null,null,null,null,null,null,null,null,"578 WATT LED"]
[null,null,null,null,null,null,null,null,null,null,null,null,null,null,null,null,null,null,null,"579 WATT LED"]
[null,null,null,null,null,null,null,null,null,null,null,null,null,null,null,null,null,null,null,"580 WATT LED"]
[null,null,null,null,null,null,null,null,null,null,null,null,null,null,null,null,null,null,null,"581 WATT LED"]
[null,null,null,null,null,null,null,null,null,null,null,null,null,null,null,null,null,null,null,"582 WATT LED"]
[null,null,null,null,null,null,null,null,null,null,null,null,null,null,null,null,null,null,null,"583 WATT LED"]
[null,null,null,null,null,null,null,null,null,null,null,null,null,null,null,null,null,null,null,"584 WATT LED"]
[null,null,null,null,null,null,null,null,null,null,null,null,null,null,null,null,null,null,null,"585 WATT LED"]
[null,null,null,null,null,null,null,null,null,null,null,null,null,null,null,null,null,null,null,"586 WATT LED"]
[null,null,null,null,null,null,null,null,null,null,null,null,null,null,null,null,null,null,null,"587 WATT LED"]
[null,null,null,null,null,null,null,null,null,null,null,null,null,null,null,null,null,null,null,"588 WATT LED"]
[null,null,null,null,null,null,null,null,null,null,null,null,null,null,null,null,null,null,null,"589 WATT LED"]
[null,null,null,null,null,null,null,null,null,null,null,null,null,null,null,null,null,null,null,"590 WATT LED"]
[null,null,null,null,null,null,null,null,null,null,null,null,null,null,null,null,null,null,null,"591 WATT LED"]
[null,null,null,null,null,null,null,null,null,null,null,null,null,null,null,null,null,null,null,"592 WATT LED"]
[null,null,null,null,null,null,null,null,null,null,null,null,null,null,null,null,null,null,null,"593 WATT LED"]
[null,null,null,null,null,null,null,null,null,null,null,null,null,null,null,null,null,null,null,"594 WATT LED"]
[null,null,null,null,null,null,null,null,null,null,null,null,null,null,null,null,null,null,null,"595 WATT LED"]
[null,null,null,null,null,null,null,null,null,null,null,null,null,null,null,null,null,null,null,"596 WATT LED"]
[null,null,null,null,null,null,null,null,null,null,null,null,null,null,null,null,null,null,null,"597 WATT LED"]
[null,null,null,null,null,null,null,null,null,null,null,null,null,null,null,null,null,null,null,"598 WATT LED"]
[null,null,null,null,null,null,null,null,null,null,null,null,null,null,null,null,null,null,null,"599 WATT LED"]
[null,null,null,null,null,null,null,null,null,null,null,null,null,null,null,null,null,null,null,"600 WATT LED"]
[null,null,null,null,null,null,null,null,null,null,null,null,null,null,null,null,null,null,null,"601 WATT LED"]
[null,null,null,null,null,null,null,null,null,null,null,null,null,null,null,null,null,null,null,"602 WATT LED"]
[null,null,null,null,null,null,null,null,null,null,null,null,null,null,null,null,null,null,null,"603 WATT LED"]
[null,null,null,null,null,null,null,null,null,null,null,null,null,null,null,null,null,null,null,"604 WATT LED"]
[null,null,null,null,null,null,null,null,null,null,null,null,null,null,null,null,null,null,null,"605 WATT LED"]
[null,null,null,null,null,null,null,null,null,null,null,null,null,null,null,null,null,null,null,"606 WATT LED"]
[null,null,null,null,null,null,null,null,null,null,null,null,null,null,null,null,null,null,null,"607 WATT LED"]
[null,null,null,null,null,null,null,null,null,null,null,null,null,null,null,null,null,null,null,"608 WATT LED"]
[null,null,null,null,null,null,null,null,null,null,null,null,null,null,null,null,null,null,null,"609 WATT LED"]
[null,null,null,null,null,null,null,null,null,null,null,null,null,null,null,null,null,null,null,"610 WATT LED"]
[null,null,null,null,null,null,null,null,null,null,null,null,null,null,null,null,null,null,null,"611 WATT LED"]
[null,null,null,null,null,null,null,null,null,null,null,null,null,null,null,null,null,null,null,"612 WATT LED"]
[null,null,null,null,null,null,null,null,null,null,null,null,null,null,null,null,null,null,null,"613 WATT LED"]
[null,null,null,null,null,null,null,null,null,null,null,null,null,null,null,null,null,null,null,"614 WATT LED"]
[null,null,null,null,null,null,null,null,null,null,null,null,null,null,null,null,null,null,null,"615 WATT LED"]
[null,null,null,null,null,null,null,null,null,null,null,null,null,null,null,null,null,null,null,"616 WATT LED"]
[null,null,null,null,null,null,null,null,null,null,null,null,null,null,null,null,null,null,null,"617 WATT LED"]
[null,null,null,null,null,null,null,null,null,null,null,null,null,null,null,null,null,null,null,"618 WATT LED"]
[null,null,null,null,null,null,null,null,null,null,null,null,null,null,null,null,null,null,null,"619 WATT LED"]
[null,null,null,null,null,null,null,null,null,null,null,null,null,null,null,null,null,null,null,"620 WATT LED"]
[null,null,null,null,null,null,null,null,null,null,null,null,null,null,null,null,null,null,null,"621 WATT LED"]
[null,null,null,null,null,null,null,null,null,null,null,null,null,null,null,null,null,null,null,"622 WATT LED"]
[null,null,null,null,null,null,null,null,null,null,null,null,null,null,null,null,null,null,null,"623 WATT LED"]
[null,null,null,null,null,null,null,null,null,null,null,null,null,null,null,null,null,null,null,"624 WATT LED"]
[null,null,null,null,null,null,null,null,null,null,null,null,null,null,null,null,null,null,null,"625 WATT LED"]
[null,null,null,null,null,null,null,null,null,null,null,null,null,null,null,null,null,null,null,"626 WATT LED"]
[null,null,null,null,null,null,null,null,null,null,null,null,null,null,null,null,null,null,null,"627 WATT LED"]
[null,null,null,null,null,null,null,null,null,null,null,null,null,null,null,null,null,null,null,"628 WATT LED"]
[null,null,null,null,null,null,null,null,null,null,null,null,null,null,null,null,null,null,null,"629 WATT LED"]
[null,null,null,null,null,null,null,null,null,null,null,null,null,null,null,null,null,null,null,"630 WATT LED"]
[null,null,null,null,null,null,null,null,null,null,null,null,null,null,null,null,null,null,null,"631 WATT LED"]
[null,null,null,null,null,null,null,null,null,null,null,null,null,null,null,null,null,null,null,"632 WATT LED"]
[null,null,null,null,null,null,null,null,null,null,null,null,null,null,null,null,null,null,null,"633 WATT LED"]
[null,null,null,null,null,null,null,null,null,null,null,null,null,null,null,null,null,null,null,"634 WATT LED"]
[null,null,null,null,null,null,null,null,null,null,null,null,null,null,null,null,null,null,null,"635 WATT LED"]
[null,null,null,null,null,null,null,null,null,null,null,null,null,null,null,null,null,null,null,"636 WATT LED"]
[null,null,null,null,null,null,null,null,null,null,null,null,null,null,null,null,null,null,null,"637 WATT LED"]
[null,null,null,null,null,null,null,null,null,null,null,null,null,null,null,null,null,null,null,"638 WATT LED"]
[null,null,null,null,null,null,null,null,null,null,null,null,null,null,null,null,null,null,null,"639 WATT LED"]
[null,null,null,null,null,null,null,null,null,null,null,null,null,null,null,null,null,null,null,"640 WATT LED"]
[null,null,null,null,null,null,null,null,null,null,null,null,null,null,null,null,null,null,null,"641 WATT LED"]
[null,null,null,null,null,null,null,null,null,null,null,null,null,null,null,null,null,null,null,"642 WATT LED"]
[null,null,null,null,null,null,null,null,null,null,null,null,null,null,null,null,null,null,null,"643 WATT LED"]
[null,null,null,null,null,null,null,null,null,null,null,null,null,null,null,null,null,null,null,"644 WATT LED"]
[null,null,null,null,null,null,null,null,null,null,null,null,null,null,null,null,null,null,null,"645 WATT LED"]
[null,null,null,null,null,null,null,null,null,null,null,null,null,null,null,null,null,null,null,"646 WATT LED"]
[null,null,null,null,null,null,null,null,null,null,null,null,null,null,null,null,null,null,null,"647 WATT LED"]
[null,null,null,null,null,null,null,null,null,null,null,null,null,null,null,null,null,null,null,"648 WATT LED"]
[null,null,null,null,null,null,null,null,null,null,null,null,null,null,null,null,null,null,null,"649 WATT LED"]
[null,null,null,null,null,null,null,null,null,null,null,null,null,null,null,null,null,null,null,"650 WATT LED"]
[null,null,null,null,null,null,null,null,null,null,null,null,null,null,null,null,null,null,null,"651 WATT LED"]
[null,null,null,null,null,null,null,null,null,null,null,null,null,null,null,null,null,null,null,"652 WATT LED"]
[null,null,null,null,null,null,null,null,null,null,null,null,null,null,null,null,null,null,null,"653 WATT LED"]
[null,null,null,null,null,null,null,null,null,null,null,null,null,null,null,null,null,null,null,"654 WATT LED"]
[null,null,null,null,null,null,null,null,null,null,null,null,null,null,null,null,null,null,null,"655 WATT LED"]
[null,null,null,null,null,null,null,null,null,null,null,null,null,null,null,null,null,null,null,"656 WATT LED"]
[null,null,null,null,null,null,null,null,null,null,null,null,null,null,null,null,null,null,null,"657 WATT LED"]
[null,null,null,null,null,null,null,null,null,null,null,null,null,null,null,null,null,null,null,"658 WATT LED"]
[null,null,null,null,null,null,null,null,null,null,null,null,null,null,null,null,null,null,null,"659 WATT LED"]
[null,null,null,null,null,null,null,null,null,null,null,null,null,null,null,null,null,null,null,"660 WATT LED"]
[null,null,null,null,null,null,null,null,null,null,null,null,null,null,null,null,null,null,null,"661 WATT LED"]
[null,null,null,null,null,null,null,null,null,null,null,null,null,null,null,null,null,null,null,"662 WATT LED"]
[null,null,null,null,null,null,null,null,null,null,null,null,null,null,null,null,null,null,null,"663 WATT LED"]
[null,null,null,null,null,null,null,null,null,null,null,null,null,null,null,null,null,null,null,"664 WATT LED"]
[null,null,null,null,null,null,null,null,null,null,null,null,null,null,null,null,null,null,null,"665 WATT LED"]
[null,null,null,null,null,null,null,null,null,null,null,null,null,null,null,null,null,null,null,"666 WATT LED"]
[null,null,null,null,null,null,null,null,null,null,null,null,null,null,null,null,null,null,null,"667 WATT LED"]
[null,null,null,null,null,null,null,null,null,null,null,null,null,null,null,null,null,null,null,"668 WATT LED"]
[null,null,null,null,null,null,null,null,null,null,null,null,null,null,null,null,null,null,null,"669 WATT LED"]
[null,null,null,null,null,null,null,null,null,null,null,null,null,null,null,null,null,null,null,"670 WATT LED"]
[null,null,null,null,null,null,null,null,null,null,null,null,null,null,null,null,null,null,null,"671 WATT LED"]
[null,null,null,null,null,null,null,null,null,null,null,null,null,null,null,null,null,null,null,"672 WATT LED"]
[null,null,null,null,null,null,null,null,null,null,null,null,null,null,null,null,null,null,null,"673 WATT LED"]
[null,null,null,null,null,null,null,null,null,null,null,null,null,null,null,null,null,null,null,"674 WATT LED"]
[null,null,null,null,null,null,null,null,null,null,null,null,null,null,null,null,null,null,null,"675 WATT LED"]
[null,null,null,null,null,null,null,null,null,null,null,null,null,null,null,null,null,null,null,"676 WATT LED"]
[null,null,null,null,null,null,null,null,null,null,null,null,null,null,null,null,null,null,null,"677 WATT LED"]
[null,null,null,null,null,null,null,null,null,null,null,null,null,null,null,null,null,null,null,"678 WATT LED"]
[null,null,null,null,null,null,null,null,null,null,null,null,null,null,null,null,null,null,null,"679 WATT LED"]
[null,null,null,null,null,null,null,null,null,null,null,null,null,null,null,null,null,null,null,"680 WATT LED"]
[null,null,null,null,null,null,null,null,null,null,null,null,null,null,null,null,null,null,null,"681 WATT LED"]
[null,null,null,null,null,null,null,null,null,null,null,null,null,null,null,null,null,null,null,"682 WATT LED"]
[null,null,null,null,null,null,null,null,null,null,null,null,null,null,null,null,null,null,null,"683 WATT LED"]
[null,null,null,null,null,null,null,null,null,null,null,null,null,null,null,null,null,null,null,"684 WATT LED"]
[null,null,null,null,null,null,null,null,null,null,null,null,null,null,null,null,null,null,null,"685 WATT LED"]
[null,null,null,null,null,null,null,null,null,null,null,null,null,null,null,null,null,null,null,"686 WATT LED"]
[null,null,null,null,null,null,null,null,null,null,null,null,null,null,null,null,null,null,null,"687 WATT LED"]
[null,null,null,null,null,null,null,null,null,null,null,null,null,null,null,null,null,null,null,"688 WATT LED"]
[null,null,null,null,null,null,null,null,null,null,null,null,null,null,null,null,null,null,null,"689 WATT LED"]
[null,null,null,null,null,null,null,null,null,null,null,null,null,null,null,null,null,null,null,"690 WATT LED"]
[null,null,null,null,null,null,null,null,null,null,null,null,null,null,null,null,null,null,null,"691 WATT LED"]
[null,null,null,null,null,null,null,null,null,null,null,null,null,null,null,null,null,null,null,"692 WATT LED"]
[null,null,null,null,null,null,null,null,null,null,null,null,null,null,null,null,null,null,null,"693 WATT LED"]
[null,null,null,null,null,null,null,null,null,null,null,null,null,null,null,null,null,null,null,"694 WATT LED"]
[null,null,null,null,null,null,null,null,null,null,null,null,null,null,null,null,null,null,null,"695 WATT LED"]
[null,null,null,null,null,null,null,null,null,null,null,null,null,null,null,null,null,null,null,"696 WATT LED"]
[null,null,null,null,null,null,null,null,null,null,null,null,null,null,null,null,null,null,null,"697 WATT LED"]
[null,null,null,null,null,null,null,null,null,null,null,null,null,null,null,null,null,null,null,"698 WATT LED"]
[null,null,null,null,null,null,null,null,null,null,null,null,null,null,null,null,null,null,null,"699 WATT LED"]
[null,null,null,null,null,null,null,null,null,null,null,null,null,null,null,null,null,null,null,"700 WATT LED"]
[null,null,null,null,null,null,null,null,null,null,null,null,null,null,null,null,null,null,null,"701 WATT LED"]
[null,null,null,null,null,null,null,null,null,null,null,null,null,null,null,null,null,null,null,"702 WATT LED"]
[null,null,null,null,null,null,null,null,null,null,null,null,null,null,null,null,null,null,null,"703 WATT LED"]
[null,null,null,null,null,null,null,null,null,null,null,null,null,null,null,null,null,null,null,"704 WATT LED"]
[null,null,null,null,null,null,null,null,null,null,null,null,null,null,null,null,null,null,null,"705 WATT LED"]
[null,null,null,null,null,null,null,null,null,null,null,null,null,null,null,null,null,null,null,"706 WATT LED"]
[null,null,null,null,null,null,null,null,null,null,null,null,null,null,null,null,null,null,null,"707 WATT LED"]
[null,null,null,null,null,null,null,null,null,null,null,null,null,null,null,null,null,null,null,"708 WATT LED"]
[null,null,null,null,null,null,null,null,null,null,null,null,null,null,null,null,null,null,null,"709 WATT LED"]
[null,null,null,null,null,null,null,null,null,null,null,null,null,null,null,null,null,null,null,"710 WATT LED"]
[null,null,null,null,null,null,null,null,null,null,null,null,null,null,null,null,null,null,null,"711 WATT LED"]
[null,null,null,null,null,null,null,null,null,null,null,null,null,null,null,null,null,null,null,"712 WATT LED"]
[null,null,null,null,null,null,null,null,null,null,null,null,null,null,null,null,null,null,null,"713 WATT LED"]
[null,null,null,null,null,null,null,null,null,null,null,null,null,null,null,null,null,null,null,"714 WATT LED"]
[null,null,null,null,null,null,null,null,null,null,null,null,null,null,null,null,null,null,null,"715 WATT LED"]
[null,null,null,null,null,null,null,null,null,null,null,null,null,null,null,null,null,null,null,"716 WATT LED"]
[null,null,null,null,null,null,null,null,null,null,null,null,null,null,null,null,null,null,null,"717 WATT LED"]
[null,null,null,null,null,null,null,null,null,null,null,null,null,null,null,null,null,null,null,"718 WATT LED"]
[null,null,null,null,null,null,null,null,null,null,null,null,null,null,null,null,null,null,null,"719 WATT LED"]
[null,null,null,null,null,null,null,null,null,null,null,null,null,null,null,null,null,null,null,"720 WATT LED"]
[null,null,null,null,null,null,null,null,null,null,null,null,null,null,null,null,null,null,null,"721 WATT LED"]
[null,null,null,null,null,null,null,null,null,null,null,null,null,null,null,null,null,null,null,"722 WATT LED"]
[null,null,null,null,null,null,null,null,null,null,null,null,null,null,null,null,null,null,null,"723 WATT LED"]
[null,null,null,null,null,null,null,null,null,null,null,null,null,null,null,null,null,null,null,"724 WATT LED"]
[null,null,null,null,null,null,null,null,null,null,null,null,null,null,null,null,null,null,null,"725 WATT LED"]
[null,null,null,null,null,null,null,null,null,null,null,null,null,null,null,null,null,null,null,"726 WATT LED"]
[null,null,null,null,null,null,null,null,null,null,null,null,null,null,null,null,null,null,null,"727 WATT LED"]
[null,null,null,null,null,null,null,null,null,null,null,null,null,null,null,null,null,null,null,"728 WATT LED"]
[null,null,null,null,null,null,null,null,null,null,null,null,null,null,null,null,null,null,null,"729 WATT LED"]
[null,null,null,null,null,null,null,null,null,null,null,null,null,null,null,null,null,null,null,"730 WATT LED"]
[null,null,null,null,null,null,null,null,null,null,null,null,null,null,null,null,null,null,null,"731 WATT LED"]
[null,null,null,null,null,null,null,null,null,null,null,null,null,null,null,null,null,null,null,"732 WATT LED"]
[null,null,null,null,null,null,null,null,null,null,null,null,null,null,null,null,null,null,null,"733 WATT LED"]
[null,null,null,null,null,null,null,null,null,null,null,null,null,null,null,null,null,null,null,"734 WATT LED"]
[null,null,null,null,null,null,null,null,null,null,null,null,null,null,null,null,null,null,null,"735 WATT LED"]
[null,null,null,null,null,null,null,null,null,null,null,null,null,null,null,null,null,null,null,"736 WATT LED"]
[null,null,null,null,null,null,null,null,null,null,null,null,null,null,null,null,null,null,null,"737 WATT LED"]
[null,null,null,null,null,null,null,null,null,null,null,null,null,null,null,null,null,null,null,"738 WATT LED"]
[null,null,null,null,null,null,null,null,null,null,null,null,null,null,null,null,null,null,null,"739 WATT LED"]
[null,null,null,null,null,null,null,null,null,null,null,null,null,null,null,null,null,null,null,"740 WATT LED"]
[null,null,null,null,null,null,null,null,null,null,null,null,null,null,null,null,null,null,null,"741 WATT LED"]
[null,null,null,null,null,null,null,null,null,null,null,null,null,null,null,null,null,null,null,"742 WATT LED"]
[null,null,null,null,null,null,null,null,null,null,null,null,null,null,null,null,null,null,null,"743 WATT LED"]
[null,null,null,null,null,null,null,null,null,null,null,null,null,null,null,null,null,null,null,"744 WATT LED"]
[null,null,null,null,null,null,null,null,null,null,null,null,null,null,null,null,null,null,null,"745 WATT LED"]
[null,null,null,null,null,null,null,null,null,null,null,null,null,null,null,null,null,null,null,"746 WATT LED"]
[null,null,null,null,null,null,null,null,null,null,null,null,null,null,null,null,null,null,null,"747 WATT LED"]
[null,null,null,null,null,null,null,null,null,null,null,null,null,null,null,null,null,null,null,"748 WATT LED"]
[null,null,null,null,null,null,null,null,null,null,null,null,null,null,null,null,null,null,null,"749 WATT LED"]
[null,null,null,null,null,null,null,null,null,null,null,null,null,null,null,null,null,null,null,"750 WATT LED"]
[null,null,null,null,null,null,null,null,null,null,null,null,null,null,null,null,null,null,null,"751 WATT LED"]
[null,null,null,null,null,null,null,null,null,null,null,null,null,null,null,null,null,null,null,"752 WATT LED"]
[null,null,null,null,null,null,null,null,null,null,null,null,null,null,null,null,null,null,null,"753 WATT LED"]
[null,null,null,null,null,null,null,null,null,null,null,null,null,null,null,null,null,null,null,"754 WATT LED"]
[null,null,null,null,null,null,null,null,null,null,null,null,null,null,null,null,null,null,null,"755 WATT LED"]
[null,null,null,null,null,null,null,null,null,null,null,null,null,null,null,null,null,null,null,"756 WATT LED"]
[null,null,null,null,null,null,null,null,null,null,null,null,null,null,null,null,null,null,null,"757 WATT LED"]
[null,null,null,null,null,null,null,null,null,null,null,null,null,null,null,null,null,null,null,"758 WATT LED"]
[null,null,null,null,null,null,null,null,null,null,null,null,null,null,null,null,null,null,null,"759 WATT LED"]
[null,null,null,null,null,null,null,null,null,null,null,null,null,null,null,null,null,null,null,"760 WATT LED"]
[null,null,null,null,null,null,null,null,null,null,null,null,null,null,null,null,null,null,null,"761 WATT LED"]
[null,null,null,null,null,null,null,null,null,null,null,null,null,null,null,null,null,null,null,"762 WATT LED"]
[null,null,null,null,null,null,null,null,null,null,null,null,null,null,null,null,null,null,null,"763 WATT LED"]
[null,null,null,null,null,null,null,null,null,null,null,null,null,null,null,null,null,null,null,"764 WATT LED"]
[null,null,null,null,null,null,null,null,null,null,null,null,null,null,null,null,null,null,null,"765 WATT LED"]
[null,null,null,null,null,null,null,null,null,null,null,null,null,null,null,null,null,null,null,"766 WATT LED"]
[null,null,null,null,null,null,null,null,null,null,null,null,null,null,null,null,null,null,null,"767 WATT LED"]
[null,null,null,null,null,null,null,null,null,null,null,null,null,null,null,null,null,null,null,"768 WATT LED"]
[null,null,null,null,null,null,null,null,null,null,null,null,null,null,null,null,null,null,null,"769 WATT LED"]
[null,null,null,null,null,null,null,null,null,null,null,null,null,null,null,null,null,null,null,"770 WATT LED"]
[null,null,null,null,null,null,null,null,null,null,null,null,null,null,null,null,null,null,null,"771 WATT LED"]
[null,null,null,null,null,null,null,null,null,null,null,null,null,null,null,null,null,null,null,"772 WATT LED"]
[null,null,null,null,null,null,null,null,null,null,null,null,null,null,null,null,null,null,null,"773 WATT LED"]
[null,null,null,null,null,null,null,null,null,null,null,null,null,null,null,null,null,null,null,"774 WATT LED"]
[null,null,null,null,null,null,null,null,null,null,null,null,null,null,null,null,null,null,null,"775 WATT LED"]
[null,null,null,null,null,null,null,null,null,null,null,null,null,null,null,null,null,null,null,"776 WATT LED"]
[null,null,null,null,null,null,null,null,null,null,null,null,null,null,null,null,null,null,null,"777 WATT LED"]
[null,null,null,null,null,null,null,null,null,null,null,null,null,null,null,null,null,null,null,"778 WATT LED"]
[null,null,null,null,null,null,null,null,null,null,null,null,null,null,null,null,null,null,null,"779 WATT LED"]
[null,null,null,null,null,null,null,null,null,null,null,null,null,null,null,null,null,null,null,"780 WATT LED"]
[null,null,null,null,null,null,null,null,null,null,null,null,null,null,null,null,null,null,null,"781 WATT LED"]
[null,null,null,null,null,null,null,null,null,null,null,null,null,null,null,null,null,null,null,"782 WATT LED"]
[null,null,null,null,null,null,null,null,null,null,null,null,null,null,null,null,null,null,null,"783 WATT LED"]
[null,null,null,null,null,null,null,null,null,null,null,null,null,null,null,null,null,null,null,"784 WATT LED"]
[null,null,null,null,null,null,null,null,null,null,null,null,null,null,null,null,null,null,null,"785 WATT LED"]
[null,null,null,null,null,null,null,null,null,null,null,null,null,null,null,null,null,null,null,"786 WATT LED"]
[null,null,null,null,null,null,null,null,null,null,null,null,null,null,null,null,null,null,null,"787 WATT LED"]
[null,null,null,null,null,null,null,null,null,null,null,null,null,null,null,null,null,null,null,"788 WATT LED"]
[null,null,null,null,null,null,null,null,null,null,null,null,null,null,null,null,null,null,null,"789 WATT LED"]
[null,null,null,null,null,null,null,null,null,null,null,null,null,null,null,null,null,null,null,"790 WATT LED"]
[null,null,null,null,null,null,null,null,null,null,null,null,null,null,null,null,null,null,null,"791 WATT LED"]
[null,null,null,null,null,null,null,null,null,null,null,null,null,null,null,null,null,null,null,"792 WATT LED"]
[null,null,null,null,null,null,null,null,null,null,null,null,null,null,null,null,null,null,null,"793 WATT LED"]
[null,null,null,null,null,null,null,null,null,null,null,null,null,null,null,null,null,null,null,"794 WATT LED"]
[null,null,null,null,null,null,null,null,null,null,null,null,null,null,null,null,null,null,null,"795 WATT LED"]
[null,null,null,null,null,null,null,null,null,null,null,null,null,null,null,null,null,null,null,"796 WATT LED"]
[null,null,null,null,null,null,null,null,null,null,null,null,null,null,null,null,null,null,null,"797 WATT LED"]
[null,null,null,null,null,null,null,null,null,null,null,null,null,null,null,null,null,null,null,"798 WATT LED"]
[null,null,null,null,null,null,null,null,null,null,null,null,null,null,null,null,null,null,null,"799 WATT LED"]
[null,null,null,null,null,null,null,null,null,null,null,null,null,null,null,null,null,null,null,"800 WATT LED"]
[null,null,null,null,null,null,null,null,null,null,null,null,null,null,null,null,null,null,null,"801 WATT LED"]
[null,null,null,null,null,null,null,null,null,null,null,null,null,null,null,null,null,null,null,"802 WATT LED"]
[null,null,null,null,null,null,null,null,null,null,null,null,null,null,null,null,null,null,null,"803 WATT LED"]
[null,null,null,null,null,null,null,null,null,null,null,null,null,null,null,null,null,null,null,"804 WATT LED"]
[null,null,null,null,null,null,null,null,null,null,null,null,null,null,null,null,null,null,null,"805 WATT LED"]
[null,null,null,null,null,null,null,null,null,null,null,null,null,null,null,null,null,null,null,"806 WATT LED"]
[null,null,null,null,null,null,null,null,null,null,null,null,null,null,null,null,null,null,null,"807 WATT LED"]
[null,null,null,null,null,null,null,null,null,null,null,null,null,null,null,null,null,null,null,"808 WATT LED"]
[null,null,null,null,null,null,null,null,null,null,null,null,null,null,null,null,null,null,null,"809 WATT LED"]
[null,null,null,null,null,null,null,null,null,null,null,null,null,null,null,null,null,null,null,"810 WATT LED"]
[null,null,null,null,null,null,null,null,null,null,null,null,null,null,null,null,null,null,null,"811 WATT LED"]
[null,null,null,null,null,null,null,null,null,null,null,null,null,null,null,null,null,null,null,"812 WATT LED"]
[null,null,null,null,null,null,null,null,null,null,null,null,null,null,null,null,null,null,null,"813 WATT LED"]
[null,null,null,null,null,null,null,null,null,null,null,null,null,null,null,null,null,null,null,"814 WATT LED"]
[null,null,null,null,null,null,null,null,null,null,null,null,null,null,null,null,null,null,null,"815 WATT LED"]
[null,null,null,null,null,null,null,null,null,null,null,null,null,null,null,null,null,null,null,"816 WATT LED"]
[null,null,null,null,null,null,null,null,null,null,null,null,null,null,null,null,null,null,null,"817 WATT LED"]
[null,null,null,null,null,null,null,null,null,null,null,null,null,null,null,null,null,null,null,"818 WATT LED"]
[null,null,null,null,null,null,null,null,null,null,null,null,null,null,null,null,null,null,null,"819 WATT LED"]
[null,null,null,null,null,null,null,null,null,null,null,null,null,null,null,null,null,null,null,"820 WATT LED"]
[null,null,null,null,null,null,null,null,null,null,null,null,null,null,null,null,null,null,null,"821 WATT LED"]
[null,null,null,null,null,null,null,null,null,null,null,null,null,null,null,null,null,null,null,"822 WATT LED"]
[null,null,null,null,null,null,null,null,null,null,null,null,null,null,null,null,null,null,null,"823 WATT LED"]
[null,null,null,null,null,null,null,null,null,null,null,null,null,null,null,null,null,null,null,"824 WATT LED"]
[null,null,null,null,null,null,null,null,null,null,null,null,null,null,null,null,null,null,null,"825 WATT LED"]
[null,null,null,null,null,null,null,null,null,null,null,null,null,null,null,null,null,null,null,"826 WATT LED"]
[null,null,null,null,null,null,null,null,null,null,null,null,null,null,null,null,null,null,null,"827 WATT LED"]
[null,null,null,null,null,null,null,null,null,null,null,null,null,null,null,null,null,null,null,"828 WATT LED"]
[null,null,null,null,null,null,null,null,null,null,null,null,null,null,null,null,null,null,null,"829 WATT LED"]
[null,null,null,null,null,null,null,null,null,null,null,null,null,null,null,null,null,null,null,"830 WATT LED"]
[null,null,null,null,null,null,null,null,null,null,null,null,null,null,null,null,null,null,null,"831 WATT LED"]
[null,null,null,null,null,null,null,null,null,null,null,null,null,null,null,null,null,null,null,"832 WATT LED"]
[null,null,null,null,null,null,null,null,null,null,null,null,null,null,null,null,null,null,null,"833 WATT LED"]
[null,null,null,null,null,null,null,null,null,null,null,null,null,null,null,null,null,null,null,"834 WATT LED"]
[null,null,null,null,null,null,null,null,null,null,null,null,null,null,null,null,null,null,null,"835 WATT LED"]
[null,null,null,null,null,null,null,null,null,null,null,null,null,null,null,null,null,null,null,"836 WATT LED"]
[null,null,null,null,null,null,null,null,null,null,null,null,null,null,null,null,null,null,null,"837 WATT LED"]
[null,null,null,null,null,null,null,null,null,null,null,null,null,null,null,null,null,null,null,"838 WATT LED"]
[null,null,null,null,null,null,null,null,null,null,null,null,null,null,null,null,null,null,null,"839 WATT LED"]
[null,null,null,null,null,null,null,null,null,null,null,null,null,null,null,null,null,null,null,"840 WATT LED"]
[null,null,null,null,null,null,null,null,null,null,null,null,null,null,null,null,null,null,null,"841 WATT LED"]
[null,null,null,null,null,null,null,null,null,null,null,null,null,null,null,null,null,null,null,"842 WATT LED"]
[null,null,null,null,null,null,null,null,null,null,null,null,null,null,null,null,null,null,null,"843 WATT LED"]
[null,null,null,null,null,null,null,null,null,null,null,null,null,null,null,null,null,null,null,"844 WATT LED"]
[null,null,null,null,null,null,null,null,null,null,null,null,null,null,null,null,null,null,null,"845 WATT LED"]
[null,null,null,null,null,null,null,null,null,null,null,null,null,null,null,null,null,null,null,"846 WATT LED"]
[null,null,null,null,null,null,null,null,null,null,null,null,null,null,null,null,null,null,null,"847 WATT LED"]
[null,null,null,null,null,null,null,null,null,null,null,null,null,null,null,null,null,null,null,"848 WATT LED"]
[null,null,null,null,null,null,null,null,null,null,null,null,null,null,null,null,null,null,null,"849 WATT LED"]
[null,null,null,null,null,null,null,null,null,null,null,null,null,null,null,null,null,null,null,"850 WATT LED"]
[null,null,null,null,null,null,null,null,null,null,null,null,null,null,null,null,null,null,null,"851 WATT LED"]
[null,null,null,null,null,null,null,null,null,null,null,null,null,null,null,null,null,null,null,"852 WATT LED"]
[null,null,null,null,null,null,null,null,null,null,null,null,null,null,null,null,null,null,null,"853 WATT LED"]
[null,null,null,null,null,null,null,null,null,null,null,null,null,null,null,null,null,null,null,"854 WATT LED"]
[null,null,null,null,null,null,null,null,null,null,null,null,null,null,null,null,null,null,null,"855 WATT LED"]
[null,null,null,null,null,null,null,null,null,null,null,null,null,null,null,null,null,null,null,"856 WATT LED"]
[null,null,null,null,null,null,null,null,null,null,null,null,null,null,null,null,null,null,null,"857 WATT LED"]
[null,null,null,null,null,null,null,null,null,null,null,null,null,null,null,null,null,null,null,"858 WATT LED"]
[null,null,null,null,null,null,null,null,null,null,null,null,null,null,null,null,null,null,null,"859 WATT LED"]
[null,null,null,null,null,null,null,null,null,null,null,null,null,null,null,null,null,null,null,"860 WATT LED"]
[null,null,null,null,null,null,null,null,null,null,null,null,null,null,null,null,null,null,null,"861 WATT LED"]
[null,null,null,null,null,null,null,null,null,null,null,null,null,null,null,null,null,null,null,"862 WATT LED"]
[null,null,null,null,null,null,null,null,null,null,null,null,null,null,null,null,null,null,null,"863 WATT LED"]
[null,null,null,null,null,null,null,null,null,null,null,null,null,null,null,null,null,null,null,"864 WATT LED"]
[null,null,null,null,null,null,null,null,null,null,null,null,null,null,null,null,null,null,null,"865 WATT LED"]
[null,null,null,null,null,null,null,null,null,null,null,null,null,null,null,null,null,null,null,"866 WATT LED"]
[null,null,null,null,null,null,null,null,null,null,null,null,null,null,null,null,null,null,null,"867 WATT LED"]
[null,null,null,null,null,null,null,null,null,null,null,null,null,null,null,null,null,null,null,"868 WATT LED"]
[null,null,null,null,null,null,null,null,null,null,null,null,null,null,null,null,null,null,null,"869 WATT LED"]
[null,null,null,null,null,null,null,null,null,null,null,null,null,null,null,null,null,null,null,"870 WATT LED"]
[null,null,null,null,null,null,null,null,null,null,null,null,null,null,null,null,null,null,null,"871 WATT LED"]
[null,null,null,null,null,null,null,null,null,null,null,null,null,null,null,null,null,null,null,"872 WATT LED"]
[null,null,null,null,null,null,null,null,null,null,null,null,null,null,null,null,null,null,null,"873 WATT LED"]
[null,null,null,null,null,null,null,null,null,null,null,null,null,null,null,null,null,null,null,"874 WATT LED"]
[null,null,null,null,null,null,null,null,null,null,null,null,null,null,null,null,null,null,null,"875 WATT LED"]
[null,null,null,null,null,null,null,null,null,null,null,null,null,null,null,null,null,null,null,"876 WATT LED"]
[null,null,null,null,null,null,null,null,null,null,null,null,null,null,null,null,null,null,null,"877 WATT LED"]
[null,null,null,null,null,null,null,null,null,null,null,null,null,null,null,null,null,null,null,"878 WATT LED"]
[null,null,null,null,null,null,null,null,null,null,null,null,null,null,null,null,null,null,null,"879 WATT LED"]
[null,null,null,null,null,null,null,null,null,null,null,null,null,null,null,null,null,null,null,"880 WATT LED"]
[null,null,null,null,null,null,null,null,null,null,null,null,null,null,null,null,null,null,null,"881 WATT LED"]
[null,null,null,null,null,null,null,null,null,null,null,null,null,null,null,null,null,null,null,"882 WATT LED"]
[null,null,null,null,null,null,null,null,null,null,null,null,null,null,null,null,null,null,null,"883 WATT LED"]
[null,null,null,null,null,null,null,null,null,null,null,null,null,null,null,null,null,null,null,"884 WATT LED"]
[null,null,null,null,null,null,null,null,null,null,null,null,null,null,null,null,null,null,null,"885 WATT LED"]
[null,null,null,null,null,null,null,null,null,null,null,null,null,null,null,null,null,null,null,"886 WATT LED"]
[null,null,null,null,null,null,null,null,null,null,null,null,null,null,null,null,null,null,null,"887 WATT LED"]
[null,null,null,null,null,null,null,null,null,null,null,null,null,null,null,null,null,null,null,"888 WATT LED"]
[null,null,null,null,null,null,null,null,null,null,null,null,null,null,null,null,null,null,null,"889 WATT LED"]
[null,null,null,null,null,null,null,null,null,null,null,null,null,null,null,null,null,null,null,"890 WATT LED"]
[null,null,null,null,null,null,null,null,null,null,null,null,null,null,null,null,null,null,null,"891 WATT LED"]
[null,null,null,null,null,null,null,null,null,null,null,null,null,null,null,null,null,null,null,"892 WATT LED"]
[null,null,null,null,null,null,null,null,null,null,null,null,null,null,null,null,null,null,null,"893 WATT LED"]
[null,null,null,null,null,null,null,null,null,null,null,null,null,null,null,null,null,null,null,"894 WATT LED"]
[null,null,null,null,null,null,null,null,null,null,null,null,null,null,null,null,null,null,null,"895 WATT LED"]
[null,null,null,null,null,null,null,null,null,null,null,null,null,null,null,null,null,null,null,"896 WATT LED"]
[null,null,null,null,null,null,null,null,null,null,null,null,null,null,null,null,null,null,null,"897 WATT LED"]
[null,null,null,null,null,null,null,null,null,null,null,null,null,null,null,null,null,null,null,"898 WATT LED"]
[null,null,null,null,null,null,null,null,null,null,null,null,null,null,null,null,null,null,null,"899 WATT LED"]
[null,null,null,null,null,null,null,null,null,null,null,null,null,null,null,null,null,null,null,"900 WATT LED"]
[null,null,null,null,null,null,null,null,null,null,null,null,null,null,null,null,null,null,null,"901 WATT LED"]
[null,null,null,null,null,null,null,null,null,null,null,null,null,null,null,null,null,null,null,"902 WATT LED"]
[null,null,null,null,null,null,null,null,null,null,null,null,null,null,null,null,null,null,null,"903 WATT LED"]
[null,null,null,null,null,null,null,null,null,null,null,null,null,null,null,null,null,null,null,"904 WATT LED"]
[null,null,null,null,null,null,null,null,null,null,null,null,null,null,null,null,null,null,null,"905 WATT LED"]
[null,null,null,null,null,null,null,null,null,null,null,null,null,null,null,null,null,null,null,"906 WATT LED"]
[null,null,null,null,null,null,null,null,null,null,null,null,null,null,null,null,null,null,null,"907 WATT LED"]
[null,null,null,null,null,null,null,null,null,null,null,null,null,null,null,null,null,null,null,"908 WATT LED"]
[null,null,null,null,null,null,null,null,null,null,null,null,null,null,null,null,null,null,null,"909 WATT LED"]
[null,null,null,null,null,null,null,null,null,null,null,null,null,null,null,null,null,null,null,"910 WATT LED"]
[null,null,null,null,null,null,null,null,null,null,null,null,null,null,null,null,null,null,null,"911 WATT LED"]
[null,null,null,null,null,null,null,null,null,null,null,null,null,null,null,null,null,null,null,"912 WATT LED"]
[null,null,null,null,null,null,null,null,null,null,null,null,null,null,null,null,null,null,null,"913 WATT LED"]
[null,null,null,null,null,null,null,null,null,null,null,null,null,null,null,null,null,null,null,"914 WATT LED"]
[null,null,null,null,null,null,null,null,null,null,null,null,null,null,null,null,null,null,null,"915 WATT LED"]
[null,null,null,null,null,null,null,null,null,null,null,null,null,null,null,null,null,null,null,"916 WATT LED"]
[null,null,null,null,null,null,null,null,null,null,null,null,null,null,null,null,null,null,null,"917 WATT LED"]
[null,null,null,null,null,null,null,null,null,null,null,null,null,null,null,null,null,null,null,"918 WATT LED"]
[null,null,null,null,null,null,null,null,null,null,null,null,null,null,null,null,null,null,null,"919 WATT LED"]
[null,null,null,null,null,null,null,null,null,null,null,null,null,null,null,null,null,null,null,"920 WATT LED"]
[null,null,null,null,null,null,null,null,null,null,null,null,null,null,null,null,null,null,null,"921 WATT LED"]
[null,null,null,null,null,null,null,null,null,null,null,null,null,null,null,null,null,null,null,"922 WATT LED"]
[null,null,null,null,null,null,null,null,null,null,null,null,null,null,null,null,null,null,null,"923 WATT LED"]
[null,null,null,null,null,null,null,null,null,null,null,null,null,null,null,null,null,null,null,"924 WATT LED"]
[null,null,null,null,null,null,null,null,null,null,null,null,null,null,null,null,null,null,null,"925 WATT LED"]
[null,null,null,null,null,null,null,null,null,null,null,null,null,null,null,null,null,null,null,"926 WATT LED"]
[null,null,null,null,null,null,null,null,null,null,null,null,null,null,null,null,null,null,null,"927 WATT LED"]
[null,null,null,null,null,null,null,null,null,null,null,null,null,null,null,null,null,null,null,"928 WATT LED"]
[null,null,null,null,null,null,null,null,null,null,null,null,null,null,null,null,null,null,null,"929 WATT LED"]
[null,null,null,null,null,null,null,null,null,null,null,null,null,null,null,null,null,null,null,"930 WATT LED"]
[null,null,null,null,null,null,null,null,null,null,null,null,null,null,null,null,null,null,null,"931 WATT LED"]
[null,null,null,null,null,null,null,null,null,null,null,null,null,null,null,null,null,null,null,"932 WATT LED"]
[null,null,null,null,null,null,null,null,null,null,null,null,null,null,null,null,null,null,null,"933 WATT LED"]
[null,null,null,null,null,null,null,null,null,null,null,null,null,null,null,null,null,null,null,"934 WATT LED"]
[null,null,null,null,null,null,null,null,null,null,null,null,null,null,null,null,null,null,null,"935 WATT LED"]
[null,null,null,null,null,null,null,null,null,null,null,null,null,null,null,null,null,null,null,"936 WATT LED"]
[null,null,null,null,null,null,null,null,null,null,null,null,null,null,null,null,null,null,null,"937 WATT LED"]
[null,null,null,null,null,null,null,null,null,null,null,null,null,null,null,null,null,null,null,"938 WATT LED"]
[null,null,null,null,null,null,null,null,null,null,null,null,null,null,null,null,null,null,null,"939 WATT LED"]
[null,null,null,null,null,null,null,null,null,null,null,null,null,null,null,null,null,null,null,"940 WATT LED"]
[null,null,null,null,null,null,null,null,null,null,null,null,null,null,null,null,null,null,null,"941 WATT LED"]
[null,null,null,null,null,null,null,null,null,null,null,null,null,null,null,null,null,null,null,"942 WATT LED"]
[null,null,null,null,null,null,null,null,null,null,null,null,null,null,null,null,null,null,null,"943 WATT LED"]
[null,null,null,null,null,null,null,null,null,null,null,null,null,null,null,null,null,null,null,"944 WATT LED"]
[null,null,null,null,null,null,null,null,null,null,null,null,null,null,null,null,null,null,null,"945 WATT LED"]
[null,null,null,null,null,null,null,null,null,null,null,null,null,null,null,null,null,null,null,"946 WATT LED"]
[null,null,null,null,null,null,null,null,null,null,null,null,null,null,null,null,null,null,null,"947 WATT LED"]
[null,null,null,null,null,null,null,null,null,null,null,null,null,null,null,null,null,null,null,"948 WATT LED"]
[null,null,null,null,null,null,null,null,null,null,null,null,null,null,null,null,null,null,null,"949 WATT LED"]
[null,null,null,null,null,null,null,null,null,null,null,null,null,null,null,null,null,null,null,"950 WATT LED"]
[null,null,null,null,null,null,null,null,null,null,null,null,null,null,null,null,null,null,null,"951 WATT LED"]
[null,null,null,null,null,null,null,null,null,null,null,null,null,null,null,null,null,null,null,"952 WATT LED"]
[null,null,null,null,null,null,null,null,null,null,null,null,null,null,null,null,null,null,null,"953 WATT LED"]
[null,null,null,null,null,null,null,null,null,null,null,null,null,null,null,null,null,null,null,"954 WATT LED"]
[null,null,null,null,null,null,null,null,null,null,null,null,null,null,null,null,null,null,null,"955 WATT LED"]
[null,null,null,null,null,null,null,null,null,null,null,null,null,null,null,null,null,null,null,"956 WATT LED"]
[null,null,null,null,null,null,null,null,null,null,null,null,null,null,null,null,null,null,null,"957 WATT LED"]
[null,null,null,null,null,null,null,null,null,null,null,null,null,null,null,null,null,null,null,"958 WATT LED"]
[null,null,null,null,null,null,null,null,null,null,null,null,null,null,null,null,null,null,null,"959 WATT LED"]
[null,null,null,null,null,null,null,null,null,null,null,null,null,null,null,null,null,null,null,"960 WATT LED"]
[null,null,null,null,null,null,null,null,null,null,null,null,null,null,null,null,null,null,null,"961 WATT LED"]
[null,null,null,null,null,null,null,null,null,null,null,null,null,null,null,null,null,null,null,"962 WATT LED"]
[null,null,null,null,null,null,null,null,null,null,null,null,null,null,null,null,null,null,null,"963 WATT LED"]
[null,null,null,null,null,null,null,null,null,null,null,null,null,null,null,null,null,null,null,"964 WATT LED"]
[null,null,null,null,null,null,null,null,null,null,null,null,null,null,null,null,null,null,null,"965 WATT LED"]
[null,null,null,null,null,null,null,null,null,null,null,null,null,null,null,null,null,null,null,"966 WATT LED"]
[null,null,null,null,null,null,null,null,null,null,null,null,null,null,null,null,null,null,null,"967 WATT LED"]
[null,null,null,null,null,null,null,null,null,null,null,null,null,null,null,null,null,null,null,"968 WATT LED"]
[null,null,null,null,null,null,null,null,null,null,null,null,null,null,null,null,null,null,null,"969 WATT LED"]
[null,null,null,null,null,null,null,null,null,null,null,null,null,null,null,null,null,null,null,"970 WATT LED"]
[null,null,null,null,null,null,null,null,null,null,null,null,null,null,null,null,null,null,null,"971 WATT LED"]
[null,null,null,null,null,null,null,null,null,null,null,null,null,null,null,null,null,null,null,"972 WATT LED"]
[null,null,null,null,null,null,null,null,null,null,null,null,null,null,null,null,null,null,null,"973 WATT LED"]
[null,null,null,null,null,null,null,null,null,null,null,null,null,null,null,null,null,null,null,"974 WATT LED"]
[null,null,null,null,null,null,null,null,null,null,null,null,null,null,null,null,null,null,null,"975 WATT LED"]
[null,null,null,null,null,null,null,null,null,null,null,null,null,null,null,null,null,null,null,"976 WATT LED"]
[null,null,null,null,null,null,null,null,null,null,null,null,null,null,null,null,null,null,null,"977 WATT LED"]
[null,null,null,null,null,null,null,null,null,null,null,null,null,null,null,null,null,null,null,"978 WATT LED"]
[null,null,null,null,null,null,null,null,null,null,null,null,null,null,null,null,null,null,null,"979 WATT LED"]
[null,null,null,null,null,null,null,null,null,null,null,null,null,null,null,null,null,null,null,"980 WATT LED"]
[null,null,null,null,null,null,null,null,null,null,null,null,null,null,null,null,null,null,null,"981 WATT LED"]
[null,null,null,null,null,null,null,null,null,null,null,null,null,null,null,null,null,null,null,"982 WATT LED"]
[null,null,null,null,null,null,null,null,null,null,null,null,null,null,null,null,null,null,null,"983 WATT LED"]
[null,null,null,null,null,null,null,null,null,null,null,null,null,null,null,null,null,null,null,"984 WATT LED"]
[null,null,null,null,null,null,null,null,null,null,null,null,null,null,null,null,null,null,null,"985 WATT LED"]
[null,null,null,null,null,null,null,null,null,null,null,null,null,null,null,null,null,null,null,"986 WATT LED"]
[null,null,null,null,null,null,null,null,null,null,null,null,null,null,null,null,null,null,null,"987 WATT LED"]
[null,null,null,null,null,null,null,null,null,null,null,null,null,null,null,null,null,null,null,"988 WATT LED"]
[null,null,null,null,null,null,null,null,null,null,null,null,null,null,null,null,null,null,null,"989 WATT LED"]
[null,null,null,null,null,null,null,null,null,null,null,null,null,null,null,null,null,null,null,"990 WATT LED"]
[null,null,null,null,null,null,null,null,null,null,null,null,null,null,null,null,null,null,null,"991 WATT LED"]
[null,null,null,null,null,null,null,null,null,null,null,null,null,null,null,null,null,null,null,"992 WATT LED"]
[null,null,null,null,null,null,null,null,null,null,null,null,null,null,null,null,null,null,null,"993 WATT LED"]
[null,null,null,null,null,null,null,null,null,null,null,null,null,null,null,null,null,null,null,"994 WATT LED"]
[null,null,null,null,null,null,null,null,null,null,null,null,null,null,null,null,null,null,null,"995 WATT LED"]
[null,null,null,null,null,null,null,null,null,null,null,null,null,null,null,null,null,null,null,"996 WATT LED"]
[null,null,null,null,null,null,null,null,null,null,null,null,null,null,null,null,null,null,null,"997 WATT LED"]
[null,null,null,null,null,null,null,null,null,null,null,null,null,null,null,null,null,null,null,"998 WATT LED"]
[null,null,null,null,null,null,null,null,null,null,null,null,null,null,null,null,null,null,null,"999 WATT LED"]

{"sheet":"MRD_Tables","index":12,"n_rows":1024,"n_cols":36,"rows_kept":1024,"cut":false,"hidden":true,"merged":[[0,20,0,29]]}
["Equipment List",null,null,null,null,null,null,null,null,null,"Controls List",null,null,null,null,null,null,null,null,null,"Hour Groups"]
["Fixture Location","Lighting Location","Manufacturer/ Model Number","Prop. Qty","Prop. Wattage",null,{"$f":"COUNTA(E:E)+COUNTA(O:O)+30","v":35},null,null,null,"Fixture Location","Building and Floor","Hours Group","Model Number","Controls Strategy","High End Trim %",null,null,null,"Schedule",{"$f":"'2 - Hours and Schedules'!D3","v":"Usage Group A"},{"$f":"'2 - Hours and Schedules'!D14","v":"Usage Group B"},{"$f":"'2 - Hours and Schedules'!D25","v":"Usage Group C"},{"$f":"'2 - Hours and Schedules'!D36","v":"Usage Group D"},{"$f":"'2 - Hours and Schedules'!D47","v":"Usage Group E"},{"$f":"'2 - Hours and Schedules'!D58","v":"Usage Group F"},{"$f":"'2 - Hours and Schedules'!D69","v":"Usage Group G"},{"$f":"'2 - Hours and Schedules'!D80","v":"Usage Group H"},{"$f":"'2 - Hours and Schedules'!D91","v":"Usage Group I"},{"$f":"'2 - Hours and Schedules'!D102","v":"Usage Group J"},null,"Schedule","Mon-Fri","Sat","Sun","Annual Hours"]
["(blank)","(blank)",null,"(blank)",null,null,null,null,null,null,"(blank)","(blank)","(blank)",null,0,"(blank)",null,null,null,"Mon-Fri",{"$f":"_xlfn.CONCAT('2 - Hours and Schedules'!C7,\"-\",'2 - Hours and Schedules'!D7)","v":"24-0"},{"$f":"_xlfn.CONCAT('2 - Hours and Schedules'!C18,\"-\",'2 - Hours and Schedules'!D18)","v":"24-0"},{"$f":"_xlfn.CONCAT('2 - Hours and Schedules'!C29,\"-\",'2 - Hours and Schedules'!D29)","v":"24-0"},{"$f":"_xlfn.CONCAT('2 - Hours and Schedules'!C40,\"-\",'2 - Hours and Schedules'!D40)","v":"24-0"},{"$f":"_xlfn.CONCAT('2 - Hours and Schedules'!C51,\"-\",'2 - Hours and Schedules'!D51)","v":"24-0"},{"$f":"_xlfn.CONCAT('2 - Hours and Schedules'!C62,\"-\",'2 - Hours and Schedules'!D62)","v":"24-0"},{"$f":"_xlfn.CONCAT('2 - Hours and Schedules'!C73,\"-\",'2 - Hours and Schedules'!D73)","v":"24-0"},{"$f":"_xlfn.CONCAT('2 - Hours and Schedules'!C84,\"-\",'2 - Hours and Schedules'!D84)","v":"24-0"},{"$f":"_xlfn.CONCAT('2 - Hours and Schedules'!C95,\"-\",'2 - Hours and Schedules'!D95)","v":"24-0"},{"$f":"_xlfn.CONCAT('2 - Hours and Schedules'!C106,\"-\",'2 - Hours and Schedules'!D106)","v":"24-0"},null,"Usage Group D","24-0","24-0","24-0",0]
["(blank)","(blank)","Rab 1234",1,10,null,null,null,null,null,"(blank)","(blank)","Usage Group A","Rab 1234","Occupancy Sensor",0.7,null,null,null,"Sat",{"$f":"_xlfn.CONCAT('2 - Hours and Schedules'!C8,\"-\",'2 - Hours and Schedules'!D8)","v":"24-0"},{"$f":"_xlfn.CONCAT('2 - Hours and Schedules'!C19,\"-\",'2 - Hours and Schedules'!D19)","v":"24-0"},{"$f":"_xlfn.CONCAT('2 - Hours and Schedules'!C30,\"-\",'2 - Hours and Schedules'!D30)","v":"24-0"},{"$f":"_xlfn.CONCAT('2 - Hours and Schedules'!C41,\"-\",'2 - Hours and Schedules'!D41)","v":"24-0"},{"$f":"_xlfn.CONCAT('2 - Hours and Schedules'!C52,\"-\",'2 - Hours and Schedules'!D52)","v":"24-0"},{"$f":"_xlfn.CONCAT('2 - Hours and Schedules'!C63,\"-\",'2 - Hours and Schedules'!D63)","v":"24-0"},{"$f":"_xlfn.CONCAT('2 - Hours and Schedules'!C74,\"-\",'2 - Hours and Schedules'!D74)","v":"24-0"},{"$f":"_xlfn.CONCAT('2 - Hours and Schedules'!C85,\"-\",'2 - Hours and Schedules'!D85)","v":"24-0"},{"$f":"_xlfn.CONCAT('2 - Hours and Schedules'!C96,\"-\",'2 - Hours and Schedules'!D96)","v":"24-0"},{"$f":"_xlfn.CONCAT('2 - Hours and Schedules'!C107,\"-\",'2 - Hours and Schedules'!D107)","v":"24-0"},null,"Usage Group E","24-0","24-0","24-0",0]
["Grand Total",null,null,null,null,null,null,null,null,null,"Grand Total",null,null,null,null,null,null,null,null,"Sun ",{"$f":"_xlfn.CONCAT('2 - Hours and Schedules'!C9,\"-\",'2 - Hours and Schedules'!D9)","v":"24-0"},{"$f":"_xlfn.CONCAT('2 - Hours and Schedules'!C20,\"-\",'2 - Hours and Schedules'!D20)","v":"24-0"},{"$f":"_xlfn.CONCAT('2 - Hours and Schedules'!C31,\"-\",'2 - Hours and Schedules'!D31)","v":"24-0"},{"$f":"_xlfn.CONCAT('2 - Hours and Schedules'!C42,\"-\",'2 - Hours and Schedules'!D42)","v":"24-0"},{"$f":"_xlfn.CONCAT('2 - Hours and Schedules'!C53,\"-\",'2 - Hours and Schedules'!D53)","v":"24-0"},{"$f":"_xlfn.CONCAT('2 - Hours and Schedules'!C64,\"-\",'2 - Hours and Schedules'!D64)","v":"24-0"},{"$f":"_xlfn.CONCAT('2 - Hours and Schedules'!C75,\"-\",'2 - Hours and Schedules'!D75)","v":"24-0"},{"$f":"_xlfn.CONCAT('2 - Hours and Schedules'!C86,\"-\",'2 - Hours and Schedules'!D86)","v":"24-0"},{"$f":"_xlfn.CONCAT('2 - Hours and Schedules'!C97,\"-\",'2 - Hours and Schedules'!D97)","v":"24-0"},{"$f":"_xlfn.CONCAT('2 - Hours and Schedules'!C108,\"-\",'2 - Hours and Schedules'!D108)","v":"24-0"},null,"Usage Group F","24-0","24-0","24-0",0]
[null,null,null,null,null,null,null,null,null,null,null,null,null,null,null,null,null,null,null,"Total Annual Hours",{"$f":"'2 - Hours and Schedules'!E12","v":0},{"$f":"OFFSET('2 - Hours and Schedules'!$E$12,MRD_Tables!V9,0)","v":0},{"$f":"OFFSET('2 - Hours and Schedules'!$E$12,MRD_Tables!W9,0)","v":0},{"$f":"OFFSET('2 - Hours and Schedules'!$E$12,MRD_Tables!X9,0)","v":0},{"$f":"OFFSET('2 - Hours and Schedules'!$E$12,MRD_Tables!Y9,0)","v":0},{"$f":"OFFSET('2 - Hours and Schedules'!$E$12,MRD_Tables!Z9,0)","v":0},{"$f":"OFFSET('2 - Hours and Schedules'!$E$12,MRD_Tables!AA9,0)","v":0},{"$f":"OFFSET('2 - Hours and Schedules'!$E$12,MRD_Tables!AB9,0)","v":0},{"$f":"OFFSET('2 - Hours and Schedules'!$E$12,MRD_Tables!AC9,0)","v":0},{"$f":"OFFSET('2 - Hours and Schedules'!$E$12,MRD_Tables!AD9,0)","v":0},null,"Usage Group G","24-0","24-0","24-0",0]
[null,null,null,null,null,null,null,null,null,null,null,null,null,null,null,null,null,null,null,null,null,null,null,null,null,null,null,null,null,null,null,"Usage Group H","24-0","24-0","24-0",0]
[null,null,null,null,null,null,null,null,null,null,null,null,null,null,null,null,null,null,null,null,null,null,null,null,null,null,null,null,null,null,null,"Usage Group I","24-0","24-0","24-0",0]
[null,null,null,null,null,null,null,null,null,null,null,null,null,null,null,null,null,null,null,null,null,11,22,33,44,55,66,77,88,99,null,"Usage Group J","24-0","24-0","24-0",0]
[null,null,null,null,null,null,null,null,null,null,null,null,null,null,null,null,null,null,null,null,null,null,null,null,null,null,null,null,null,null,null,"(blank)","(blank)","(blank)","Total Groups",1]
[null,null,null,null,null,null,null,null,null,null,null,null,null,null,null,null,null,null,null,null,null,null,null,null,null,null,null,null,null,null,null,"Usage Group A","6-17","5-0","24-0",3858.36]
[null,null,null,null,null,null,null,null,null,null,null,null,null,null,null,null,null,null,null,"Schedule","Mon-Fri","Sat","Sun","Annual Hours",null,null,null,null,null,null,null,"Usage Group B","24-0","24-0","24-0",0]
[null,null,null,null,null,null,null,null,null,null,null,null,null,null,null,null,null,null,null,{"$f":"U2","v":"Usage Group A"},{"$f":"U3","v":"24-0"},{"$f":"U4","v":"24-0"},{"$f":"U5","v":"24-0"},{"$f":"U6","v":0},null,null,null,null,null,null,null,"Usage Group C","24-0","24-0","24-0",0]
[null,null,null,null,null,null,null,null,null,null,null,null,null,null,null,null,null,null,null,{"$f":"V2","v":"Usage Group B"},{"$f":"V3","v":"24-0"},{"$f":"V4","v":"24-0"},{"$f":"V5","v":"24-0"},{"$f":"V6","v":0},null,null,null,null,null,null,null,"Grand Total"]
[null,null,null,null,null,null,null,null,null,null,null,null,null,null,null,null,null,null,null,{"$f":"W2","v":"Usage Group C"},{"$f":"W3","v":"24-0"},{"$f":"W4","v":"24-0"},{"$f":"W5","v":"24-0"},{"$f":"W6","v":0}]
[null,null,null,null,null,null,null,null,null,null,null,null,null,null,null,null,null,null,null,{"$f":"X2","v":"Usage Group D"},{"$f":"X3","v":"24-0"},{"$f":"X4","v":"24-0"},{"$f":"X5","v":"24-0"},{"$f":"X6","v":0}]
[null,null,null,null,null,null,null,null,null,null,null,null,null,null,null,null,null,null,null,{"$f":"Y2","v":"Usage Group E"},{"$f":"Y3","v":"24-0"},{"$f":"Y4","v":"24-0"},{"$f":"Y5","v":"24-0"},{"$f":"Y6","v":0}]
[null,null,null,null,null,null,null,null,null,null,null,null,null,null,null,null,null,null,null,{"$f":"Z2","v":"Usage Group F"},{"$f":"Z3","v":"24-0"},{"$f":"Z4","v":"24-0"},{"$f":"Z5","v":"24-0"},{"$f":"Z6","v":0}]
[null,null,null,null,null,null,null,null,null,null,null,null,null,null,null,null,null,null,null,{"$f":"AA2","v":"Usage Group G"},{"$f":"AA3","v":"24-0"},{"$f":"AA4","v":"24-0"},{"$f":"AA5","v":"24-0"},{"$f":"AA6","v":0}]
[null,null,null,null,null,null,null,null,null,null,null,null,null,null,null,null,null,null,null,{"$f":"AB2","v":"Usage Group H"},{"$f":"AB3","v":"24-0"},{"$f":"AB4","v":"24-0"},{"$f":"AB5","v":"24-0"},{"$f":"AB6","v":0}]
[null,null,null,null,null,null,null,null,null,null,null,null,null,null,null,null,null,null,null,{"$f":"AC2","v":"Usage Group I"},{"$f":"AC3","v":"24-0"},{"$f":"AC4","v":"24-0"},{"$f":"AC5","v":"24-0"},{"$f":"AC6","v":0}]
[null,null,null,null,null,null,null,null,null,null,null,null,null,null,null,null,null,null,null,{"$f":"AD2","v":"Usage Group J"},{"$f":"AD3","v":"24-0"},{"$f":"AD4","v":"24-0"},{"$f":"AD5","v":"24-0"},{"$f":"AD6","v":0}]
[null,null,null,null,null,null,null,null,null,null,null,null,null,null,null,null,null,null,null,null,null,null,"Total Groups",{"$f":"COUNTIF(X13:X22,\">10\")","v":0}]
[]
[]
[]
[]
[]
[]
[]
[]
[]
[]
[]
[]
[]
[]
[]
[]
[]
[]
[]
[]
[]
[]
[]
[]
[]
[]
[]
[]
[]
[]
[]
[]
[]
[]
[]
[]
[]
[]
[]
[]
[]
[]
[]
[]
[]
[]
[]
[]
[]
[]
[]
[]
[]
[]
[]
[]
[]
[]
[]
[]
[]
[]
[]
[]
[]
[]
[]
[]
[]
[]
[]
[]
[]
[]
[]
[]
[]
[]
[]
[]
[]
[]
[]
[]
[]
[]
[]
[]
[]
[]
[]
[]
[]
[]
[]
[]
[]
[]
[]
[]
[]
[]
[]
[]
[]
[]
[]
[]
[]
[]
[]
[]
[]
[]
[]
[]
[]
[]
[]
[]
[]
[]
[]
[]
[]
[]
[]
[]
[]
[]
[]
[]
[]
[]
[]
[]
[]
[]
[]
[]
[]
[]
[]
[]
[]
[]
[]
[]
[]
[]
[]
[]
[]
[]
[]
[]
[]
[]
[]
[]
[]
[]
[]
[]
[]
[]
[]
[]
[]
[]
[]
[]
[]
[]
[]
[]
[]
[]
[]
[]
[]
[]
[]
[]
[]
[]
[]
[]
[]
[]
[]
[]
[]
[]
[]
[]
[]
[]
[]
[]
[]
[]
[]
[]
[]
[]
[]
[]
[]
[]
[]
[]
[]
[]
[]
[]
[]
[]
[]
[]
[]
[]
[]
[]
[]
[]
[]
[]
[]
[]
[]
[]
[]
[]
[]
[]
[]
[]
[]
[]
[]
[]
[]
[]
[]
[]
[]
[]
[]
[]
[]
[]
[]
[]
[]
[]
[]
[]
[]
[]
[]
[]
[]
[]
[]
[]
[]
[]
[]
[]
[]
[]
[]
[]
[]
[]
[]
[]
[]
[]
[]
[]
[]
[]
[]
[]
[]
[]
[]
[]
[]
[]
[]
[]
[]
[]
[]
[]
[]
[]
[]
[]
[]
[]
[]
[]
[]
[]
[]
[]
[]
[]
[]
[]
[]
[]
[]
[]
[]
[]
[]
[]
[]
[]
[]
[]
[]
[]
[]
[]
[]
[]
[]
[]
[]
[]
[]
[]
[]
[]
[]
[]
[]
[]
[]
[]
[]
[]
[]
[]
[]
[]
[]
[]
[]
[]
[]
[]
[]
[]
[]
[]
[]
[]
[]
[]
[]
[]
[]
[]
[]
[]
[]
[]
[]
[]
[]
[]
[]
[]
[]
[]
[]
[]
[]
[]
[]
[]
[]
[]
[]
[]
[]
[]
[]
[]
[]
[]
[]
[]
[]
[]
[]
[]
[]
[]
[]
[]
[]
[]
[]
[]
[]
[]
[]
[]
[]
[]
[]
[]
[]
[]
[]
[]
[]
[]
[]
[]
[]
[]
[]
[]
[]
[]
[]
[]
[]
[]
[]
[]
[]
[]
[]
[]
[]
[]
[]
[]
[]
[]
[]
[]
[]
[]
[]
[]
[]
[]
[]
[]
[]
[]
[]
[]
[]
[]
[]
[]
[]
[]
[]
[]
[]
[]
[]
[]
[]
[]
[]
[]
[]
[]
[]
[]
[]
[]
[]
[]
[]
[]
[]
[]
[]
[]
[]
[]
[]
[]
[]
[]
[]
[]
[]
[]
[]
[]
[]
[]
[]
[]
[]
[]
[]
[]
[]
[]
[]
[]
[]
[]
[]
[]
[]
[]
[]
[]
[]
[]
[]
[]
[]
[]
[]
[]
[]
[]
[]
[]
[]
[]
[]
[]
[]
[]
[]
[]
[]
[]
[]
[]
[]
[]
[]
[]
[]
[]
[]
[]
[]
[]
[]
[]
[]
[]
[]
[]
[]
[]
[]
[]
[]
[]
[]
[]
[]
[]
[]
[]
[]
[]
[]
[]
[]
[]
[]
[]
[]
[]
[]
[]
[]
[]
[]
[]
[]
[]
[]
[]
[]
[]
[]
[]
[]
[]
[]
[]
[]
[]
[]
[]
[]
[]
[]
[]
[]
[]
[]
[]
[]
[]
[]
[]
[]
[]
[]
[]
[]
[]
[]
[]
[]
[]
[]
[]
[]
[]
[]
[]
[]
[]
[]
[]
[]
[]
[]
[]
[]
[]
[]
[]
[]
[]
[]
[]
[]
[]
[]
[]
[]
[]
[]
[]
[]
[]
[]
[]
[]
[]
[]
[]
[]
[]
[]
[]
[]
[]
[]
[]
[]
[]
[]
[]
[]
[]
[]
[]
[]
[]
[]
[]
[]
[]
[]
[]
[]
[]
[]
[]
[]
[]
[]
[]
[]
[]
[]
[]
[]
[]
[]
[]
[]
[]
[]
[]
[]
[]
[]
[]
[]
[]
[]
[]
[]
[]
[]
[]
[]
[]
[]
[]
[]
[]
[]
[]
[]
[]
[]
[]
[]
[]
[]
[]
[]
[]
[]
[]
[]
[]
[]
[]
[]
[]
[]
[]
[]
[]
[]
[]
[]
[]
[]
[]
[]
[]
[]
[]
[]
[]
[]
[]
[]
[]
[]
[]
[]
[]
[]
[]
[]
[]
[]
[]
[]
[]
[]
[]
[]
[]
[]
[]
[]
[]
[]
[]
[]
[]
[]
[]
[]
[]
[]
[]
[]
[]
[]
[]
[]
[]
[]
[]
[]
[]
[]
[]
[]
[]
[]
[]
[]
[]
[]
[]
[]
[]
[]
[]
[]
[]
[]
[]
[]
[]
[]
[]
[]
[]
[]
[]
[]
[]
[]
[]
[]
[]
[]
[]
[]
[]
[]
[]
[]
[]
[]
[]
[]
[]
[]
[]
[]
[]
[]
[]
[]
[]
[]
[]
[]
[]
[]
[]
[]
[]
[]
[]
[]
[]
[]
[]
[]
[]
[]
[]
[]
[]
[]
[]
[]
[]
[]
[]
[]
[]
[]
[]
[]
[]
[]
[]
[]
[]
[]
[]
[]
[]
[]
[]
[]
[]
[]
[]
[]
[]
[]
[]
[]
[]
[]
[]
[]
[]
[]
[]
[]
[]
[]
[]
[]
[]
[]
[]
[]
[]
[]
[]
[]
[]
[]
[]
[]
[]
[]
[]
[]
[]
[]
[]
[]
[]
[]
[]
[]
[]
[]
[]
[]
[]
[]
[]
[]
[]
[]
[]
[]
[]
[]
[]
[]
[]
[]
[]
[]
[]
[]
[]
[]
[]
[null,null,null,null,null,null,null,null,null,null,null,null,null,null,null,null,null,null,null,null,null,null,null,null,null,null,null,null,null,null,null,"Schedule","Mon-Fri","Sat","Sun","Annual Hours"]
[null,null,null,null,null,null,null,null,null,null,null,null,null,null,null,null,null,null,null,null,null,null,null,null,null,null,null,null,null,null,null,"Usage Group D","24-0","24-0","24-0",0]
[null,null,null,null,null,null,null,null,null,null,null,null,null,null,null,null,null,null,null,null,null,null,null,null,null,null,null,null,null,null,null,"Usage Group E","24-0","24-0","24-0",0]
[null,null,null,null,null,null,null,null,null,null,null,null,null,null,null,null,null,null,null,null,null,null,null,null,null,null,null,null,null,null,null,"Usage Group F","24-0","24-0","24-0",0]
[null,null,null,null,null,null,null,null,null,null,null,null,null,null,null,null,null,null,null,null,null,null,null,null,null,null,null,null,null,null,null,"Usage Group G","24-0","24-0","24-0",0]
[null,null,null,null,null,null,null,null,null,null,null,null,null,null,null,null,null,null,null,null,null,null,null,null,null,null,null,null,null,null,null,"Usage Group H","24-0","24-0","24-0",0]
[null,null,null,null,null,null,null,null,null,null,null,null,null,null,null,null,null,null,null,null,null,null,null,null,null,null,null,null,null,null,null,"Usage Group I","24-0","24-0","24-0",0]
[null,null,null,null,null,null,null,null,null,null,null,null,null,null,null,null,null,null,null,null,null,null,null,null,null,null,null,null,null,null,null,"Usage Group J","24-0","24-0","24-0",0]
[null,null,null,null,null,null,null,null,null,null,null,null,null,null,null,null,null,null,null,null,null,null,null,null,null,null,null,null,null,null,null,"(blank)","(blank)","(blank)","Total Groups",1]
[null,null,null,null,null,null,null,null,null,null,null,null,null,null,null,null,null,null,null,null,null,null,null,null,null,null,null,null,null,null,null,"Usage Group A","6-17","5-0","24-0",3858.36]
[null,null,null,null,null,null,null,null,null,null,null,null,null,null,null,null,null,null,null,null,null,null,null,null,null,null,null,null,null,null,null,"Usage Group B","24-0","24-0","24-0",0]
[null,null,null,null,null,null,null,null,null,null,null,null,null,null,null,null,null,null,null,null,null,null,null,null,null,null,null,null,null,null,null,"Usage Group C","24-0","24-0","24-0",0]
[null,null,null,null,null,null,null,null,null,null,null,null,null,null,null,null,null,null,null,null,null,null,null,null,null,null,null,null,null,null,null,"Grand Total"]
[]
[]
[]
[]
[]
[]
[]
[null,null,null,null,null,null,null,null,null,null,null,null,null,null,null,null,null,null,null,null,null,null,null,null,null,null,null,null,null,null,null,"Schedule","Mon-Fri","Sat","Sun","Annual Hours"]
[null,null,null,null,null,null,null,null,null,null,null,null,null,null,null,null,null,null,null,null,null,null,null,null,null,null,null,null,null,null,null,"(blank)","(blank)","(blank)","Total Groups",1]
[null,null,null,null,null,null,null,null,null,null,null,null,null,null,null,null,null,null,null,null,null,null,null,null,null,null,null,null,null,null,null,"Usage Group A","6-17","5-0","24-0",3858.36]
[null,null,null,null,null,null,null,null,null,null,null,null,null,null,null,null,null,null,null,null,null,null,null,null,null,null,null,null,null,null,null,4290,"5-21.4","24-0","24-0",4275.4800000000005]
[null,null,null,null,null,null,null,null,null,null,null,null,null,null,null,null,null,null,null,null,null,null,null,null,null,null,null,null,null,null,null,6240,"0-24","24-0","24-0",6256.8]

{"sheet":"Tech Comparison","index":13,"n_rows":4,"n_cols":3,"rows_kept":4,"cut":false,"hidden":true,"merged":[]}
[]
[]
["Existing Lamp/Ballast Description","Manufacturer/Model Number","Sum of Prop. Qty"]
["Grand Total"]

{"sheet":"Controls Lookup","index":14,"n_rows":27,"n_cols":8,"rows_kept":27,"cut":false,"hidden":true,"merged":[]}
["Space Type","Daylight","Occupancy Sensor","Scheduled Dimming","None"]
["All space type",0.14000000000000001,0.24,null,0,null,null,"All space types have same savings percentage"]
["Break Room",0.14000000000000001,0.24,null,0,null,null,"Occupancy Savings Source Document:  Alison, W., et al. \"A meta-analysis of energy savings from lighting controls in commercial buildings.\" Lawrence Berkeley National Laboratory (2011)."]
["Classroom",0.14000000000000001,0.24,null,0,null,null,"Daylight Savings Source Document: NGRID Personnel"]
["Computer Room",0.14000000000000001,0.24,null,0]
["Conference",0.14000000000000001,0.24,null,0]
["Dining",0.14000000000000001,0.24,null,0]
["Gymnasium",0.14000000000000001,0.24,null,0]
["Hallway",0.14000000000000001,0.24,null,0]
["Hospital Room",0.14000000000000001,0.24,null,0]
["Industrial",0.14000000000000001,0.24,null,0]
["Kitchen",0.14000000000000001,0.24,null,0]
["Library",0.14000000000000001,0.24,null,0]
["Lobby",0.14000000000000001,0.24,null,0]
["Lodging (Guest Rooms)",0.14000000000000001,0.24,null,0]
["Open Office",0.14000000000000001,0.24,null,0]
["Parking Garage",0.14000000000000001,0.24,null,0]
["Private Office",0.14000000000000001,0.24,null,0]
["Process",0.14000000000000001,0.24,null,0]
["Public Assembly",0.14000000000000001,0.24,null,0]
["Restroom",0.14000000000000001,0.24,null,0]
["Retail",0.14000000000000001,0.24,null,0]
["Stairs",0.14000000000000001,0.24,null,0]
["Storage",0.14000000000000001,0.24,null,0]
["Technical Area",0.14000000000000001,0.24,null,0]
["Warehouses",0.14000000000000001,0.24,null,0]
["Other",0.14000000000000001,0.24,null,0]

{"sheet":"dist check list","index":15,"n_rows":33,"n_cols":9,"rows_kept":33,"cut":false,"hidden":true,"merged":[]}
[]
[null,null,"Final spot check","Spell Check","Check locked/unlocked cells","Protect sheet","All text displayed","Make sure all fields are enterable","compare to 2017 tool?"]
["Tab","Policy & Definitions"]
["Tab","Project Notes"]
["Tab","Screening Tool"]
["Tab","Message"]
["Tab","Measures"]
["Tab","Default On Peak"]
["Tab","ID Weighted Life"]
["Tab","Default Output long"]
["Tab","Default Output short"]
["Tab","Scratch"]
["Tab","Version"]
["Tab","EVSR"]
["Tab","NGRID"]
["Tab","Value Table"]
[null,"Screening"]
["Tab","measure summary"]
["Tab","dynamic tables"]
[]
["Before Distribution:"]
[null,"Hide red tabs"]
[null,"protect each sheet"]
[null,"protect workbook"]
[null,"update file name"]
[null,"make sure fields on input tab are merged as needed"]
[null,"check final policies included"]
[null,"make sure dynamic tables reference full, final measure table"]
[null,"make sure all references are for full table"]
[null,"protect sheets, but make sure can adjust columns, formatting, rows, lists, etc"]
[null,"do NOT protect worksheet- user can add worksheets"]
[null,"make sure units for fossil fuels are correct throughout"]
[null,"clear all inputs"]

{"sheet":"Policy & Definitions","index":16,"n_rows":90,"n_cols":6,"rows_kept":90,"cut":false,"hidden":true,"merged":[[6,0,6,3]]}
["Screening Policy Version Tracking"]
["Policy Version","2019 Final v1.0"]
["Policy Revision Date","2019-04-08"]
["Policy Last Updated by","Whitney Brougher, National Grid"]
[]
["Tab Explanation:"]
["This section provides a uniform policy for using the custom screening tool.  The objective for creating this tool is to provide a uniform basis for services, especially in the case of dual fuel projects in shared territories, and to ensure fair allocation of costs and benefits between PAs.  The scope of the custom screening tool does not extend to determining what projects a PA will or will not pursue in the interest of their customers and programs.  It is understood and acceptable that ultimately it is the PA’s prerogative as to whether or not to pay an incentive to a customer or move forward with a project, however, these common policies are to be used as standard practice when using the screening tool.  The spirit of the policy is to ensure projects are screened using uniform methods across the state and to provide a guideline for interpreting the screening results.  The policy does not extend into decision making beyond screening.\n\nThis tab also includes definitions and examples for various terms and fields throughout the tool, including various inputs, tabs, and results."]
[]
["Category","Topic","Description","Example/Explanation","index for sorting purposes","NOTE FOR REVIEWERS"]
["Disclaimer","Use of screening results","Results of the screening tool are not binding on any party.  The PA is not obligated to provide an incentive for any measure at any time and may consider other factors outside of the screening tool results when making decisions on how to proceed, or not proceed, with a project.  Savings entered into the tool are not necessarily vetted, approved, or guaranteed by the PA. ",null,1]
["Disclaimer","Disclaimer","Ultimately it is the prerogative of the PA to decide the amount of incentive that will be offered to the customer",null,1]
["Policy","Screening projects in shared territory","Projects in shared territories should only be screened once.  As a default, the electric PA should take the lead.",null,2]
["Policy","Screening measures together","In order to ensure the PAs are uniformly bundling measures for screening we will also use a common criterion for what measures can be bundled for the purposes of screening.  For screening purposes, measures screened together must be for one customer at one contiguous location AND implemented at approximately the same time.","Measures for a single college campus can be screened together, even if there are multiple meters and buildings.  Different campuses for the same college may not be screened together.  Multiple locations of a franchise may not be screened together, even if they are in the same town.  \n\nIf a customer has a long term plan to install measures over a number of years, the out year projects should not be bundled with more immediate projects.",2,"updated to include timing component for installed measures."]
["Policy","BCR Results","The PAs agree that a bundle of measures may be eligible for incentives as long as the full project is cost effective.  Individual measures that have a BCR < 1 may get an incentive as long as the total package of measures is cost effective.","Example 1- the user enters three ECMs into the screening tool including Lighting, EMS retrocommissioning, and Building Shell.  The Building Shell measure returns a BCR < 1, however the combined bundled project returns a BCR > 1.  An incentive for the Building Shell measure may be offered.  \n\nExample 2 - the same measures as above are entered into the screening tool.  The Building Shell measure has a BCR < 1 AND the full project has a BCR < 1.  The user excludes the Building Shell measure from the screening, and the new bundled project (Lighting and EMS retrocommissioning) returns BCR > 1.  An incentive may be offered for the Lighting and retrocommissioning measures.  ",2]
["Policy","Payback Results","The PAs have agreed that there is no payback requirement for measure or project level results. The measure payback does not need to be less than the measure life, however, the screening tool does provide simple payback information that can be used as a data point in determining appropriate incentive levels.  ",null,2]
["Policy","Gross Savings","Projects should always be screened using gross savings estimates. especially when determining the gas and electric allocation percentages.  All numbers entered into the screening tool should be project specific. ","Evaluation determined values, such as realization rates, free-ridership, deemed savings, prescriptive non-energy impacts, etc. should not be used in custom project screening.  Instead, savings entered into the screening tool should match the original estimate of savings from the TA vendor or other custom analysis.",2]
["Policy","Fuel Switching - Savings and Penalty considerations","Fuel Switching projects should be considered in two segments, with both savings and penalties of both fuels considered.  These projects may be screened as a single item using the combined savings and penalties of the two segments, but should be tracked as two pieces to ensure all savings and penalities are accounted for.","Segment 1 - Shift from existing fuel to a new fuel baseline system: The PA of the old fuel should record old fuel savings from the removed system and count a penalty of the new fuel baseline system\n\nSegment 2 - Incremental improvement to the new fuel system: The PA of the new fuel may also claim incremental savings of the new fuel from a baseline system to a high efficiency system",2,"udpated for 2019"]
["Policy","Fuel Switching - Delivered Fuels","The MA 2019-2021 Term Plan allows PAs to offer projects that are fuel blind, meaning that cost effective projects moving from any fuel (delivered or regulated) to any other fuel (delivered or regulated).  As outlined in \"Fuel Switching - Savings and Penalty considerations\", all savings and penalties for each fuel involved in the project must be considered and included in project screening.  ",null,2,"added for 2019"]
["Policy","Fuel Switching - Project Boundries","Savings and penalities for custom fuel switching projects should be calculated at the site level.  Projects should not be screened with the consideration of how the energy was generated or transported to the customer. ",null,2,"added for 2019"]
["Policy","Prescriptive and Upstream Savings","Prescriptive savings should never be included in screening a custom project.  If a custom analysis has been performed on a measure that is also available prescriptively, that may be used in screening.  Upstream eligible measures (but not savings) may be included for screening whole building analyses.","Prescriptive measure savings have been determined cost effective on average, not for a specific customer, and therefore are not appropriate to be used in the custom screening tool.  Some measures that are available for a prescriptive measure may be handled instead through a custom path, using custom savings calculations, and may then be included in a custom project.  However, by following the custom path these measures should not receive a prescriptive rebate.\n\nExample 1 - An Integrated Design project will consider lighting using LPD in their model.  It is possible that measures installed on site will be eligible for upstream or downstream incentives.  While savings may not be double counted, it is appropriate to include the modeled LPD to determine project cost effectiveness.\n\nExample 2 - Deemed savings for low-flow shower heads should not be included in custom project screening. ",2]
["Policy","Allocation of savings and costs","Allocation of cost and savings is done for each individual measure and depends on the Fuel Type selected.  For \"Electric\" and \"Gas\" fuel types, the full cost and savings for the project is allocated to the respective PA.  For \"Dual\" fuel types, the full fuel savings is allocated to the respective PA.  Costs and NEIs are split between the two PAs in proportion to the total fuel benefit of each PA. ","If \"Electric\" is selected, all entered data is allocated to the electric PA, even if there are gas savings or penalties entered.  \n\nIf \"Gas\" is selected, all entered data is allocated to the gas PA, even if there are electric savings or penalties entered.\n\nIf \"Dual\" is selected, all electric (energy and demand) are allocated to the electric PA, and all gas is allocated to the gas PA.  Cost and NEIs are divided between the two PAs depending on the measure's % Benefit split (see Benefit Split definition).",2]
["Policy","Benefit Split","The Benefit Split takes into account the $ benefits (based on avoided costs) of the savings and/or penalties of both electric and gas savings.  The % Electric Benefit is the ratio of the total electric benefits (including energy and capacity) compared to the total benefits of gas and electric savings/penalties.  The % Gas Benefit is the ratio of the total gas benefits compared to the total benefits of gas and electric savings/penalties.  ","If the \"Electric\" fuel type is selected, the Electric Benefit is 100% and the Gas Benefit is 0%.  If the \"Gas\" fuel type is selected the Gas Benefit is 100% and the Electric Benefit is 0%.",2]
["Dual Baseline Explanation","Dual Baseline Concept","The traditional \"retrofit\" project assumes that the savings between the existing, operational system and the installed, high efficiency system are appropriate for the full measure life of the installed measure.  However, in many cases the retrofit occurs on equipment that is already well into its expected useful life.  It is therefore likely that the existing equipment would naturally fail at some point in the future and require the customer to repair or replace it.\n\nA Dual Baseline approach accounts for the natural replacement of the existing equipment through some high level, non project specific assumptions.  The dual baseline methods applied in the 2019 Custom Screening Tool discount future project savings and costs.","The Dual Baseline concept and general baseline framework used for evaluation is given in the MA C&I Baseline Document (2017).  The full framework can be found: http://ma-eeac.org/wordpress/wp-content/uploads/MA-Commercial-and-Industrial-Baseline-Framework.pdf\n\nPlease reach out to the evaluation team at your Program Administrator with questions.",3,"new for 2019"]
["Dual Baseline Explanation","Calculating Dual Baseline for Custom","In order to simpify the delivery and savings development of dual baseline savings and projects, all dual baseline adjustments for custom projects are made at a high level using non-site specific assumptions.  All engineering analysis and TA studies for dual baseline savings should continue to develop First Year Savings estimates per traditional retrofit methods (comparing the existing equipment and installed equipment).  ","The Custom Screening Tool will calculate an Equivalent Measure Life and an adjusted incremental cost value.  Both the Equivalent Measure Life and the adjusted Incremental costs should be tracked for the project.  See definitons below for more information.",3,"new for 2019"]
["Dual Baseline Explanation","First Year Savings","The first year savings of a dual baseline project are calculated as the difference between the consumption of the existing equipment and the consumption of the installed equipment.  This is the same method currently used to calculate savings for a traditional retrofit project.",null,3,"new for 2019"]
["Dual Baseline Explanation","Out Year Savings","The out year savings of a dual baseline project are calculated using an assumed, non-site specific Out Year Factor (OYF).  The Out Year Savings represents the difference between the consumption of a future standard efficiency option and the consumption of the installed, high efficiency equipment.",null,3,"new for 2019"]
["Dual Baseline Explanation","Cost considerations","Each Dual Baseline project has a discount to the savings occuring in the Our Year period, however, there is also a financial benefit to the customer that can be credited to the project.  The Screening Tool will calculate a \"Deferment Credit\" that will be removed from the Proposed Cost, helping to increase the cost effectiveness of the project. ",null,3]
["Dual Baseline Explanation","Measure Life considerations","For tracking purposes, the PAs have decided to use the \"Equivalent Measure Life\" (EML) for dual baseline projects.  The EML is a calculated measure life that will produce dual baseline lifetime savings when multiplied by the first year savings estimate.  The EML will be calculated by the tool and will be slightly lower than the Estimated Useful Life the user selects on the Screening Tool tab.",null,3]
["Dual Baseline Explanation","Tracking Dual Baseline Projects","Dual Baseline projects are tracked in all PA tracking systems by entering the First Year Savings as the project's Gross Savings estimates and enetering the Equivalent Measure Life as the project measure life.","Each PA may have additional tracking requirements",3]
["Screening Tool Tab","Measure Label","Custom short description of measure code.  Will be used as header in other sections of the tool, like the Default Output tab and the Project Notes tab.",null,4]
["Screening Tool Tab","Dual Baseline Applicable?","Indicates if dual baseline adjustments will apply to the ECM based on the selected combination of initiative and measure.  Dual baseline adjustments effectively discount both the costs and the savings associated with the measure in the outer years of the project measure life.  All adjustments are made by the tool and do not require any additional input by the user.","Starting in 2019, the Custom Screening Tool includes considerations for dual baselines for certain Retrofit projects, as identified by the MA Evaluation Framework.  The dual baseline approach accounts for the project baseline at the time of the intial early replacement AND at the time of the assumed natural failure of the existing equipment.  Dual baseline adjustments are made to savings and to costs, often creating a more cost effective measure, although with reduced lifetime savings.",4,"new for 2019"]
["Screening Tool Tab","Include in project (Input)","Select \"1\" to include measure in project level screening.  Select \"0\" to exclude the measure.",null,4]
["Screening Tool Tab","Initiative (Input)","The Initiative selection will inform the measure code options available for project screening.  Initiatives are from the 2019-2021 MAPlan","The list below describes the three Initatives and when each initiative should be selected in the screening tool.\n\nC&I New Building & Major Renovations - This initiative should be selected for all measures and projects installed as part of ground up construction, including additions, and for all major renovations of existing facilities.  \n\nC&I New and Replacement Equipment- This initiative should be selected for measures that are new to an existing facility (such as additional process lines) or for replacement of failed equipment.  These are purchases the customer would need to make with or without program intervention.  \n\nC&I Existing Building Retrofit- This initiative should be selected for measures or projects that address existing, operaple equipment that is generally (not always) younger than the expected useful life of the equipment.  Examples may be an early replacement of an existing piece of equipment or add on controls to existing equipment.  Retrofit measures are optional upgrades for the customer.  Note that as of 2019, retrofit measures may be subject to dual baseline considerations. ",4,"new for 2019"]
["Screening Tool Tab","Fuel  Savings Type (Input)","Selection should be made based on which fuel has savings.  Fuel Savings Type will inform the measure dropdown options and the allocation of costs and savings.","Fuel type should be selected based on positive savings.  For example, a CHP project will have positive electric savings and negative gas savings, so should be entered as an Electric project.  A new EMS system will have electric and gas savings, so should be entered as a Dual project.  ",4]
["Screening Tool Tab","Measure (Input)","Available measures determined by the Project Type and Fuel Savings Type.  If desired measure is not on the drop down menu, please reexamine your prior project selections.  If measure is still not available, please select \"Other\"","The measure drop down options are dependent on the fuel type and project type.  For example, Boiler is not a valid option for Electric projects and Integrated Design is not available for Existing Building Retrofit project types.  ",4]
["Screening Tool Tab","Estimated Useful Life (Input)","The Estimated Useful Life (EUL) is the estimated time, on average, a given type of equipment will be installed and operational.  Note that as of 2019 the measure life options are the same for both Lost Opportunity projects and Retrofit Projects.  The drop down includes default EUL options based on measure and project type selected. ","Available measure life options depend on the measure and core initiative  Measure life options based on evaluation studies.  Note that for dual baseline applicable measures the EUL will not be used directly for screening or tracking, but will be used along with other dual baseline factors to produce an Equivalent Measure Life (EML) for hte project.  The user does not need to update this field based on the dual baseline adjustments",4,"udpated for 2019"]
["Screening Tool Tab","Override Life (Input)","If desired measure life is not available, insert appropriate measure life here.  Please keep in mind the measure life should be the average length of time this type of equipment is installed and operation.",null,4]
["Screening Tool Tab","Proposed Cost (Input)","Proposed costs should include costs associated with the proposed, high efficiency measure.  Should include labor costs for Existing Building Retrofit measures.",null,4]
["Screening Tool Tab","Baseline Cost (Input)","Baseline costs should include costs associated with the baseline efficiency measure.  Baseline costs are zero for Existing Building Retrofit measures. ",null,4]
["Screening Tool Tab","Gross Electric Energy Savings (Input)","Should include gross electric energy changes, whether positive savings or negative penalties.","Gross savings indicates that evaluation results, such as realization rates and Net-to-Gross considerations, are not included in the estimate.  Project should be screened with the best estimate available for site specific energy changes.",4]
["Screening Tool Tab","% Summer On Peak (Input)","% of electric energy savings that occur between 7am-11pm, M-F, June-Sept, excluding holidays.  Period represents approximately 1,380 hours.  ","Default value available on the \"OnPeakDefault\" tab.  Default value calculated if the Measure and Gross Electric Energy savings are entered on the Inputs tab and the % On Peak value is entered on the \"OnPeakDefaults\" tab.",4]
["Screening Tool Tab","% Summer Off Peak (Input)","% of electric energy savings that occur between June-Sept outside of the Summer On Peak Period.  Period represents approximately 1,550 hours.  ","Default value available on the \"OnPeakDefault\" tab.  Default value calculated if the Measure and Gross Electric Energy savings are entered on the Inputs tab and the % On Peak value is entered on the \"OnPeakDefaults\" tab.",4]
["Screening Tool Tab","% Winter On Peak (Input)","% of electric energy savings that occur between 7am-11pm, M-F, Oct-May, excluding holidays.  Period represents approximately 2,600 hours.  ","Default value available on the \"OnPeakDefault\" tab.  Default value calculated if the Measure and Gross Electric Energy savings are entered on the Inputs tab and the % On Peak value is entered on the \"OnPeakDefaults\" tab.",4]
["Screening Tool Tab","% Winter Off Peak (Input)","% of energy savings that occur between Ocy-May outside of the Winter On Peak hours.  Period represents approximately 3,230 hours. ","Default value available on the \"OnPeakDefault\" tab.  Default value calculated if the Measure and Gross Electric Energy savings are entered on the Inputs tab and the % On Peak value is entered on the \"OnPeakDefaults\" tab.",4]
["Screening Tool Tab","Summer Peak kW (Input)","Average kW savings that occur over the ISO-NE Summer Peak Demand period (1pm-5pm, M-F, June-August, holidays excluded).  Note that demand savings are average over the period.  Ensure savings are discounted appropriately for operational shutdowns.","Default value available on the \"OnPeakDefault\" tab.  Default value calculated if the Measure and Gross Electric Energy savings are entered on the Inputs tab and the % On Peak value is entered on the \"OnPeakDefaults\" tab.",4]
["Screening Tool Tab","Winter Peak kW (Input)","Average kW savings that occur over the ISO-NE Winter Peak Demand period (5p-7pm, M-F, Dec and Jan, holidays excluded).  Note that demand savings are average over the period.  Ensure savings are discounted appropriately for operational shutdowns.","Default value available on the \"OnPeakDefault\" tab.  Default value calculated if the Measure and Gross Electric Energy savings are entered on the Inputs tab and the % On Peak value is entered on the \"OnPeakDefaults\" tab.",4]
["Screening Tool Tab","Heating Season (Input)","Gross gas therms usage changes that occur primarily in the heating season (winter months).  Should include gross natural gas energy changes, whether positive savings or negative penalties.","Should be used for projects with changes in gas usage that primarily occur during the winter, such as HVAC controls, boilers, and ERV.",4]
["Screening Tool Tab","Year Round (Input)","Gross gas base load therms usage changes, such as DHW or an industrial process that occurs year round.  Should include gross natural gas energy changes, whether positive savings or negative penalties.","Should be used for projects with changes in gas usage that occur fairly evenly throughout the year, such as DHW and industrial process measures. ",4]
["Screening Tool Tab","Other (Input)","Gross gas therms usage changes that do not fall under the Heating Season or Year Round categories. Should include gross natural gas energy changes, whether positive savings or negative penalties.","Should only be used if gas use changes do not fit either of the other two gas categories.  ",4]
["Screening Tool Tab","#2 Oil (Input)","Gross annual C&I #2 Oil usage changes in MMBtu.  Note the units are in MMBtu, NOT gallons of oil.","Savings for other oil types should be converted to a dollar value and entered as an annual dollar savings.",4]
["Screening Tool Tab","Propane (Input)","Gross annual propane usage changes in MMBtu.",null,4]
["Screening Tool Tab","Water (Input)","Gross annual water changes in gallons.",null,4]
["Screening Tool Tab","Sewer (Input)","Gross annual sewer changes in gallons.  ","Sewer savings are most often equivalent to changes in Water usage.",4]
["Screening Tool Tab","Annual  $ Savings (Input)","Gross annual dollar savings or penalties incurred by the customer.  ","Does not include savings on energy bills.  Typical annual dollar savings include O&M savings for retrofit lighting projects and O&M penalties for CHP projects.",4]
["Screening Tool Tab","One Time $ Savings (Input)","Gross one time dollar savings or penalties incurred by the customer.  ","Does not include cost differences between installed and baseline equipment.  Could include increase in property value due to installation of measure (if site specific value can be quantified and documented).",4]
["Screening Tool Tab","Out Year Factor (OYF)","Assumed value based on the initiative and measure selected for the project.  The OYF only applies to dual baseline measures.  While the first year savings for a retrofit measure compares the consumption of the existing equipment to the consumption of the installed equipment, the out year savings represent the savings between the \"standard equipment\" that may be installed at the natural point of failure of the existing equipment and the installed equipment.  The OYF is applied to the first year savings estimate, provided by the user, to estimate the out year savings.  ","The OYF default is 0.90, which gives a slight discount to the out year savings.  The OYF is not meant to be project specific, but a high level adjustment to account for dual baseline effects in the MA programs.  The OYF is applied to both savings and costs.",4,"new in 2019"]
["Screening Tool Tab","Remaining Useful Life Factor (RULF)","The remaining useful life factor is an a factor used to estimate the number of years until the natural failure of existing equipment.  The RULF is only applicable for dual baseline measurs. ","Assumed to be 1/3 of the installed equipment Estimated Useful Life",4,"new in 2019"]
["Screening Tool Tab","Discount Rate","The Discount Rate is used as an input in calculating the deferment credit related to dual baseline projects.","Assumed to be 20% for all dual baseline measures, which approximates typical C&I customer investment considerations.",4,"new in 2019"]
["Screening Tool Tab","Deferment Credit ($) (Calculated)","The deferment credit for a dual baseline project represents the present value of the defered cost of replacing the existing equipment at its natural failure at some point in the future. ",null,4,"new in 2019"]
["Screening Tool Tab","Equivalent Measure Life (EML) (Calculated)","The EML is an adjusted measure life used to screen and track dual baseline projects.  The EML is calculated based on the Effective Useful Life (selected by the user in the Measure Input section), the OYF, and the RULF.  The measure savings do not affect the EML.  The EML multiplied by the First Year Savings of the project will calculate the appropriate dual baseline lifetime savings.","When screening a project, the custom screening tool will calculate a measure EML and automatically use that value for screening purposes.  The tool user does not need to update the Measure Input for the Estimated Useful Life.  The PA should use the calculated EML in their tracking system when tracking the custom project.",4,"new in 2019"]
["Screening Tool Tab","Adjusted Cost (Calculated)","The Adjusted Costs for a dual baseline project is calculated as the Proposed Cost of the installed equipment minus the Deferment Credit.  The Adjusted Cost is used for the measure BC test and will likely result in a more cost effective project.","When screening a project, the custom screening tool will calculate a the adjusted costs and automatically use that value for screening purposes.  The tool user does not need to update the Measure Input for th measure costs.  The PA should use the calculated adjusted costs in their tracking system when tracking the custom project.",4,"new in 2019"]
["Screening Tool Tab","Lifetime Savings (Calculated)","Total savings of a specific input over the life of the measure. Calculation will use the Override Measure Life if it has been populated. ","Note that when applicable, the lifetime savings will be calculated using the EML (for dual baseline projects)",4]
["Screening Tool Tab","Calculated - Measure BCR (Calculated)","A Benefit Cost Ratio is calculated for each measure.  The Measure BCR is the total Benefit of the measure based on the inputs and associated avoided costs, and the total measure costs.  Positive and negative inputs are considered.",null,4]
["Screening Tool Tab","Project BCR - All Measures (Calculated)","The \"All Measures\" BCR is calculated based on all measures with the Measure Information section populated.  Positive and negative inputs are considered.",null,4]
["Screening Tool Tab","Project BCR - Selected Measures (Calculated)","The \"Selected Measures\" BCR is calculated using only the measures with Measure Information populated and that have a \"Y\" for the \"Include in Project\" field.  Positive and negative inputs are considered.",null,4]
["Screening Tool Tab","Payback Gas (Calculated)","The simple gas payback compares the annual bill savings for natural gas to the measure(s) costs. Annual bill savings based on the rates entered in the \"Project Inputs\" section of the Inputs tab.   Positive and negative inputs considered.","Default gas rate of $0.977/therm for 2019",4]
["Screening Tool Tab","Payback Electric (Calculated)","The simple electric payback compares the annual energy bill savings for electricity to the measure(s) costs.  Does not include demand rate savings. Annual bill savings based on the rates entered in the \"Project Inputs\" section of the Inputs tab.   Positive and negative inputs considered.","Default kWh rate of $0.197/kWh for 2019",4]
["Screening Tool Tab","Payback Total (Calculated)","The simple Total payback includes bill savings for natural gas, electricity, and all entered NEIs.  Annual bill savings based on the rates entered in the \"Project Inputs\" section of the Inputs tab.   Positive and negative inputs considered.",null,4]
["Additional Tabs","ID Weighted Life","Tool that can be used to generate a weighted measure life for screening and tracking an Integrated Design project.  The method used for calculating the Fuel Specific Weighted Measures lives, used for tracking purposes, were updated for 2019 by Whitney Brougher (National Grid) and Ryan Willingham (Eversource). ",null,5,"updated for 2019"]
["Additional Tabs","RI CHP","Inputs specifically used for RI CHP benefit calculations.  No effect on MA screening or on other RI non-CHP measure screening.  Tab collects size of CHP unit and custom distribution benefits if applicable.","RI CHP has special distribution benefit considerations and requires certain additional inputs.",5,"RI ONLY"]
["Additional Tabs","RI CHP - Total Net Nameplate kW (input)","The total net nameplate kW should be the total kW installed for this project minus the rated load of the parasitics","Note that value should be the TOTAL net nameplate kW.  If two units are installed as part of the same project, they should be screened as a single measure with the total net kW input here",5,"RI ONLY"]
["Additional Tabs","RI CHP - Custom Distribution Benefit (input)","For RI CHP units with a net nameplate kW equal to or over 1000 kW, the user must calculate a custom distribution benefit.  For more information on how the value should be developed, please contact the National Grid CHP Program Manager",null,5,"RI ONLY"]
["Additional Tabs","OnPeakDefaults","Tool that calculates Electric Energy Loadshapes and Default Peak Demand savings.  Formulas used in this tab were formerly embedded as automated macros calculations in prior versions of the Dual Fuel Screening Tool.  ","Note - % On Peak value entered directly on this tab instead of on the Inputs tab",5]
["Additional Tabs","Messages","Includes table of all Notes and Errors by ECM.  Describes each Note and Error and indicates how to fix the potential issue.",null,5]
["Additional Tabs","Default Output Long","The Default Output contains all inputs and results from the screening tool in a format that can easily be turned into a PDF for documentation purposes.  Only Selected Measures are included.  Includes all inputs and calculated results, including allocation.",null,5]
["Additional Tabs","Default Output Short","The Default Output contains all inputs and results from the screening tool in a format that can easily be turned into a PDF for documentation purposes.  Only Selected Measures are included. Excludes allocations and ECM notes.",null,5]
["Additional Tabs","Scratch","Tab can be used to track changes to inputs over time.  Measure Input section of the Inputs tab may be copied and pasted (values only) into tables to keep a record of prior screening information",null,5]
["Additional Tabs","Project Notes","Includes space for general and ECM specific notes.  \"Location\" may be used to indicate where a specific ECM is installed.  Location is required to populate the National Grid upload file.  ",null,5]
["Special Policy","Mass Save Whole Buildings Approach ","Mass Save Whole Building Approach policies are determined by the New Construction Program Subcommittee.  These policies finalized in August, 2017.  The NC Subcommittee should be consulted for most recent policy decisions before screening.","Further information about the program policies can be directed to Kim Cullinane, Eversource (kim.cullinane@eversource.com) or Denise Rouleau, National Grid (Denise.Rouleau@nationalgrid.com)",6,"Whole Building Policy needs review and update.  Sent to Kim and Denise on 3/25.  Kim signed off on policies on 4/1/19"]
["Special Policy","Mass Save Whole Buildings Approach ","Certain ECMs should not be included as part of a Whole Building project model and should always be handled prescriptively:\n\n- Compressed Air\n- Kitchen Equipment (gas or electric)\n- ECMs related to parking garages that are physically separate from the modeled building\n- Exterior Lighting\n- Process savings in industrial buildings\n\nNote that Networked Lighting Controls will be captured within energy models and should be considered for Whole Building savings","Excluded measures may be eligible for prescriptive savings. ",6]
["Special Policy","Mass Save Whole Buildings Approach ","Energy models should reflect the design of the building","Include ECMs with verifiable savings, low/no cost and negative incremental cost items.  Include any energy penalties associated with the design (as with high window to wall ratio)",6]
["Special Policy","Mass Save Whole Buildings Approach ","Incremental costs provided by the vendor as part of the TA reports should be based on RS Means or vendor's best estimates based on experience",null,6]
["Special Policy","Mass Save Whole Buildings Approach ","Only the comprehensive run that reflects total interactive energy savings and total incremental costs shall be screened ",null,6]
["Special Policy","Mass Save Whole Buildings Approach ","An individual measure shall not be removed from the calculation because its payback is longer than its measure life",null,6]
["Special Policy","Mass Save Whole Buildings Approach ","An individual measure shall not be removed from the calculation because it individually does not pass the BCR",null,6]
["Special Policy","Mass Save Whole Buildings Approach ","Measures need only be removed from the calculation if the overall project BCR is less than one",null,6]
["Special Policy","Mass Save Whole Buildings Approach ","If an ECM must be removed from the model, the PA will remove it during the screening process",null,6]
["Special Policy","Mass Save Whole Buildings Approach ","Use the Project weighted measure life based on gas and electric savings for screening.  For tracking purposes the PAs should use the appropriate measure life for the savings they are claiming.  See column ot the right for examples.  The goal is to match the savings with the appropriate measure life, so the total lifetime savings of the project is correct, no matter who is claiming the savings.  Policy finalized on 4/28/17 by members of the New Construction Program Subcommittee with input by Whitney Brougher.","1- Project split into Gas and Electric components, claimed seperately.  In this case, the gas savings should be coupled with the Weighted Gas Measure Life, and the Electric savings should be coupled with the Weighted Electric Measure Life.\n\n2- Each measure is claimed individually.  In this case no weighted measure life would be used.  Instead the appropriate individual measure life would be coupled to the corresponding savings.",6]
["Special Policy","Mass Save Whole Buildings Approach ","Screen the project as a single measure using the interactive savings output from the whole building simulation and the ID weighted measure life.   All electric and gas savings and penalties should be included.  ",null,6]
["Special Policy","Mass Save Whole Buildings Approach ","Upstream measures will continue to be included in whole building projects","PAs should do due diligence to ensure no double counting of measure savings. ",6]

{"sheet":"Project Notes","index":17,"n_rows":31,"n_cols":8,"rows_kept":31,"cut":false,"hidden":true,"merged":[[1,0,1,7],[20,7,21,7],[22,7,23,7],[24,7,25,7],[26,7,27,7],[8,7,11,7],[12,7,13,7],[14,7,15,7],[16,7,17,7],[18,7,19,7],[20,1,21,6],[8,1,11,6],[12,1,13,6],[14,1,15,6],[16,1,17,6],[18,1,19,6],[28,7,29,7],[30,7,31,7],[22,1,23,6],[24,1,25,6],[26,1,27,6],[28,1,29,6],[30,1,31,6]]}
["Tab Explanation:"]
["This tab is intended to collect project notes for the whole project and/or for each individual ECM.  Measure location may be used to notate where the measure is physically located, or other identifying information, particularly if a given measure code is used more than once in the screening.  Note for National Grid automated upload, Measure Location must be populated."]
[]
["Project Screened On (from Screening Tool):",{"$f":"#REF!","v":{"$error":"#REF!"}}]
["Project Version #:"]
[]
[]
[null,"Project Notes",null,null,null,null,null,"Measure Location"]
["General"]
[]
[]
[]
[{"$f":"#REF!","v":{"$error":"#REF!"}}]
[]
[{"$f":"#REF!","v":{"$error":"#REF!"}}]
[]
[{"$f":"#REF!","v":{"$error":"#REF!"}}]
[]
[{"$f":"#REF!","v":{"$error":"#REF!"}}]
[]
[{"$f":"#REF!","v":{"$error":"#REF!"}}]
[]
[{"$f":"#REF!","v":{"$error":"#REF!"}}]
[]
[{"$f":"#REF!","v":{"$error":"#REF!"}}]
[]
[{"$f":"#REF!","v":{"$error":"#REF!"}}]
[]
[{"$f":"#REF!","v":{"$error":"#REF!"}}]
[]
[{"$f":"#REF!","v":{"$error":"#REF!"}}]

{"sheet":"Screening","index":18,"n_rows":122,"n_cols":37,"rows_kept":122,"cut":false,"hidden":true,"merged":[]}
["Tab Explanation:"]
["This tab includes all formulas and calculations converting savings into benefits and calculating measure and project results.  "]
["Note on formatting - greyed out columns are not included in project (blank or have \"0\").  Colored text indicates initiative."]
["Last updated by Zack (NGRID) and Saroj (ERS), April 2020. Second Update 12/2020. "]
[]
["PA Value Table:",{"$f":"VLOOKUP(#REF!,#REF!,2,FALSE)","v":{"$error":"#REF!"}}]
[]
["Output Display name:",{"$f":"IF(B6=\"Values_NGRID_RI\",\"Rhode Island 2019 Custom Screening Tool Output\",\"Massachusetts 2019 Custom Screening Tool Output\")","v":{"$error":"#REF!"}}]
[]
[]
[]
[]
[]
[null,null,null,"Index",{"$f":"#REF!","v":{"$error":"#REF!"}},{"$f":"#REF!","v":{"$error":"#REF!"}},{"$f":"#REF!","v":{"$error":"#REF!"}},{"$f":"#REF!","v":{"$error":"#REF!"}},{"$f":"#REF!","v":{"$error":"#REF!"}},{"$f":"#REF!","v":{"$error":"#REF!"}},{"$f":"#REF!","v":{"$error":"#REF!"}},{"$f":"#REF!","v":{"$error":"#REF!"}},{"$f":"#REF!","v":{"$error":"#REF!"}},{"$f":"#REF!","v":{"$error":"#REF!"}},"Selected Measure Project","All Measure Project"]
["Savings","Measure Life (use override life if available)",null,null,{"$f":"(#REF!>0)*#REF!+(#REF!<=0)*#REF!","v":{"$error":"#REF!"}},{"$f":"(#REF!>0)*#REF!+(#REF!<=0)*#REF!","v":{"$error":"#REF!"}},{"$f":"(#REF!>0)*#REF!+(#REF!<=0)*#REF!","v":{"$error":"#REF!"}},{"$f":"(#REF!>0)*#REF!+(#REF!<=0)*#REF!","v":{"$error":"#REF!"}},{"$f":"(#REF!>0)*#REF!+(#REF!<=0)*#REF!","v":{"$error":"#REF!"}},{"$f":"(#REF!>0)*#REF!+(#REF!<=0)*#REF!","v":{"$error":"#REF!"}},{"$f":"(#REF!>0)*#REF!+(#REF!<=0)*#REF!","v":{"$error":"#REF!"}},{"$f":"(#REF!>0)*#REF!+(#REF!<=0)*#REF!","v":{"$error":"#REF!"}},{"$f":"(#REF!>0)*#REF!+(#REF!<=0)*#REF!","v":{"$error":"#REF!"}},{"$f":"(#REF!>0)*#REF!+(#REF!<=0)*#REF!","v":{"$error":"#REF!"}},{"$f":"SUM(E15:N15)","v":{"$error":"#REF!"}},{"$f":"SUM(E15:N15)","v":{"$error":"#REF!"}}]
[null,"CHP Measure?  Use for RI only",null,null,{"$f":"IF(#REF!=\"CHP\",1,0)","v":{"$error":"#REF!"}},{"$f":"IF(#REF!=\"CHP\",1,0)","v":{"$error":"#REF!"}},{"$f":"IF(#REF!=\"CHP\",1,0)","v":{"$error":"#REF!"}},{"$f":"IF(#REF!=\"CHP\",1,0)","v":{"$error":"#REF!"}},{"$f":"IF(#REF!=\"CHP\",1,0)","v":{"$error":"#REF!"}},{"$f":"IF(#REF!=\"CHP\",1,0)","v":{"$error":"#REF!"}},{"$f":"IF(#REF!=\"CHP\",1,0)","v":{"$error":"#REF!"}},{"$f":"IF(#REF!=\"CHP\",1,0)","v":{"$error":"#REF!"}},{"$f":"IF(#REF!=\"CHP\",1,0)","v":{"$error":"#REF!"}},{"$f":"IF(#REF!=\"CHP\",1,0)","v":{"$error":"#REF!"}}]
[null,"State (MA = 1, RI = 0)",null,null,{"$f":"1-(Screening!$B$6=\"Values_NGRID_RI\")","v":{"$error":"#REF!"}},{"$f":"1-(Screening!$B$6=\"Values_NGRID_RI\")","v":{"$error":"#REF!"}},{"$f":"1-(Screening!$B$6=\"Values_NGRID_RI\")","v":{"$error":"#REF!"}},{"$f":"1-(Screening!$B$6=\"Values_NGRID_RI\")","v":{"$error":"#REF!"}},{"$f":"1-(Screening!$B$6=\"Values_NGRID_RI\")","v":{"$error":"#REF!"}},{"$f":"1-(Screening!$B$6=\"Values_NGRID_RI\")","v":{"$error":"#REF!"}},{"$f":"1-(Screening!$B$6=\"Values_NGRID_RI\")","v":{"$error":"#REF!"}},{"$f":"1-(Screening!$B$6=\"Values_NGRID_RI\")","v":{"$error":"#REF!"}},{"$f":"1-(Screening!$B$6=\"Values_NGRID_RI\")","v":{"$error":"#REF!"}},{"$f":"1-(Screening!$B$6=\"Values_NGRID_RI\")","v":{"$error":"#REF!"}}]
[null,"Fuel Type",null,null,{"$f":"#REF!","v":{"$error":"#REF!"}},{"$f":"#REF!","v":{"$error":"#REF!"}},{"$f":"#REF!","v":{"$error":"#REF!"}},{"$f":"#REF!","v":{"$error":"#REF!"}},{"$f":"#REF!","v":{"$error":"#REF!"}},{"$f":"#REF!","v":{"$error":"#REF!"}},{"$f":"#REF!","v":{"$error":"#REF!"}},{"$f":"#REF!","v":{"$error":"#REF!"}},{"$f":"#REF!","v":{"$error":"#REF!"}},{"$f":"#REF!","v":{"$error":"#REF!"}}]
[null,"Included? (Y=1, N=0)",null,null,{"$f":"#REF!","v":{"$error":"#REF!"}},{"$f":"#REF!","v":{"$error":"#REF!"}},{"$f":"#REF!","v":{"$error":"#REF!"}},{"$f":"#REF!","v":{"$error":"#REF!"}},{"$f":"#REF!","v":{"$error":"#REF!"}},{"$f":"#REF!","v":{"$error":"#REF!"}},{"$f":"#REF!","v":{"$error":"#REF!"}},{"$f":"#REF!","v":{"$error":"#REF!"}},{"$f":"#REF!","v":{"$error":"#REF!"}},{"$f":"#REF!","v":{"$error":"#REF!"}}]
[null,"Initiative All","1=Ret (blue), 2=NC (red), 3=EUL (purple), 4=SBS (black)",null,{"$f":"IFERROR(VLOOKUP(#REF!,#REF!,2,FALSE),0)","v":0},{"$f":"IFERROR(VLOOKUP(#REF!,#REF!,2,FALSE),0)","v":0},{"$f":"IFERROR(VLOOKUP(#REF!,#REF!,2,FALSE),0)","v":0},{"$f":"IFERROR(VLOOKUP(#REF!,#REF!,2,FALSE),0)","v":0},{"$f":"IFERROR(VLOOKUP(#REF!,#REF!,2,FALSE),0)","v":0},{"$f":"IFERROR(VLOOKUP(#REF!,#REF!,2,FALSE),0)","v":0},{"$f":"IFERROR(VLOOKUP(#REF!,#REF!,2,FALSE),0)","v":0},{"$f":"IFERROR(VLOOKUP(#REF!,#REF!,2,FALSE),0)","v":0},{"$f":"IFERROR(VLOOKUP(#REF!,#REF!,2,FALSE),0)","v":0},{"$f":"IFERROR(VLOOKUP(#REF!,#REF!,2,FALSE),0)","v":0}]
[null,"Initiative Selected","1=Ret (blue), 2=NC (red), 3=EUL (purple), 4=SBS (black)",null,{"$f":"E19*E20","v":{"$error":"#REF!"}},{"$error":"#REF!"},{"$error":"#REF!"},{"$error":"#REF!"},{"$error":"#REF!"},{"$error":"#REF!"},{"$error":"#REF!"},{"$error":"#REF!"},{"$error":"#REF!"},{"$error":"#REF!"}]
[null,"Electric Energy","Summer On Peak kWh",null,{"$f":"#REF!*#REF!","v":{"$error":"#REF!"}},{"$f":"#REF!*#REF!","v":{"$error":"#REF!"}},{"$f":"#REF!*#REF!","v":{"$error":"#REF!"}},{"$f":"#REF!*#REF!","v":{"$error":"#REF!"}},{"$f":"#REF!*#REF!","v":{"$error":"#REF!"}},{"$f":"#REF!*#REF!","v":{"$error":"#REF!"}},{"$f":"#REF!*#REF!","v":{"$error":"#REF!"}},{"$f":"#REF!*#REF!","v":{"$error":"#REF!"}},{"$f":"#REF!*#REF!","v":{"$error":"#REF!"}},{"$f":"#REF!*#REF!","v":{"$error":"#REF!"}},{"$f":"SUMPRODUCT(E22:N22,$E$19:$N$19)","v":{"$error":"#REF!"}},{"$f":"SUM(E22:N22)","v":{"$error":"#REF!"}}]
[null,null,"Summer Off Peak kWh",null,{"$f":"#REF!*#REF!","v":{"$error":"#REF!"}},{"$f":"#REF!*#REF!","v":{"$error":"#REF!"}},{"$f":"#REF!*#REF!","v":{"$error":"#REF!"}},{"$f":"#REF!*#REF!","v":{"$error":"#REF!"}},{"$f":"#REF!*#REF!","v":{"$error":"#REF!"}},{"$f":"#REF!*#REF!","v":{"$error":"#REF!"}},{"$f":"#REF!*#REF!","v":{"$error":"#REF!"}},{"$f":"#REF!*#REF!","v":{"$error":"#REF!"}},{"$f":"#REF!*#REF!","v":{"$error":"#REF!"}},{"$f":"#REF!*#REF!","v":{"$error":"#REF!"}},{"$error":"#REF!"},{"$error":"#REF!"}]
[null,null,"Winter On Peak kWh",null,{"$f":"#REF!*#REF!","v":{"$error":"#REF!"}},{"$f":"#REF!*#REF!","v":{"$error":"#REF!"}},{"$f":"#REF!*#REF!","v":{"$error":"#REF!"}},{"$f":"#REF!*#REF!","v":{"$error":"#REF!"}},{"$f":"#REF!*#REF!","v":{"$error":"#REF!"}},{"$f":"#REF!*#REF!","v":{"$error":"#REF!"}},{"$f":"#REF!*#REF!","v":{"$error":"#REF!"}},{"$f":"#REF!*#REF!","v":{"$error":"#REF!"}},{"$f":"#REF!*#REF!","v":{"$error":"#REF!"}},{"$f":"#REF!*#REF!","v":{"$error":"#REF!"}},{"$error":"#REF!"},{"$error":"#REF!"}]
[null,null,"Winter Off Peak kWh",null,{"$f":"#REF!*#REF!","v":{"$error":"#REF!"}},{"$f":"#REF!*#REF!","v":{"$error":"#REF!"}},{"$f":"#REF!*#REF!","v":{"$error":"#REF!"}},{"$f":"#REF!*#REF!","v":{"$error":"#REF!"}},{"$f":"#REF!*#REF!","v":{"$error":"#REF!"}},{"$f":"#REF!*#REF!","v":{"$error":"#REF!"}},{"$f":"#REF!*#REF!","v":{"$error":"#REF!"}},{"$f":"#REF!*#REF!","v":{"$error":"#REF!"}},{"$f":"#REF!*#REF!","v":{"$error":"#REF!"}},{"$f":"#REF!*#REF!","v":{"$error":"#REF!"}},{"$error":"#REF!"},{"$error":"#REF!"}]
[null,"Gas","Heating Season MMBtu",null,{"$f":"#REF!/10","v":{"$error":"#REF!"}},{"$f":"#REF!/10","v":{"$error":"#REF!"}},{"$f":"#REF!/10","v":{"$error":"#REF!"}},{"$f":"#REF!/10","v":{"$error":"#REF!"}},{"$f":"#REF!/10","v":{"$error":"#REF!"}},{"$f":"#REF!/10","v":{"$error":"#REF!"}},{"$f":"#REF!/10","v":{"$error":"#REF!"}},{"$f":"#REF!/10","v":{"$error":"#REF!"}},{"$f":"#REF!/10","v":{"$error":"#REF!"}},{"$f":"#REF!/10","v":{"$error":"#REF!"}},{"$error":"#REF!"},{"$error":"#REF!"}]
[null,null,"Year Round MMBtu",null,{"$f":"#REF!/10","v":{"$error":"#REF!"}},{"$f":"#REF!/10","v":{"$error":"#REF!"}},{"$f":"#REF!/10","v":{"$error":"#REF!"}},{"$f":"#REF!/10","v":{"$error":"#REF!"}},{"$f":"#REF!/10","v":{"$error":"#REF!"}},{"$f":"#REF!/10","v":{"$error":"#REF!"}},{"$f":"#REF!/10","v":{"$error":"#REF!"}},{"$f":"#REF!/10","v":{"$error":"#REF!"}},{"$f":"#REF!/10","v":{"$error":"#REF!"}},{"$f":"#REF!/10","v":{"$error":"#REF!"}},{"$error":"#REF!"},{"$error":"#REF!"}]
[null,null,"All MMBtu",null,{"$f":"#REF!/10","v":{"$error":"#REF!"}},{"$f":"#REF!/10","v":{"$error":"#REF!"}},{"$f":"#REF!/10","v":{"$error":"#REF!"}},{"$f":"#REF!/10","v":{"$error":"#REF!"}},{"$f":"#REF!/10","v":{"$error":"#REF!"}},{"$f":"#REF!/10","v":{"$error":"#REF!"}},{"$f":"#REF!/10","v":{"$error":"#REF!"}},{"$f":"#REF!/10","v":{"$error":"#REF!"}},{"$f":"#REF!/10","v":{"$error":"#REF!"}},{"$f":"#REF!/10","v":{"$error":"#REF!"}},{"$error":"#REF!"},{"$error":"#REF!"}]
["Dual Baseline","Factors","Applicable?",null,{"$f":"IFERROR((E15<>\"\")*(E20=1)*E17*VLOOKUP(#REF!,#REF!,2,FALSE),0)","v":0},{"$f":"IFERROR((F15<>\"\")*(F20=1)*F17*VLOOKUP(#REF!,#REF!,2,FALSE),0)","v":0},{"$f":"IFERROR((G15<>\"\")*(G20=1)*G17*VLOOKUP(#REF!,#REF!,2,FALSE),0)","v":0},{"$f":"IFERROR((H15<>\"\")*(H20=1)*H17*VLOOKUP(#REF!,#REF!,2,FALSE),0)","v":0},{"$f":"IFERROR((I15<>\"\")*(I20=1)*I17*VLOOKUP(#REF!,#REF!,2,FALSE),0)","v":0},{"$f":"IFERROR((J15<>\"\")*(J20=1)*J17*VLOOKUP(#REF!,#REF!,2,FALSE),0)","v":0},{"$f":"IFERROR((K15<>\"\")*(K20=1)*K17*VLOOKUP(#REF!,#REF!,2,FALSE),0)","v":0},{"$f":"IFERROR((L15<>\"\")*(L20=1)*L17*VLOOKUP(#REF!,#REF!,2,FALSE),0)","v":0},{"$f":"IFERROR((M15<>\"\")*(M20=1)*M17*VLOOKUP(#REF!,#REF!,2,FALSE),0)","v":0},{"$f":"IFERROR((N15<>\"\")*(N20=1)*N17*VLOOKUP(#REF!,#REF!,2,FALSE),0)","v":0}]
[null,null,"OYF",null,{"$f":"IF(E29=1,VLOOKUP(#REF!,#REF!,4,FALSE),1)","v":1},{"$f":"IF(F29=1,VLOOKUP(#REF!,#REF!,4,FALSE),1)","v":1},{"$f":"IF(G29=1,VLOOKUP(#REF!,#REF!,4,FALSE),1)","v":1},{"$f":"IF(H29=1,VLOOKUP(#REF!,#REF!,4,FALSE),1)","v":1},{"$f":"IF(I29=1,VLOOKUP(#REF!,#REF!,4,FALSE),1)","v":1},{"$f":"IF(J29=1,VLOOKUP(#REF!,#REF!,4,FALSE),1)","v":1},{"$f":"IF(K29=1,VLOOKUP(#REF!,#REF!,4,FALSE),1)","v":1},{"$f":"IF(L29=1,VLOOKUP(#REF!,#REF!,4,FALSE),1)","v":1},{"$f":"IF(M29=1,VLOOKUP(#REF!,#REF!,4,FALSE),1)","v":1},{"$f":"IF(N29=1,VLOOKUP(#REF!,#REF!,4,FALSE),1)","v":1}]
[null,null,"EML_Screening",null,{"$f":"ROUND((RULF*Screening!E15*(1+2*Screening!E30)),1)","v":{"$error":"#NAME?"}},{"$f":"ROUND((RULF*Screening!F15*(1+2*Screening!F30)),1)","v":{"$error":"#NAME?"}},{"$f":"ROUND((RULF*Screening!G15*(1+2*Screening!G30)),1)","v":{"$error":"#NAME?"}},{"$f":"ROUND((RULF*Screening!H15*(1+2*Screening!H30)),1)","v":{"$error":"#NAME?"}},{"$f":"ROUND((RULF*Screening!I15*(1+2*Screening!I30)),1)","v":{"$error":"#NAME?"}},{"$f":"ROUND((RULF*Screening!J15*(1+2*Screening!J30)),1)","v":{"$error":"#NAME?"}},{"$f":"ROUND((RULF*Screening!K15*(1+2*Screening!K30)),1)","v":{"$error":"#NAME?"}},{"$f":"ROUND((RULF*Screening!L15*(1+2*Screening!L30)),1)","v":{"$error":"#NAME?"}},{"$f":"ROUND((RULF*Screening!M15*(1+2*Screening!M30)),1)","v":{"$error":"#NAME?"}}]
[null,null,"EML",null,{"$f":"ROUND((RULF*Screening!E15*(1+2*Screening!E30)),0)","v":{"$error":"#NAME?"}},{"$f":"ROUND((RULF*Screening!F15*(1+2*Screening!F30)),0)","v":{"$error":"#NAME?"}},{"$f":"ROUND((RULF*Screening!G15*(1+2*Screening!G30)),0)","v":{"$error":"#NAME?"}},{"$f":"ROUND((RULF*Screening!H15*(1+2*Screening!H30)),0)","v":{"$error":"#NAME?"}},{"$f":"ROUND((RULF*Screening!I15*(1+2*Screening!I30)),0)","v":{"$error":"#NAME?"}},{"$f":"ROUND((RULF*Screening!J15*(1+2*Screening!J30)),0)","v":{"$error":"#NAME?"}},{"$f":"ROUND((RULF*Screening!K15*(1+2*Screening!K30)),0)","v":{"$error":"#NAME?"}},{"$f":"ROUND((RULF*Screening!L15*(1+2*Screening!L30)),0)","v":{"$error":"#NAME?"}},{"$f":"ROUND((RULF*Screening!M15*(1+2*Screening!M30)),0)","v":{"$error":"#NAME?"}},{"$f":"ROUND((RULF*Screening!N15*(1+2*Screening!N30)),0)","v":{"$error":"#NAME?"}}]
[null,null,"Second Period Costs",null,{"$f":"E29*E30*#REF!","v":{"$error":"#REF!"}},{"$f":"F29*F30*#REF!","v":{"$error":"#REF!"}},{"$f":"G29*G30*#REF!","v":{"$error":"#REF!"}},{"$f":"H29*H30*#REF!","v":{"$error":"#REF!"}},{"$f":"I29*I30*#REF!","v":{"$error":"#REF!"}},{"$f":"J29*J30*#REF!","v":{"$error":"#REF!"}},{"$f":"K29*K30*#REF!","v":{"$error":"#REF!"}},{"$f":"L29*L30*#REF!","v":{"$error":"#REF!"}},{"$f":"M29*M30*#REF!","v":{"$error":"#REF!"}},{"$f":"N29*N30*#REF!","v":{"$error":"#REF!"}}]
[null,null,"Age Existing",null,{"$f":"E29*E15*(1-RULF)","v":{"$error":"#REF!"}},{"$error":"#REF!"},{"$error":"#REF!"},{"$error":"#REF!"},{"$error":"#REF!"},{"$error":"#REF!"},{"$error":"#REF!"},{"$error":"#REF!"},{"$error":"#REF!"},{"$error":"#REF!"}]
[null,null,"RUL",null,{"$f":"E29*E15*RULF","v":{"$error":"#REF!"}},{"$error":"#REF!"},{"$error":"#REF!"},{"$error":"#REF!"},{"$error":"#REF!"},{"$error":"#REF!"},{"$error":"#REF!"},{"$error":"#REF!"},{"$error":"#REF!"},{"$error":"#REF!"}]
[null,null,"Deferment Credit",null,{"$f":"E29*IFERROR(PV(_xludf.DISC,E34,PMT(_xludf.DISC,E15,E33))/((1+_xludf.DISC)^E35),0)*($B$6=\"Values_MA\")","v":{"$error":"#REF!"}},{"$error":"#REF!"},{"$error":"#REF!"},{"$error":"#REF!"},{"$error":"#REF!"},{"$error":"#REF!"},{"$error":"#REF!"},{"$error":"#REF!"},{"$error":"#REF!"},{"$error":"#REF!"}]
[null,"Electric Energy Benefits","Summer On Peak ",9,{"$f":"E22*IFERROR(VLOOKUP(E$32,INDIRECT($B$6),$D37,FALSE),0)","v":{"$error":"#REF!"}},{"$f":"F22*IFERROR(VLOOKUP(F$32,INDIRECT($B$6),$D37,FALSE),0)","v":{"$error":"#REF!"}},{"$error":"#REF!"},{"$error":"#REF!"},{"$error":"#REF!"},{"$error":"#REF!"},{"$error":"#REF!"},{"$error":"#REF!"},{"$error":"#REF!"},{"$error":"#REF!"},{"$f":"SUMPRODUCT(E37:N37,$E$19:$N$19)","v":{"$error":"#REF!"}},{"$f":"SUM(E37:N37)","v":{"$error":"#REF!"}}]
[null,"(2019 $)","Summer Off Peak ",10,{"$f":"E23*IFERROR(VLOOKUP(E$32,INDIRECT($B$6),$D38,FALSE),0)","v":{"$error":"#REF!"}},{"$error":"#REF!"},{"$error":"#REF!"},{"$error":"#REF!"},{"$error":"#REF!"},{"$error":"#REF!"},{"$error":"#REF!"},{"$error":"#REF!"},{"$error":"#REF!"},{"$error":"#REF!"},{"$f":"SUMPRODUCT(E38:N38,$E$19:$N$19)","v":{"$error":"#REF!"}},{"$f":"SUM(E38:N38)","v":{"$error":"#REF!"}}]
[null,null,"Winter On Peak  ",7,{"$f":"E24*IFERROR(VLOOKUP(E$32,INDIRECT($B$6),$D39,FALSE),0)","v":{"$error":"#REF!"}},{"$error":"#REF!"},{"$error":"#REF!"},{"$error":"#REF!"},{"$error":"#REF!"},{"$error":"#REF!"},{"$error":"#REF!"},{"$error":"#REF!"},{"$error":"#REF!"},{"$error":"#REF!"},{"$f":"SUMPRODUCT(E39:N39,$E$19:$N$19)","v":{"$error":"#REF!"}},{"$f":"SUM(E39:N39)","v":{"$error":"#REF!"}}]
[null,null,"Winter Off Peak ",8,{"$f":"E25*IFERROR(VLOOKUP(E$32,INDIRECT($B$6),$D40,FALSE),0)","v":{"$error":"#REF!"}},{"$error":"#REF!"},{"$error":"#REF!"},{"$error":"#REF!"},{"$error":"#REF!"},{"$error":"#REF!"},{"$error":"#REF!"},{"$error":"#REF!"},{"$error":"#REF!"},{"$error":"#REF!"},{"$f":"SUMPRODUCT(E40:N40,$E$19:$N$19)","v":{"$error":"#REF!"}},{"$f":"SUM(E40:N40)","v":{"$error":"#REF!"}}]
[null,null,"Energy Cross DRIPE",15,{"$f":"SUM(E22:E23)*IFERROR(VLOOKUP(E$32,INDIRECT($B$6),$D41,FALSE),0)","v":{"$error":"#REF!"}},{"$error":"#REF!"},{"$error":"#REF!"},{"$error":"#REF!"},{"$error":"#REF!"},{"$error":"#REF!"},{"$error":"#REF!"},{"$error":"#REF!"},{"$error":"#REF!"},{"$error":"#REF!"}]
[null,null,"Summer On Peak DRIPE",13,{"$f":"E22*IFERROR(VLOOKUP(E$32,INDIRECT($B$6),$D42,FALSE),0)","v":{"$error":"#REF!"}},{"$error":"#REF!"},{"$error":"#REF!"},{"$error":"#REF!"},{"$error":"#REF!"},{"$error":"#REF!"},{"$error":"#REF!"},{"$error":"#REF!"},{"$error":"#REF!"},{"$error":"#REF!"},{"$f":"SUMPRODUCT(E42:N42,$E$19:$N$19)","v":{"$error":"#REF!"}},{"$f":"SUM(E42:N42)","v":{"$error":"#REF!"}}]
[null,null,"Summer Off Peak DRIPE",14,{"$f":"E23*IFERROR(VLOOKUP(E$32,INDIRECT($B$6),$D43,FALSE),0)","v":{"$error":"#REF!"}},{"$error":"#REF!"},{"$error":"#REF!"},{"$error":"#REF!"},{"$error":"#REF!"},{"$error":"#REF!"},{"$error":"#REF!"},{"$error":"#REF!"},{"$error":"#REF!"},{"$error":"#REF!"},{"$error":"#REF!"},{"$error":"#REF!"}]
[null,null,"Winter On Peak DRIPE",11,{"$f":"E24*IFERROR(VLOOKUP(E$32,INDIRECT($B$6),$D44,FALSE),0)","v":{"$error":"#REF!"}},{"$error":"#REF!"},{"$error":"#REF!"},{"$error":"#REF!"},{"$error":"#REF!"},{"$error":"#REF!"},{"$error":"#REF!"},{"$error":"#REF!"},{"$error":"#REF!"},{"$error":"#REF!"},{"$error":"#REF!"},{"$error":"#REF!"}]
[null,null,"Winter Off Peak DRIPE",12,{"$f":"E25*IFERROR(VLOOKUP(E$32,INDIRECT($B$6),$D45,FALSE),0)","v":{"$error":"#REF!"}},{"$error":"#REF!"},{"$error":"#REF!"},{"$error":"#REF!"},{"$error":"#REF!"},{"$error":"#REF!"},{"$error":"#REF!"},{"$error":"#REF!"},{"$error":"#REF!"},{"$error":"#REF!"},{"$error":"#REF!"},{"$error":"#REF!"}]
[null,"Electric Capacity Benefits","Capacity DRIPE",4,{"$f":"#REF!*IFERROR(VLOOKUP(E$32,INDIRECT($B$6),$D46,FALSE),0)","v":{"$error":"#REF!"}},{"$f":"#REF!*IFERROR(VLOOKUP(F$32,INDIRECT($B$6),$D46,FALSE),0)","v":{"$error":"#REF!"}},{"$f":"#REF!*IFERROR(VLOOKUP(G$32,INDIRECT($B$6),$D46,FALSE),0)","v":{"$error":"#REF!"}},{"$f":"#REF!*IFERROR(VLOOKUP(H$32,INDIRECT($B$6),$D46,FALSE),0)","v":{"$error":"#REF!"}},{"$f":"#REF!*IFERROR(VLOOKUP(I$32,INDIRECT($B$6),$D46,FALSE),0)","v":{"$error":"#REF!"}},{"$f":"#REF!*IFERROR(VLOOKUP(J$32,INDIRECT($B$6),$D46,FALSE),0)","v":{"$error":"#REF!"}},{"$f":"#REF!*IFERROR(VLOOKUP(K$32,INDIRECT($B$6),$D46,FALSE),0)","v":{"$error":"#REF!"}},{"$f":"#REF!*IFERROR(VLOOKUP(L$32,INDIRECT($B$6),$D46,FALSE),0)","v":{"$error":"#REF!"}},{"$f":"#REF!*IFERROR(VLOOKUP(M$32,INDIRECT($B$6),$D46,FALSE),0)","v":{"$error":"#REF!"}},{"$f":"#REF!*IFERROR(VLOOKUP(N$32,INDIRECT($B$6),$D46,FALSE),0)","v":{"$error":"#REF!"}},{"$error":"#REF!"},{"$error":"#REF!"}]
[null,"(2019 $)","Transmission",5,{"$f":"#REF!*IFERROR(VLOOKUP(E$32,INDIRECT($B$6),$D47,FALSE),0)","v":{"$error":"#REF!"}},{"$f":"#REF!*IFERROR(VLOOKUP(F$32,INDIRECT($B$6),$D47,FALSE),0)","v":{"$error":"#REF!"}},{"$f":"#REF!*IFERROR(VLOOKUP(G$32,INDIRECT($B$6),$D47,FALSE),0)","v":{"$error":"#REF!"}},{"$f":"#REF!*IFERROR(VLOOKUP(H$32,INDIRECT($B$6),$D47,FALSE),0)","v":{"$error":"#REF!"}},{"$f":"#REF!*IFERROR(VLOOKUP(I$32,INDIRECT($B$6),$D47,FALSE),0)","v":{"$error":"#REF!"}},{"$f":"#REF!*IFERROR(VLOOKUP(J$32,INDIRECT($B$6),$D47,FALSE),0)","v":{"$error":"#REF!"}},{"$f":"#REF!*IFERROR(VLOOKUP(K$32,INDIRECT($B$6),$D47,FALSE),0)","v":{"$error":"#REF!"}},{"$f":"#REF!*IFERROR(VLOOKUP(L$32,INDIRECT($B$6),$D47,FALSE),0)","v":{"$error":"#REF!"}},{"$f":"#REF!*IFERROR(VLOOKUP(M$32,INDIRECT($B$6),$D47,FALSE),0)","v":{"$error":"#REF!"}},{"$f":"#REF!*IFERROR(VLOOKUP(N$32,INDIRECT($B$6),$D47,FALSE),0)","v":{"$error":"#REF!"}},{"$error":"#REF!"},{"$error":"#REF!"}]
[null,null,"Distribution",45,{"$f":"#REF!*IFERROR(VLOOKUP(E$32,INDIRECT($B$6),$D48,FALSE),0)","v":{"$error":"#REF!"}},{"$f":"#REF!*IFERROR(VLOOKUP(F$32,INDIRECT($B$6),$D48,FALSE),0)","v":{"$error":"#REF!"}},{"$f":"#REF!*IFERROR(VLOOKUP(G$32,INDIRECT($B$6),$D48,FALSE),0)","v":{"$error":"#REF!"}},{"$f":"#REF!*IFERROR(VLOOKUP(H$32,INDIRECT($B$6),$D48,FALSE),0)","v":{"$error":"#REF!"}},{"$f":"#REF!*IFERROR(VLOOKUP(I$32,INDIRECT($B$6),$D48,FALSE),0)","v":{"$error":"#REF!"}},{"$f":"#REF!*IFERROR(VLOOKUP(J$32,INDIRECT($B$6),$D48,FALSE),0)","v":{"$error":"#REF!"}},{"$f":"#REF!*IFERROR(VLOOKUP(K$32,INDIRECT($B$6),$D48,FALSE),0)","v":{"$error":"#REF!"}},{"$f":"#REF!*IFERROR(VLOOKUP(L$32,INDIRECT($B$6),$D48,FALSE),0)","v":{"$error":"#REF!"}},{"$f":"#REF!*IFERROR(VLOOKUP(M$32,INDIRECT($B$6),$D48,FALSE),0)","v":{"$error":"#REF!"}},{"$f":"#REF!*IFERROR(VLOOKUP(N$32,INDIRECT($B$6),$D48,FALSE),0)","v":{"$error":"#REF!"}},{"$error":"#REF!"},{"$error":"#REF!"},null,null,null,null,null,null,null,null,null,null,null,null,null,null,null,null,null,null,null,null,3.7842318642258434E-2]
[null,null,"Capacity",2,{"$f":"#REF!*IFERROR(VLOOKUP(E$32,INDIRECT($B$6),$D49,FALSE),0)","v":{"$error":"#REF!"}},{"$f":"#REF!*IFERROR(VLOOKUP(F$32,INDIRECT($B$6),$D49,FALSE),0)","v":{"$error":"#REF!"}},{"$f":"#REF!*IFERROR(VLOOKUP(G$32,INDIRECT($B$6),$D49,FALSE),0)","v":{"$error":"#REF!"}},{"$f":"#REF!*IFERROR(VLOOKUP(H$32,INDIRECT($B$6),$D49,FALSE),0)","v":{"$error":"#REF!"}},{"$f":"#REF!*IFERROR(VLOOKUP(I$32,INDIRECT($B$6),$D49,FALSE),0)","v":{"$error":"#REF!"}},{"$f":"#REF!*IFERROR(VLOOKUP(J$32,INDIRECT($B$6),$D49,FALSE),0)","v":{"$error":"#REF!"}},{"$f":"#REF!*IFERROR(VLOOKUP(K$32,INDIRECT($B$6),$D49,FALSE),0)","v":{"$error":"#REF!"}},{"$f":"#REF!*IFERROR(VLOOKUP(L$32,INDIRECT($B$6),$D49,FALSE),0)","v":{"$error":"#REF!"}},{"$f":"#REF!*IFERROR(VLOOKUP(M$32,INDIRECT($B$6),$D49,FALSE),0)","v":{"$error":"#REF!"}},{"$f":"#REF!*IFERROR(VLOOKUP(N$32,INDIRECT($B$6),$D49,FALSE),0)","v":{"$error":"#REF!"}},{"$error":"#REF!"},{"$error":"#REF!"},null,null,null,null,null,null,null,null,null,null,null,null,null,null,null,null,null,null,null,null,0.10653135414093118]
[null,null,"Reliability",6,{"$f":"#REF!*IFERROR(VLOOKUP(E$32,INDIRECT($B$6),$D50,FALSE),0)","v":{"$error":"#REF!"}},{"$f":"#REF!*IFERROR(VLOOKUP(F$32,INDIRECT($B$6),$D50,FALSE),0)","v":{"$error":"#REF!"}},{"$f":"#REF!*IFERROR(VLOOKUP(G$32,INDIRECT($B$6),$D50,FALSE),0)","v":{"$error":"#REF!"}},{"$f":"#REF!*IFERROR(VLOOKUP(H$32,INDIRECT($B$6),$D50,FALSE),0)","v":{"$error":"#REF!"}},{"$f":"#REF!*IFERROR(VLOOKUP(I$32,INDIRECT($B$6),$D50,FALSE),0)","v":{"$error":"#REF!"}},{"$f":"#REF!*IFERROR(VLOOKUP(J$32,INDIRECT($B$6),$D50,FALSE),0)","v":{"$error":"#REF!"}},{"$f":"#REF!*IFERROR(VLOOKUP(K$32,INDIRECT($B$6),$D50,FALSE),0)","v":{"$error":"#REF!"}},{"$f":"#REF!*IFERROR(VLOOKUP(L$32,INDIRECT($B$6),$D50,FALSE),0)","v":{"$error":"#REF!"}},{"$f":"#REF!*IFERROR(VLOOKUP(M$32,INDIRECT($B$6),$D50,FALSE),0)","v":{"$error":"#REF!"}},{"$f":"#REF!*IFERROR(VLOOKUP(N$32,INDIRECT($B$6),$D50,FALSE),0)","v":{"$error":"#REF!"}},{"$error":"#REF!"},{"$error":"#REF!"},null,null,null,null,null,null,null,null,null,null,null,null,null,null,null,null,null,null,null,null,0.19479756614179608]
[null,"Gas Benefits","Gas Heating",17,{"$f":"E26*IFERROR(VLOOKUP(E$32,INDIRECT($B$6),$D51,FALSE),0)","v":{"$error":"#REF!"}},{"$error":"#REF!"},{"$error":"#REF!"},{"$error":"#REF!"},{"$error":"#REF!"},{"$error":"#REF!"},{"$error":"#REF!"},{"$error":"#REF!"},{"$error":"#REF!"},{"$error":"#REF!"},{"$error":"#REF!"},{"$error":"#REF!"},null,null,null,null,null,null,null,null,null,null,null,null,null,null,null,null,null,null,null,null,0.28206483426233003]
[null,"(2019 $)","Gas Year Round/Non-heating",18,{"$f":"E27*IFERROR(VLOOKUP(E$32,INDIRECT($B$6),$D52,FALSE),0)","v":{"$error":"#REF!"}},{"$error":"#REF!"},{"$error":"#REF!"},{"$error":"#REF!"},{"$error":"#REF!"},{"$error":"#REF!"},{"$error":"#REF!"},{"$error":"#REF!"},{"$error":"#REF!"},{"$error":"#REF!"},{"$error":"#REF!"},{"$error":"#REF!"},null,null,null,null,null,null,null,null,null,null,null,null,null,null,null,null,null,null,null,null,0.34734387468900824]
[null,null,"Gas All/other",19,{"$f":"E28*IFERROR(VLOOKUP(E$32,INDIRECT($B$6),$D53,FALSE),0)","v":{"$error":"#REF!"}},{"$error":"#REF!"},{"$error":"#REF!"},{"$error":"#REF!"},{"$error":"#REF!"},{"$error":"#REF!"},{"$error":"#REF!"},{"$error":"#REF!"},{"$error":"#REF!"},{"$error":"#REF!"}]
[null,null,"Gas Supply DRIPE",16,{"$f":"SUM(E26:E28)*IFERROR(VLOOKUP(E$32,INDIRECT($B$6),$D54,FALSE),0)","v":{"$error":"#REF!"}},{"$error":"#REF!"},{"$error":"#REF!"},{"$error":"#REF!"},{"$error":"#REF!"},{"$error":"#REF!"},{"$error":"#REF!"},{"$error":"#REF!"},{"$error":"#REF!"},{"$error":"#REF!"},{"$f":"SUMPRODUCT(E54:N54,$E$19:$N$19)","v":{"$error":"#REF!"}},{"$f":"SUM(E54:N54)","v":{"$error":"#REF!"}},null,null,null,null,null,null,null,null,null,null,null,null,null,null,null,null,null,null,null,null,0.39678746061971787]
[null,"Non-Electric Non-Gas","Oil ",20,{"$f":"#REF!*IFERROR(VLOOKUP(E$32,INDIRECT($B$6),$D55,FALSE),0)","v":{"$error":"#REF!"}},{"$f":"#REF!*IFERROR(VLOOKUP(F$32,INDIRECT($B$6),$D55,FALSE),0)","v":{"$error":"#REF!"}},{"$f":"#REF!*IFERROR(VLOOKUP(G$32,INDIRECT($B$6),$D55,FALSE),0)","v":{"$error":"#REF!"}},{"$f":"#REF!*IFERROR(VLOOKUP(H$32,INDIRECT($B$6),$D55,FALSE),0)","v":{"$error":"#REF!"}},{"$f":"#REF!*IFERROR(VLOOKUP(I$32,INDIRECT($B$6),$D55,FALSE),0)","v":{"$error":"#REF!"}},{"$f":"#REF!*IFERROR(VLOOKUP(J$32,INDIRECT($B$6),$D55,FALSE),0)","v":{"$error":"#REF!"}},{"$f":"#REF!*IFERROR(VLOOKUP(K$32,INDIRECT($B$6),$D55,FALSE),0)","v":{"$error":"#REF!"}},{"$f":"#REF!*IFERROR(VLOOKUP(L$32,INDIRECT($B$6),$D55,FALSE),0)","v":{"$error":"#REF!"}},{"$f":"#REF!*IFERROR(VLOOKUP(M$32,INDIRECT($B$6),$D55,FALSE),0)","v":{"$error":"#REF!"}},{"$f":"#REF!*IFERROR(VLOOKUP(N$32,INDIRECT($B$6),$D55,FALSE),0)","v":{"$error":"#REF!"}},{"$error":"#REF!"},{"$error":"#REF!"},null,null,null,null,null,null,null,null,null,null,null,null,null,null,null,null,null,null,null,null,0.43585808363375989]
[null,"(2019 $)","Propane ",21,{"$f":"#REF!*IFERROR(VLOOKUP(E$32,INDIRECT($B$6),$D56,FALSE),0)","v":{"$error":"#REF!"}},{"$f":"#REF!*IFERROR(VLOOKUP(F$32,INDIRECT($B$6),$D56,FALSE),0)","v":{"$error":"#REF!"}},{"$f":"#REF!*IFERROR(VLOOKUP(G$32,INDIRECT($B$6),$D56,FALSE),0)","v":{"$error":"#REF!"}},{"$f":"#REF!*IFERROR(VLOOKUP(H$32,INDIRECT($B$6),$D56,FALSE),0)","v":{"$error":"#REF!"}},{"$f":"#REF!*IFERROR(VLOOKUP(I$32,INDIRECT($B$6),$D56,FALSE),0)","v":{"$error":"#REF!"}},{"$f":"#REF!*IFERROR(VLOOKUP(J$32,INDIRECT($B$6),$D56,FALSE),0)","v":{"$error":"#REF!"}},{"$f":"#REF!*IFERROR(VLOOKUP(K$32,INDIRECT($B$6),$D56,FALSE),0)","v":{"$error":"#REF!"}},{"$f":"#REF!*IFERROR(VLOOKUP(L$32,INDIRECT($B$6),$D56,FALSE),0)","v":{"$error":"#REF!"}},{"$f":"#REF!*IFERROR(VLOOKUP(M$32,INDIRECT($B$6),$D56,FALSE),0)","v":{"$error":"#REF!"}},{"$f":"#REF!*IFERROR(VLOOKUP(N$32,INDIRECT($B$6),$D56,FALSE),0)","v":{"$error":"#REF!"}},{"$error":"#REF!"},{"$error":"#REF!"},null,null,null,null,null,null,null,null,null,null,null,null,null,null,null,null,null,null,null,null,0.46544422618285858]
[null,null,"Water ",22,{"$f":"#REF!*IFERROR(VLOOKUP(E$32,INDIRECT($B$6),$D57,FALSE),0)","v":{"$error":"#REF!"}},{"$f":"#REF!*IFERROR(VLOOKUP(F$32,INDIRECT($B$6),$D57,FALSE),0)","v":{"$error":"#REF!"}},{"$f":"#REF!*IFERROR(VLOOKUP(G$32,INDIRECT($B$6),$D57,FALSE),0)","v":{"$error":"#REF!"}},{"$f":"#REF!*IFERROR(VLOOKUP(H$32,INDIRECT($B$6),$D57,FALSE),0)","v":{"$error":"#REF!"}},{"$f":"#REF!*IFERROR(VLOOKUP(I$32,INDIRECT($B$6),$D57,FALSE),0)","v":{"$error":"#REF!"}},{"$f":"#REF!*IFERROR(VLOOKUP(J$32,INDIRECT($B$6),$D57,FALSE),0)","v":{"$error":"#REF!"}},{"$f":"#REF!*IFERROR(VLOOKUP(K$32,INDIRECT($B$6),$D57,FALSE),0)","v":{"$error":"#REF!"}},{"$f":"#REF!*IFERROR(VLOOKUP(L$32,INDIRECT($B$6),$D57,FALSE),0)","v":{"$error":"#REF!"}},{"$f":"#REF!*IFERROR(VLOOKUP(M$32,INDIRECT($B$6),$D57,FALSE),0)","v":{"$error":"#REF!"}},{"$f":"#REF!*IFERROR(VLOOKUP(N$32,INDIRECT($B$6),$D57,FALSE),0)","v":{"$error":"#REF!"}},{"$error":"#REF!"},{"$error":"#REF!"},null,null,null,null,null,null,null,null,null,null,null,null,null,null,null,null,null,null,null,null,0.48002829438685335]
[null,null,"Waste Water ",23,{"$f":"#REF!*IFERROR(VLOOKUP(E$32,INDIRECT($B$6),$D58,FALSE),0)","v":{"$error":"#REF!"}},{"$f":"#REF!*IFERROR(VLOOKUP(F$32,INDIRECT($B$6),$D58,FALSE),0)","v":{"$error":"#REF!"}},{"$f":"#REF!*IFERROR(VLOOKUP(G$32,INDIRECT($B$6),$D58,FALSE),0)","v":{"$error":"#REF!"}},{"$f":"#REF!*IFERROR(VLOOKUP(H$32,INDIRECT($B$6),$D58,FALSE),0)","v":{"$error":"#REF!"}},{"$f":"#REF!*IFERROR(VLOOKUP(I$32,INDIRECT($B$6),$D58,FALSE),0)","v":{"$error":"#REF!"}},{"$f":"#REF!*IFERROR(VLOOKUP(J$32,INDIRECT($B$6),$D58,FALSE),0)","v":{"$error":"#REF!"}},{"$f":"#REF!*IFERROR(VLOOKUP(K$32,INDIRECT($B$6),$D58,FALSE),0)","v":{"$error":"#REF!"}},{"$f":"#REF!*IFERROR(VLOOKUP(L$32,INDIRECT($B$6),$D58,FALSE),0)","v":{"$error":"#REF!"}},{"$f":"#REF!*IFERROR(VLOOKUP(M$32,INDIRECT($B$6),$D58,FALSE),0)","v":{"$error":"#REF!"}},{"$f":"#REF!*IFERROR(VLOOKUP(N$32,INDIRECT($B$6),$D58,FALSE),0)","v":{"$error":"#REF!"}},{"$error":"#REF!"},{"$error":"#REF!"},null,null,null,null,null,null,null,null,null,null,null,null,null,null,null,null,null,null,null,null,0.48910679030153892]
[null,null,"Annual NEI ",24,{"$f":"#REF!*IFERROR(VLOOKUP(E$32,INDIRECT($B$6),$D59,FALSE),0)","v":{"$error":"#REF!"}},{"$f":"#REF!*IFERROR(VLOOKUP(F$32,INDIRECT($B$6),$D59,FALSE),0)","v":{"$error":"#REF!"}},{"$f":"#REF!*IFERROR(VLOOKUP(G$32,INDIRECT($B$6),$D59,FALSE),0)","v":{"$error":"#REF!"}},{"$f":"#REF!*IFERROR(VLOOKUP(H$32,INDIRECT($B$6),$D59,FALSE),0)","v":{"$error":"#REF!"}},{"$f":"#REF!*IFERROR(VLOOKUP(I$32,INDIRECT($B$6),$D59,FALSE),0)","v":{"$error":"#REF!"}},{"$f":"#REF!*IFERROR(VLOOKUP(J$32,INDIRECT($B$6),$D59,FALSE),0)","v":{"$error":"#REF!"}},{"$f":"#REF!*IFERROR(VLOOKUP(K$32,INDIRECT($B$6),$D59,FALSE),0)","v":{"$error":"#REF!"}},{"$f":"#REF!*IFERROR(VLOOKUP(L$32,INDIRECT($B$6),$D59,FALSE),0)","v":{"$error":"#REF!"}},{"$f":"#REF!*IFERROR(VLOOKUP(M$32,INDIRECT($B$6),$D59,FALSE),0)","v":{"$error":"#REF!"}},{"$f":"#REF!*IFERROR(VLOOKUP(N$32,INDIRECT($B$6),$D59,FALSE),0)","v":{"$error":"#REF!"}},{"$error":"#REF!"},{"$error":"#REF!"},null,null,null,null,null,null,null,null,null,null,null,null,null,null,null,null,null,null,null,null,0.48910679030153892]
[null,null,"One time NEI ",25,{"$f":"#REF!*IFERROR(VLOOKUP(E$32,INDIRECT($B$6),$D60,FALSE),0)","v":{"$error":"#REF!"}},{"$f":"#REF!*IFERROR(VLOOKUP(F$32,INDIRECT($B$6),$D60,FALSE),0)","v":{"$error":"#REF!"}},{"$f":"#REF!*IFERROR(VLOOKUP(G$32,INDIRECT($B$6),$D60,FALSE),0)","v":{"$error":"#REF!"}},{"$f":"#REF!*IFERROR(VLOOKUP(H$32,INDIRECT($B$6),$D60,FALSE),0)","v":{"$error":"#REF!"}},{"$f":"#REF!*IFERROR(VLOOKUP(I$32,INDIRECT($B$6),$D60,FALSE),0)","v":{"$error":"#REF!"}},{"$f":"#REF!*IFERROR(VLOOKUP(J$32,INDIRECT($B$6),$D60,FALSE),0)","v":{"$error":"#REF!"}},{"$f":"#REF!*IFERROR(VLOOKUP(K$32,INDIRECT($B$6),$D60,FALSE),0)","v":{"$error":"#REF!"}},{"$f":"#REF!*IFERROR(VLOOKUP(L$32,INDIRECT($B$6),$D60,FALSE),0)","v":{"$error":"#REF!"}},{"$f":"#REF!*IFERROR(VLOOKUP(M$32,INDIRECT($B$6),$D60,FALSE),0)","v":{"$error":"#REF!"}},{"$f":"#REF!*IFERROR(VLOOKUP(N$32,INDIRECT($B$6),$D60,FALSE),0)","v":{"$error":"#REF!"}},{"$error":"#REF!"},{"$error":"#REF!"},null,null,null,null,null,null,null,null,null,null,null,null,null,null,null,null,null,null,null,null,0.48910679030153892]
[null,"GWSA Benefits - MA only","Summer On Peak Compliance",36,{"$f":"E22*IFERROR(VLOOKUP(E$32,INDIRECT($B$6),$D61,FALSE),0)","v":{"$error":"#REF!"}},{"$error":"#REF!"},{"$error":"#REF!"},{"$error":"#REF!"},{"$error":"#REF!"},{"$error":"#REF!"},{"$error":"#REF!"},{"$error":"#REF!"},{"$error":"#REF!"},{"$error":"#REF!"},null,null,null,null,null,null,null,null,null,null,null,null,null,null,null,null,null,null,null,null,null,null,0.48910679030153892]
[null,"(2019 $)","Summer Off Peak Compliance",37,{"$f":"E23*IFERROR(VLOOKUP(E$32,INDIRECT($B$6),$D62,FALSE),0)","v":{"$error":"#REF!"}},{"$error":"#REF!"},{"$error":"#REF!"},{"$error":"#REF!"},{"$error":"#REF!"},{"$error":"#REF!"},{"$error":"#REF!"},{"$error":"#REF!"},{"$error":"#REF!"},{"$error":"#REF!"},null,null,null,null,null,null,null,null,null,null,null,null,null,null,null,null,null,null,null,null,null,null,0.48910679030153892]
[null,null,"Winter On Peak Compliance",34,{"$f":"E24*IFERROR(VLOOKUP(E$32,INDIRECT($B$6),$D63,FALSE),0)","v":{"$error":"#REF!"}},{"$error":"#REF!"},{"$error":"#REF!"},{"$error":"#REF!"},{"$error":"#REF!"},{"$error":"#REF!"},{"$error":"#REF!"},{"$error":"#REF!"},{"$error":"#REF!"},{"$error":"#REF!"},null,null,null,null,null,null,null,null,null,null,null,null,null,null,null,null,null,null,null,null,null,null,0.48910679030153892]
[null,null,"Winter Off Peak Compliance",35,{"$f":"E25*IFERROR(VLOOKUP(E$32,INDIRECT($B$6),$D64,FALSE),0)","v":{"$error":"#REF!"}},{"$error":"#REF!"},{"$error":"#REF!"},{"$error":"#REF!"},{"$error":"#REF!"},{"$error":"#REF!"},{"$error":"#REF!"},{"$error":"#REF!"},{"$error":"#REF!"},{"$error":"#REF!"},null,null,null,null,null,null,null,null,null,null,null,null,null,null,null,null,null,null,null,null,null,null,0.48910679030153892]
[null,null,"Gas Compliance",39,{"$f":"SUM(E26:E28)*IFERROR(VLOOKUP(E$32,INDIRECT($B$6),$D65,FALSE),0)","v":{"$error":"#REF!"}},{"$error":"#REF!"},{"$error":"#REF!"},{"$error":"#REF!"},{"$error":"#REF!"},{"$error":"#REF!"},{"$error":"#REF!"},{"$error":"#REF!"},{"$error":"#REF!"},{"$error":"#REF!"},null,null,null,null,null,null,null,null,null,null,null,null,null,null,null,null,null,null,null,null,null,null,0.48910679030153892]
[null,null,"Oil Compliance",43,{"$f":"#REF!*IFERROR(VLOOKUP(E$32,INDIRECT($B$6),$D66,FALSE),0)","v":{"$error":"#REF!"}},{"$f":"#REF!*IFERROR(VLOOKUP(F$32,INDIRECT($B$6),$D66,FALSE),0)","v":{"$error":"#REF!"}},{"$f":"#REF!*IFERROR(VLOOKUP(G$32,INDIRECT($B$6),$D66,FALSE),0)","v":{"$error":"#REF!"}},{"$f":"#REF!*IFERROR(VLOOKUP(H$32,INDIRECT($B$6),$D66,FALSE),0)","v":{"$error":"#REF!"}},{"$f":"#REF!*IFERROR(VLOOKUP(I$32,INDIRECT($B$6),$D66,FALSE),0)","v":{"$error":"#REF!"}},{"$f":"#REF!*IFERROR(VLOOKUP(J$32,INDIRECT($B$6),$D66,FALSE),0)","v":{"$error":"#REF!"}},{"$f":"#REF!*IFERROR(VLOOKUP(K$32,INDIRECT($B$6),$D66,FALSE),0)","v":{"$error":"#REF!"}},{"$f":"#REF!*IFERROR(VLOOKUP(L$32,INDIRECT($B$6),$D66,FALSE),0)","v":{"$error":"#REF!"}},{"$f":"#REF!*IFERROR(VLOOKUP(M$32,INDIRECT($B$6),$D66,FALSE),0)","v":{"$error":"#REF!"}},{"$f":"#REF!*IFERROR(VLOOKUP(N$32,INDIRECT($B$6),$D66,FALSE),0)","v":{"$error":"#REF!"}},null,null,null,null,null,null,null,null,null,null,null,null,null,null,null,null,null,null,null,null,null,null,0.48910679030153892]
[null,null,"Propane Compliance",44,{"$f":"#REF!*IFERROR(VLOOKUP(E$32,INDIRECT($B$6),$D67,FALSE),0)","v":{"$error":"#REF!"}},{"$f":"#REF!*IFERROR(VLOOKUP(F$32,INDIRECT($B$6),$D67,FALSE),0)","v":{"$error":"#REF!"}},{"$f":"#REF!*IFERROR(VLOOKUP(G$32,INDIRECT($B$6),$D67,FALSE),0)","v":{"$error":"#REF!"}},{"$f":"#REF!*IFERROR(VLOOKUP(H$32,INDIRECT($B$6),$D67,FALSE),0)","v":{"$error":"#REF!"}},{"$f":"#REF!*IFERROR(VLOOKUP(I$32,INDIRECT($B$6),$D67,FALSE),0)","v":{"$error":"#REF!"}},{"$f":"#REF!*IFERROR(VLOOKUP(J$32,INDIRECT($B$6),$D67,FALSE),0)","v":{"$error":"#REF!"}},{"$f":"#REF!*IFERROR(VLOOKUP(K$32,INDIRECT($B$6),$D67,FALSE),0)","v":{"$error":"#REF!"}},{"$f":"#REF!*IFERROR(VLOOKUP(L$32,INDIRECT($B$6),$D67,FALSE),0)","v":{"$error":"#REF!"}},{"$f":"#REF!*IFERROR(VLOOKUP(M$32,INDIRECT($B$6),$D67,FALSE),0)","v":{"$error":"#REF!"}},{"$f":"#REF!*IFERROR(VLOOKUP(N$32,INDIRECT($B$6),$D67,FALSE),0)","v":{"$error":"#REF!"}},null,null,null,null,null,null,null,null,null,null,null,null,null,null,null,null,null,null,null,null,null,null,0.48910679030153892]
[null,"RI Only Values","Summer On Peak CO2",28,{"$f":"E22*IFERROR(VLOOKUP(E$32,INDIRECT($B$6),$D68,FALSE),0)","v":{"$error":"#REF!"}},{"$error":"#REF!"},{"$error":"#REF!"},{"$error":"#REF!"},{"$error":"#REF!"},{"$error":"#REF!"},{"$error":"#REF!"},{"$error":"#REF!"},{"$error":"#REF!"},{"$error":"#REF!"},null,null,null,null,null,null,null,null,null,null,null,null,null,null,null,null,null,null,null,null,null,null,0.48910679030153892]
[null,"(2019 $)","Summer Off Peak CO2",29,{"$f":"E23*IFERROR(VLOOKUP(E$32,INDIRECT($B$6),$D69,FALSE),0)","v":{"$error":"#REF!"}},{"$error":"#REF!"},{"$error":"#REF!"},{"$error":"#REF!"},{"$error":"#REF!"},{"$error":"#REF!"},{"$error":"#REF!"},{"$error":"#REF!"},{"$error":"#REF!"},{"$error":"#REF!"},null,null,null,null,null,null,null,null,null,null,null,null,null,null,null,null,null,null,null,null,null,null,0.48910679030153892]
[null,null,"Winter On Peak CO2",26,{"$f":"E24*IFERROR(VLOOKUP(E$32,INDIRECT($B$6),$D70,FALSE),0)","v":{"$error":"#REF!"}},{"$error":"#REF!"},{"$error":"#REF!"},{"$error":"#REF!"},{"$error":"#REF!"},{"$error":"#REF!"},{"$error":"#REF!"},{"$error":"#REF!"},{"$error":"#REF!"},{"$error":"#REF!"},null,null,null,null,null,null,null,null,null,null,null,null,null,null,null,null,null,null,null,null,null,null,0.48910679030153892]
[null,null,"Winter Off Peak CO2",27,{"$f":"E25*IFERROR(VLOOKUP(E$32,INDIRECT($B$6),$D71,FALSE),0)","v":{"$error":"#REF!"}},{"$error":"#REF!"},{"$error":"#REF!"},{"$error":"#REF!"},{"$error":"#REF!"},{"$error":"#REF!"},{"$error":"#REF!"},{"$error":"#REF!"},{"$error":"#REF!"},{"$error":"#REF!"},null,null,null,null,null,null,null,null,null,null,null,null,null,null,null,null,null,null,null,null,null,null,0.48910679030153892]
[null,null,"Summer On Peak NOx",32,{"$f":"E22*IFERROR(VLOOKUP(E$32,INDIRECT($B$6),$D72,FALSE),0)","v":{"$error":"#REF!"}},{"$error":"#REF!"},{"$error":"#REF!"},{"$error":"#REF!"},{"$error":"#REF!"},{"$error":"#REF!"},{"$error":"#REF!"},{"$error":"#REF!"},{"$error":"#REF!"},{"$error":"#REF!"},null,null,null,null,null,null,null,null,null,null,null,null,null,null,null,null,null,null,null,null,null,null,0.48910679030153892]
[null,null,"Summer Off Peak NOx",33,{"$f":"E23*IFERROR(VLOOKUP(E$32,INDIRECT($B$6),$D73,FALSE),0)","v":{"$error":"#REF!"}},{"$error":"#REF!"},{"$error":"#REF!"},{"$error":"#REF!"},{"$error":"#REF!"},{"$error":"#REF!"},{"$error":"#REF!"},{"$error":"#REF!"},{"$error":"#REF!"},{"$error":"#REF!"},null,null,null,null,null,null,null,null,null,null,null,null,null,null,null,null,null,null,null,null,null,null,0.48910679030153892]
[null,null,"Winter On Peak NOx",30,{"$f":"E24*IFERROR(VLOOKUP(E$32,INDIRECT($B$6),$D74,FALSE),0)","v":{"$error":"#REF!"}},{"$error":"#REF!"},{"$error":"#REF!"},{"$error":"#REF!"},{"$error":"#REF!"},{"$error":"#REF!"},{"$error":"#REF!"},{"$error":"#REF!"},{"$error":"#REF!"},{"$error":"#REF!"},null,null,null,null,null,null,null,null,null,null,null,null,null,null,null,null,null,null,null,null,null,null,0.48910679030153892]
[null,null,"Winter Off Peak NOx",31,{"$f":"E25*IFERROR(VLOOKUP(E$32,INDIRECT($B$6),$D75,FALSE),0)","v":{"$error":"#REF!"}},{"$error":"#REF!"},{"$error":"#REF!"},{"$error":"#REF!"},{"$error":"#REF!"},{"$error":"#REF!"},{"$error":"#REF!"},{"$error":"#REF!"},{"$error":"#REF!"},{"$error":"#REF!"},null,null,null,null,null,null,null,null,null,null,null,null,null,null,null,null,null,null,null,null,null,null,0.48910679030153892]
[null,null,"Gas Carbon Costs",38,{"$f":"SUM(E26:E28)*IFERROR(VLOOKUP(E$32,INDIRECT($B$6),$D76,FALSE),0)","v":{"$error":"#REF!"}},{"$error":"#REF!"},{"$error":"#REF!"},{"$error":"#REF!"},{"$error":"#REF!"},{"$error":"#REF!"},{"$error":"#REF!"},{"$error":"#REF!"},{"$error":"#REF!"},{"$error":"#REF!"},null,null,null,null,null,null,null,null,null,null,null,null,null,null,null,null,null,null,null,null,null,null,0.48910679030153892]
[null,null,"Oil Carbon Costs",41,{"$f":"#REF!*IFERROR(VLOOKUP(E$32,INDIRECT($B$6),$D77,FALSE),0)","v":{"$error":"#REF!"}},{"$f":"#REF!*IFERROR(VLOOKUP(F$32,INDIRECT($B$6),$D77,FALSE),0)","v":{"$error":"#REF!"}},{"$f":"#REF!*IFERROR(VLOOKUP(G$32,INDIRECT($B$6),$D77,FALSE),0)","v":{"$error":"#REF!"}},{"$f":"#REF!*IFERROR(VLOOKUP(H$32,INDIRECT($B$6),$D77,FALSE),0)","v":{"$error":"#REF!"}},{"$f":"#REF!*IFERROR(VLOOKUP(I$32,INDIRECT($B$6),$D77,FALSE),0)","v":{"$error":"#REF!"}},{"$f":"#REF!*IFERROR(VLOOKUP(J$32,INDIRECT($B$6),$D77,FALSE),0)","v":{"$error":"#REF!"}},{"$f":"#REF!*IFERROR(VLOOKUP(K$32,INDIRECT($B$6),$D77,FALSE),0)","v":{"$error":"#REF!"}},{"$f":"#REF!*IFERROR(VLOOKUP(L$32,INDIRECT($B$6),$D77,FALSE),0)","v":{"$error":"#REF!"}},{"$f":"#REF!*IFERROR(VLOOKUP(M$32,INDIRECT($B$6),$D77,FALSE),0)","v":{"$error":"#REF!"}},{"$f":"#REF!*IFERROR(VLOOKUP(N$32,INDIRECT($B$6),$D77,FALSE),0)","v":{"$error":"#REF!"}},null,null,null,null,null,null,null,null,null,null,null,null,null,null,null,null,null,null,null,null,null,null,0.48910679030153892]
[null,null,"Gas Nox",40,{"$f":"SUM(E26:E28)*IFERROR(VLOOKUP(E$32,INDIRECT($B$6),$D78,FALSE),0)","v":{"$error":"#REF!"}},{"$error":"#REF!"},{"$error":"#REF!"},{"$error":"#REF!"},{"$error":"#REF!"},{"$error":"#REF!"},{"$error":"#REF!"},{"$error":"#REF!"},{"$error":"#REF!"},{"$error":"#REF!"},null,null,null,null,null,null,null,null,null,null,null,null,null,null,null,null,null,null,null,null,null,null,0.48910679030153892]
[null,null,"Oil Nox",42,{"$f":"#REF!*IFERROR(VLOOKUP(E$32,INDIRECT($B$6),$D79,FALSE),0)","v":{"$error":"#REF!"}},{"$f":"#REF!*IFERROR(VLOOKUP(F$32,INDIRECT($B$6),$D79,FALSE),0)","v":{"$error":"#REF!"}},{"$f":"#REF!*IFERROR(VLOOKUP(G$32,INDIRECT($B$6),$D79,FALSE),0)","v":{"$error":"#REF!"}},{"$f":"#REF!*IFERROR(VLOOKUP(H$32,INDIRECT($B$6),$D79,FALSE),0)","v":{"$error":"#REF!"}},{"$f":"#REF!*IFERROR(VLOOKUP(I$32,INDIRECT($B$6),$D79,FALSE),0)","v":{"$error":"#REF!"}},{"$f":"#REF!*IFERROR(VLOOKUP(J$32,INDIRECT($B$6),$D79,FALSE),0)","v":{"$error":"#REF!"}},{"$f":"#REF!*IFERROR(VLOOKUP(K$32,INDIRECT($B$6),$D79,FALSE),0)","v":{"$error":"#REF!"}},{"$f":"#REF!*IFERROR(VLOOKUP(L$32,INDIRECT($B$6),$D79,FALSE),0)","v":{"$error":"#REF!"}},{"$f":"#REF!*IFERROR(VLOOKUP(M$32,INDIRECT($B$6),$D79,FALSE),0)","v":{"$error":"#REF!"}},{"$f":"#REF!*IFERROR(VLOOKUP(N$32,INDIRECT($B$6),$D79,FALSE),0)","v":{"$error":"#REF!"}}]
[null,null,"Economic Benefit","NA",{"$f":"IFERROR((1-E17)*(#REF!*E91*VLOOKUP(E20,#REF!,4,FALSE)),0)","v":0},{"$f":"IFERROR((1-F17)*(#REF!*F91*VLOOKUP(F20,#REF!,4,FALSE)),0)","v":0},{"$f":"IFERROR((1-G17)*(#REF!*G91*VLOOKUP(G20,#REF!,4,FALSE)),0)","v":0},{"$f":"IFERROR((1-H17)*(#REF!*H91*VLOOKUP(H20,#REF!,4,FALSE)),0)","v":0},{"$f":"IFERROR((1-I17)*(#REF!*I91*VLOOKUP(I20,#REF!,4,FALSE)),0)","v":0},{"$f":"IFERROR((1-J17)*(#REF!*J91*VLOOKUP(J20,#REF!,4,FALSE)),0)","v":0},{"$f":"IFERROR((1-K17)*(#REF!*K91*VLOOKUP(K20,#REF!,4,FALSE)),0)","v":0},{"$f":"IFERROR((1-L17)*(#REF!*L91*VLOOKUP(L20,#REF!,4,FALSE)),0)","v":0},{"$f":"IFERROR((1-M17)*(#REF!*M91*VLOOKUP(M20,#REF!,4,FALSE)),0)","v":0},{"$f":"IFERROR((1-N17)*(#REF!*N91*VLOOKUP(N20,#REF!,4,FALSE)),0)","v":0}]
[null,null,"RI Dist Benefit","NA",{"$f":"IFERROR((1-E17)*(E16*(('RI CHP'!D7<1000)*(E48*#REF!)+('RI CHP'!D7>=1000)*'RI CHP'!D8)+(1-E16)*E48),0)","v":0},{"$f":"IFERROR((1-F17)*(F16*(('RI CHP'!E7<1000)*(F48*#REF!)+('RI CHP'!E7>=1000)*'RI CHP'!E8)+(1-F16)*F48),0)","v":0},{"$f":"IFERROR((1-G17)*(G16*(('RI CHP'!F7<1000)*(G48*#REF!)+('RI CHP'!F7>=1000)*'RI CHP'!F8)+(1-G16)*G48),0)","v":0},{"$f":"IFERROR((1-H17)*(H16*(('RI CHP'!G7<1000)*(H48*#REF!)+('RI CHP'!G7>=1000)*'RI CHP'!G8)+(1-H16)*H48),0)","v":0},{"$f":"IFERROR((1-I17)*(I16*(('RI CHP'!H7<1000)*(I48*#REF!)+('RI CHP'!H7>=1000)*'RI CHP'!H8)+(1-I16)*I48),0)","v":0},{"$f":"IFERROR((1-J17)*(J16*(('RI CHP'!I7<1000)*(J48*#REF!)+('RI CHP'!I7>=1000)*'RI CHP'!I8)+(1-J16)*J48),0)","v":0},{"$f":"IFERROR((1-K17)*(K16*(('RI CHP'!J7<1000)*(K48*#REF!)+('RI CHP'!J7>=1000)*'RI CHP'!J8)+(1-K16)*K48),0)","v":0},{"$f":"IFERROR((1-L17)*(L16*(('RI CHP'!K7<1000)*(L48*#REF!)+('RI CHP'!K7>=1000)*'RI CHP'!K8)+(1-L16)*L48),0)","v":0},{"$f":"IFERROR((1-M17)*(M16*(('RI CHP'!L7<1000)*(M48*#REF!)+('RI CHP'!L7>=1000)*'RI CHP'!L8)+(1-M16)*M48),0)","v":0},{"$f":"IFERROR((1-N17)*(N16*(('RI CHP'!M7<1000)*(N48*#REF!)+('RI CHP'!M7>=1000)*'RI CHP'!M8)+(1-N16)*N48),0)","v":0}]
[null,"Totals","Electric Energy",null,{"$f":"SUM(E37:E45)+SUM(E68:E75)+SUM(E61:E64)","v":{"$error":"#REF!"}},{"$error":"#REF!"},{"$error":"#REF!"},{"$error":"#REF!"},{"$error":"#REF!"},{"$error":"#REF!"},{"$error":"#REF!"},{"$error":"#REF!"},{"$error":"#REF!"},{"$error":"#REF!"},{"$f":"SUMPRODUCT(E82:N82,$E$19:$N$19)","v":{"$error":"#REF!"}},{"$f":"SUM(E82:N82)","v":{"$error":"#REF!"}}]
[null,"(2020 $)","Electric Capacity",null,{"$f":"IFERROR(SUM(E46:E47,E49:E50)+(1-E17)*E81+(E17)*E48,0)","v":0},0,0,0,0,0,0,0,0,0,{"$error":"#REF!"},0]
[null,null,"Electric Energy + Capacity",null,{"$f":"E83+E82","v":{"$error":"#REF!"}},{"$error":"#REF!"},{"$error":"#REF!"},{"$error":"#REF!"},{"$error":"#REF!"},{"$error":"#REF!"},{"$error":"#REF!"},{"$error":"#REF!"},{"$error":"#REF!"},{"$error":"#REF!"},{"$error":"#REF!"},{"$error":"#REF!"}]
[null,null,"Gas",null,{"$f":"SUM(E51:E54)+E76+E78+E65","v":{"$error":"#REF!"}},{"$error":"#REF!"},{"$error":"#REF!"},{"$error":"#REF!"},{"$error":"#REF!"},{"$error":"#REF!"},{"$error":"#REF!"},{"$error":"#REF!"},{"$error":"#REF!"},{"$error":"#REF!"},{"$error":"#REF!"},{"$error":"#REF!"}]
[null,null,"Gas  + Electric",null,{"$f":"E85+E84","v":{"$error":"#REF!"}},{"$error":"#REF!"},{"$error":"#REF!"},{"$error":"#REF!"},{"$error":"#REF!"},{"$error":"#REF!"},{"$error":"#REF!"},{"$error":"#REF!"},{"$error":"#REF!"},{"$error":"#REF!"},{"$error":"#REF!"},{"$error":"#REF!"}]
[null,null,"Non-Electric Non-Gas",null,{"$f":"SUM(E55:E60)+E80+E79+E77+E66+E67","v":{"$error":"#REF!"}},{"$error":"#REF!"},{"$error":"#REF!"},{"$error":"#REF!"},{"$error":"#REF!"},{"$error":"#REF!"},{"$error":"#REF!"},{"$error":"#REF!"},{"$error":"#REF!"},{"$error":"#REF!"},{"$error":"#REF!"},{"$error":"#REF!"}]
[null,"Total Benefits",null,null,{"$f":"E86+E87","v":{"$error":"#REF!"}},{"$error":"#REF!"},{"$error":"#REF!"},{"$error":"#REF!"},{"$error":"#REF!"},{"$error":"#REF!"},{"$error":"#REF!"},{"$error":"#REF!"},{"$error":"#REF!"},{"$error":"#REF!"},{"$error":"#REF!"},{"$f":"P86+P87","v":{"$error":"#REF!"}}]
["Costs","Costs",null,null,{"$f":"(E15<>\"\")*((#REF!-#REF!-#REF!)-E36)","v":{"$error":"#REF!"}},{"$f":"(F15<>\"\")*((#REF!-#REF!-#REF!)-F36)","v":{"$error":"#REF!"}},{"$f":"(G15<>\"\")*((#REF!-#REF!-#REF!)-G36)","v":{"$error":"#REF!"}},{"$f":"(H15<>\"\")*((#REF!-#REF!-#REF!)-H36)","v":{"$error":"#REF!"}},{"$f":"(I15<>\"\")*((#REF!-#REF!-#REF!)-I36)","v":{"$error":"#REF!"}},{"$f":"(J15<>\"\")*((#REF!-#REF!-#REF!)-J36)","v":{"$error":"#REF!"}},{"$f":"(K15<>\"\")*((#REF!-#REF!-#REF!)-K36)","v":{"$error":"#REF!"}},{"$f":"(L15<>\"\")*((#REF!-#REF!)-L36)","v":{"$error":"#REF!"}},{"$f":"(M15<>\"\")*((#REF!-#REF!)-M36)","v":{"$error":"#REF!"}},{"$f":"(N15<>\"\")*((#REF!-#REF!)-N36)","v":{"$error":"#REF!"}},{"$error":"#REF!"},{"$f":"SUM(E89:N89)","v":{"$error":"#REF!"}}]
["Results","BCR",null,null,{"$f":"IFERROR(E88/E89,0)","v":0},0,0,0,0,0,0,0,0,0,{"$f":"IFERROR(SUMPRODUCT(E88:N88,E19:N19)/SUMPRODUCT(E89:N89,E19:N19),0)","v":0},{"$f":"IFERROR(SUM(E88:N88)/SUM(E89:N89),0)","v":0}]
[null,"Electric Benefit %",null,null,{"$f":"(E18=\"Electric\")+(E18=\"Dual\")*ROUND(IFERROR(E84/E86,0),2)","v":{"$error":"#REF!"}},{"$error":"#REF!"},{"$error":"#REF!"},{"$error":"#REF!"},{"$error":"#REF!"},{"$error":"#REF!"},{"$error":"#REF!"},{"$error":"#REF!"},{"$error":"#REF!"},{"$error":"#REF!"},{"$f":"IFERROR((O84)/(O86),0)","v":0},{"$f":"IFERROR((P84)/(P86),0)","v":0}]
[null,"Gas Benefit %",null,null,{"$f":"(E18=\"Gas\")+(E18=\"Dual\")*(1-E91)","v":{"$error":"#REF!"}},{"$error":"#REF!"},{"$error":"#REF!"},{"$error":"#REF!"},{"$error":"#REF!"},{"$error":"#REF!"},{"$error":"#REF!"},{"$error":"#REF!"},{"$error":"#REF!"},{"$error":"#REF!"},{"$f":"IFERROR((O85)/(O86),0)","v":0},{"$f":"IFERROR((P85)/(P86),0)","v":0}]
["Annual Cost savings","kWh",null,null,{"$f":"SUM(E22:E25)*#REF!","v":{"$error":"#REF!"}},{"$f":"SUM(F22:F25)*#REF!","v":{"$error":"#REF!"}},{"$f":"SUM(G22:G25)*#REF!","v":{"$error":"#REF!"}},{"$f":"SUM(H22:H25)*#REF!","v":{"$error":"#REF!"}},{"$f":"SUM(I22:I25)*#REF!","v":{"$error":"#REF!"}},{"$f":"SUM(J22:J25)*#REF!","v":{"$error":"#REF!"}},{"$f":"SUM(K22:K25)*#REF!","v":{"$error":"#REF!"}},{"$f":"SUM(L22:L25)*#REF!","v":{"$error":"#REF!"}},{"$f":"SUM(M22:M25)*#REF!","v":{"$error":"#REF!"}},{"$f":"SUM(N22:N25)*#REF!","v":{"$error":"#REF!"}},{"$f":"SUM(O22:O25)*#REF!","v":{"$error":"#REF!"}},{"$f":"SUM(P22:P25)*#REF!","v":{"$error":"#REF!"}}]
[null,"Natural Gas",null,null,{"$f":"SUM(E26:E28)*10*#REF!","v":{"$error":"#REF!"}},{"$f":"SUM(F26:F28)*10*#REF!","v":{"$error":"#REF!"}},{"$f":"SUM(G26:G28)*10*#REF!","v":{"$error":"#REF!"}},{"$f":"SUM(H26:H28)*10*#REF!","v":{"$error":"#REF!"}},{"$f":"SUM(I26:I28)*10*#REF!","v":{"$error":"#REF!"}},{"$f":"SUM(J26:J28)*10*#REF!","v":{"$error":"#REF!"}},{"$f":"SUM(K26:K28)*10*#REF!","v":{"$error":"#REF!"}},{"$f":"SUM(L26:L28)*10*#REF!","v":{"$error":"#REF!"}},{"$f":"SUM(M26:M28)*10*#REF!","v":{"$error":"#REF!"}},{"$f":"SUM(N26:N28)*10*#REF!","v":{"$error":"#REF!"}},{"$f":"SUM(O26:O28)*10*#REF!","v":{"$error":"#REF!"}},{"$f":"SUM(P26:P28)*10*#REF!","v":{"$error":"#REF!"}}]
[null,"All Savings",null,null,{"$f":"E93+E94+#REF!*#REF!+#REF!*#REF!+#REF!*#REF!+#REF!+IFERROR(#REF!/Screening!E32,0)","v":{"$error":"#REF!"}},{"$f":"F93+F94+#REF!*#REF!+#REF!*#REF!+#REF!*#REF!+#REF!+IFERROR(#REF!/Screening!F32,0)","v":{"$error":"#REF!"}},{"$f":"G93+G94+#REF!*#REF!+#REF!*#REF!+#REF!*#REF!+#REF!+IFERROR(#REF!/Screening!G32,0)","v":{"$error":"#REF!"}},{"$f":"H93+H94+#REF!*#REF!+#REF!*#REF!+#REF!*#REF!+#REF!+IFERROR(#REF!/Screening!H32,0)","v":{"$error":"#REF!"}},{"$f":"I93+I94+#REF!*#REF!+#REF!*#REF!+#REF!*#REF!+#REF!+IFERROR(#REF!/Screening!I32,0)","v":{"$error":"#REF!"}},{"$f":"J93+J94+#REF!*#REF!+#REF!*#REF!+#REF!*#REF!+#REF!+IFERROR(#REF!/Screening!J32,0)","v":{"$error":"#REF!"}},{"$f":"K93+K94+#REF!*#REF!+#REF!*#REF!+#REF!*#REF!+#REF!+IFERROR(#REF!/Screening!K32,0)","v":{"$error":"#REF!"}},{"$f":"L93+L94+#REF!*#REF!+#REF!*#REF!+#REF!*#REF!+#REF!+IFERROR(#REF!/Screening!L32,0)","v":{"$error":"#REF!"}},{"$f":"M93+M94+#REF!*#REF!+#REF!*#REF!+#REF!*#REF!+#REF!+IFERROR(#REF!/Screening!M32,0)","v":{"$error":"#REF!"}},{"$f":"N93+N94+#REF!*#REF!+#REF!*#REF!+#REF!*#REF!+#REF!+IFERROR(#REF!/Screening!N32,0)","v":{"$error":"#REF!"}},{"$f":"O93+O94+#REF!*#REF!+#REF!*#REF!+#REF!*#REF!+#REF!+IFERROR(#REF!/Screening!O15,0)","v":{"$error":"#REF!"}},{"$f":"P93+P94+#REF!*#REF!+#REF!*#REF!+#REF!*#REF!+#REF!+IFERROR(#REF!/Screening!P15,0)","v":{"$error":"#REF!"}}]
["Payback","Electric",null,null,{"$f":"IFERROR(E89/E93,0)","v":0},0,0,0,0,0,0,0,0,0,{"$f":"IFERROR(IF(O$15<>\"\",O89/O93,\"\"),\"\")","v":""},{"$f":"IFERROR(IF(P$15<>\"\",P89/P93,\"\"),\"\")","v":""}]
[null,"Gas",null,null,{"$f":"IFERROR(E89/E94,0)","v":0},0,0,0,0,0,0,0,0,0,{"$f":"IFERROR(IF(O$15<>\"\",O89/O94,\"\"),\"\")","v":""},{"$f":"IFERROR(IF(P$15<>\"\",P89/P94,\"\"),\"\")","v":""}]
[null,"Total",null,null,{"$f":"IFERROR(E89/E95,0)","v":0},0,0,0,0,0,0,0,0,0,{"$f":"IFERROR(IF(O$15<>\"\",O89/O95,\"\"),\"\")","v":""},{"$f":"IFERROR(IF(P$15<>\"\",P89/P95,\"\"),\"\")","v":""}]
[]
[]
[]
["Info by Initiative"]
[null,null,"Total - selected Measures",null,null,"Total - All Measures"]
[null,"Initiative","NC","EUL","Retrofit","NC","EUL","Retrofit"]
[null,"Initiative ID",2,3,1,2,3,1]
["column #","# measures",{"$f":"COUNTIF($E$21:$N$21,C105)","v":0},{"$f":"COUNTIF($E$21:$N$21,D105)","v":0},{"$f":"COUNTIF($E$21:$N$21,E105)","v":0},{"$f":"COUNTIF($E$20:$N$20,F105)","v":0},{"$f":"COUNTIF($E$20:$N$20,G105)","v":0},{"$f":"COUNTIF($E$20:$N$20,H105)","v":0}]
[null,"Energy Savings",{"$f":"SUM(($E$21:$N$21=C$105)*#REF!)","v":{"$error":"#REF!"}},{"$f":"SUM(($E$21:$N$21=D$105)*#REF!)","v":{"$error":"#REF!"}},{"$f":"SUM(($E$21:$N$21=E$105)*#REF!)","v":{"$error":"#REF!"}},{"$f":"SUM(($E$20:$N$20=F$105)*#REF!)","v":{"$error":"#REF!"}},{"$f":"SUM(($E$20:$N$20=G$105)*#REF!)","v":{"$error":"#REF!"}},{"$f":"SUM(($E$20:$N$20=H$105)*#REF!)","v":{"$error":"#REF!"}}]
[52,"Summer Peak kW",{"$f":"SUM(($E$21:$N$21=C$105)*#REF!)","v":{"$error":"#REF!"}},{"$f":"SUM(($E$21:$N$21=D$105)*#REF!)","v":{"$error":"#REF!"}},{"$f":"SUM(($E$21:$N$21=E$105)*#REF!)","v":{"$error":"#REF!"}},{"$f":"SUM(($E$20:$N$20=F$105)*#REF!)","v":{"$error":"#REF!"}},{"$f":"SUM(($E$20:$N$20=G$105)*#REF!)","v":{"$error":"#REF!"}},{"$f":"SUM(($E$20:$N$20=H$105)*#REF!)","v":{"$error":"#REF!"}}]
[53,"Winter Peak kW",{"$f":"SUM(($E$21:$N$21=C$105)*#REF!)","v":{"$error":"#REF!"}},{"$f":"SUM(($E$21:$N$21=D$105)*#REF!)","v":{"$error":"#REF!"}},{"$f":"SUM(($E$21:$N$21=E$105)*#REF!)","v":{"$error":"#REF!"}},{"$f":"SUM(($E$20:$N$20=F$105)*#REF!)","v":{"$error":"#REF!"}},{"$f":"SUM(($E$20:$N$20=G$105)*#REF!)","v":{"$error":"#REF!"}},{"$f":"SUM(($E$20:$N$20=H$105)*#REF!)","v":{"$error":"#REF!"}}]
[64,"Natural Gas",{"$f":"SUM(($E$21:$N$21=C$105)*#REF!)","v":{"$error":"#REF!"}},{"$f":"SUM(($E$21:$N$21=D$105)*#REF!)","v":{"$error":"#REF!"}},{"$f":"SUM(($E$21:$N$21=E$105)*#REF!)","v":{"$error":"#REF!"}},{"$f":"SUM(($E$20:$N$20=F$105)*#REF!)","v":{"$error":"#REF!"}},{"$f":"SUM(($E$20:$N$20=G$105)*#REF!)","v":{"$error":"#REF!"}},{"$f":"SUM(($E$20:$N$20=H$105)*#REF!)","v":{"$error":"#REF!"}}]
[57,"Oil",{"$f":"SUM(($E$21:$N$21=C$105)*#REF!)","v":{"$error":"#REF!"}},{"$f":"SUM(($E$21:$N$21=D$105)*#REF!)","v":{"$error":"#REF!"}},{"$f":"SUM(($E$21:$N$21=E$105)*#REF!)","v":{"$error":"#REF!"}},{"$f":"SUM(($E$20:$N$20=F$105)*#REF!)","v":{"$error":"#REF!"}},{"$f":"SUM(($E$20:$N$20=G$105)*#REF!)","v":{"$error":"#REF!"}},{"$f":"SUM(($E$20:$N$20=H$105)*#REF!)","v":{"$error":"#REF!"}}]
[58,"Propane",{"$f":"SUM(($E$21:$N$21=C$105)*#REF!)","v":{"$error":"#REF!"}},{"$f":"SUM(($E$21:$N$21=D$105)*#REF!)","v":{"$error":"#REF!"}},{"$f":"SUM(($E$21:$N$21=E$105)*#REF!)","v":{"$error":"#REF!"}},{"$f":"SUM(($E$20:$N$20=F$105)*#REF!)","v":{"$error":"#REF!"}},{"$f":"SUM(($E$20:$N$20=G$105)*#REF!)","v":{"$error":"#REF!"}},{"$f":"SUM(($E$20:$N$20=H$105)*#REF!)","v":{"$error":"#REF!"}}]
[59,"Water",{"$f":"SUM(($E$21:$N$21=C$105)*#REF!)","v":{"$error":"#REF!"}},{"$f":"SUM(($E$21:$N$21=D$105)*#REF!)","v":{"$error":"#REF!"}},{"$f":"SUM(($E$21:$N$21=E$105)*#REF!)","v":{"$error":"#REF!"}},{"$f":"SUM(($E$20:$N$20=F$105)*#REF!)","v":{"$error":"#REF!"}},{"$f":"SUM(($E$20:$N$20=G$105)*#REF!)","v":{"$error":"#REF!"}},{"$f":"SUM(($E$20:$N$20=H$105)*#REF!)","v":{"$error":"#REF!"}}]
[60,"Sewer",{"$f":"SUM(($E$21:$N$21=C$105)*#REF!)","v":{"$error":"#REF!"}},{"$f":"SUM(($E$21:$N$21=D$105)*#REF!)","v":{"$error":"#REF!"}},{"$f":"SUM(($E$21:$N$21=E$105)*#REF!)","v":{"$error":"#REF!"}},{"$f":"SUM(($E$20:$N$20=F$105)*#REF!)","v":{"$error":"#REF!"}},{"$f":"SUM(($E$20:$N$20=G$105)*#REF!)","v":{"$error":"#REF!"}},{"$f":"SUM(($E$20:$N$20=H$105)*#REF!)","v":{"$error":"#REF!"}}]
[61,"Annual ",{"$f":"SUM(($E$21:$N$21=C$105)*#REF!)","v":{"$error":"#REF!"}},{"$f":"SUM(($E$21:$N$21=D$105)*#REF!)","v":{"$error":"#REF!"}},{"$f":"SUM(($E$21:$N$21=E$105)*#REF!)","v":{"$error":"#REF!"}},{"$f":"SUM(($E$20:$N$20=F$105)*#REF!)","v":{"$error":"#REF!"}},{"$f":"SUM(($E$20:$N$20=G$105)*#REF!)","v":{"$error":"#REF!"}},{"$f":"SUM(($E$20:$N$20=H$105)*#REF!)","v":{"$error":"#REF!"}}]
[62,"One Time",{"$f":"SUM(($E$21:$N$21=C$105)*#REF!)","v":{"$error":"#REF!"}},{"$f":"SUM(($E$21:$N$21=D$105)*#REF!)","v":{"$error":"#REF!"}},{"$f":"SUM(($E$21:$N$21=E$105)*#REF!)","v":{"$error":"#REF!"}},{"$f":"SUM(($E$20:$N$20=F$105)*#REF!)","v":{"$error":"#REF!"}},{"$f":"SUM(($E$20:$N$20=G$105)*#REF!)","v":{"$error":"#REF!"}},{"$f":"SUM(($E$20:$N$20=H$105)*#REF!)","v":{"$error":"#REF!"}}]
[null,"Total Benefits",{"$f":"SUMPRODUCT(--($E$21:$N$21=C$105),$E$21:$N$21,$E88:$N88)/C$105","v":{"$error":"#REF!"}},{"$f":"SUMPRODUCT(--($E$21:$N$21=D$105),$E$21:$N$21,$E88:$N88)/D$105","v":{"$error":"#REF!"}},{"$f":"SUMPRODUCT(--($E$21:$N$21=E$105),$E$21:$N$21,$E88:$N88)/E$105","v":{"$error":"#REF!"}},{"$f":"SUMPRODUCT(--($E$20:$N$20=F$105),$E$20:$N$20,$E88:$N88)/F$105","v":{"$error":"#REF!"}},{"$f":"SUMPRODUCT(--($E$20:$N$20=G$105),$E$20:$N$20,$E88:$N88)/G$105","v":{"$error":"#REF!"}},{"$f":"SUMPRODUCT(--($E$20:$N$20=H$105),$E$20:$N$20,$E88:$N88)/H$105","v":{"$error":"#REF!"}}]
[null,"Costs",{"$f":"SUMPRODUCT(--($E$21:$N$21=C$105),$E21:$N21,$E89:$N89)/C$105","v":{"$error":"#REF!"}},{"$f":"SUMPRODUCT(--($E$21:$N$21=D$105),$E21:$N21,$E89:$N89)/D$105","v":{"$error":"#REF!"}},{"$f":"SUMPRODUCT(--($E$21:$N$21=E$105),$E21:$N21,$E89:$N89)/E$105","v":{"$error":"#REF!"}},{"$f":"SUMPRODUCT(--($E$20:$N$20=F$105),$E21:$N21,$E89:$N89)/F$105","v":{"$error":"#REF!"}},{"$f":"SUMPRODUCT(--($E$20:$N$20=G$105),$E21:$N21,$E89:$N89)/G$105","v":{"$error":"#REF!"}},{"$f":"SUMPRODUCT(--($E$20:$N$20=H$105),$E21:$N21,$E89:$N89)/H$105","v":{"$error":"#REF!"}}]
[null,"BCR",{"$f":"IFERROR(C117/C118,0)","v":0},{"$f":"IFERROR(D117/D118,0)","v":0},{"$f":"IFERROR(E117/E118,0)","v":0},{"$f":"IFERROR(C117/C118,0)","v":0},{"$f":"IFERROR(D117/D118,0)","v":0},{"$f":"IFERROR(E117/E118,0)","v":0}]
[null,"Payback",{"$f":"IFERROR((C106<>0)*(SUM(($E$21:$N$21=C$105)*$E89:$N89)/SUM(($E$21:$N$21=C$105)*$E95:$N95)),0)","v":0},{"$f":"IFERROR((D106<>0)*(SUM(($E$21:$N$21=D$105)*$E89:$N89)/SUM(($E$21:$N$21=D$105)*$E95:$N95)),0)","v":0},{"$f":"IFERROR((E106<>0)*(SUM(($E$21:$N$21=E$105)*$E89:$N89)/SUM(($E$21:$N$21=E$105)*$E95:$N95)),0)","v":0},{"$f":"IFERROR((C106<>0)*(SUM(($E$20:$N$20=F$105)*$E89:$N89)/SUM(($E$20:$N$20=F$105)*$E95:$N95)),0)","v":0},{"$f":"IFERROR((D106<>0)*(SUM(($E$20:$N$20=G$105)*$E89:$N89)/SUM(($E$20:$N$20=G$105)*$E95:$N95)),0)","v":0},{"$f":"IFERROR((E106<>0)*(SUM(($E$20:$N$20=H$105)*$E89:$N89)/SUM(($E$20:$N$20=H$105)*$E95:$N95)),0)","v":0}]
[null,"% Electric Allocation",{"$f":"IFERROR(((C106<>0)*(SUM(($E$21:$N$21=C$105)*$E84:$N84))/(SUM(($E$21:$N$21=C$105)*$E86:$N86))),0)","v":0},{"$f":"IFERROR(((D106<>0)*(SUM(($E$21:$N$21=D$105)*$E84:$N84))/(SUM(($E$21:$N$21=D$105)*$E86:$N86))),0)","v":0},{"$f":"IFERROR(((E106<>0)*(SUM(($E$21:$N$21=E$105)*$E84:$N84))/(SUM(($E$21:$N$21=E$105)*$E86:$N86))),0)","v":0},{"$f":"IFERROR(((C106<>0)*(SUM(($E$20:$N$20=F$105)*$E84:$N84))/(SUM(($E$20:$N$20=F$105)*$E86:$N86))),0)","v":0},{"$f":"IFERROR(((D106<>0)*(SUM(($E$20:$N$20=G$105)*$E84:$N84))/(SUM(($E$20:$N$20=G$105)*$E86:$N86))),0)","v":0},{"$f":"IFERROR(((E106<>0)*(SUM(($E$20:$N$20=H$105)*$E84:$N84))/(SUM(($E$20:$N$20=H$105)*$E86:$N86))),0)","v":0}]
[null,"% Gas Allocation",{"$f":"IFERROR(((C106<>0)*(SUM(($E$21:$N$21=C$105)*$E85:$N85))/(SUM(($E$21:$N$21=C$105)*$E86:$N86))),0)","v":0},{"$f":"IFERROR(((D106<>0)*(SUM(($E$21:$N$21=D$105)*$E85:$N85))/(SUM(($E$21:$N$21=D$105)*$E86:$N86))),0)","v":0},{"$f":"IFERROR(((E106<>0)*(SUM(($E$21:$N$21=E$105)*$E85:$N85))/(SUM(($E$21:$N$21=E$105)*$E86:$N86))),0)","v":0},{"$f":"IFERROR(((C106<>0)*(SUM(($E$20:$N$20=F$105)*$E85:$N85))/(SUM(($E$20:$N$20=F$105)*$E86:$N86))),0)","v":0},{"$f":"IFERROR(((D106<>0)*(SUM(($E$20:$N$20=G$105)*$E85:$N85))/(SUM(($E$20:$N$20=G$105)*$E86:$N86))),0)","v":0},{"$f":"IFERROR(((E106<>0)*(SUM(($E$20:$N$20=H$105)*$E85:$N85))/(SUM(($E$20:$N$20=H$105)*$E86:$N86))),0)","v":0}]

{"sheet":"Message","index":19,"n_rows":24,"n_cols":17,"rows_kept":24,"cut":false,"hidden":true,"merged":[[3,16,4,16],[3,15,4,15],[3,14,4,14],[3,13,4,13],[3,12,4,12],[5,0,6,0],[3,0,4,0],[7,0,21,0],[7,1,13,1],[14,1,21,1],[3,1,4,1],[1,0,1,15],[3,5,3,6],[3,4,4,4],[3,3,4,3],[3,2,4,2],[3,11,4,11],[3,10,4,10],[3,9,4,9],[3,8,4,8],[3,7,4,7]]}
["Tab Explanation:"]
["This table notes where errors or screening notes occur for all individual measures.  This table may be used to identify missing information, or other potential input issues.  \"Error\" indicates missing information that will prevent the BCR from calculating.  \"Note\" indicates a potential issue with the project or data inputs that will not prevent the BCR from calculating. "]
[]
["Error Level","Message Type","Display Message","Additional Information","Suggested Action","Error Count",null,{"$f":"#REF!","v":{"$error":"#REF!"}},{"$f":"#REF!","v":{"$error":"#REF!"}},{"$f":"#REF!","v":{"$error":"#REF!"}},{"$f":"#REF!","v":{"$error":"#REF!"}},{"$f":"#REF!","v":{"$error":"#REF!"}},{"$f":"#REF!","v":{"$error":"#REF!"}},{"$f":"#REF!","v":{"$error":"#REF!"}},{"$f":"#REF!","v":{"$error":"#REF!"}},{"$f":"#REF!","v":{"$error":"#REF!"}},{"$f":"#REF!","v":{"$error":"#REF!"}}]
[null,null,null,null,null,"Selected Measures","All Measures"]
["Project","Error","- Select PA to produce results","Error occurs when PAs are not selected.  Electric PA required to calculate benefits","Populate PAs from drop down menu in the Project Description and Contact Information section of the Screening Tool",{"$f":"#REF!","v":{"$error":"#REF!"}},{"$f":"#REF!","v":{"$error":"#REF!"}}]
[null,"Note","- Project BCR is less than one","Note occurs if the Project BCR is less than one.  ","Consider excluding ECM with low BCR to boost selected project results.",{"$f":"#REF!","v":{"$error":"#REF!"}},{"$f":"#REF!","v":{"$error":"#REF!"}},{"$f":"IF(#REF!=1,\"X\",\"\")","v":{"$error":"#REF!"}}]
["Measure","Error","- Entered fuel savings do not correspond to chosen Fuel Savings Type","Error occurs when if there are no positive savings associated with the chosen Fuel Savings Type.  Costs will not allocate correctly without correct fuel type entered.  ","Verify savings are correct.  Update the Fuel Savings Type field to reflect the fuel with savings.  Fuel Savings Type “Dual” should only be used if there are positive savings for both gas and electric.\n",{"$f":"#REF!","v":{"$error":"#REF!"}},{"$f":"#REF!","v":{"$error":"#REF!"}},{"$f":"IF(#REF!=1,\"X\",\"\")","v":{"$error":"#REF!"}},{"$f":"IF(#REF!=1,\"X\",\"\")","v":{"$error":"#REF!"}},{"$f":"IF(#REF!=1,\"X\",\"\")","v":{"$error":"#REF!"}},{"$f":"IF(#REF!=1,\"X\",\"\")","v":{"$error":"#REF!"}},{"$f":"IF(#REF!=1,\"X\",\"\")","v":{"$error":"#REF!"}},{"$f":"IF(#REF!=1,\"X\",\"\")","v":{"$error":"#REF!"}},{"$f":"IF(#REF!=1,\"X\",\"\")","v":{"$error":"#REF!"}},{"$f":"IF(#REF!=1,\"X\",\"\")","v":{"$error":"#REF!"}},{"$f":"IF(#REF!=1,\"X\",\"\")","v":{"$error":"#REF!"}},{"$f":"IF(#REF!=1,\"X\",\"\")","v":{"$error":"#REF!"}}]
[null,null,"- Loadshape values must be populated and add up to 100%","Error occurs when kWh input is entered and the energy loadshape does not sum to 100%.  Measures with kWh savings require loadshape information in order to calculate kWh benefits","Update loadshape information so On/Off Summer/Winter percent fields sum to 100%.  If better information is not available, user can use the Default On Peak tab of this tool.",{"$f":"#REF!","v":{"$error":"#REF!"}},{"$f":"#REF!","v":{"$error":"#REF!"}},{"$f":"IF(#REF!=1,\"X\",\"\")","v":{"$error":"#REF!"}},{"$f":"IF(#REF!=1,\"X\",\"\")","v":{"$error":"#REF!"}},{"$f":"IF(#REF!=1,\"X\",\"\")","v":{"$error":"#REF!"}},{"$f":"IF(#REF!=1,\"X\",\"\")","v":{"$error":"#REF!"}},{"$f":"IF(#REF!=1,\"X\",\"\")","v":{"$error":"#REF!"}},{"$f":"IF(#REF!=1,\"X\",\"\")","v":{"$error":"#REF!"}},{"$f":"IF(#REF!=1,\"X\",\"\")","v":{"$error":"#REF!"}},{"$f":"IF(#REF!=1,\"X\",\"\")","v":{"$error":"#REF!"}},{"$f":"IF(#REF!=1,\"X\",\"\")","v":{"$error":"#REF!"}},{"$f":"IF(#REF!=1,\"X\",\"\")","v":{"$error":"#REF!"}}]
[null,null,"- Select Initiative and Fuel Savings Type to populate Measure options","Error occurs when the user indicates the measure should be included in the project, but the Type of Project and Fuel Savings Type are not populated.","Populate the Type of Project and Fuel Savings Type fields for all measures to be included in the project screening.",{"$f":"#REF!","v":{"$error":"#REF!"}},{"$f":"#REF!","v":{"$error":"#REF!"}},{"$f":"IF(#REF!=1,\"X\",\"\")","v":{"$error":"#REF!"}},{"$f":"IF(#REF!=1,\"X\",\"\")","v":{"$error":"#REF!"}},{"$f":"IF(#REF!=1,\"X\",\"\")","v":{"$error":"#REF!"}},{"$f":"IF(#REF!=1,\"X\",\"\")","v":{"$error":"#REF!"}},{"$f":"IF(#REF!=1,\"X\",\"\")","v":{"$error":"#REF!"}},{"$f":"IF(#REF!=1,\"X\",\"\")","v":{"$error":"#REF!"}},{"$f":"IF(#REF!=1,\"X\",\"\")","v":{"$error":"#REF!"}},{"$f":"IF(#REF!=1,\"X\",\"\")","v":{"$error":"#REF!"}},{"$f":"IF(#REF!=1,\"X\",\"\")","v":{"$error":"#REF!"}},{"$f":"IF(#REF!=1,\"X\",\"\")","v":{"$error":"#REF!"}}]
[null,null,"- \"Include In Project\" field is blank or invalid for ECM ","Error occurs when measure information is entered, but the \"Include in Project\" field is not a 1 or 0. ","Populate the \"Include in Project\" field with a 1 or 0 or remove the Measure Information.",{"$f":"#REF!","v":{"$error":"#REF!"}},{"$f":"#REF!","v":{"$error":"#REF!"}},{"$f":"IF(#REF!=1,\"X\",\"\")","v":{"$error":"#REF!"}},{"$f":"IF(#REF!=1,\"X\",\"\")","v":{"$error":"#REF!"}},{"$f":"IF(#REF!=1,\"X\",\"\")","v":{"$error":"#REF!"}},{"$f":"IF(#REF!=1,\"X\",\"\")","v":{"$error":"#REF!"}},{"$f":"IF(#REF!=1,\"X\",\"\")","v":{"$error":"#REF!"}},{"$f":"IF(#REF!=1,\"X\",\"\")","v":{"$error":"#REF!"}},{"$f":"IF(#REF!=1,\"X\",\"\")","v":{"$error":"#REF!"}},{"$f":"IF(#REF!=1,\"X\",\"\")","v":{"$error":"#REF!"}},{"$f":"IF(#REF!=1,\"X\",\"\")","v":{"$error":"#REF!"}},{"$f":"IF(#REF!=1,\"X\",\"\")","v":{"$error":"#REF!"}}]
[null,null,"- Retrofit type projects should have zero Baseline Costs.","Error occurs when the base costs is not either blank or zero for retrofit measures","Update the Type of Project OR use zero baseline costs.",{"$f":"#REF!","v":{"$error":"#REF!"}},{"$f":"#REF!","v":{"$error":"#REF!"}},{"$f":"IF(#REF!=1,\"X\",\"\")","v":{"$error":"#REF!"}},{"$f":"IF(#REF!=1,\"X\",\"\")","v":{"$error":"#REF!"}},{"$f":"IF(#REF!=1,\"X\",\"\")","v":{"$error":"#REF!"}},{"$f":"IF(#REF!=1,\"X\",\"\")","v":{"$error":"#REF!"}},{"$f":"IF(#REF!=1,\"X\",\"\")","v":{"$error":"#REF!"}},{"$f":"IF(#REF!=1,\"X\",\"\")","v":{"$error":"#REF!"}},{"$f":"IF(#REF!=1,\"X\",\"\")","v":{"$error":"#REF!"}},{"$f":"IF(#REF!=1,\"X\",\"\")","v":{"$error":"#REF!"}},{"$f":"IF(#REF!=1,\"X\",\"\")","v":{"$error":"#REF!"}},{"$f":"IF(#REF!=1,\"X\",\"\")","v":{"$error":"#REF!"}}]
[null,null,"- Measure or Measure Life not available for Initiative and Fuel Savings Type","This error occurs if the Initiative or Fuel Savings Type is changed, but the Measure and/or Measure Life fields are not.  Error occurs if the selected measure and/or measure life are not available for the new project or fuel types.","Check measure and measure life drop downs for updated list.",{"$f":"#REF!","v":{"$error":"#REF!"}},{"$f":"#REF!","v":{"$error":"#REF!"}},{"$f":"IF(#REF!=1,\"X\",\"\")","v":{"$error":"#REF!"}},{"$f":"IF(#REF!=1,\"X\",\"\")","v":{"$error":"#REF!"}},{"$f":"IF(#REF!=1,\"X\",\"\")","v":{"$error":"#REF!"}},{"$f":"IF(#REF!=1,\"X\",\"\")","v":{"$error":"#REF!"}},{"$f":"IF(#REF!=1,\"X\",\"\")","v":{"$error":"#REF!"}},{"$f":"IF(#REF!=1,\"X\",\"\")","v":{"$error":"#REF!"}},{"$f":"IF(#REF!=1,\"X\",\"\")","v":{"$error":"#REF!"}},{"$f":"IF(#REF!=1,\"X\",\"\")","v":{"$error":"#REF!"}},{"$f":"IF(#REF!=1,\"X\",\"\")","v":{"$error":"#REF!"}},{"$f":"IF(#REF!=1,\"X\",\"\")","v":{"$error":"#REF!"}}]
[null,null,"-RI CHP projects must populate values on the \"RI CHP\" tab before BCR will populate","This error will only occur for RI CHP projects that do not have the RI CHP tab populated.  RI specific inputs for CHP include the nameplate kW and distribution benefits for CHP.","Populate the RI CHP tab",{"$f":"#REF!","v":{"$error":"#REF!"}},{"$f":"#REF!","v":{"$error":"#REF!"}},{"$f":"IF(#REF!=1,\"X\",\"\")","v":{"$error":"#REF!"}},{"$f":"IF(#REF!=1,\"X\",\"\")","v":{"$error":"#REF!"}},{"$f":"IF(#REF!=1,\"X\",\"\")","v":{"$error":"#REF!"}},{"$f":"IF(#REF!=1,\"X\",\"\")","v":{"$error":"#REF!"}},{"$f":"IF(#REF!=1,\"X\",\"\")","v":{"$error":"#REF!"}},{"$f":"IF(#REF!=1,\"X\",\"\")","v":{"$error":"#REF!"}},{"$f":"IF(#REF!=1,\"X\",\"\")","v":{"$error":"#REF!"}},{"$f":"IF(#REF!=1,\"X\",\"\")","v":{"$error":"#REF!"}},{"$f":"IF(#REF!=1,\"X\",\"\")","v":{"$error":"#REF!"}},{"$f":"IF(#REF!=1,\"X\",\"\")","v":{"$error":"#REF!"}}]
[null,"Note","- Simple Total Payback is longer than measure life for at least one measure","Note occurs when the total payback (including gas, electric, and NEI inputs) of a given measure is longer than the measure life.","Informational.  No action required.",{"$f":"#REF!","v":{"$error":"#REF!"}},{"$f":"#REF!","v":{"$error":"#REF!"}},{"$f":"IF(#REF!=1,\"X\",\"\")","v":{"$error":"#REF!"}},{"$f":"IF(#REF!=1,\"X\",\"\")","v":{"$error":"#REF!"}},{"$f":"IF(#REF!=1,\"X\",\"\")","v":{"$error":"#REF!"}},{"$f":"IF(#REF!=1,\"X\",\"\")","v":{"$error":"#REF!"}},{"$f":"IF(#REF!=1,\"X\",\"\")","v":{"$error":"#REF!"}},{"$f":"IF(#REF!=1,\"X\",\"\")","v":{"$error":"#REF!"}},{"$f":"IF(#REF!=1,\"X\",\"\")","v":{"$error":"#REF!"}},{"$f":"IF(#REF!=1,\"X\",\"\")","v":{"$error":"#REF!"}},{"$f":"IF(#REF!=1,\"X\",\"\")","v":{"$error":"#REF!"}},{"$f":"IF(#REF!=1,\"X\",\"\")","v":{"$error":"#REF!"}}]
[null,null,"- Measure BCR is less than one for at least one Measure","Note occurs when a measure BCR is less than one.  ","Informational.  No action required.",{"$f":"#REF!","v":{"$error":"#REF!"}},{"$f":"#REF!","v":{"$error":"#REF!"}},{"$f":"IF(#REF!=1,\"X\",\"\")","v":{"$error":"#REF!"}},{"$f":"IF(#REF!=1,\"X\",\"\")","v":{"$error":"#REF!"}},{"$f":"IF(#REF!=1,\"X\",\"\")","v":{"$error":"#REF!"}},{"$f":"IF(#REF!=1,\"X\",\"\")","v":{"$error":"#REF!"}},{"$f":"IF(#REF!=1,\"X\",\"\")","v":{"$error":"#REF!"}},{"$f":"IF(#REF!=1,\"X\",\"\")","v":{"$error":"#REF!"}},{"$f":"IF(#REF!=1,\"X\",\"\")","v":{"$error":"#REF!"}},{"$f":"IF(#REF!=1,\"X\",\"\")","v":{"$error":"#REF!"}},{"$f":"IF(#REF!=1,\"X\",\"\")","v":{"$error":"#REF!"}},{"$f":"IF(#REF!=1,\"X\",\"\")","v":{"$error":"#REF!"}}]
[null,null,"- More than one Natural Gas Savings field used for a single measure","Note occurs when non-zero natural gas savings are entered into more than one gas savings field (Heating Season, Year Round, Other).  ","Recommended, but not required, that one gas savings field is used per measure.  Review the type of gas savings the particular measure is expected to produce and update the inputs accordingly.",{"$f":"#REF!","v":{"$error":"#REF!"}},{"$f":"#REF!","v":{"$error":"#REF!"}},{"$f":"IF(#REF!=1,\"X\",\"\")","v":{"$error":"#REF!"}},{"$f":"IF(#REF!=1,\"X\",\"\")","v":{"$error":"#REF!"}},{"$f":"IF(#REF!=1,\"X\",\"\")","v":{"$error":"#REF!"}},{"$f":"IF(#REF!=1,\"X\",\"\")","v":{"$error":"#REF!"}},{"$f":"IF(#REF!=1,\"X\",\"\")","v":{"$error":"#REF!"}},{"$f":"IF(#REF!=1,\"X\",\"\")","v":{"$error":"#REF!"}},{"$f":"IF(#REF!=1,\"X\",\"\")","v":{"$error":"#REF!"}},{"$f":"IF(#REF!=1,\"X\",\"\")","v":{"$error":"#REF!"}},{"$f":"IF(#REF!=1,\"X\",\"\")","v":{"$error":"#REF!"}},{"$f":"IF(#REF!=1,\"X\",\"\")","v":{"$error":"#REF!"}}]
[null,null,"- Negative Measure Payback for at least one Measure","Note occurs when a measure has a negative total payback.  A negative payback indicates the measure will never pay itself back.","Informational.  No action required.",{"$f":"#REF!","v":{"$error":"#REF!"}},{"$f":"#REF!","v":{"$error":"#REF!"}},{"$f":"IF(#REF!=1,\"X\",\"\")","v":{"$error":"#REF!"}},{"$f":"IF(#REF!=1,\"X\",\"\")","v":{"$error":"#REF!"}},{"$f":"IF(#REF!=1,\"X\",\"\")","v":{"$error":"#REF!"}},{"$f":"IF(#REF!=1,\"X\",\"\")","v":{"$error":"#REF!"}},{"$f":"IF(#REF!=1,\"X\",\"\")","v":{"$error":"#REF!"}},{"$f":"IF(#REF!=1,\"X\",\"\")","v":{"$error":"#REF!"}},{"$f":"IF(#REF!=1,\"X\",\"\")","v":{"$error":"#REF!"}},{"$f":"IF(#REF!=1,\"X\",\"\")","v":{"$error":"#REF!"}},{"$f":"IF(#REF!=1,\"X\",\"\")","v":{"$error":"#REF!"}},{"$f":"IF(#REF!=1,\"X\",\"\")","v":{"$error":"#REF!"}}]
[null,null,"- Proposed Costs are less than or equal to Baseline Costs","Note occurs when the proposed costs are lower than or equal to the baseline costs. ","Verify cost information is correct.  It’s expected that high efficiency projects are more expensive than standard efficiency.",{"$f":"#REF!","v":{"$error":"#REF!"}},{"$f":"#REF!","v":{"$error":"#REF!"}},{"$f":"IF(#REF!=1,\"X\",\"\")","v":{"$error":"#REF!"}},{"$f":"IF(#REF!=1,\"X\",\"\")","v":{"$error":"#REF!"}},{"$f":"IF(#REF!=1,\"X\",\"\")","v":{"$error":"#REF!"}},{"$f":"IF(#REF!=1,\"X\",\"\")","v":{"$error":"#REF!"}},{"$f":"IF(#REF!=1,\"X\",\"\")","v":{"$error":"#REF!"}},{"$f":"IF(#REF!=1,\"X\",\"\")","v":{"$error":"#REF!"}},{"$f":"IF(#REF!=1,\"X\",\"\")","v":{"$error":"#REF!"}},{"$f":"IF(#REF!=1,\"X\",\"\")","v":{"$error":"#REF!"}},{"$f":"IF(#REF!=1,\"X\",\"\")","v":{"$error":"#REF!"}},{"$f":"IF(#REF!=1,\"X\",\"\")","v":{"$error":"#REF!"}}]
[null,null,"- Most CHP projects should have a fossil fuel penalty","Note occurs when a CHP measure does not include a fossil fuel penalty.  ","CHP, like fuel switching projects, should consider energy savings and penalties from increased usage.  If CHP does not use natural gas, propane, or oil, fuel use can be converted into dollars and entered as an Annual $ ",{"$f":"#REF!","v":{"$error":"#REF!"}},{"$f":"#REF!","v":{"$error":"#REF!"}},{"$f":"IF(#REF!=1,\"X\",\"\")","v":{"$error":"#REF!"}},{"$f":"IF(#REF!=1,\"X\",\"\")","v":{"$error":"#REF!"}},{"$f":"IF(#REF!=1,\"X\",\"\")","v":{"$error":"#REF!"}},{"$f":"IF(#REF!=1,\"X\",\"\")","v":{"$error":"#REF!"}},{"$f":"IF(#REF!=1,\"X\",\"\")","v":{"$error":"#REF!"}},{"$f":"IF(#REF!=1,\"X\",\"\")","v":{"$error":"#REF!"}},{"$f":"IF(#REF!=1,\"X\",\"\")","v":{"$error":"#REF!"}},{"$f":"IF(#REF!=1,\"X\",\"\")","v":{"$error":"#REF!"}},{"$f":"IF(#REF!=1,\"X\",\"\")","v":{"$error":"#REF!"}},{"$f":"IF(#REF!=1,\"X\",\"\")","v":{"$error":"#REF!"}}]
[null,null,"- Most CHP projects should have an O&M penalty","Note occurs when CHP measure does not include a negative Annual $ entry.  The annual $ entry is expected, although not required.","CHP projects often include increased maintenance costs due to the project",{"$f":"#REF!","v":{"$error":"#REF!"}},{"$f":"#REF!","v":{"$error":"#REF!"}},{"$f":"IF(#REF!=1,\"X\",\"\")","v":{"$error":"#REF!"}},{"$f":"IF(#REF!=1,\"X\",\"\")","v":{"$error":"#REF!"}},{"$f":"IF(#REF!=1,\"X\",\"\")","v":{"$error":"#REF!"}},{"$f":"IF(#REF!=1,\"X\",\"\")","v":{"$error":"#REF!"}},{"$f":"IF(#REF!=1,\"X\",\"\")","v":{"$error":"#REF!"}},{"$f":"IF(#REF!=1,\"X\",\"\")","v":{"$error":"#REF!"}},{"$f":"IF(#REF!=1,\"X\",\"\")","v":{"$error":"#REF!"}},{"$f":"IF(#REF!=1,\"X\",\"\")","v":{"$error":"#REF!"}},{"$f":"IF(#REF!=1,\"X\",\"\")","v":{"$error":"#REF!"}},{"$f":"IF(#REF!=1,\"X\",\"\")","v":{"$error":"#REF!"}}]
[null,null,"-One or more measures are affected by dual baseline assumptions","Note occurs when selected measure under the Existing Building Retrofit Initiative is assumed to be a dual baseline installation.  Dual Baseline assumptions are applied at a high level at the measure category and are not meant to be project specific.  See Policy & Definitions tab for additional information","No action required.  ",{"$f":"#REF!","v":{"$error":"#REF!"}},{"$f":"#REF!","v":{"$error":"#REF!"}},{"$f":"IF(#REF!=1,\"X\",\"\")","v":{"$error":"#REF!"}},{"$f":"IF(#REF!=1,\"X\",\"\")","v":{"$error":"#REF!"}},{"$f":"IF(#REF!=1,\"X\",\"\")","v":{"$error":"#REF!"}},{"$f":"IF(#REF!=1,\"X\",\"\")","v":{"$error":"#REF!"}},{"$f":"IF(#REF!=1,\"X\",\"\")","v":{"$error":"#REF!"}},{"$f":"IF(#REF!=1,\"X\",\"\")","v":{"$error":"#REF!"}},{"$f":"IF(#REF!=1,\"X\",\"\")","v":{"$error":"#REF!"}},{"$f":"IF(#REF!=1,\"X\",\"\")","v":{"$error":"#REF!"}},{"$f":"IF(#REF!=1,\"X\",\"\")","v":{"$error":"#REF!"}},{"$f":"IF(#REF!=1,\"X\",\"\")","v":{"$error":"#REF!"}}]
[]
[null,null,null,null,null,null,null,{"$f":"COUNTIF(H8:H22,\"X\")","v":0},0,0,0,0,0,0,0,0,0]

{"sheet":"dynamic tables","index":20,"n_rows":80,"n_cols":21,"rows_kept":80,"cut":false,"hidden":true,"merged":[[11,1,11,10],[11,11,11,20]]}
["Tab Explanation:"]
["This tab is used to populate the dynamic drop downs on the inputs tab.  Also used to check that measure selections available in selected fuel and project types.  DO NOT EDIT THIS TABLE"]
[]
["http://www.get-digital-help.com/2010/07/17/create-dependent-drop-down-lists-containing-unique-distinct-values-in-excel/"]
[]
["Data from Screening Tool tab - used to ensure current measure and measure life options available for current project and fuel savings types"]
["Initiative",{"$f":"#REF!","v":{"$error":"#REF!"}},{"$f":"#REF!","v":{"$error":"#REF!"}},{"$f":"#REF!","v":{"$error":"#REF!"}},{"$f":"#REF!","v":{"$error":"#REF!"}},{"$f":"#REF!","v":{"$error":"#REF!"}},{"$f":"#REF!","v":{"$error":"#REF!"}},{"$f":"#REF!","v":{"$error":"#REF!"}},{"$f":"#REF!","v":{"$error":"#REF!"}},{"$f":"#REF!","v":{"$error":"#REF!"}},{"$f":"#REF!","v":{"$error":"#REF!"}}]
["Fuel  Savings Type",{"$f":"#REF!","v":{"$error":"#REF!"}},{"$f":"#REF!","v":{"$error":"#REF!"}},{"$f":"#REF!","v":{"$error":"#REF!"}},{"$f":"#REF!","v":{"$error":"#REF!"}},{"$f":"#REF!","v":{"$error":"#REF!"}},{"$f":"#REF!","v":{"$error":"#REF!"}},{"$f":"#REF!","v":{"$error":"#REF!"}},{"$f":"#REF!","v":{"$error":"#REF!"}},{"$f":"#REF!","v":{"$error":"#REF!"}},{"$f":"#REF!","v":{"$error":"#REF!"}}]
["Measure",{"$f":"#REF!","v":{"$error":"#REF!"}},{"$f":"#REF!","v":{"$error":"#REF!"}},{"$f":"#REF!","v":{"$error":"#REF!"}},{"$f":"#REF!","v":{"$error":"#REF!"}},{"$f":"#REF!","v":{"$error":"#REF!"}},{"$f":"#REF!","v":{"$error":"#REF!"}},{"$f":"#REF!","v":{"$error":"#REF!"}},{"$f":"#REF!","v":{"$error":"#REF!"}},{"$f":"#REF!","v":{"$error":"#REF!"}},{"$f":"#REF!","v":{"$error":"#REF!"}}]
["Measure Life (Years)",{"$f":"#REF!","v":{"$error":"#REF!"}},{"$f":"#REF!","v":{"$error":"#REF!"}},{"$f":"#REF!","v":{"$error":"#REF!"}},{"$f":"#REF!","v":{"$error":"#REF!"}},{"$f":"#REF!","v":{"$error":"#REF!"}},{"$f":"#REF!","v":{"$error":"#REF!"}},{"$f":"#REF!","v":{"$error":"#REF!"}},{"$f":"#REF!","v":{"$error":"#REF!"}},{"$f":"#REF!","v":{"$error":"#REF!"}},{"$f":"#REF!","v":{"$error":"#REF!"}}]
["Check for error",{"$f":"IF(IFERROR(VLOOKUP(B9,B17:B80,1,FALSE),1)=1,1,0)*#REF!","v":{"$error":"#REF!"}},{"$f":"IF(IFERROR(VLOOKUP(C9,C17:C80,1,FALSE),1)=1,1,0)*#REF!","v":{"$error":"#REF!"}},{"$f":"IF(IFERROR(VLOOKUP(D9,D17:D80,1,FALSE),1)=1,1,0)*#REF!","v":{"$error":"#REF!"}},{"$f":"IF(IFERROR(VLOOKUP(E9,E17:E80,1,FALSE),1)=1,1,0)*#REF!","v":{"$error":"#REF!"}},{"$f":"IF(IFERROR(VLOOKUP(F9,F17:F80,1,FALSE),1)=1,1,0)*#REF!","v":{"$error":"#REF!"}},{"$f":"IF(IFERROR(VLOOKUP(G9,G17:G80,1,FALSE),1)=1,1,0)*#REF!","v":{"$error":"#REF!"}},{"$f":"IF(IFERROR(VLOOKUP(H9,H17:H80,1,FALSE),1)=1,1,0)*#REF!","v":{"$error":"#REF!"}},{"$f":"IF(IFERROR(VLOOKUP(I9,I17:I80,1,FALSE),1)=1,1,0)*#REF!","v":{"$error":"#REF!"}},{"$f":"IF(IFERROR(VLOOKUP(J9,J17:J80,1,FALSE),1)=1,1,0)*#REF!","v":{"$error":"#REF!"}},{"$f":"IF(IFERROR(VLOOKUP(K9,K17:K80,1,FALSE),1)=1,1,0)*#REF!","v":{"$error":"#REF!"}},{"$f":"IF(IFERROR(VLOOKUP(B10,L17:L80,1,FALSE),1)=1,1,0)*#REF!","v":{"$error":"#REF!"}},{"$f":"IF(IFERROR(VLOOKUP(C10,M17:M80,1,FALSE),1)=1,1,0)*#REF!","v":{"$error":"#REF!"}},{"$f":"IF(IFERROR(VLOOKUP(D10,N17:N80,1,FALSE),1)=1,1,0)*#REF!","v":{"$error":"#REF!"}},{"$f":"IF(IFERROR(VLOOKUP(E10,O17:O80,1,FALSE),1)=1,1,0)*#REF!","v":{"$error":"#REF!"}},{"$f":"IF(IFERROR(VLOOKUP(F10,P17:P80,1,FALSE),1)=1,1,0)*#REF!","v":{"$error":"#REF!"}},{"$f":"IF(IFERROR(VLOOKUP(G10,Q17:Q80,1,FALSE),1)=1,1,0)*#REF!","v":{"$error":"#REF!"}},{"$f":"IF(IFERROR(VLOOKUP(H10,R17:R80,1,FALSE),1)=1,1,0)*#REF!","v":{"$error":"#REF!"}},{"$f":"IF(IFERROR(VLOOKUP(I10,S17:S80,1,FALSE),1)=1,1,0)*#REF!","v":{"$error":"#REF!"}},{"$f":"IF(IFERROR(VLOOKUP(J10,T17:T80,1,FALSE),1)=1,1,0)*#REF!","v":{"$error":"#REF!"}},{"$f":"IF(IFERROR(VLOOKUP(K10,U17:U80,1,FALSE),1)=1,1,0)*#REF!","v":{"$error":"#REF!"}}]
[null,"Measure lists",null,null,null,null,null,null,null,null,null,"Measure Lives"]
[null,1,2,3,4,5,6,7,8,9,10,1,2,3,4,5,6,7,8,9,10]
["Initiative",{"$f":"#REF!","v":{"$error":"#REF!"}},{"$f":"#REF!","v":{"$error":"#REF!"}},{"$f":"#REF!","v":{"$error":"#REF!"}},{"$f":"#REF!","v":{"$error":"#REF!"}},{"$f":"#REF!","v":{"$error":"#REF!"}},{"$f":"#REF!","v":{"$error":"#REF!"}},{"$f":"#REF!","v":{"$error":"#REF!"}},{"$f":"#REF!","v":{"$error":"#REF!"}},{"$f":"#REF!","v":{"$error":"#REF!"}},{"$f":"#REF!","v":{"$error":"#REF!"}},{"$f":"B14","v":{"$error":"#REF!"}},{"$error":"#REF!"},{"$error":"#REF!"},{"$error":"#REF!"},{"$error":"#REF!"},{"$error":"#REF!"},{"$error":"#REF!"},{"$error":"#REF!"},{"$error":"#REF!"},{"$error":"#REF!"}]
["Fuel",{"$f":"#REF!","v":{"$error":"#REF!"}},{"$f":"#REF!","v":{"$error":"#REF!"}},{"$f":"#REF!","v":{"$error":"#REF!"}},{"$f":"#REF!","v":{"$error":"#REF!"}},{"$f":"#REF!","v":{"$error":"#REF!"}},{"$f":"#REF!","v":{"$error":"#REF!"}},{"$f":"#REF!","v":{"$error":"#REF!"}},{"$f":"#REF!","v":{"$error":"#REF!"}},{"$f":"#REF!","v":{"$error":"#REF!"}},{"$f":"#REF!","v":{"$error":"#REF!"}},{"$error":"#REF!"},{"$error":"#REF!"},{"$error":"#REF!"},{"$error":"#REF!"},{"$error":"#REF!"},{"$error":"#REF!"},{"$error":"#REF!"},{"$error":"#REF!"},{"$error":"#REF!"},{"$error":"#REF!"}]
["measure",null,null,null,null,null,null,null,null,null,null,{"$f":"#REF!","v":{"$error":"#REF!"}},{"$f":"#REF!","v":{"$error":"#REF!"}},{"$f":"#REF!","v":{"$error":"#REF!"}},{"$f":"#REF!","v":{"$error":"#REF!"}},{"$f":"#REF!","v":{"$error":"#REF!"}},{"$f":"#REF!","v":{"$error":"#REF!"}},{"$f":"#REF!","v":{"$error":"#REF!"}},{"$f":"#REF!","v":{"$error":"#REF!"}},{"$f":"#REF!","v":{"$error":"#REF!"}},{"$f":"#REF!","v":{"$error":"#REF!"}}]
["Dynamic Lists:",{"$f":"INDEX(Measure,MATCH(0,COUNTIF(B$15:B15,Measure)+(Initiative<>B$14)+(Fuel<>B$15),0))","v":{"$error":"#REF!"}},{"$f":"INDEX(Measure,MATCH(0,COUNTIF(C$15:C15,Measure)+(Initiative<>C$14)+(Fuel<>C$15),0))","v":{"$error":"#REF!"}},{"$f":"INDEX(Measure,MATCH(0,COUNTIF(D$15:D15,Measure)+(Initiative<>D$14)+(Fuel<>D$15),0))","v":{"$error":"#REF!"}},{"$f":"INDEX(Measure,MATCH(0,COUNTIF(E$15:E15,Measure)+(Initiative<>E$14)+(Fuel<>E$15),0))","v":{"$error":"#REF!"}},{"$f":"INDEX(Measure,MATCH(0,COUNTIF(F$15:F15,Measure)+(Initiative<>F$14)+(Fuel<>F$15),0))","v":{"$error":"#REF!"}},{"$f":"INDEX(Measure,MATCH(0,COUNTIF(G$15:G15,Measure)+(Initiative<>G$14)+(Fuel<>G$15),0))","v":{"$error":"#REF!"}},{"$f":"INDEX(Measure,MATCH(0,COUNTIF(H$15:H15,Measure)+(Initiative<>H$14)+(Fuel<>H$15),0))","v":{"$error":"#REF!"}},{"$f":"INDEX(Measure,MATCH(0,COUNTIF(I$15:I15,Measure)+(Initiative<>I$14)+(Fuel<>I$15),0))","v":{"$error":"#REF!"}},{"$f":"INDEX(Measure,MATCH(0,COUNTIF(J$15:J15,Measure)+(Initiative<>J$14)+(Fuel<>J$15),0))","v":{"$error":"#REF!"}},{"$f":"INDEX(Measure,MATCH(0,COUNTIF(K$15:K15,Measure)+(Initiative<>K$14)+(Fuel<>K$15),0))","v":{"$error":"#REF!"}},{"$f":"INDEX(Life,MATCH(0,COUNTIF(L$16:L16,Life)+(Initiative<>L$14)+(Fuel<>L$15)+(Measure<>L$16),0))","v":{"$error":"#REF!"}},{"$f":"INDEX(Life,MATCH(0,COUNTIF(M$16:M16,Life)+(Initiative<>M$14)+(Fuel<>M$15)+(Measure<>M$16),0))","v":{"$error":"#REF!"}},{"$f":"INDEX(Life,MATCH(0,COUNTIF(N$16:N16,Life)+(Initiative<>N$14)+(Fuel<>N$15)+(Measure<>N$16),0))","v":{"$error":"#REF!"}},{"$f":"INDEX(Life,MATCH(0,COUNTIF(O$16:O16,Life)+(Initiative<>O$14)+(Fuel<>O$15)+(Measure<>O$16),0))","v":{"$error":"#REF!"}},{"$f":"INDEX(Life,MATCH(0,COUNTIF(P$16:P16,Life)+(Initiative<>P$14)+(Fuel<>P$15)+(Measure<>P$16),0))","v":{"$error":"#REF!"}},{"$f":"INDEX(Life,MATCH(0,COUNTIF(Q$16:Q16,Life)+(Initiative<>Q$14)+(Fuel<>Q$15)+(Measure<>Q$16),0))","v":{"$error":"#REF!"}},{"$f":"INDEX(Life,MATCH(0,COUNTIF(R$16:R16,Life)+(Initiative<>R$14)+(Fuel<>R$15)+(Measure<>R$16),0))","v":{"$error":"#REF!"}},{"$f":"INDEX(Life,MATCH(0,COUNTIF(S$16:S16,Life)+(Initiative<>S$14)+(Fuel<>S$15)+(Measure<>S$16),0))","v":{"$error":"#REF!"}},{"$f":"INDEX(Life,MATCH(0,COUNTIF(T$16:T16,Life)+(Initiative<>T$14)+(Fuel<>T$15)+(Measure<>T$16),0))","v":{"$error":"#REF!"}},{"$f":"INDEX(Life,MATCH(0,COUNTIF(U$16:U16,Life)+(Initiative<>U$14)+(Fuel<>U$15)+(Measure<>U$16),0))","v":{"$error":"#REF!"}}]
[null,{"$f":"INDEX(Measure,MATCH(0,COUNTIF(B$15:B17,Measure)+(Initiative<>B$14)+(Fuel<>B$15),0))","v":{"$error":"#REF!"}},{"$f":"INDEX(Measure,MATCH(0,COUNTIF(C$15:C17,Measure)+(Initiative<>C$14)+(Fuel<>C$15),0))","v":{"$error":"#REF!"}},{"$f":"INDEX(Measure,MATCH(0,COUNTIF(D$15:D17,Measure)+(Initiative<>D$14)+(Fuel<>D$15),0))","v":{"$error":"#REF!"}},{"$f":"INDEX(Measure,MATCH(0,COUNTIF(E$15:E17,Measure)+(Initiative<>E$14)+(Fuel<>E$15),0))","v":{"$error":"#REF!"}},{"$f":"INDEX(Measure,MATCH(0,COUNTIF(F$15:F17,Measure)+(Initiative<>F$14)+(Fuel<>F$15),0))","v":{"$error":"#REF!"}},{"$f":"INDEX(Measure,MATCH(0,COUNTIF(G$15:G17,Measure)+(Initiative<>G$14)+(Fuel<>G$15),0))","v":{"$error":"#REF!"}},{"$f":"INDEX(Measure,MATCH(0,COUNTIF(H$15:H17,Measure)+(Initiative<>H$14)+(Fuel<>H$15),0))","v":{"$error":"#REF!"}},{"$f":"INDEX(Measure,MATCH(0,COUNTIF(I$15:I17,Measure)+(Initiative<>I$14)+(Fuel<>I$15),0))","v":{"$error":"#REF!"}},{"$f":"INDEX(Measure,MATCH(0,COUNTIF(J$15:J17,Measure)+(Initiative<>J$14)+(Fuel<>J$15),0))","v":{"$error":"#REF!"}},{"$f":"INDEX(Measure,MATCH(0,COUNTIF(K$15:K17,Measure)+(Initiative<>K$14)+(Fuel<>K$15),0))","v":{"$error":"#REF!"}},{"$f":"INDEX(Life,MATCH(0,COUNTIF(L$16:L17,Life)+(Initiative<>L$14)+(Fuel<>L$15)+(Measure<>L$16),0))","v":{"$error":"#REF!"}},{"$f":"INDEX(Life,MATCH(0,COUNTIF(M$16:M17,Life)+(Initiative<>M$14)+(Fuel<>M$15)+(Measure<>M$16),0))","v":{"$error":"#REF!"}},{"$f":"INDEX(Life,MATCH(0,COUNTIF(N$16:N17,Life)+(Initiative<>N$14)+(Fuel<>N$15)+(Measure<>N$16),0))","v":{"$error":"#REF!"}},{"$f":"INDEX(Life,MATCH(0,COUNTIF(O$16:O17,Life)+(Initiative<>O$14)+(Fuel<>O$15)+(Measure<>O$16),0))","v":{"$error":"#REF!"}},{"$f":"INDEX(Life,MATCH(0,COUNTIF(P$16:P17,Life)+(Initiative<>P$14)+(Fuel<>P$15)+(Measure<>P$16),0))","v":{"$error":"#REF!"}},{"$f":"INDEX(Life,MATCH(0,COUNTIF(Q$16:Q17,Life)+(Initiative<>Q$14)+(Fuel<>Q$15)+(Measure<>Q$16),0))","v":{"$error":"#REF!"}},{"$f":"INDEX(Life,MATCH(0,COUNTIF(R$16:R17,Life)+(Initiative<>R$14)+(Fuel<>R$15)+(Measure<>R$16),0))","v":{"$error":"#REF!"}},{"$f":"INDEX(Life,MATCH(0,COUNTIF(S$16:S17,Life)+(Initiative<>S$14)+(Fuel<>S$15)+(Measure<>S$16),0))","v":{"$error":"#REF!"}},{"$f":"INDEX(Life,MATCH(0,COUNTIF(T$16:T17,Life)+(Initiative<>T$14)+(Fuel<>T$15)+(Measure<>T$16),0))","v":{"$error":"#REF!"}},{"$f":"INDEX(Life,MATCH(0,COUNTIF(U$16:U17,Life)+(Initiative<>U$14)+(Fuel<>U$15)+(Measure<>U$16),0))","v":{"$error":"#REF!"}}]
[null,{"$f":"INDEX(Measure,MATCH(0,COUNTIF(B$15:B18,Measure)+(Initiative<>B$14)+(Fuel<>B$15),0))","v":{"$error":"#REF!"}},{"$f":"INDEX(Measure,MATCH(0,COUNTIF(C$15:C18,Measure)+(Initiative<>C$14)+(Fuel<>C$15),0))","v":{"$error":"#REF!"}},{"$f":"INDEX(Measure,MATCH(0,COUNTIF(D$15:D18,Measure)+(Initiative<>D$14)+(Fuel<>D$15),0))","v":{"$error":"#REF!"}},{"$f":"INDEX(Measure,MATCH(0,COUNTIF(E$15:E18,Measure)+(Initiative<>E$14)+(Fuel<>E$15),0))","v":{"$error":"#REF!"}},{"$f":"INDEX(Measure,MATCH(0,COUNTIF(F$15:F18,Measure)+(Initiative<>F$14)+(Fuel<>F$15),0))","v":{"$error":"#REF!"}},{"$f":"INDEX(Measure,MATCH(0,COUNTIF(G$15:G18,Measure)+(Initiative<>G$14)+(Fuel<>G$15),0))","v":{"$error":"#REF!"}},{"$f":"INDEX(Measure,MATCH(0,COUNTIF(H$15:H18,Measure)+(Initiative<>H$14)+(Fuel<>H$15),0))","v":{"$error":"#REF!"}},{"$f":"INDEX(Measure,MATCH(0,COUNTIF(I$15:I18,Measure)+(Initiative<>I$14)+(Fuel<>I$15),0))","v":{"$error":"#REF!"}},{"$f":"INDEX(Measure,MATCH(0,COUNTIF(J$15:J18,Measure)+(Initiative<>J$14)+(Fuel<>J$15),0))","v":{"$error":"#REF!"}},{"$f":"INDEX(Measure,MATCH(0,COUNTIF(K$15:K18,Measure)+(Initiative<>K$14)+(Fuel<>K$15),0))","v":{"$error":"#REF!"}},{"$f":"INDEX(Life,MATCH(0,COUNTIF(L$16:L18,Life)+(Initiative<>L$14)+(Fuel<>L$15)+(Measure<>L$16),0))","v":{"$error":"#REF!"}},{"$f":"INDEX(Life,MATCH(0,COUNTIF(M$16:M18,Life)+(Initiative<>M$14)+(Fuel<>M$15)+(Measure<>M$16),0))","v":{"$error":"#REF!"}},{"$f":"INDEX(Life,MATCH(0,COUNTIF(N$16:N18,Life)+(Initiative<>N$14)+(Fuel<>N$15)+(Measure<>N$16),0))","v":{"$error":"#REF!"}},{"$f":"INDEX(Life,MATCH(0,COUNTIF(O$16:O18,Life)+(Initiative<>O$14)+(Fuel<>O$15)+(Measure<>O$16),0))","v":{"$error":"#REF!"}},{"$f":"INDEX(Life,MATCH(0,COUNTIF(P$16:P18,Life)+(Initiative<>P$14)+(Fuel<>P$15)+(Measure<>P$16),0))","v":{"$error":"#REF!"}},{"$f":"INDEX(Life,MATCH(0,COUNTIF(Q$16:Q18,Life)+(Initiative<>Q$14)+(Fuel<>Q$15)+(Measure<>Q$16),0))","v":{"$error":"#REF!"}},{"$f":"INDEX(Life,MATCH(0,COUNTIF(R$16:R18,Life)+(Initiative<>R$14)+(Fuel<>R$15)+(Measure<>R$16),0))","v":{"$error":"#REF!"}},{"$f":"INDEX(Life,MATCH(0,COUNTIF(S$16:S18,Life)+(Initiative<>S$14)+(Fuel<>S$15)+(Measure<>S$16),0))","v":{"$error":"#REF!"}},{"$f":"INDEX(Life,MATCH(0,COUNTIF(T$16:T18,Life)+(Initiative<>T$14)+(Fuel<>T$15)+(Measure<>T$16),0))","v":{"$error":"#REF!"}},{"$f":"INDEX(Life,MATCH(0,COUNTIF(U$16:U18,Life)+(Initiative<>U$14)+(Fuel<>U$15)+(Measure<>U$16),0))","v":{"$error":"#REF!"}}]
[null,{"$f":"INDEX(Measure,MATCH(0,COUNTIF(B$15:B19,Measure)+(Initiative<>B$14)+(Fuel<>B$15),0))","v":{"$error":"#REF!"}},{"$f":"INDEX(Measure,MATCH(0,COUNTIF(C$15:C19,Measure)+(Initiative<>C$14)+(Fuel<>C$15),0))","v":{"$error":"#REF!"}},{"$f":"INDEX(Measure,MATCH(0,COUNTIF(D$15:D19,Measure)+(Initiative<>D$14)+(Fuel<>D$15),0))","v":{"$error":"#REF!"}},{"$f":"INDEX(Measure,MATCH(0,COUNTIF(E$15:E19,Measure)+(Initiative<>E$14)+(Fuel<>E$15),0))","v":{"$error":"#REF!"}},{"$f":"INDEX(Measure,MATCH(0,COUNTIF(F$15:F19,Measure)+(Initiative<>F$14)+(Fuel<>F$15),0))","v":{"$error":"#REF!"}},{"$f":"INDEX(Measure,MATCH(0,COUNTIF(G$15:G19,Measure)+(Initiative<>G$14)+(Fuel<>G$15),0))","v":{"$error":"#REF!"}},{"$f":"INDEX(Measure,MATCH(0,COUNTIF(H$15:H19,Measure)+(Initiative<>H$14)+(Fuel<>H$15),0))","v":{"$error":"#REF!"}},{"$f":"INDEX(Measure,MATCH(0,COUNTIF(I$15:I19,Measure)+(Initiative<>I$14)+(Fuel<>I$15),0))","v":{"$error":"#REF!"}},{"$f":"INDEX(Measure,MATCH(0,COUNTIF(J$15:J19,Measure)+(Initiative<>J$14)+(Fuel<>J$15),0))","v":{"$error":"#REF!"}},{"$f":"INDEX(Measure,MATCH(0,COUNTIF(K$15:K19,Measure)+(Initiative<>K$14)+(Fuel<>K$15),0))","v":{"$error":"#REF!"}},{"$f":"INDEX(Life,MATCH(0,COUNTIF(L$16:L19,Life)+(Initiative<>L$14)+(Fuel<>L$15)+(Measure<>L$16),0))","v":{"$error":"#REF!"}},{"$f":"INDEX(Life,MATCH(0,COUNTIF(M$16:M19,Life)+(Initiative<>M$14)+(Fuel<>M$15)+(Measure<>M$16),0))","v":{"$error":"#REF!"}},{"$f":"INDEX(Life,MATCH(0,COUNTIF(N$16:N19,Life)+(Initiative<>N$14)+(Fuel<>N$15)+(Measure<>N$16),0))","v":{"$error":"#REF!"}},{"$f":"INDEX(Life,MATCH(0,COUNTIF(O$16:O19,Life)+(Initiative<>O$14)+(Fuel<>O$15)+(Measure<>O$16),0))","v":{"$error":"#REF!"}},{"$f":"INDEX(Life,MATCH(0,COUNTIF(P$16:P19,Life)+(Initiative<>P$14)+(Fuel<>P$15)+(Measure<>P$16),0))","v":{"$error":"#REF!"}},{"$f":"INDEX(Life,MATCH(0,COUNTIF(Q$16:Q19,Life)+(Initiative<>Q$14)+(Fuel<>Q$15)+(Measure<>Q$16),0))","v":{"$error":"#REF!"}},{"$f":"INDEX(Life,MATCH(0,COUNTIF(R$16:R19,Life)+(Initiative<>R$14)+(Fuel<>R$15)+(Measure<>R$16),0))","v":{"$error":"#REF!"}},{"$f":"INDEX(Life,MATCH(0,COUNTIF(S$16:S19,Life)+(Initiative<>S$14)+(Fuel<>S$15)+(Measure<>S$16),0))","v":{"$error":"#REF!"}},{"$f":"INDEX(Life,MATCH(0,COUNTIF(T$16:T19,Life)+(Initiative<>T$14)+(Fuel<>T$15)+(Measure<>T$16),0))","v":{"$error":"#REF!"}},{"$f":"INDEX(Life,MATCH(0,COUNTIF(U$16:U19,Life)+(Initiative<>U$14)+(Fuel<>U$15)+(Measure<>U$16),0))","v":{"$error":"#REF!"}}]
[null,{"$f":"INDEX(Measure,MATCH(0,COUNTIF(B$15:B20,Measure)+(Initiative<>B$14)+(Fuel<>B$15),0))","v":{"$error":"#REF!"}},{"$f":"INDEX(Measure,MATCH(0,COUNTIF(C$15:C20,Measure)+(Initiative<>C$14)+(Fuel<>C$15),0))","v":{"$error":"#REF!"}},{"$f":"INDEX(Measure,MATCH(0,COUNTIF(D$15:D20,Measure)+(Initiative<>D$14)+(Fuel<>D$15),0))","v":{"$error":"#REF!"}},{"$f":"INDEX(Measure,MATCH(0,COUNTIF(E$15:E20,Measure)+(Initiative<>E$14)+(Fuel<>E$15),0))","v":{"$error":"#REF!"}},{"$f":"INDEX(Measure,MATCH(0,COUNTIF(F$15:F20,Measure)+(Initiative<>F$14)+(Fuel<>F$15),0))","v":{"$error":"#REF!"}},{"$f":"INDEX(Measure,MATCH(0,COUNTIF(G$15:G20,Measure)+(Initiative<>G$14)+(Fuel<>G$15),0))","v":{"$error":"#REF!"}},{"$f":"INDEX(Measure,MATCH(0,COUNTIF(H$15:H20,Measure)+(Initiative<>H$14)+(Fuel<>H$15),0))","v":{"$error":"#REF!"}},{"$f":"INDEX(Measure,MATCH(0,COUNTIF(I$15:I20,Measure)+(Initiative<>I$14)+(Fuel<>I$15),0))","v":{"$error":"#REF!"}},{"$f":"INDEX(Measure,MATCH(0,COUNTIF(J$15:J20,Measure)+(Initiative<>J$14)+(Fuel<>J$15),0))","v":{"$error":"#REF!"}},{"$f":"INDEX(Measure,MATCH(0,COUNTIF(K$15:K20,Measure)+(Initiative<>K$14)+(Fuel<>K$15),0))","v":{"$error":"#REF!"}},{"$f":"INDEX(Life,MATCH(0,COUNTIF(L$16:L20,Life)+(Initiative<>L$14)+(Fuel<>L$15)+(Measure<>L$16),0))","v":{"$error":"#REF!"}},{"$f":"INDEX(Life,MATCH(0,COUNTIF(M$16:M20,Life)+(Initiative<>M$14)+(Fuel<>M$15)+(Measure<>M$16),0))","v":{"$error":"#REF!"}},{"$f":"INDEX(Life,MATCH(0,COUNTIF(N$16:N20,Life)+(Initiative<>N$14)+(Fuel<>N$15)+(Measure<>N$16),0))","v":{"$error":"#REF!"}},{"$f":"INDEX(Life,MATCH(0,COUNTIF(O$16:O20,Life)+(Initiative<>O$14)+(Fuel<>O$15)+(Measure<>O$16),0))","v":{"$error":"#REF!"}},{"$f":"INDEX(Life,MATCH(0,COUNTIF(P$16:P20,Life)+(Initiative<>P$14)+(Fuel<>P$15)+(Measure<>P$16),0))","v":{"$error":"#REF!"}},{"$f":"INDEX(Life,MATCH(0,COUNTIF(Q$16:Q20,Life)+(Initiative<>Q$14)+(Fuel<>Q$15)+(Measure<>Q$16),0))","v":{"$error":"#REF!"}},{"$f":"INDEX(Life,MATCH(0,COUNTIF(R$16:R20,Life)+(Initiative<>R$14)+(Fuel<>R$15)+(Measure<>R$16),0))","v":{"$error":"#REF!"}},{"$f":"INDEX(Life,MATCH(0,COUNTIF(S$16:S20,Life)+(Initiative<>S$14)+(Fuel<>S$15)+(Measure<>S$16),0))","v":{"$error":"#REF!"}},{"$f":"INDEX(Life,MATCH(0,COUNTIF(T$16:T20,Life)+(Initiative<>T$14)+(Fuel<>T$15)+(Measure<>T$16),0))","v":{"$error":"#REF!"}},{"$f":"INDEX(Life,MATCH(0,COUNTIF(U$16:U20,Life)+(Initiative<>U$14)+(Fuel<>U$15)+(Measure<>U$16),0))","v":{"$error":"#REF!"}}]
[null,{"$f":"INDEX(Measure,MATCH(0,COUNTIF(B$15:B21,Measure)+(Initiative<>B$14)+(Fuel<>B$15),0))","v":{"$error":"#REF!"}},{"$f":"INDEX(Measure,MATCH(0,COUNTIF(C$15:C21,Measure)+(Initiative<>C$14)+(Fuel<>C$15),0))","v":{"$error":"#REF!"}},{"$f":"INDEX(Measure,MATCH(0,COUNTIF(D$15:D21,Measure)+(Initiative<>D$14)+(Fuel<>D$15),0))","v":{"$error":"#REF!"}},{"$f":"INDEX(Measure,MATCH(0,COUNTIF(E$15:E21,Measure)+(Initiative<>E$14)+(Fuel<>E$15),0))","v":{"$error":"#REF!"}},{"$f":"INDEX(Measure,MATCH(0,COUNTIF(F$15:F21,Measure)+(Initiative<>F$14)+(Fuel<>F$15),0))","v":{"$error":"#REF!"}},{"$f":"INDEX(Measure,MATCH(0,COUNTIF(G$15:G21,Measure)+(Initiative<>G$14)+(Fuel<>G$15),0))","v":{"$error":"#REF!"}},{"$f":"INDEX(Measure,MATCH(0,COUNTIF(H$15:H21,Measure)+(Initiative<>H$14)+(Fuel<>H$15),0))","v":{"$error":"#REF!"}},{"$f":"INDEX(Measure,MATCH(0,COUNTIF(I$15:I21,Measure)+(Initiative<>I$14)+(Fuel<>I$15),0))","v":{"$error":"#REF!"}},{"$f":"INDEX(Measure,MATCH(0,COUNTIF(J$15:J21,Measure)+(Initiative<>J$14)+(Fuel<>J$15),0))","v":{"$error":"#REF!"}},{"$f":"INDEX(Measure,MATCH(0,COUNTIF(K$15:K21,Measure)+(Initiative<>K$14)+(Fuel<>K$15),0))","v":{"$error":"#REF!"}},{"$f":"INDEX(Life,MATCH(0,COUNTIF(L$16:L21,Life)+(Initiative<>L$14)+(Fuel<>L$15)+(Measure<>L$16),0))","v":{"$error":"#REF!"}},{"$f":"INDEX(Life,MATCH(0,COUNTIF(M$16:M21,Life)+(Initiative<>M$14)+(Fuel<>M$15)+(Measure<>M$16),0))","v":{"$error":"#REF!"}},{"$f":"INDEX(Life,MATCH(0,COUNTIF(N$16:N21,Life)+(Initiative<>N$14)+(Fuel<>N$15)+(Measure<>N$16),0))","v":{"$error":"#REF!"}},{"$f":"INDEX(Life,MATCH(0,COUNTIF(O$16:O21,Life)+(Initiative<>O$14)+(Fuel<>O$15)+(Measure<>O$16),0))","v":{"$error":"#REF!"}},{"$f":"INDEX(Life,MATCH(0,COUNTIF(P$16:P21,Life)+(Initiative<>P$14)+(Fuel<>P$15)+(Measure<>P$16),0))","v":{"$error":"#REF!"}},{"$f":"INDEX(Life,MATCH(0,COUNTIF(Q$16:Q21,Life)+(Initiative<>Q$14)+(Fuel<>Q$15)+(Measure<>Q$16),0))","v":{"$error":"#REF!"}},{"$f":"INDEX(Life,MATCH(0,COUNTIF(R$16:R21,Life)+(Initiative<>R$14)+(Fuel<>R$15)+(Measure<>R$16),0))","v":{"$error":"#REF!"}},{"$f":"INDEX(Life,MATCH(0,COUNTIF(S$16:S21,Life)+(Initiative<>S$14)+(Fuel<>S$15)+(Measure<>S$16),0))","v":{"$error":"#REF!"}},{"$f":"INDEX(Life,MATCH(0,COUNTIF(T$16:T21,Life)+(Initiative<>T$14)+(Fuel<>T$15)+(Measure<>T$16),0))","v":{"$error":"#REF!"}},{"$f":"INDEX(Life,MATCH(0,COUNTIF(U$16:U21,Life)+(Initiative<>U$14)+(Fuel<>U$15)+(Measure<>U$16),0))","v":{"$error":"#REF!"}}]
[null,{"$f":"INDEX(Measure,MATCH(0,COUNTIF(B$15:B22,Measure)+(Initiative<>B$14)+(Fuel<>B$15),0))","v":{"$error":"#REF!"}},{"$f":"INDEX(Measure,MATCH(0,COUNTIF(C$15:C22,Measure)+(Initiative<>C$14)+(Fuel<>C$15),0))","v":{"$error":"#REF!"}},{"$f":"INDEX(Measure,MATCH(0,COUNTIF(D$15:D22,Measure)+(Initiative<>D$14)+(Fuel<>D$15),0))","v":{"$error":"#REF!"}},{"$f":"INDEX(Measure,MATCH(0,COUNTIF(E$15:E22,Measure)+(Initiative<>E$14)+(Fuel<>E$15),0))","v":{"$error":"#REF!"}},{"$f":"INDEX(Measure,MATCH(0,COUNTIF(F$15:F22,Measure)+(Initiative<>F$14)+(Fuel<>F$15),0))","v":{"$error":"#REF!"}},{"$f":"INDEX(Measure,MATCH(0,COUNTIF(G$15:G22,Measure)+(Initiative<>G$14)+(Fuel<>G$15),0))","v":{"$error":"#REF!"}},{"$f":"INDEX(Measure,MATCH(0,COUNTIF(H$15:H22,Measure)+(Initiative<>H$14)+(Fuel<>H$15),0))","v":{"$error":"#REF!"}},{"$f":"INDEX(Measure,MATCH(0,COUNTIF(I$15:I22,Measure)+(Initiative<>I$14)+(Fuel<>I$15),0))","v":{"$error":"#REF!"}},{"$f":"INDEX(Measure,MATCH(0,COUNTIF(J$15:J22,Measure)+(Initiative<>J$14)+(Fuel<>J$15),0))","v":{"$error":"#REF!"}},{"$f":"INDEX(Measure,MATCH(0,COUNTIF(K$15:K22,Measure)+(Initiative<>K$14)+(Fuel<>K$15),0))","v":{"$error":"#REF!"}},{"$f":"INDEX(Life,MATCH(0,COUNTIF(L$16:L22,Life)+(Initiative<>L$14)+(Fuel<>L$15)+(Measure<>L$16),0))","v":{"$error":"#REF!"}},{"$f":"INDEX(Life,MATCH(0,COUNTIF(M$16:M22,Life)+(Initiative<>M$14)+(Fuel<>M$15)+(Measure<>M$16),0))","v":{"$error":"#REF!"}},{"$f":"INDEX(Life,MATCH(0,COUNTIF(N$16:N22,Life)+(Initiative<>N$14)+(Fuel<>N$15)+(Measure<>N$16),0))","v":{"$error":"#REF!"}},{"$f":"INDEX(Life,MATCH(0,COUNTIF(O$16:O22,Life)+(Initiative<>O$14)+(Fuel<>O$15)+(Measure<>O$16),0))","v":{"$error":"#REF!"}},{"$f":"INDEX(Life,MATCH(0,COUNTIF(P$16:P22,Life)+(Initiative<>P$14)+(Fuel<>P$15)+(Measure<>P$16),0))","v":{"$error":"#REF!"}},{"$f":"INDEX(Life,MATCH(0,COUNTIF(Q$16:Q22,Life)+(Initiative<>Q$14)+(Fuel<>Q$15)+(Measure<>Q$16),0))","v":{"$error":"#REF!"}},{"$f":"INDEX(Life,MATCH(0,COUNTIF(R$16:R22,Life)+(Initiative<>R$14)+(Fuel<>R$15)+(Measure<>R$16),0))","v":{"$error":"#REF!"}},{"$f":"INDEX(Life,MATCH(0,COUNTIF(S$16:S22,Life)+(Initiative<>S$14)+(Fuel<>S$15)+(Measure<>S$16),0))","v":{"$error":"#REF!"}},{"$f":"INDEX(Life,MATCH(0,COUNTIF(T$16:T22,Life)+(Initiative<>T$14)+(Fuel<>T$15)+(Measure<>T$16),0))","v":{"$error":"#REF!"}},{"$f":"INDEX(Life,MATCH(0,COUNTIF(U$16:U22,Life)+(Initiative<>U$14)+(Fuel<>U$15)+(Measure<>U$16),0))","v":{"$error":"#REF!"}}]
[null,{"$f":"INDEX(Measure,MATCH(0,COUNTIF(B$15:B23,Measure)+(Initiative<>B$14)+(Fuel<>B$15),0))","v":{"$error":"#REF!"}},{"$f":"INDEX(Measure,MATCH(0,COUNTIF(C$15:C23,Measure)+(Initiative<>C$14)+(Fuel<>C$15),0))","v":{"$error":"#REF!"}},{"$f":"INDEX(Measure,MATCH(0,COUNTIF(D$15:D23,Measure)+(Initiative<>D$14)+(Fuel<>D$15),0))","v":{"$error":"#REF!"}},{"$f":"INDEX(Measure,MATCH(0,COUNTIF(E$15:E23,Measure)+(Initiative<>E$14)+(Fuel<>E$15),0))","v":{"$error":"#REF!"}},{"$f":"INDEX(Measure,MATCH(0,COUNTIF(F$15:F23,Measure)+(Initiative<>F$14)+(Fuel<>F$15),0))","v":{"$error":"#REF!"}},{"$f":"INDEX(Measure,MATCH(0,COUNTIF(G$15:G23,Measure)+(Initiative<>G$14)+(Fuel<>G$15),0))","v":{"$error":"#REF!"}},{"$f":"INDEX(Measure,MATCH(0,COUNTIF(H$15:H23,Measure)+(Initiative<>H$14)+(Fuel<>H$15),0))","v":{"$error":"#REF!"}},{"$f":"INDEX(Measure,MATCH(0,COUNTIF(I$15:I23,Measure)+(Initiative<>I$14)+(Fuel<>I$15),0))","v":{"$error":"#REF!"}},{"$f":"INDEX(Measure,MATCH(0,COUNTIF(J$15:J23,Measure)+(Initiative<>J$14)+(Fuel<>J$15),0))","v":{"$error":"#REF!"}},{"$f":"INDEX(Measure,MATCH(0,COUNTIF(K$15:K23,Measure)+(Initiative<>K$14)+(Fuel<>K$15),0))","v":{"$error":"#REF!"}},{"$f":"INDEX(Life,MATCH(0,COUNTIF(L$16:L23,Life)+(Initiative<>L$14)+(Fuel<>L$15)+(Measure<>L$16),0))","v":{"$error":"#REF!"}},{"$f":"INDEX(Life,MATCH(0,COUNTIF(M$16:M23,Life)+(Initiative<>M$14)+(Fuel<>M$15)+(Measure<>M$16),0))","v":{"$error":"#REF!"}},{"$f":"INDEX(Life,MATCH(0,COUNTIF(N$16:N23,Life)+(Initiative<>N$14)+(Fuel<>N$15)+(Measure<>N$16),0))","v":{"$error":"#REF!"}},{"$f":"INDEX(Life,MATCH(0,COUNTIF(O$16:O23,Life)+(Initiative<>O$14)+(Fuel<>O$15)+(Measure<>O$16),0))","v":{"$error":"#REF!"}},{"$f":"INDEX(Life,MATCH(0,COUNTIF(P$16:P23,Life)+(Initiative<>P$14)+(Fuel<>P$15)+(Measure<>P$16),0))","v":{"$error":"#REF!"}},{"$f":"INDEX(Life,MATCH(0,COUNTIF(Q$16:Q23,Life)+(Initiative<>Q$14)+(Fuel<>Q$15)+(Measure<>Q$16),0))","v":{"$error":"#REF!"}},{"$f":"INDEX(Life,MATCH(0,COUNTIF(R$16:R23,Life)+(Initiative<>R$14)+(Fuel<>R$15)+(Measure<>R$16),0))","v":{"$error":"#REF!"}},{"$f":"INDEX(Life,MATCH(0,COUNTIF(S$16:S23,Life)+(Initiative<>S$14)+(Fuel<>S$15)+(Measure<>S$16),0))","v":{"$error":"#REF!"}},{"$f":"INDEX(Life,MATCH(0,COUNTIF(T$16:T23,Life)+(Initiative<>T$14)+(Fuel<>T$15)+(Measure<>T$16),0))","v":{"$error":"#REF!"}},{"$f":"INDEX(Life,MATCH(0,COUNTIF(U$16:U23,Life)+(Initiative<>U$14)+(Fuel<>U$15)+(Measure<>U$16),0))","v":{"$error":"#REF!"}}]
[null,{"$f":"INDEX(Measure,MATCH(0,COUNTIF(B$15:B24,Measure)+(Initiative<>B$14)+(Fuel<>B$15),0))","v":{"$error":"#REF!"}},{"$f":"INDEX(Measure,MATCH(0,COUNTIF(C$15:C24,Measure)+(Initiative<>C$14)+(Fuel<>C$15),0))","v":{"$error":"#REF!"}},{"$f":"INDEX(Measure,MATCH(0,COUNTIF(D$15:D24,Measure)+(Initiative<>D$14)+(Fuel<>D$15),0))","v":{"$error":"#REF!"}},{"$f":"INDEX(Measure,MATCH(0,COUNTIF(E$15:E24,Measure)+(Initiative<>E$14)+(Fuel<>E$15),0))","v":{"$error":"#REF!"}},{"$f":"INDEX(Measure,MATCH(0,COUNTIF(F$15:F24,Measure)+(Initiative<>F$14)+(Fuel<>F$15),0))","v":{"$error":"#REF!"}},{"$f":"INDEX(Measure,MATCH(0,COUNTIF(G$15:G24,Measure)+(Initiative<>G$14)+(Fuel<>G$15),0))","v":{"$error":"#REF!"}},{"$f":"INDEX(Measure,MATCH(0,COUNTIF(H$15:H24,Measure)+(Initiative<>H$14)+(Fuel<>H$15),0))","v":{"$error":"#REF!"}},{"$f":"INDEX(Measure,MATCH(0,COUNTIF(I$15:I24,Measure)+(Initiative<>I$14)+(Fuel<>I$15),0))","v":{"$error":"#REF!"}},{"$f":"INDEX(Measure,MATCH(0,COUNTIF(J$15:J24,Measure)+(Initiative<>J$14)+(Fuel<>J$15),0))","v":{"$error":"#REF!"}},{"$f":"INDEX(Measure,MATCH(0,COUNTIF(K$15:K24,Measure)+(Initiative<>K$14)+(Fuel<>K$15),0))","v":{"$error":"#REF!"}},{"$f":"INDEX(Life,MATCH(0,COUNTIF(L$16:L24,Life)+(Initiative<>L$14)+(Fuel<>L$15)+(Measure<>L$16),0))","v":{"$error":"#REF!"}},{"$f":"INDEX(Life,MATCH(0,COUNTIF(M$16:M24,Life)+(Initiative<>M$14)+(Fuel<>M$15)+(Measure<>M$16),0))","v":{"$error":"#REF!"}},{"$f":"INDEX(Life,MATCH(0,COUNTIF(N$16:N24,Life)+(Initiative<>N$14)+(Fuel<>N$15)+(Measure<>N$16),0))","v":{"$error":"#REF!"}},{"$f":"INDEX(Life,MATCH(0,COUNTIF(O$16:O24,Life)+(Initiative<>O$14)+(Fuel<>O$15)+(Measure<>O$16),0))","v":{"$error":"#REF!"}},{"$f":"INDEX(Life,MATCH(0,COUNTIF(P$16:P24,Life)+(Initiative<>P$14)+(Fuel<>P$15)+(Measure<>P$16),0))","v":{"$error":"#REF!"}},{"$f":"INDEX(Life,MATCH(0,COUNTIF(Q$16:Q24,Life)+(Initiative<>Q$14)+(Fuel<>Q$15)+(Measure<>Q$16),0))","v":{"$error":"#REF!"}},{"$f":"INDEX(Life,MATCH(0,COUNTIF(R$16:R24,Life)+(Initiative<>R$14)+(Fuel<>R$15)+(Measure<>R$16),0))","v":{"$error":"#REF!"}},{"$f":"INDEX(Life,MATCH(0,COUNTIF(S$16:S24,Life)+(Initiative<>S$14)+(Fuel<>S$15)+(Measure<>S$16),0))","v":{"$error":"#REF!"}},{"$f":"INDEX(Life,MATCH(0,COUNTIF(T$16:T24,Life)+(Initiative<>T$14)+(Fuel<>T$15)+(Measure<>T$16),0))","v":{"$error":"#REF!"}},{"$f":"INDEX(Life,MATCH(0,COUNTIF(U$16:U24,Life)+(Initiative<>U$14)+(Fuel<>U$15)+(Measure<>U$16),0))","v":{"$error":"#REF!"}}]
[null,{"$f":"INDEX(Measure,MATCH(0,COUNTIF(B$15:B25,Measure)+(Initiative<>B$14)+(Fuel<>B$15),0))","v":{"$error":"#REF!"}},{"$f":"INDEX(Measure,MATCH(0,COUNTIF(C$15:C25,Measure)+(Initiative<>C$14)+(Fuel<>C$15),0))","v":{"$error":"#REF!"}},{"$f":"INDEX(Measure,MATCH(0,COUNTIF(D$15:D25,Measure)+(Initiative<>D$14)+(Fuel<>D$15),0))","v":{"$error":"#REF!"}},{"$f":"INDEX(Measure,MATCH(0,COUNTIF(E$15:E25,Measure)+(Initiative<>E$14)+(Fuel<>E$15),0))","v":{"$error":"#REF!"}},{"$f":"INDEX(Measure,MATCH(0,COUNTIF(F$15:F25,Measure)+(Initiative<>F$14)+(Fuel<>F$15),0))","v":{"$error":"#REF!"}},{"$f":"INDEX(Measure,MATCH(0,COUNTIF(G$15:G25,Measure)+(Initiative<>G$14)+(Fuel<>G$15),0))","v":{"$error":"#REF!"}},{"$f":"INDEX(Measure,MATCH(0,COUNTIF(H$15:H25,Measure)+(Initiative<>H$14)+(Fuel<>H$15),0))","v":{"$error":"#REF!"}},{"$f":"INDEX(Measure,MATCH(0,COUNTIF(I$15:I25,Measure)+(Initiative<>I$14)+(Fuel<>I$15),0))","v":{"$error":"#REF!"}},{"$f":"INDEX(Measure,MATCH(0,COUNTIF(J$15:J25,Measure)+(Initiative<>J$14)+(Fuel<>J$15),0))","v":{"$error":"#REF!"}},{"$f":"INDEX(Measure,MATCH(0,COUNTIF(K$15:K25,Measure)+(Initiative<>K$14)+(Fuel<>K$15),0))","v":{"$error":"#REF!"}},{"$f":"INDEX(Life,MATCH(0,COUNTIF(L$16:L25,Life)+(Initiative<>L$14)+(Fuel<>L$15)+(Measure<>L$16),0))","v":{"$error":"#REF!"}},{"$f":"INDEX(Life,MATCH(0,COUNTIF(M$16:M25,Life)+(Initiative<>M$14)+(Fuel<>M$15)+(Measure<>M$16),0))","v":{"$error":"#REF!"}},{"$f":"INDEX(Life,MATCH(0,COUNTIF(N$16:N25,Life)+(Initiative<>N$14)+(Fuel<>N$15)+(Measure<>N$16),0))","v":{"$error":"#REF!"}},{"$f":"INDEX(Life,MATCH(0,COUNTIF(O$16:O25,Life)+(Initiative<>O$14)+(Fuel<>O$15)+(Measure<>O$16),0))","v":{"$error":"#REF!"}},{"$f":"INDEX(Life,MATCH(0,COUNTIF(P$16:P25,Life)+(Initiative<>P$14)+(Fuel<>P$15)+(Measure<>P$16),0))","v":{"$error":"#REF!"}},{"$f":"INDEX(Life,MATCH(0,COUNTIF(Q$16:Q25,Life)+(Initiative<>Q$14)+(Fuel<>Q$15)+(Measure<>Q$16),0))","v":{"$error":"#REF!"}},{"$f":"INDEX(Life,MATCH(0,COUNTIF(R$16:R25,Life)+(Initiative<>R$14)+(Fuel<>R$15)+(Measure<>R$16),0))","v":{"$error":"#REF!"}},{"$f":"INDEX(Life,MATCH(0,COUNTIF(S$16:S25,Life)+(Initiative<>S$14)+(Fuel<>S$15)+(Measure<>S$16),0))","v":{"$error":"#REF!"}},{"$f":"INDEX(Life,MATCH(0,COUNTIF(T$16:T25,Life)+(Initiative<>T$14)+(Fuel<>T$15)+(Measure<>T$16),0))","v":{"$error":"#REF!"}},{"$f":"INDEX(Life,MATCH(0,COUNTIF(U$16:U25,Life)+(Initiative<>U$14)+(Fuel<>U$15)+(Measure<>U$16),0))","v":{"$error":"#REF!"}}]
[null,{"$f":"INDEX(Measure,MATCH(0,COUNTIF(B$15:B26,Measure)+(Initiative<>B$14)+(Fuel<>B$15),0))","v":{"$error":"#REF!"}},{"$f":"INDEX(Measure,MATCH(0,COUNTIF(C$15:C26,Measure)+(Initiative<>C$14)+(Fuel<>C$15),0))","v":{"$error":"#REF!"}},{"$f":"INDEX(Measure,MATCH(0,COUNTIF(D$15:D26,Measure)+(Initiative<>D$14)+(Fuel<>D$15),0))","v":{"$error":"#REF!"}},{"$f":"INDEX(Measure,MATCH(0,COUNTIF(E$15:E26,Measure)+(Initiative<>E$14)+(Fuel<>E$15),0))","v":{"$error":"#REF!"}},{"$f":"INDEX(Measure,MATCH(0,COUNTIF(F$15:F26,Measure)+(Initiative<>F$14)+(Fuel<>F$15),0))","v":{"$error":"#REF!"}},{"$f":"INDEX(Measure,MATCH(0,COUNTIF(G$15:G26,Measure)+(Initiative<>G$14)+(Fuel<>G$15),0))","v":{"$error":"#REF!"}},{"$f":"INDEX(Measure,MATCH(0,COUNTIF(H$15:H26,Measure)+(Initiative<>H$14)+(Fuel<>H$15),0))","v":{"$error":"#REF!"}},{"$f":"INDEX(Measure,MATCH(0,COUNTIF(I$15:I26,Measure)+(Initiative<>I$14)+(Fuel<>I$15),0))","v":{"$error":"#REF!"}},{"$f":"INDEX(Measure,MATCH(0,COUNTIF(J$15:J26,Measure)+(Initiative<>J$14)+(Fuel<>J$15),0))","v":{"$error":"#REF!"}},{"$f":"INDEX(Measure,MATCH(0,COUNTIF(K$15:K26,Measure)+(Initiative<>K$14)+(Fuel<>K$15),0))","v":{"$error":"#REF!"}},{"$f":"INDEX(Life,MATCH(0,COUNTIF(L$16:L26,Life)+(Initiative<>L$14)+(Fuel<>L$15)+(Measure<>L$16),0))","v":{"$error":"#REF!"}},{"$f":"INDEX(Life,MATCH(0,COUNTIF(M$16:M26,Life)+(Initiative<>M$14)+(Fuel<>M$15)+(Measure<>M$16),0))","v":{"$error":"#REF!"}},{"$f":"INDEX(Life,MATCH(0,COUNTIF(N$16:N26,Life)+(Initiative<>N$14)+(Fuel<>N$15)+(Measure<>N$16),0))","v":{"$error":"#REF!"}},{"$f":"INDEX(Life,MATCH(0,COUNTIF(O$16:O26,Life)+(Initiative<>O$14)+(Fuel<>O$15)+(Measure<>O$16),0))","v":{"$error":"#REF!"}},{"$f":"INDEX(Life,MATCH(0,COUNTIF(P$16:P26,Life)+(Initiative<>P$14)+(Fuel<>P$15)+(Measure<>P$16),0))","v":{"$error":"#REF!"}},{"$f":"INDEX(Life,MATCH(0,COUNTIF(Q$16:Q26,Life)+(Initiative<>Q$14)+(Fuel<>Q$15)+(Measure<>Q$16),0))","v":{"$error":"#REF!"}},{"$f":"INDEX(Life,MATCH(0,COUNTIF(R$16:R26,Life)+(Initiative<>R$14)+(Fuel<>R$15)+(Measure<>R$16),0))","v":{"$error":"#REF!"}},{"$f":"INDEX(Life,MATCH(0,COUNTIF(S$16:S26,Life)+(Initiative<>S$14)+(Fuel<>S$15)+(Measure<>S$16),0))","v":{"$error":"#REF!"}},{"$f":"INDEX(Life,MATCH(0,COUNTIF(T$16:T26,Life)+(Initiative<>T$14)+(Fuel<>T$15)+(Measure<>T$16),0))","v":{"$error":"#REF!"}},{"$f":"INDEX(Life,MATCH(0,COUNTIF(U$16:U26,Life)+(Initiative<>U$14)+(Fuel<>U$15)+(Measure<>U$16),0))","v":{"$error":"#REF!"}}]
[null,{"$f":"INDEX(Measure,MATCH(0,COUNTIF(B$15:B27,Measure)+(Initiative<>B$14)+(Fuel<>B$15),0))","v":{"$error":"#REF!"}},{"$f":"INDEX(Measure,MATCH(0,COUNTIF(C$15:C27,Measure)+(Initiative<>C$14)+(Fuel<>C$15),0))","v":{"$error":"#REF!"}},{"$f":"INDEX(Measure,MATCH(0,COUNTIF(D$15:D27,Measure)+(Initiative<>D$14)+(Fuel<>D$15),0))","v":{"$error":"#REF!"}},{"$f":"INDEX(Measure,MATCH(0,COUNTIF(E$15:E27,Measure)+(Initiative<>E$14)+(Fuel<>E$15),0))","v":{"$error":"#REF!"}},{"$f":"INDEX(Measure,MATCH(0,COUNTIF(F$15:F27,Measure)+(Initiative<>F$14)+(Fuel<>F$15),0))","v":{"$error":"#REF!"}},{"$f":"INDEX(Measure,MATCH(0,COUNTIF(G$15:G27,Measure)+(Initiative<>G$14)+(Fuel<>G$15),0))","v":{"$error":"#REF!"}},{"$f":"INDEX(Measure,MATCH(0,COUNTIF(H$15:H27,Measure)+(Initiative<>H$14)+(Fuel<>H$15),0))","v":{"$error":"#REF!"}},{"$f":"INDEX(Measure,MATCH(0,COUNTIF(I$15:I27,Measure)+(Initiative<>I$14)+(Fuel<>I$15),0))","v":{"$error":"#REF!"}},{"$f":"INDEX(Measure,MATCH(0,COUNTIF(J$15:J27,Measure)+(Initiative<>J$14)+(Fuel<>J$15),0))","v":{"$error":"#REF!"}},{"$f":"INDEX(Measure,MATCH(0,COUNTIF(K$15:K27,Measure)+(Initiative<>K$14)+(Fuel<>K$15),0))","v":{"$error":"#REF!"}},{"$f":"INDEX(Life,MATCH(0,COUNTIF(L$16:L27,Life)+(Initiative<>L$14)+(Fuel<>L$15)+(Measure<>L$16),0))","v":{"$error":"#REF!"}},{"$f":"INDEX(Life,MATCH(0,COUNTIF(M$16:M27,Life)+(Initiative<>M$14)+(Fuel<>M$15)+(Measure<>M$16),0))","v":{"$error":"#REF!"}},{"$f":"INDEX(Life,MATCH(0,COUNTIF(N$16:N27,Life)+(Initiative<>N$14)+(Fuel<>N$15)+(Measure<>N$16),0))","v":{"$error":"#REF!"}},{"$f":"INDEX(Life,MATCH(0,COUNTIF(O$16:O27,Life)+(Initiative<>O$14)+(Fuel<>O$15)+(Measure<>O$16),0))","v":{"$error":"#REF!"}},{"$f":"INDEX(Life,MATCH(0,COUNTIF(P$16:P27,Life)+(Initiative<>P$14)+(Fuel<>P$15)+(Measure<>P$16),0))","v":{"$error":"#REF!"}},{"$f":"INDEX(Life,MATCH(0,COUNTIF(Q$16:Q27,Life)+(Initiative<>Q$14)+(Fuel<>Q$15)+(Measure<>Q$16),0))","v":{"$error":"#REF!"}},{"$f":"INDEX(Life,MATCH(0,COUNTIF(R$16:R27,Life)+(Initiative<>R$14)+(Fuel<>R$15)+(Measure<>R$16),0))","v":{"$error":"#REF!"}},{"$f":"INDEX(Life,MATCH(0,COUNTIF(S$16:S27,Life)+(Initiative<>S$14)+(Fuel<>S$15)+(Measure<>S$16),0))","v":{"$error":"#REF!"}},{"$f":"INDEX(Life,MATCH(0,COUNTIF(T$16:T27,Life)+(Initiative<>T$14)+(Fuel<>T$15)+(Measure<>T$16),0))","v":{"$error":"#REF!"}},{"$f":"INDEX(Life,MATCH(0,COUNTIF(U$16:U27,Life)+(Initiative<>U$14)+(Fuel<>U$15)+(Measure<>U$16),0))","v":{"$error":"#REF!"}}]
[null,{"$f":"INDEX(Measure,MATCH(0,COUNTIF(B$15:B28,Measure)+(Initiative<>B$14)+(Fuel<>B$15),0))","v":{"$error":"#REF!"}},{"$f":"INDEX(Measure,MATCH(0,COUNTIF(C$15:C28,Measure)+(Initiative<>C$14)+(Fuel<>C$15),0))","v":{"$error":"#REF!"}},{"$f":"INDEX(Measure,MATCH(0,COUNTIF(D$15:D28,Measure)+(Initiative<>D$14)+(Fuel<>D$15),0))","v":{"$error":"#REF!"}},{"$f":"INDEX(Measure,MATCH(0,COUNTIF(E$15:E28,Measure)+(Initiative<>E$14)+(Fuel<>E$15),0))","v":{"$error":"#REF!"}},{"$f":"INDEX(Measure,MATCH(0,COUNTIF(F$15:F28,Measure)+(Initiative<>F$14)+(Fuel<>F$15),0))","v":{"$error":"#REF!"}},{"$f":"INDEX(Measure,MATCH(0,COUNTIF(G$15:G28,Measure)+(Initiative<>G$14)+(Fuel<>G$15),0))","v":{"$error":"#REF!"}},{"$f":"INDEX(Measure,MATCH(0,COUNTIF(H$15:H28,Measure)+(Initiative<>H$14)+(Fuel<>H$15),0))","v":{"$error":"#REF!"}},{"$f":"INDEX(Measure,MATCH(0,COUNTIF(I$15:I28,Measure)+(Initiative<>I$14)+(Fuel<>I$15),0))","v":{"$error":"#REF!"}},{"$f":"INDEX(Measure,MATCH(0,COUNTIF(J$15:J28,Measure)+(Initiative<>J$14)+(Fuel<>J$15),0))","v":{"$error":"#REF!"}},{"$f":"INDEX(Measure,MATCH(0,COUNTIF(K$15:K28,Measure)+(Initiative<>K$14)+(Fuel<>K$15),0))","v":{"$error":"#REF!"}},{"$f":"INDEX(Life,MATCH(0,COUNTIF(L$16:L28,Life)+(Initiative<>L$14)+(Fuel<>L$15)+(Measure<>L$16),0))","v":{"$error":"#REF!"}},{"$f":"INDEX(Life,MATCH(0,COUNTIF(M$16:M28,Life)+(Initiative<>M$14)+(Fuel<>M$15)+(Measure<>M$16),0))","v":{"$error":"#REF!"}},{"$f":"INDEX(Life,MATCH(0,COUNTIF(N$16:N28,Life)+(Initiative<>N$14)+(Fuel<>N$15)+(Measure<>N$16),0))","v":{"$error":"#REF!"}},{"$f":"INDEX(Life,MATCH(0,COUNTIF(O$16:O28,Life)+(Initiative<>O$14)+(Fuel<>O$15)+(Measure<>O$16),0))","v":{"$error":"#REF!"}},{"$f":"INDEX(Life,MATCH(0,COUNTIF(P$16:P28,Life)+(Initiative<>P$14)+(Fuel<>P$15)+(Measure<>P$16),0))","v":{"$error":"#REF!"}},{"$f":"INDEX(Life,MATCH(0,COUNTIF(Q$16:Q28,Life)+(Initiative<>Q$14)+(Fuel<>Q$15)+(Measure<>Q$16),0))","v":{"$error":"#REF!"}},{"$f":"INDEX(Life,MATCH(0,COUNTIF(R$16:R28,Life)+(Initiative<>R$14)+(Fuel<>R$15)+(Measure<>R$16),0))","v":{"$error":"#REF!"}},{"$f":"INDEX(Life,MATCH(0,COUNTIF(S$16:S28,Life)+(Initiative<>S$14)+(Fuel<>S$15)+(Measure<>S$16),0))","v":{"$error":"#REF!"}},{"$f":"INDEX(Life,MATCH(0,COUNTIF(T$16:T28,Life)+(Initiative<>T$14)+(Fuel<>T$15)+(Measure<>T$16),0))","v":{"$error":"#REF!"}},{"$f":"INDEX(Life,MATCH(0,COUNTIF(U$16:U28,Life)+(Initiative<>U$14)+(Fuel<>U$15)+(Measure<>U$16),0))","v":{"$error":"#REF!"}}]
[null,{"$f":"INDEX(Measure,MATCH(0,COUNTIF(B$15:B29,Measure)+(Initiative<>B$14)+(Fuel<>B$15),0))","v":{"$error":"#REF!"}},{"$f":"INDEX(Measure,MATCH(0,COUNTIF(C$15:C29,Measure)+(Initiative<>C$14)+(Fuel<>C$15),0))","v":{"$error":"#REF!"}},{"$f":"INDEX(Measure,MATCH(0,COUNTIF(D$15:D29,Measure)+(Initiative<>D$14)+(Fuel<>D$15),0))","v":{"$error":"#REF!"}},{"$f":"INDEX(Measure,MATCH(0,COUNTIF(E$15:E29,Measure)+(Initiative<>E$14)+(Fuel<>E$15),0))","v":{"$error":"#REF!"}},{"$f":"INDEX(Measure,MATCH(0,COUNTIF(F$15:F29,Measure)+(Initiative<>F$14)+(Fuel<>F$15),0))","v":{"$error":"#REF!"}},{"$f":"INDEX(Measure,MATCH(0,COUNTIF(G$15:G29,Measure)+(Initiative<>G$14)+(Fuel<>G$15),0))","v":{"$error":"#REF!"}},{"$f":"INDEX(Measure,MATCH(0,COUNTIF(H$15:H29,Measure)+(Initiative<>H$14)+(Fuel<>H$15),0))","v":{"$error":"#REF!"}},{"$f":"INDEX(Measure,MATCH(0,COUNTIF(I$15:I29,Measure)+(Initiative<>I$14)+(Fuel<>I$15),0))","v":{"$error":"#REF!"}},{"$f":"INDEX(Measure,MATCH(0,COUNTIF(J$15:J29,Measure)+(Initiative<>J$14)+(Fuel<>J$15),0))","v":{"$error":"#REF!"}},{"$f":"INDEX(Measure,MATCH(0,COUNTIF(K$15:K29,Measure)+(Initiative<>K$14)+(Fuel<>K$15),0))","v":{"$error":"#REF!"}},{"$f":"INDEX(Life,MATCH(0,COUNTIF(L$16:L29,Life)+(Initiative<>L$14)+(Fuel<>L$15)+(Measure<>L$16),0))","v":{"$error":"#REF!"}},{"$f":"INDEX(Life,MATCH(0,COUNTIF(M$16:M29,Life)+(Initiative<>M$14)+(Fuel<>M$15)+(Measure<>M$16),0))","v":{"$error":"#REF!"}},{"$f":"INDEX(Life,MATCH(0,COUNTIF(N$16:N29,Life)+(Initiative<>N$14)+(Fuel<>N$15)+(Measure<>N$16),0))","v":{"$error":"#REF!"}},{"$f":"INDEX(Life,MATCH(0,COUNTIF(O$16:O29,Life)+(Initiative<>O$14)+(Fuel<>O$15)+(Measure<>O$16),0))","v":{"$error":"#REF!"}},{"$f":"INDEX(Life,MATCH(0,COUNTIF(P$16:P29,Life)+(Initiative<>P$14)+(Fuel<>P$15)+(Measure<>P$16),0))","v":{"$error":"#REF!"}},{"$f":"INDEX(Life,MATCH(0,COUNTIF(Q$16:Q29,Life)+(Initiative<>Q$14)+(Fuel<>Q$15)+(Measure<>Q$16),0))","v":{"$error":"#REF!"}},{"$f":"INDEX(Life,MATCH(0,COUNTIF(R$16:R29,Life)+(Initiative<>R$14)+(Fuel<>R$15)+(Measure<>R$16),0))","v":{"$error":"#REF!"}},{"$f":"INDEX(Life,MATCH(0,COUNTIF(S$16:S29,Life)+(Initiative<>S$14)+(Fuel<>S$15)+(Measure<>S$16),0))","v":{"$error":"#REF!"}},{"$f":"INDEX(Life,MATCH(0,COUNTIF(T$16:T29,Life)+(Initiative<>T$14)+(Fuel<>T$15)+(Measure<>T$16),0))","v":{"$error":"#REF!"}},{"$f":"INDEX(Life,MATCH(0,COUNTIF(U$16:U29,Life)+(Initiative<>U$14)+(Fuel<>U$15)+(Measure<>U$16),0))","v":{"$error":"#REF!"}}]
[null,{"$f":"INDEX(Measure,MATCH(0,COUNTIF(B$15:B30,Measure)+(Initiative<>B$14)+(Fuel<>B$15),0))","v":{"$error":"#REF!"}},{"$f":"INDEX(Measure,MATCH(0,COUNTIF(C$15:C30,Measure)+(Initiative<>C$14)+(Fuel<>C$15),0))","v":{"$error":"#REF!"}},{"$f":"INDEX(Measure,MATCH(0,COUNTIF(D$15:D30,Measure)+(Initiative<>D$14)+(Fuel<>D$15),0))","v":{"$error":"#REF!"}},{"$f":"INDEX(Measure,MATCH(0,COUNTIF(E$15:E30,Measure)+(Initiative<>E$14)+(Fuel<>E$15),0))","v":{"$error":"#REF!"}},{"$f":"INDEX(Measure,MATCH(0,COUNTIF(F$15:F30,Measure)+(Initiative<>F$14)+(Fuel<>F$15),0))","v":{"$error":"#REF!"}},{"$f":"INDEX(Measure,MATCH(0,COUNTIF(G$15:G30,Measure)+(Initiative<>G$14)+(Fuel<>G$15),0))","v":{"$error":"#REF!"}},{"$f":"INDEX(Measure,MATCH(0,COUNTIF(H$15:H30,Measure)+(Initiative<>H$14)+(Fuel<>H$15),0))","v":{"$error":"#REF!"}},{"$f":"INDEX(Measure,MATCH(0,COUNTIF(I$15:I30,Measure)+(Initiative<>I$14)+(Fuel<>I$15),0))","v":{"$error":"#REF!"}},{"$f":"INDEX(Measure,MATCH(0,COUNTIF(J$15:J30,Measure)+(Initiative<>J$14)+(Fuel<>J$15),0))","v":{"$error":"#REF!"}},{"$f":"INDEX(Measure,MATCH(0,COUNTIF(K$15:K30,Measure)+(Initiative<>K$14)+(Fuel<>K$15),0))","v":{"$error":"#REF!"}},{"$f":"INDEX(Life,MATCH(0,COUNTIF(L$16:L30,Life)+(Initiative<>L$14)+(Fuel<>L$15)+(Measure<>L$16),0))","v":{"$error":"#REF!"}},{"$f":"INDEX(Life,MATCH(0,COUNTIF(M$16:M30,Life)+(Initiative<>M$14)+(Fuel<>M$15)+(Measure<>M$16),0))","v":{"$error":"#REF!"}},{"$f":"INDEX(Life,MATCH(0,COUNTIF(N$16:N30,Life)+(Initiative<>N$14)+(Fuel<>N$15)+(Measure<>N$16),0))","v":{"$error":"#REF!"}},{"$f":"INDEX(Life,MATCH(0,COUNTIF(O$16:O30,Life)+(Initiative<>O$14)+(Fuel<>O$15)+(Measure<>O$16),0))","v":{"$error":"#REF!"}},{"$f":"INDEX(Life,MATCH(0,COUNTIF(P$16:P30,Life)+(Initiative<>P$14)+(Fuel<>P$15)+(Measure<>P$16),0))","v":{"$error":"#REF!"}},{"$f":"INDEX(Life,MATCH(0,COUNTIF(Q$16:Q30,Life)+(Initiative<>Q$14)+(Fuel<>Q$15)+(Measure<>Q$16),0))","v":{"$error":"#REF!"}},{"$f":"INDEX(Life,MATCH(0,COUNTIF(R$16:R30,Life)+(Initiative<>R$14)+(Fuel<>R$15)+(Measure<>R$16),0))","v":{"$error":"#REF!"}},{"$f":"INDEX(Life,MATCH(0,COUNTIF(S$16:S30,Life)+(Initiative<>S$14)+(Fuel<>S$15)+(Measure<>S$16),0))","v":{"$error":"#REF!"}},{"$f":"INDEX(Life,MATCH(0,COUNTIF(T$16:T30,Life)+(Initiative<>T$14)+(Fuel<>T$15)+(Measure<>T$16),0))","v":{"$error":"#REF!"}},{"$f":"INDEX(Life,MATCH(0,COUNTIF(U$16:U30,Life)+(Initiative<>U$14)+(Fuel<>U$15)+(Measure<>U$16),0))","v":{"$error":"#REF!"}}]
[null,{"$f":"INDEX(Measure,MATCH(0,COUNTIF(B$15:B31,Measure)+(Initiative<>B$14)+(Fuel<>B$15),0))","v":{"$error":"#REF!"}},{"$f":"INDEX(Measure,MATCH(0,COUNTIF(C$15:C31,Measure)+(Initiative<>C$14)+(Fuel<>C$15),0))","v":{"$error":"#REF!"}},{"$f":"INDEX(Measure,MATCH(0,COUNTIF(D$15:D31,Measure)+(Initiative<>D$14)+(Fuel<>D$15),0))","v":{"$error":"#REF!"}},{"$f":"INDEX(Measure,MATCH(0,COUNTIF(E$15:E31,Measure)+(Initiative<>E$14)+(Fuel<>E$15),0))","v":{"$error":"#REF!"}},{"$f":"INDEX(Measure,MATCH(0,COUNTIF(F$15:F31,Measure)+(Initiative<>F$14)+(Fuel<>F$15),0))","v":{"$error":"#REF!"}},{"$f":"INDEX(Measure,MATCH(0,COUNTIF(G$15:G31,Measure)+(Initiative<>G$14)+(Fuel<>G$15),0))","v":{"$error":"#REF!"}},{"$f":"INDEX(Measure,MATCH(0,COUNTIF(H$15:H31,Measure)+(Initiative<>H$14)+(Fuel<>H$15),0))","v":{"$error":"#REF!"}},{"$f":"INDEX(Measure,MATCH(0,COUNTIF(I$15:I31,Measure)+(Initiative<>I$14)+(Fuel<>I$15),0))","v":{"$error":"#REF!"}},{"$f":"INDEX(Measure,MATCH(0,COUNTIF(J$15:J31,Measure)+(Initiative<>J$14)+(Fuel<>J$15),0))","v":{"$error":"#REF!"}},{"$f":"INDEX(Measure,MATCH(0,COUNTIF(K$15:K31,Measure)+(Initiative<>K$14)+(Fuel<>K$15),0))","v":{"$error":"#REF!"}},{"$f":"INDEX(Life,MATCH(0,COUNTIF(L$16:L31,Life)+(Initiative<>L$14)+(Fuel<>L$15)+(Measure<>L$16),0))","v":{"$error":"#REF!"}},{"$f":"INDEX(Life,MATCH(0,COUNTIF(M$16:M31,Life)+(Initiative<>M$14)+(Fuel<>M$15)+(Measure<>M$16),0))","v":{"$error":"#REF!"}},{"$f":"INDEX(Life,MATCH(0,COUNTIF(N$16:N31,Life)+(Initiative<>N$14)+(Fuel<>N$15)+(Measure<>N$16),0))","v":{"$error":"#REF!"}},{"$f":"INDEX(Life,MATCH(0,COUNTIF(O$16:O31,Life)+(Initiative<>O$14)+(Fuel<>O$15)+(Measure<>O$16),0))","v":{"$error":"#REF!"}},{"$f":"INDEX(Life,MATCH(0,COUNTIF(P$16:P31,Life)+(Initiative<>P$14)+(Fuel<>P$15)+(Measure<>P$16),0))","v":{"$error":"#REF!"}},{"$f":"INDEX(Life,MATCH(0,COUNTIF(Q$16:Q31,Life)+(Initiative<>Q$14)+(Fuel<>Q$15)+(Measure<>Q$16),0))","v":{"$error":"#REF!"}},{"$f":"INDEX(Life,MATCH(0,COUNTIF(R$16:R31,Life)+(Initiative<>R$14)+(Fuel<>R$15)+(Measure<>R$16),0))","v":{"$error":"#REF!"}},{"$f":"INDEX(Life,MATCH(0,COUNTIF(S$16:S31,Life)+(Initiative<>S$14)+(Fuel<>S$15)+(Measure<>S$16),0))","v":{"$error":"#REF!"}},{"$f":"INDEX(Life,MATCH(0,COUNTIF(T$16:T31,Life)+(Initiative<>T$14)+(Fuel<>T$15)+(Measure<>T$16),0))","v":{"$error":"#REF!"}},{"$f":"INDEX(Life,MATCH(0,COUNTIF(U$16:U31,Life)+(Initiative<>U$14)+(Fuel<>U$15)+(Measure<>U$16),0))","v":{"$error":"#REF!"}}]
[null,{"$f":"INDEX(Measure,MATCH(0,COUNTIF(B$15:B32,Measure)+(Initiative<>B$14)+(Fuel<>B$15),0))","v":{"$error":"#REF!"}},{"$f":"INDEX(Measure,MATCH(0,COUNTIF(C$15:C32,Measure)+(Initiative<>C$14)+(Fuel<>C$15),0))","v":{"$error":"#REF!"}},{"$f":"INDEX(Measure,MATCH(0,COUNTIF(D$15:D32,Measure)+(Initiative<>D$14)+(Fuel<>D$15),0))","v":{"$error":"#REF!"}},{"$f":"INDEX(Measure,MATCH(0,COUNTIF(E$15:E32,Measure)+(Initiative<>E$14)+(Fuel<>E$15),0))","v":{"$error":"#REF!"}},{"$f":"INDEX(Measure,MATCH(0,COUNTIF(F$15:F32,Measure)+(Initiative<>F$14)+(Fuel<>F$15),0))","v":{"$error":"#REF!"}},{"$f":"INDEX(Measure,MATCH(0,COUNTIF(G$15:G32,Measure)+(Initiative<>G$14)+(Fuel<>G$15),0))","v":{"$error":"#REF!"}},{"$f":"INDEX(Measure,MATCH(0,COUNTIF(H$15:H32,Measure)+(Initiative<>H$14)+(Fuel<>H$15),0))","v":{"$error":"#REF!"}},{"$f":"INDEX(Measure,MATCH(0,COUNTIF(I$15:I32,Measure)+(Initiative<>I$14)+(Fuel<>I$15),0))","v":{"$error":"#REF!"}},{"$f":"INDEX(Measure,MATCH(0,COUNTIF(J$15:J32,Measure)+(Initiative<>J$14)+(Fuel<>J$15),0))","v":{"$error":"#REF!"}},{"$f":"INDEX(Measure,MATCH(0,COUNTIF(K$15:K32,Measure)+(Initiative<>K$14)+(Fuel<>K$15),0))","v":{"$error":"#REF!"}},{"$f":"INDEX(Life,MATCH(0,COUNTIF(L$16:L32,Life)+(Initiative<>L$14)+(Fuel<>L$15)+(Measure<>L$16),0))","v":{"$error":"#REF!"}},{"$f":"INDEX(Life,MATCH(0,COUNTIF(M$16:M32,Life)+(Initiative<>M$14)+(Fuel<>M$15)+(Measure<>M$16),0))","v":{"$error":"#REF!"}},{"$f":"INDEX(Life,MATCH(0,COUNTIF(N$16:N32,Life)+(Initiative<>N$14)+(Fuel<>N$15)+(Measure<>N$16),0))","v":{"$error":"#REF!"}},{"$f":"INDEX(Life,MATCH(0,COUNTIF(O$16:O32,Life)+(Initiative<>O$14)+(Fuel<>O$15)+(Measure<>O$16),0))","v":{"$error":"#REF!"}},{"$f":"INDEX(Life,MATCH(0,COUNTIF(P$16:P32,Life)+(Initiative<>P$14)+(Fuel<>P$15)+(Measure<>P$16),0))","v":{"$error":"#REF!"}},{"$f":"INDEX(Life,MATCH(0,COUNTIF(Q$16:Q32,Life)+(Initiative<>Q$14)+(Fuel<>Q$15)+(Measure<>Q$16),0))","v":{"$error":"#REF!"}},{"$f":"INDEX(Life,MATCH(0,COUNTIF(R$16:R32,Life)+(Initiative<>R$14)+(Fuel<>R$15)+(Measure<>R$16),0))","v":{"$error":"#REF!"}},{"$f":"INDEX(Life,MATCH(0,COUNTIF(S$16:S32,Life)+(Initiative<>S$14)+(Fuel<>S$15)+(Measure<>S$16),0))","v":{"$error":"#REF!"}},{"$f":"INDEX(Life,MATCH(0,COUNTIF(T$16:T32,Life)+(Initiative<>T$14)+(Fuel<>T$15)+(Measure<>T$16),0))","v":{"$error":"#REF!"}},{"$f":"INDEX(Life,MATCH(0,COUNTIF(U$16:U32,Life)+(Initiative<>U$14)+(Fuel<>U$15)+(Measure<>U$16),0))","v":{"$error":"#REF!"}}]
[null,{"$f":"INDEX(Measure,MATCH(0,COUNTIF(B$15:B33,Measure)+(Initiative<>B$14)+(Fuel<>B$15),0))","v":{"$error":"#REF!"}},{"$f":"INDEX(Measure,MATCH(0,COUNTIF(C$15:C33,Measure)+(Initiative<>C$14)+(Fuel<>C$15),0))","v":{"$error":"#REF!"}},{"$f":"INDEX(Measure,MATCH(0,COUNTIF(D$15:D33,Measure)+(Initiative<>D$14)+(Fuel<>D$15),0))","v":{"$error":"#REF!"}},{"$f":"INDEX(Measure,MATCH(0,COUNTIF(E$15:E33,Measure)+(Initiative<>E$14)+(Fuel<>E$15),0))","v":{"$error":"#REF!"}},{"$f":"INDEX(Measure,MATCH(0,COUNTIF(F$15:F33,Measure)+(Initiative<>F$14)+(Fuel<>F$15),0))","v":{"$error":"#REF!"}},{"$f":"INDEX(Measure,MATCH(0,COUNTIF(G$15:G33,Measure)+(Initiative<>G$14)+(Fuel<>G$15),0))","v":{"$error":"#REF!"}},{"$f":"INDEX(Measure,MATCH(0,COUNTIF(H$15:H33,Measure)+(Initiative<>H$14)+(Fuel<>H$15),0))","v":{"$error":"#REF!"}},{"$f":"INDEX(Measure,MATCH(0,COUNTIF(I$15:I33,Measure)+(Initiative<>I$14)+(Fuel<>I$15),0))","v":{"$error":"#REF!"}},{"$f":"INDEX(Measure,MATCH(0,COUNTIF(J$15:J33,Measure)+(Initiative<>J$14)+(Fuel<>J$15),0))","v":{"$error":"#REF!"}},{"$f":"INDEX(Measure,MATCH(0,COUNTIF(K$15:K33,Measure)+(Initiative<>K$14)+(Fuel<>K$15),0))","v":{"$error":"#REF!"}},{"$f":"INDEX(Life,MATCH(0,COUNTIF(L$16:L33,Life)+(Initiative<>L$14)+(Fuel<>L$15)+(Measure<>L$16),0))","v":{"$error":"#REF!"}},{"$f":"INDEX(Life,MATCH(0,COUNTIF(M$16:M33,Life)+(Initiative<>M$14)+(Fuel<>M$15)+(Measure<>M$16),0))","v":{"$error":"#REF!"}},{"$f":"INDEX(Life,MATCH(0,COUNTIF(N$16:N33,Life)+(Initiative<>N$14)+(Fuel<>N$15)+(Measure<>N$16),0))","v":{"$error":"#REF!"}},{"$f":"INDEX(Life,MATCH(0,COUNTIF(O$16:O33,Life)+(Initiative<>O$14)+(Fuel<>O$15)+(Measure<>O$16),0))","v":{"$error":"#REF!"}},{"$f":"INDEX(Life,MATCH(0,COUNTIF(P$16:P33,Life)+(Initiative<>P$14)+(Fuel<>P$15)+(Measure<>P$16),0))","v":{"$error":"#REF!"}},{"$f":"INDEX(Life,MATCH(0,COUNTIF(Q$16:Q33,Life)+(Initiative<>Q$14)+(Fuel<>Q$15)+(Measure<>Q$16),0))","v":{"$error":"#REF!"}},{"$f":"INDEX(Life,MATCH(0,COUNTIF(R$16:R33,Life)+(Initiative<>R$14)+(Fuel<>R$15)+(Measure<>R$16),0))","v":{"$error":"#REF!"}},{"$f":"INDEX(Life,MATCH(0,COUNTIF(S$16:S33,Life)+(Initiative<>S$14)+(Fuel<>S$15)+(Measure<>S$16),0))","v":{"$error":"#REF!"}},{"$f":"INDEX(Life,MATCH(0,COUNTIF(T$16:T33,Life)+(Initiative<>T$14)+(Fuel<>T$15)+(Measure<>T$16),0))","v":{"$error":"#REF!"}},{"$f":"INDEX(Life,MATCH(0,COUNTIF(U$16:U33,Life)+(Initiative<>U$14)+(Fuel<>U$15)+(Measure<>U$16),0))","v":{"$error":"#REF!"}}]
[null,{"$f":"INDEX(Measure,MATCH(0,COUNTIF(B$15:B34,Measure)+(Initiative<>B$14)+(Fuel<>B$15),0))","v":{"$error":"#REF!"}},{"$f":"INDEX(Measure,MATCH(0,COUNTIF(C$15:C34,Measure)+(Initiative<>C$14)+(Fuel<>C$15),0))","v":{"$error":"#REF!"}},{"$f":"INDEX(Measure,MATCH(0,COUNTIF(D$15:D34,Measure)+(Initiative<>D$14)+(Fuel<>D$15),0))","v":{"$error":"#REF!"}},{"$f":"INDEX(Measure,MATCH(0,COUNTIF(E$15:E34,Measure)+(Initiative<>E$14)+(Fuel<>E$15),0))","v":{"$error":"#REF!"}},{"$f":"INDEX(Measure,MATCH(0,COUNTIF(F$15:F34,Measure)+(Initiative<>F$14)+(Fuel<>F$15),0))","v":{"$error":"#REF!"}},{"$f":"INDEX(Measure,MATCH(0,COUNTIF(G$15:G34,Measure)+(Initiative<>G$14)+(Fuel<>G$15),0))","v":{"$error":"#REF!"}},{"$f":"INDEX(Measure,MATCH(0,COUNTIF(H$15:H34,Measure)+(Initiative<>H$14)+(Fuel<>H$15),0))","v":{"$error":"#REF!"}},{"$f":"INDEX(Measure,MATCH(0,COUNTIF(I$15:I34,Measure)+(Initiative<>I$14)+(Fuel<>I$15),0))","v":{"$error":"#REF!"}},{"$f":"INDEX(Measure,MATCH(0,COUNTIF(J$15:J34,Measure)+(Initiative<>J$14)+(Fuel<>J$15),0))","v":{"$error":"#REF!"}},{"$f":"INDEX(Measure,MATCH(0,COUNTIF(K$15:K34,Measure)+(Initiative<>K$14)+(Fuel<>K$15),0))","v":{"$error":"#REF!"}},{"$f":"INDEX(Life,MATCH(0,COUNTIF(L$16:L34,Life)+(Initiative<>L$14)+(Fuel<>L$15)+(Measure<>L$16),0))","v":{"$error":"#REF!"}},{"$f":"INDEX(Life,MATCH(0,COUNTIF(M$16:M34,Life)+(Initiative<>M$14)+(Fuel<>M$15)+(Measure<>M$16),0))","v":{"$error":"#REF!"}},{"$f":"INDEX(Life,MATCH(0,COUNTIF(N$16:N34,Life)+(Initiative<>N$14)+(Fuel<>N$15)+(Measure<>N$16),0))","v":{"$error":"#REF!"}},{"$f":"INDEX(Life,MATCH(0,COUNTIF(O$16:O34,Life)+(Initiative<>O$14)+(Fuel<>O$15)+(Measure<>O$16),0))","v":{"$error":"#REF!"}},{"$f":"INDEX(Life,MATCH(0,COUNTIF(P$16:P34,Life)+(Initiative<>P$14)+(Fuel<>P$15)+(Measure<>P$16),0))","v":{"$error":"#REF!"}},{"$f":"INDEX(Life,MATCH(0,COUNTIF(Q$16:Q34,Life)+(Initiative<>Q$14)+(Fuel<>Q$15)+(Measure<>Q$16),0))","v":{"$error":"#REF!"}},{"$f":"INDEX(Life,MATCH(0,COUNTIF(R$16:R34,Life)+(Initiative<>R$14)+(Fuel<>R$15)+(Measure<>R$16),0))","v":{"$error":"#REF!"}},{"$f":"INDEX(Life,MATCH(0,COUNTIF(S$16:S34,Life)+(Initiative<>S$14)+(Fuel<>S$15)+(Measure<>S$16),0))","v":{"$error":"#REF!"}},{"$f":"INDEX(Life,MATCH(0,COUNTIF(T$16:T34,Life)+(Initiative<>T$14)+(Fuel<>T$15)+(Measure<>T$16),0))","v":{"$error":"#REF!"}},{"$f":"INDEX(Life,MATCH(0,COUNTIF(U$16:U34,Life)+(Initiative<>U$14)+(Fuel<>U$15)+(Measure<>U$16),0))","v":{"$error":"#REF!"}}]
[null,{"$f":"INDEX(Measure,MATCH(0,COUNTIF(B$15:B35,Measure)+(Initiative<>B$14)+(Fuel<>B$15),0))","v":{"$error":"#REF!"}},{"$f":"INDEX(Measure,MATCH(0,COUNTIF(C$15:C35,Measure)+(Initiative<>C$14)+(Fuel<>C$15),0))","v":{"$error":"#REF!"}},{"$f":"INDEX(Measure,MATCH(0,COUNTIF(D$15:D35,Measure)+(Initiative<>D$14)+(Fuel<>D$15),0))","v":{"$error":"#REF!"}},{"$f":"INDEX(Measure,MATCH(0,COUNTIF(E$15:E35,Measure)+(Initiative<>E$14)+(Fuel<>E$15),0))","v":{"$error":"#REF!"}},{"$f":"INDEX(Measure,MATCH(0,COUNTIF(F$15:F35,Measure)+(Initiative<>F$14)+(Fuel<>F$15),0))","v":{"$error":"#REF!"}},{"$f":"INDEX(Measure,MATCH(0,COUNTIF(G$15:G35,Measure)+(Initiative<>G$14)+(Fuel<>G$15),0))","v":{"$error":"#REF!"}},{"$f":"INDEX(Measure,MATCH(0,COUNTIF(H$15:H35,Measure)+(Initiative<>H$14)+(Fuel<>H$15),0))","v":{"$error":"#REF!"}},{"$f":"INDEX(Measure,MATCH(0,COUNTIF(I$15:I35,Measure)+(Initiative<>I$14)+(Fuel<>I$15),0))","v":{"$error":"#REF!"}},{"$f":"INDEX(Measure,MATCH(0,COUNTIF(J$15:J35,Measure)+(Initiative<>J$14)+(Fuel<>J$15),0))","v":{"$error":"#REF!"}},{"$f":"INDEX(Measure,MATCH(0,COUNTIF(K$15:K35,Measure)+(Initiative<>K$14)+(Fuel<>K$15),0))","v":{"$error":"#REF!"}},{"$f":"INDEX(Life,MATCH(0,COUNTIF(L$16:L35,Life)+(Initiative<>L$14)+(Fuel<>L$15)+(Measure<>L$16),0))","v":{"$error":"#REF!"}},{"$f":"INDEX(Life,MATCH(0,COUNTIF(M$16:M35,Life)+(Initiative<>M$14)+(Fuel<>M$15)+(Measure<>M$16),0))","v":{"$error":"#REF!"}},{"$f":"INDEX(Life,MATCH(0,COUNTIF(N$16:N35,Life)+(Initiative<>N$14)+(Fuel<>N$15)+(Measure<>N$16),0))","v":{"$error":"#REF!"}},{"$f":"INDEX(Life,MATCH(0,COUNTIF(O$16:O35,Life)+(Initiative<>O$14)+(Fuel<>O$15)+(Measure<>O$16),0))","v":{"$error":"#REF!"}},{"$f":"INDEX(Life,MATCH(0,COUNTIF(P$16:P35,Life)+(Initiative<>P$14)+(Fuel<>P$15)+(Measure<>P$16),0))","v":{"$error":"#REF!"}},{"$f":"INDEX(Life,MATCH(0,COUNTIF(Q$16:Q35,Life)+(Initiative<>Q$14)+(Fuel<>Q$15)+(Measure<>Q$16),0))","v":{"$error":"#REF!"}},{"$f":"INDEX(Life,MATCH(0,COUNTIF(R$16:R35,Life)+(Initiative<>R$14)+(Fuel<>R$15)+(Measure<>R$16),0))","v":{"$error":"#REF!"}},{"$f":"INDEX(Life,MATCH(0,COUNTIF(S$16:S35,Life)+(Initiative<>S$14)+(Fuel<>S$15)+(Measure<>S$16),0))","v":{"$error":"#REF!"}},{"$f":"INDEX(Life,MATCH(0,COUNTIF(T$16:T35,Life)+(Initiative<>T$14)+(Fuel<>T$15)+(Measure<>T$16),0))","v":{"$error":"#REF!"}},{"$f":"INDEX(Life,MATCH(0,COUNTIF(U$16:U35,Life)+(Initiative<>U$14)+(Fuel<>U$15)+(Measure<>U$16),0))","v":{"$error":"#REF!"}}]
[null,{"$f":"INDEX(Measure,MATCH(0,COUNTIF(B$15:B36,Measure)+(Initiative<>B$14)+(Fuel<>B$15),0))","v":{"$error":"#REF!"}},{"$f":"INDEX(Measure,MATCH(0,COUNTIF(C$15:C36,Measure)+(Initiative<>C$14)+(Fuel<>C$15),0))","v":{"$error":"#REF!"}},{"$f":"INDEX(Measure,MATCH(0,COUNTIF(D$15:D36,Measure)+(Initiative<>D$14)+(Fuel<>D$15),0))","v":{"$error":"#REF!"}},{"$f":"INDEX(Measure,MATCH(0,COUNTIF(E$15:E36,Measure)+(Initiative<>E$14)+(Fuel<>E$15),0))","v":{"$error":"#REF!"}},{"$f":"INDEX(Measure,MATCH(0,COUNTIF(F$15:F36,Measure)+(Initiative<>F$14)+(Fuel<>F$15),0))","v":{"$error":"#REF!"}},{"$f":"INDEX(Measure,MATCH(0,COUNTIF(G$15:G36,Measure)+(Initiative<>G$14)+(Fuel<>G$15),0))","v":{"$error":"#REF!"}},{"$f":"INDEX(Measure,MATCH(0,COUNTIF(H$15:H36,Measure)+(Initiative<>H$14)+(Fuel<>H$15),0))","v":{"$error":"#REF!"}},{"$f":"INDEX(Measure,MATCH(0,COUNTIF(I$15:I36,Measure)+(Initiative<>I$14)+(Fuel<>I$15),0))","v":{"$error":"#REF!"}},{"$f":"INDEX(Measure,MATCH(0,COUNTIF(J$15:J36,Measure)+(Initiative<>J$14)+(Fuel<>J$15),0))","v":{"$error":"#REF!"}},{"$f":"INDEX(Measure,MATCH(0,COUNTIF(K$15:K36,Measure)+(Initiative<>K$14)+(Fuel<>K$15),0))","v":{"$error":"#REF!"}},{"$f":"INDEX(Life,MATCH(0,COUNTIF(L$16:L36,Life)+(Initiative<>L$14)+(Fuel<>L$15)+(Measure<>L$16),0))","v":{"$error":"#REF!"}},{"$f":"INDEX(Life,MATCH(0,COUNTIF(M$16:M36,Life)+(Initiative<>M$14)+(Fuel<>M$15)+(Measure<>M$16),0))","v":{"$error":"#REF!"}},{"$f":"INDEX(Life,MATCH(0,COUNTIF(N$16:N36,Life)+(Initiative<>N$14)+(Fuel<>N$15)+(Measure<>N$16),0))","v":{"$error":"#REF!"}},{"$f":"INDEX(Life,MATCH(0,COUNTIF(O$16:O36,Life)+(Initiative<>O$14)+(Fuel<>O$15)+(Measure<>O$16),0))","v":{"$error":"#REF!"}},{"$f":"INDEX(Life,MATCH(0,COUNTIF(P$16:P36,Life)+(Initiative<>P$14)+(Fuel<>P$15)+(Measure<>P$16),0))","v":{"$error":"#REF!"}},{"$f":"INDEX(Life,MATCH(0,COUNTIF(Q$16:Q36,Life)+(Initiative<>Q$14)+(Fuel<>Q$15)+(Measure<>Q$16),0))","v":{"$error":"#REF!"}},{"$f":"INDEX(Life,MATCH(0,COUNTIF(R$16:R36,Life)+(Initiative<>R$14)+(Fuel<>R$15)+(Measure<>R$16),0))","v":{"$error":"#REF!"}},{"$f":"INDEX(Life,MATCH(0,COUNTIF(S$16:S36,Life)+(Initiative<>S$14)+(Fuel<>S$15)+(Measure<>S$16),0))","v":{"$error":"#REF!"}},{"$f":"INDEX(Life,MATCH(0,COUNTIF(T$16:T36,Life)+(Initiative<>T$14)+(Fuel<>T$15)+(Measure<>T$16),0))","v":{"$error":"#REF!"}},{"$f":"INDEX(Life,MATCH(0,COUNTIF(U$16:U36,Life)+(Initiative<>U$14)+(Fuel<>U$15)+(Measure<>U$16),0))","v":{"$error":"#REF!"}}]
[null,{"$f":"INDEX(Measure,MATCH(0,COUNTIF(B$15:B37,Measure)+(Initiative<>B$14)+(Fuel<>B$15),0))","v":{"$error":"#REF!"}},{"$f":"INDEX(Measure,MATCH(0,COUNTIF(C$15:C37,Measure)+(Initiative<>C$14)+(Fuel<>C$15),0))","v":{"$error":"#REF!"}},{"$f":"INDEX(Measure,MATCH(0,COUNTIF(D$15:D37,Measure)+(Initiative<>D$14)+(Fuel<>D$15),0))","v":{"$error":"#REF!"}},{"$f":"INDEX(Measure,MATCH(0,COUNTIF(E$15:E37,Measure)+(Initiative<>E$14)+(Fuel<>E$15),0))","v":{"$error":"#REF!"}},{"$f":"INDEX(Measure,MATCH(0,COUNTIF(F$15:F37,Measure)+(Initiative<>F$14)+(Fuel<>F$15),0))","v":{"$error":"#REF!"}},{"$f":"INDEX(Measure,MATCH(0,COUNTIF(G$15:G37,Measure)+(Initiative<>G$14)+(Fuel<>G$15),0))","v":{"$error":"#REF!"}},{"$f":"INDEX(Measure,MATCH(0,COUNTIF(H$15:H37,Measure)+(Initiative<>H$14)+(Fuel<>H$15),0))","v":{"$error":"#REF!"}},{"$f":"INDEX(Measure,MATCH(0,COUNTIF(I$15:I37,Measure)+(Initiative<>I$14)+(Fuel<>I$15),0))","v":{"$error":"#REF!"}},{"$f":"INDEX(Measure,MATCH(0,COUNTIF(J$15:J37,Measure)+(Initiative<>J$14)+(Fuel<>J$15),0))","v":{"$error":"#REF!"}},{"$f":"INDEX(Measure,MATCH(0,COUNTIF(K$15:K37,Measure)+(Initiative<>K$14)+(Fuel<>K$15),0))","v":{"$error":"#REF!"}},{"$f":"INDEX(Life,MATCH(0,COUNTIF(L$16:L37,Life)+(Initiative<>L$14)+(Fuel<>L$15)+(Measure<>L$16),0))","v":{"$error":"#REF!"}},{"$f":"INDEX(Life,MATCH(0,COUNTIF(M$16:M37,Life)+(Initiative<>M$14)+(Fuel<>M$15)+(Measure<>M$16),0))","v":{"$error":"#REF!"}},{"$f":"INDEX(Life,MATCH(0,COUNTIF(N$16:N37,Life)+(Initiative<>N$14)+(Fuel<>N$15)+(Measure<>N$16),0))","v":{"$error":"#REF!"}},{"$f":"INDEX(Life,MATCH(0,COUNTIF(O$16:O37,Life)+(Initiative<>O$14)+(Fuel<>O$15)+(Measure<>O$16),0))","v":{"$error":"#REF!"}},{"$f":"INDEX(Life,MATCH(0,COUNTIF(P$16:P37,Life)+(Initiative<>P$14)+(Fuel<>P$15)+(Measure<>P$16),0))","v":{"$error":"#REF!"}},{"$f":"INDEX(Life,MATCH(0,COUNTIF(Q$16:Q37,Life)+(Initiative<>Q$14)+(Fuel<>Q$15)+(Measure<>Q$16),0))","v":{"$error":"#REF!"}},{"$f":"INDEX(Life,MATCH(0,COUNTIF(R$16:R37,Life)+(Initiative<>R$14)+(Fuel<>R$15)+(Measure<>R$16),0))","v":{"$error":"#REF!"}},{"$f":"INDEX(Life,MATCH(0,COUNTIF(S$16:S37,Life)+(Initiative<>S$14)+(Fuel<>S$15)+(Measure<>S$16),0))","v":{"$error":"#REF!"}},{"$f":"INDEX(Life,MATCH(0,COUNTIF(T$16:T37,Life)+(Initiative<>T$14)+(Fuel<>T$15)+(Measure<>T$16),0))","v":{"$error":"#REF!"}},{"$f":"INDEX(Life,MATCH(0,COUNTIF(U$16:U37,Life)+(Initiative<>U$14)+(Fuel<>U$15)+(Measure<>U$16),0))","v":{"$error":"#REF!"}}]
[null,{"$f":"INDEX(Measure,MATCH(0,COUNTIF(B$15:B38,Measure)+(Initiative<>B$14)+(Fuel<>B$15),0))","v":{"$error":"#REF!"}},{"$f":"INDEX(Measure,MATCH(0,COUNTIF(C$15:C38,Measure)+(Initiative<>C$14)+(Fuel<>C$15),0))","v":{"$error":"#REF!"}},{"$f":"INDEX(Measure,MATCH(0,COUNTIF(D$15:D38,Measure)+(Initiative<>D$14)+(Fuel<>D$15),0))","v":{"$error":"#REF!"}},{"$f":"INDEX(Measure,MATCH(0,COUNTIF(E$15:E38,Measure)+(Initiative<>E$14)+(Fuel<>E$15),0))","v":{"$error":"#REF!"}},{"$f":"INDEX(Measure,MATCH(0,COUNTIF(F$15:F38,Measure)+(Initiative<>F$14)+(Fuel<>F$15),0))","v":{"$error":"#REF!"}},{"$f":"INDEX(Measure,MATCH(0,COUNTIF(G$15:G38,Measure)+(Initiative<>G$14)+(Fuel<>G$15),0))","v":{"$error":"#REF!"}},{"$f":"INDEX(Measure,MATCH(0,COUNTIF(H$15:H38,Measure)+(Initiative<>H$14)+(Fuel<>H$15),0))","v":{"$error":"#REF!"}},{"$f":"INDEX(Measure,MATCH(0,COUNTIF(I$15:I38,Measure)+(Initiative<>I$14)+(Fuel<>I$15),0))","v":{"$error":"#REF!"}},{"$f":"INDEX(Measure,MATCH(0,COUNTIF(J$15:J38,Measure)+(Initiative<>J$14)+(Fuel<>J$15),0))","v":{"$error":"#REF!"}},{"$f":"INDEX(Measure,MATCH(0,COUNTIF(K$15:K38,Measure)+(Initiative<>K$14)+(Fuel<>K$15),0))","v":{"$error":"#REF!"}},{"$f":"INDEX(Life,MATCH(0,COUNTIF(L$16:L38,Life)+(Initiative<>L$14)+(Fuel<>L$15)+(Measure<>L$16),0))","v":{"$error":"#REF!"}},{"$f":"INDEX(Life,MATCH(0,COUNTIF(M$16:M38,Life)+(Initiative<>M$14)+(Fuel<>M$15)+(Measure<>M$16),0))","v":{"$error":"#REF!"}},{"$f":"INDEX(Life,MATCH(0,COUNTIF(N$16:N38,Life)+(Initiative<>N$14)+(Fuel<>N$15)+(Measure<>N$16),0))","v":{"$error":"#REF!"}},{"$f":"INDEX(Life,MATCH(0,COUNTIF(O$16:O38,Life)+(Initiative<>O$14)+(Fuel<>O$15)+(Measure<>O$16),0))","v":{"$error":"#REF!"}},{"$f":"INDEX(Life,MATCH(0,COUNTIF(P$16:P38,Life)+(Initiative<>P$14)+(Fuel<>P$15)+(Measure<>P$16),0))","v":{"$error":"#REF!"}},{"$f":"INDEX(Life,MATCH(0,COUNTIF(Q$16:Q38,Life)+(Initiative<>Q$14)+(Fuel<>Q$15)+(Measure<>Q$16),0))","v":{"$error":"#REF!"}},{"$f":"INDEX(Life,MATCH(0,COUNTIF(R$16:R38,Life)+(Initiative<>R$14)+(Fuel<>R$15)+(Measure<>R$16),0))","v":{"$error":"#REF!"}},{"$f":"INDEX(Life,MATCH(0,COUNTIF(S$16:S38,Life)+(Initiative<>S$14)+(Fuel<>S$15)+(Measure<>S$16),0))","v":{"$error":"#REF!"}},{"$f":"INDEX(Life,MATCH(0,COUNTIF(T$16:T38,Life)+(Initiative<>T$14)+(Fuel<>T$15)+(Measure<>T$16),0))","v":{"$error":"#REF!"}},{"$f":"INDEX(Life,MATCH(0,COUNTIF(U$16:U38,Life)+(Initiative<>U$14)+(Fuel<>U$15)+(Measure<>U$16),0))","v":{"$error":"#REF!"}}]
[null,{"$f":"INDEX(Measure,MATCH(0,COUNTIF(B$15:B39,Measure)+(Initiative<>B$14)+(Fuel<>B$15),0))","v":{"$error":"#REF!"}},{"$f":"INDEX(Measure,MATCH(0,COUNTIF(C$15:C39,Measure)+(Initiative<>C$14)+(Fuel<>C$15),0))","v":{"$error":"#REF!"}},{"$f":"INDEX(Measure,MATCH(0,COUNTIF(D$15:D39,Measure)+(Initiative<>D$14)+(Fuel<>D$15),0))","v":{"$error":"#REF!"}},{"$f":"INDEX(Measure,MATCH(0,COUNTIF(E$15:E39,Measure)+(Initiative<>E$14)+(Fuel<>E$15),0))","v":{"$error":"#REF!"}},{"$f":"INDEX(Measure,MATCH(0,COUNTIF(F$15:F39,Measure)+(Initiative<>F$14)+(Fuel<>F$15),0))","v":{"$error":"#REF!"}},{"$f":"INDEX(Measure,MATCH(0,COUNTIF(G$15:G39,Measure)+(Initiative<>G$14)+(Fuel<>G$15),0))","v":{"$error":"#REF!"}},{"$f":"INDEX(Measure,MATCH(0,COUNTIF(H$15:H39,Measure)+(Initiative<>H$14)+(Fuel<>H$15),0))","v":{"$error":"#REF!"}},{"$f":"INDEX(Measure,MATCH(0,COUNTIF(I$15:I39,Measure)+(Initiative<>I$14)+(Fuel<>I$15),0))","v":{"$error":"#REF!"}},{"$f":"INDEX(Measure,MATCH(0,COUNTIF(J$15:J39,Measure)+(Initiative<>J$14)+(Fuel<>J$15),0))","v":{"$error":"#REF!"}},{"$f":"INDEX(Measure,MATCH(0,COUNTIF(K$15:K39,Measure)+(Initiative<>K$14)+(Fuel<>K$15),0))","v":{"$error":"#REF!"}},{"$f":"INDEX(Life,MATCH(0,COUNTIF(L$16:L39,Life)+(Initiative<>L$14)+(Fuel<>L$15)+(Measure<>L$16),0))","v":{"$error":"#REF!"}},{"$f":"INDEX(Life,MATCH(0,COUNTIF(M$16:M39,Life)+(Initiative<>M$14)+(Fuel<>M$15)+(Measure<>M$16),0))","v":{"$error":"#REF!"}},{"$f":"INDEX(Life,MATCH(0,COUNTIF(N$16:N39,Life)+(Initiative<>N$14)+(Fuel<>N$15)+(Measure<>N$16),0))","v":{"$error":"#REF!"}},{"$f":"INDEX(Life,MATCH(0,COUNTIF(O$16:O39,Life)+(Initiative<>O$14)+(Fuel<>O$15)+(Measure<>O$16),0))","v":{"$error":"#REF!"}},{"$f":"INDEX(Life,MATCH(0,COUNTIF(P$16:P39,Life)+(Initiative<>P$14)+(Fuel<>P$15)+(Measure<>P$16),0))","v":{"$error":"#REF!"}},{"$f":"INDEX(Life,MATCH(0,COUNTIF(Q$16:Q39,Life)+(Initiative<>Q$14)+(Fuel<>Q$15)+(Measure<>Q$16),0))","v":{"$error":"#REF!"}},{"$f":"INDEX(Life,MATCH(0,COUNTIF(R$16:R39,Life)+(Initiative<>R$14)+(Fuel<>R$15)+(Measure<>R$16),0))","v":{"$error":"#REF!"}},{"$f":"INDEX(Life,MATCH(0,COUNTIF(S$16:S39,Life)+(Initiative<>S$14)+(Fuel<>S$15)+(Measure<>S$16),0))","v":{"$error":"#REF!"}},{"$f":"INDEX(Life,MATCH(0,COUNTIF(T$16:T39,Life)+(Initiative<>T$14)+(Fuel<>T$15)+(Measure<>T$16),0))","v":{"$error":"#REF!"}},{"$f":"INDEX(Life,MATCH(0,COUNTIF(U$16:U39,Life)+(Initiative<>U$14)+(Fuel<>U$15)+(Measure<>U$16),0))","v":{"$error":"#REF!"}}]
[null,{"$f":"INDEX(Measure,MATCH(0,COUNTIF(B$15:B40,Measure)+(Initiative<>B$14)+(Fuel<>B$15),0))","v":{"$error":"#REF!"}},{"$f":"INDEX(Measure,MATCH(0,COUNTIF(C$15:C40,Measure)+(Initiative<>C$14)+(Fuel<>C$15),0))","v":{"$error":"#REF!"}},{"$f":"INDEX(Measure,MATCH(0,COUNTIF(D$15:D40,Measure)+(Initiative<>D$14)+(Fuel<>D$15),0))","v":{"$error":"#REF!"}},{"$f":"INDEX(Measure,MATCH(0,COUNTIF(E$15:E40,Measure)+(Initiative<>E$14)+(Fuel<>E$15),0))","v":{"$error":"#REF!"}},{"$f":"INDEX(Measure,MATCH(0,COUNTIF(F$15:F40,Measure)+(Initiative<>F$14)+(Fuel<>F$15),0))","v":{"$error":"#REF!"}},{"$f":"INDEX(Measure,MATCH(0,COUNTIF(G$15:G40,Measure)+(Initiative<>G$14)+(Fuel<>G$15),0))","v":{"$error":"#REF!"}},{"$f":"INDEX(Measure,MATCH(0,COUNTIF(H$15:H40,Measure)+(Initiative<>H$14)+(Fuel<>H$15),0))","v":{"$error":"#REF!"}},{"$f":"INDEX(Measure,MATCH(0,COUNTIF(I$15:I40,Measure)+(Initiative<>I$14)+(Fuel<>I$15),0))","v":{"$error":"#REF!"}},{"$f":"INDEX(Measure,MATCH(0,COUNTIF(J$15:J40,Measure)+(Initiative<>J$14)+(Fuel<>J$15),0))","v":{"$error":"#REF!"}},{"$f":"INDEX(Measure,MATCH(0,COUNTIF(K$15:K40,Measure)+(Initiative<>K$14)+(Fuel<>K$15),0))","v":{"$error":"#REF!"}},{"$f":"INDEX(Life,MATCH(0,COUNTIF(L$16:L40,Life)+(Initiative<>L$14)+(Fuel<>L$15)+(Measure<>L$16),0))","v":{"$error":"#REF!"}},{"$f":"INDEX(Life,MATCH(0,COUNTIF(M$16:M40,Life)+(Initiative<>M$14)+(Fuel<>M$15)+(Measure<>M$16),0))","v":{"$error":"#REF!"}},{"$f":"INDEX(Life,MATCH(0,COUNTIF(N$16:N40,Life)+(Initiative<>N$14)+(Fuel<>N$15)+(Measure<>N$16),0))","v":{"$error":"#REF!"}},{"$f":"INDEX(Life,MATCH(0,COUNTIF(O$16:O40,Life)+(Initiative<>O$14)+(Fuel<>O$15)+(Measure<>O$16),0))","v":{"$error":"#REF!"}},{"$f":"INDEX(Life,MATCH(0,COUNTIF(P$16:P40,Life)+(Initiative<>P$14)+(Fuel<>P$15)+(Measure<>P$16),0))","v":{"$error":"#REF!"}},{"$f":"INDEX(Life,MATCH(0,COUNTIF(Q$16:Q40,Life)+(Initiative<>Q$14)+(Fuel<>Q$15)+(Measure<>Q$16),0))","v":{"$error":"#REF!"}},{"$f":"INDEX(Life,MATCH(0,COUNTIF(R$16:R40,Life)+(Initiative<>R$14)+(Fuel<>R$15)+(Measure<>R$16),0))","v":{"$error":"#REF!"}},{"$f":"INDEX(Life,MATCH(0,COUNTIF(S$16:S40,Life)+(Initiative<>S$14)+(Fuel<>S$15)+(Measure<>S$16),0))","v":{"$error":"#REF!"}},{"$f":"INDEX(Life,MATCH(0,COUNTIF(T$16:T40,Life)+(Initiative<>T$14)+(Fuel<>T$15)+(Measure<>T$16),0))","v":{"$error":"#REF!"}},{"$f":"INDEX(Life,MATCH(0,COUNTIF(U$16:U40,Life)+(Initiative<>U$14)+(Fuel<>U$15)+(Measure<>U$16),0))","v":{"$error":"#REF!"}}]
[null,{"$f":"INDEX(Measure,MATCH(0,COUNTIF(B$15:B41,Measure)+(Initiative<>B$14)+(Fuel<>B$15),0))","v":{"$error":"#REF!"}},{"$f":"INDEX(Measure,MATCH(0,COUNTIF(C$15:C41,Measure)+(Initiative<>C$14)+(Fuel<>C$15),0))","v":{"$error":"#REF!"}},{"$f":"INDEX(Measure,MATCH(0,COUNTIF(D$15:D41,Measure)+(Initiative<>D$14)+(Fuel<>D$15),0))","v":{"$error":"#REF!"}},{"$f":"INDEX(Measure,MATCH(0,COUNTIF(E$15:E41,Measure)+(Initiative<>E$14)+(Fuel<>E$15),0))","v":{"$error":"#REF!"}},{"$f":"INDEX(Measure,MATCH(0,COUNTIF(F$15:F41,Measure)+(Initiative<>F$14)+(Fuel<>F$15),0))","v":{"$error":"#REF!"}},{"$f":"INDEX(Measure,MATCH(0,COUNTIF(G$15:G41,Measure)+(Initiative<>G$14)+(Fuel<>G$15),0))","v":{"$error":"#REF!"}},{"$f":"INDEX(Measure,MATCH(0,COUNTIF(H$15:H41,Measure)+(Initiative<>H$14)+(Fuel<>H$15),0))","v":{"$error":"#REF!"}},{"$f":"INDEX(Measure,MATCH(0,COUNTIF(I$15:I41,Measure)+(Initiative<>I$14)+(Fuel<>I$15),0))","v":{"$error":"#REF!"}},{"$f":"INDEX(Measure,MATCH(0,COUNTIF(J$15:J41,Measure)+(Initiative<>J$14)+(Fuel<>J$15),0))","v":{"$error":"#REF!"}},{"$f":"INDEX(Measure,MATCH(0,COUNTIF(K$15:K41,Measure)+(Initiative<>K$14)+(Fuel<>K$15),0))","v":{"$error":"#REF!"}},{"$f":"INDEX(Life,MATCH(0,COUNTIF(L$16:L41,Life)+(Initiative<>L$14)+(Fuel<>L$15)+(Measure<>L$16),0))","v":{"$error":"#REF!"}},{"$f":"INDEX(Life,MATCH(0,COUNTIF(M$16:M41,Life)+(Initiative<>M$14)+(Fuel<>M$15)+(Measure<>M$16),0))","v":{"$error":"#REF!"}},{"$f":"INDEX(Life,MATCH(0,COUNTIF(N$16:N41,Life)+(Initiative<>N$14)+(Fuel<>N$15)+(Measure<>N$16),0))","v":{"$error":"#REF!"}},{"$f":"INDEX(Life,MATCH(0,COUNTIF(O$16:O41,Life)+(Initiative<>O$14)+(Fuel<>O$15)+(Measure<>O$16),0))","v":{"$error":"#REF!"}},{"$f":"INDEX(Life,MATCH(0,COUNTIF(P$16:P41,Life)+(Initiative<>P$14)+(Fuel<>P$15)+(Measure<>P$16),0))","v":{"$error":"#REF!"}},{"$f":"INDEX(Life,MATCH(0,COUNTIF(Q$16:Q41,Life)+(Initiative<>Q$14)+(Fuel<>Q$15)+(Measure<>Q$16),0))","v":{"$error":"#REF!"}},{"$f":"INDEX(Life,MATCH(0,COUNTIF(R$16:R41,Life)+(Initiative<>R$14)+(Fuel<>R$15)+(Measure<>R$16),0))","v":{"$error":"#REF!"}},{"$f":"INDEX(Life,MATCH(0,COUNTIF(S$16:S41,Life)+(Initiative<>S$14)+(Fuel<>S$15)+(Measure<>S$16),0))","v":{"$error":"#REF!"}},{"$f":"INDEX(Life,MATCH(0,COUNTIF(T$16:T41,Life)+(Initiative<>T$14)+(Fuel<>T$15)+(Measure<>T$16),0))","v":{"$error":"#REF!"}},{"$f":"INDEX(Life,MATCH(0,COUNTIF(U$16:U41,Life)+(Initiative<>U$14)+(Fuel<>U$15)+(Measure<>U$16),0))","v":{"$error":"#REF!"}}]
[null,{"$f":"INDEX(Measure,MATCH(0,COUNTIF(B$15:B42,Measure)+(Initiative<>B$14)+(Fuel<>B$15),0))","v":{"$error":"#REF!"}},{"$f":"INDEX(Measure,MATCH(0,COUNTIF(C$15:C42,Measure)+(Initiative<>C$14)+(Fuel<>C$15),0))","v":{"$error":"#REF!"}},{"$f":"INDEX(Measure,MATCH(0,COUNTIF(D$15:D42,Measure)+(Initiative<>D$14)+(Fuel<>D$15),0))","v":{"$error":"#REF!"}},{"$f":"INDEX(Measure,MATCH(0,COUNTIF(E$15:E42,Measure)+(Initiative<>E$14)+(Fuel<>E$15),0))","v":{"$error":"#REF!"}},{"$f":"INDEX(Measure,MATCH(0,COUNTIF(F$15:F42,Measure)+(Initiative<>F$14)+(Fuel<>F$15),0))","v":{"$error":"#REF!"}},{"$f":"INDEX(Measure,MATCH(0,COUNTIF(G$15:G42,Measure)+(Initiative<>G$14)+(Fuel<>G$15),0))","v":{"$error":"#REF!"}},{"$f":"INDEX(Measure,MATCH(0,COUNTIF(H$15:H42,Measure)+(Initiative<>H$14)+(Fuel<>H$15),0))","v":{"$error":"#REF!"}},{"$f":"INDEX(Measure,MATCH(0,COUNTIF(I$15:I42,Measure)+(Initiative<>I$14)+(Fuel<>I$15),0))","v":{"$error":"#REF!"}},{"$f":"INDEX(Measure,MATCH(0,COUNTIF(J$15:J42,Measure)+(Initiative<>J$14)+(Fuel<>J$15),0))","v":{"$error":"#REF!"}},{"$f":"INDEX(Measure,MATCH(0,COUNTIF(K$15:K42,Measure)+(Initiative<>K$14)+(Fuel<>K$15),0))","v":{"$error":"#REF!"}},{"$f":"INDEX(Life,MATCH(0,COUNTIF(L$16:L42,Life)+(Initiative<>L$14)+(Fuel<>L$15)+(Measure<>L$16),0))","v":{"$error":"#REF!"}},{"$f":"INDEX(Life,MATCH(0,COUNTIF(M$16:M42,Life)+(Initiative<>M$14)+(Fuel<>M$15)+(Measure<>M$16),0))","v":{"$error":"#REF!"}},{"$f":"INDEX(Life,MATCH(0,COUNTIF(N$16:N42,Life)+(Initiative<>N$14)+(Fuel<>N$15)+(Measure<>N$16),0))","v":{"$error":"#REF!"}},{"$f":"INDEX(Life,MATCH(0,COUNTIF(O$16:O42,Life)+(Initiative<>O$14)+(Fuel<>O$15)+(Measure<>O$16),0))","v":{"$error":"#REF!"}},{"$f":"INDEX(Life,MATCH(0,COUNTIF(P$16:P42,Life)+(Initiative<>P$14)+(Fuel<>P$15)+(Measure<>P$16),0))","v":{"$error":"#REF!"}},{"$f":"INDEX(Life,MATCH(0,COUNTIF(Q$16:Q42,Life)+(Initiative<>Q$14)+(Fuel<>Q$15)+(Measure<>Q$16),0))","v":{"$error":"#REF!"}},{"$f":"INDEX(Life,MATCH(0,COUNTIF(R$16:R42,Life)+(Initiative<>R$14)+(Fuel<>R$15)+(Measure<>R$16),0))","v":{"$error":"#REF!"}},{"$f":"INDEX(Life,MATCH(0,COUNTIF(S$16:S42,Life)+(Initiative<>S$14)+(Fuel<>S$15)+(Measure<>S$16),0))","v":{"$error":"#REF!"}},{"$f":"INDEX(Life,MATCH(0,COUNTIF(T$16:T42,Life)+(Initiative<>T$14)+(Fuel<>T$15)+(Measure<>T$16),0))","v":{"$error":"#REF!"}},{"$f":"INDEX(Life,MATCH(0,COUNTIF(U$16:U42,Life)+(Initiative<>U$14)+(Fuel<>U$15)+(Measure<>U$16),0))","v":{"$error":"#REF!"}}]
[null,{"$f":"INDEX(Measure,MATCH(0,COUNTIF(B$15:B43,Measure)+(Initiative<>B$14)+(Fuel<>B$15),0))","v":{"$error":"#REF!"}},{"$f":"INDEX(Measure,MATCH(0,COUNTIF(C$15:C43,Measure)+(Initiative<>C$14)+(Fuel<>C$15),0))","v":{"$error":"#REF!"}},{"$f":"INDEX(Measure,MATCH(0,COUNTIF(D$15:D43,Measure)+(Initiative<>D$14)+(Fuel<>D$15),0))","v":{"$error":"#REF!"}},{"$f":"INDEX(Measure,MATCH(0,COUNTIF(E$15:E43,Measure)+(Initiative<>E$14)+(Fuel<>E$15),0))","v":{"$error":"#REF!"}},{"$f":"INDEX(Measure,MATCH(0,COUNTIF(F$15:F43,Measure)+(Initiative<>F$14)+(Fuel<>F$15),0))","v":{"$error":"#REF!"}},{"$f":"INDEX(Measure,MATCH(0,COUNTIF(G$15:G43,Measure)+(Initiative<>G$14)+(Fuel<>G$15),0))","v":{"$error":"#REF!"}},{"$f":"INDEX(Measure,MATCH(0,COUNTIF(H$15:H43,Measure)+(Initiative<>H$14)+(Fuel<>H$15),0))","v":{"$error":"#REF!"}},{"$f":"INDEX(Measure,MATCH(0,COUNTIF(I$15:I43,Measure)+(Initiative<>I$14)+(Fuel<>I$15),0))","v":{"$error":"#REF!"}},{"$f":"INDEX(Measure,MATCH(0,COUNTIF(J$15:J43,Measure)+(Initiative<>J$14)+(Fuel<>J$15),0))","v":{"$error":"#REF!"}},{"$f":"INDEX(Measure,MATCH(0,COUNTIF(K$15:K43,Measure)+(Initiative<>K$14)+(Fuel<>K$15),0))","v":{"$error":"#REF!"}},{"$f":"INDEX(Life,MATCH(0,COUNTIF(L$16:L43,Life)+(Initiative<>L$14)+(Fuel<>L$15)+(Measure<>L$16),0))","v":{"$error":"#REF!"}},{"$f":"INDEX(Life,MATCH(0,COUNTIF(M$16:M43,Life)+(Initiative<>M$14)+(Fuel<>M$15)+(Measure<>M$16),0))","v":{"$error":"#REF!"}},{"$f":"INDEX(Life,MATCH(0,COUNTIF(N$16:N43,Life)+(Initiative<>N$14)+(Fuel<>N$15)+(Measure<>N$16),0))","v":{"$error":"#REF!"}},{"$f":"INDEX(Life,MATCH(0,COUNTIF(O$16:O43,Life)+(Initiative<>O$14)+(Fuel<>O$15)+(Measure<>O$16),0))","v":{"$error":"#REF!"}},{"$f":"INDEX(Life,MATCH(0,COUNTIF(P$16:P43,Life)+(Initiative<>P$14)+(Fuel<>P$15)+(Measure<>P$16),0))","v":{"$error":"#REF!"}},{"$f":"INDEX(Life,MATCH(0,COUNTIF(Q$16:Q43,Life)+(Initiative<>Q$14)+(Fuel<>Q$15)+(Measure<>Q$16),0))","v":{"$error":"#REF!"}},{"$f":"INDEX(Life,MATCH(0,COUNTIF(R$16:R43,Life)+(Initiative<>R$14)+(Fuel<>R$15)+(Measure<>R$16),0))","v":{"$error":"#REF!"}},{"$f":"INDEX(Life,MATCH(0,COUNTIF(S$16:S43,Life)+(Initiative<>S$14)+(Fuel<>S$15)+(Measure<>S$16),0))","v":{"$error":"#REF!"}},{"$f":"INDEX(Life,MATCH(0,COUNTIF(T$16:T43,Life)+(Initiative<>T$14)+(Fuel<>T$15)+(Measure<>T$16),0))","v":{"$error":"#REF!"}},{"$f":"INDEX(Life,MATCH(0,COUNTIF(U$16:U43,Life)+(Initiative<>U$14)+(Fuel<>U$15)+(Measure<>U$16),0))","v":{"$error":"#REF!"}}]
[null,{"$f":"INDEX(Measure,MATCH(0,COUNTIF(B$15:B44,Measure)+(Initiative<>B$14)+(Fuel<>B$15),0))","v":{"$error":"#REF!"}},{"$f":"INDEX(Measure,MATCH(0,COUNTIF(C$15:C44,Measure)+(Initiative<>C$14)+(Fuel<>C$15),0))","v":{"$error":"#REF!"}},{"$f":"INDEX(Measure,MATCH(0,COUNTIF(D$15:D44,Measure)+(Initiative<>D$14)+(Fuel<>D$15),0))","v":{"$error":"#REF!"}},{"$f":"INDEX(Measure,MATCH(0,COUNTIF(E$15:E44,Measure)+(Initiative<>E$14)+(Fuel<>E$15),0))","v":{"$error":"#REF!"}},{"$f":"INDEX(Measure,MATCH(0,COUNTIF(F$15:F44,Measure)+(Initiative<>F$14)+(Fuel<>F$15),0))","v":{"$error":"#REF!"}},{"$f":"INDEX(Measure,MATCH(0,COUNTIF(G$15:G44,Measure)+(Initiative<>G$14)+(Fuel<>G$15),0))","v":{"$error":"#REF!"}},{"$f":"INDEX(Measure,MATCH(0,COUNTIF(H$15:H44,Measure)+(Initiative<>H$14)+(Fuel<>H$15),0))","v":{"$error":"#REF!"}},{"$f":"INDEX(Measure,MATCH(0,COUNTIF(I$15:I44,Measure)+(Initiative<>I$14)+(Fuel<>I$15),0))","v":{"$error":"#REF!"}},{"$f":"INDEX(Measure,MATCH(0,COUNTIF(J$15:J44,Measure)+(Initiative<>J$14)+(Fuel<>J$15),0))","v":{"$error":"#REF!"}},{"$f":"INDEX(Measure,MATCH(0,COUNTIF(K$15:K44,Measure)+(Initiative<>K$14)+(Fuel<>K$15),0))","v":{"$error":"#REF!"}},{"$f":"INDEX(Life,MATCH(0,COUNTIF(L$16:L44,Life)+(Initiative<>L$14)+(Fuel<>L$15)+(Measure<>L$16),0))","v":{"$error":"#REF!"}},{"$f":"INDEX(Life,MATCH(0,COUNTIF(M$16:M44,Life)+(Initiative<>M$14)+(Fuel<>M$15)+(Measure<>M$16),0))","v":{"$error":"#REF!"}},{"$f":"INDEX(Life,MATCH(0,COUNTIF(N$16:N44,Life)+(Initiative<>N$14)+(Fuel<>N$15)+(Measure<>N$16),0))","v":{"$error":"#REF!"}},{"$f":"INDEX(Life,MATCH(0,COUNTIF(O$16:O44,Life)+(Initiative<>O$14)+(Fuel<>O$15)+(Measure<>O$16),0))","v":{"$error":"#REF!"}},{"$f":"INDEX(Life,MATCH(0,COUNTIF(P$16:P44,Life)+(Initiative<>P$14)+(Fuel<>P$15)+(Measure<>P$16),0))","v":{"$error":"#REF!"}},{"$f":"INDEX(Life,MATCH(0,COUNTIF(Q$16:Q44,Life)+(Initiative<>Q$14)+(Fuel<>Q$15)+(Measure<>Q$16),0))","v":{"$error":"#REF!"}},{"$f":"INDEX(Life,MATCH(0,COUNTIF(R$16:R44,Life)+(Initiative<>R$14)+(Fuel<>R$15)+(Measure<>R$16),0))","v":{"$error":"#REF!"}},{"$f":"INDEX(Life,MATCH(0,COUNTIF(S$16:S44,Life)+(Initiative<>S$14)+(Fuel<>S$15)+(Measure<>S$16),0))","v":{"$error":"#REF!"}},{"$f":"INDEX(Life,MATCH(0,COUNTIF(T$16:T44,Life)+(Initiative<>T$14)+(Fuel<>T$15)+(Measure<>T$16),0))","v":{"$error":"#REF!"}},{"$f":"INDEX(Life,MATCH(0,COUNTIF(U$16:U44,Life)+(Initiative<>U$14)+(Fuel<>U$15)+(Measure<>U$16),0))","v":{"$error":"#REF!"}}]
[null,{"$f":"INDEX(Measure,MATCH(0,COUNTIF(B$15:B45,Measure)+(Initiative<>B$14)+(Fuel<>B$15),0))","v":{"$error":"#REF!"}},{"$f":"INDEX(Measure,MATCH(0,COUNTIF(C$15:C45,Measure)+(Initiative<>C$14)+(Fuel<>C$15),0))","v":{"$error":"#REF!"}},{"$f":"INDEX(Measure,MATCH(0,COUNTIF(D$15:D45,Measure)+(Initiative<>D$14)+(Fuel<>D$15),0))","v":{"$error":"#REF!"}},{"$f":"INDEX(Measure,MATCH(0,COUNTIF(E$15:E45,Measure)+(Initiative<>E$14)+(Fuel<>E$15),0))","v":{"$error":"#REF!"}},{"$f":"INDEX(Measure,MATCH(0,COUNTIF(F$15:F45,Measure)+(Initiative<>F$14)+(Fuel<>F$15),0))","v":{"$error":"#REF!"}},{"$f":"INDEX(Measure,MATCH(0,COUNTIF(G$15:G45,Measure)+(Initiative<>G$14)+(Fuel<>G$15),0))","v":{"$error":"#REF!"}},{"$f":"INDEX(Measure,MATCH(0,COUNTIF(H$15:H45,Measure)+(Initiative<>H$14)+(Fuel<>H$15),0))","v":{"$error":"#REF!"}},{"$f":"INDEX(Measure,MATCH(0,COUNTIF(I$15:I45,Measure)+(Initiative<>I$14)+(Fuel<>I$15),0))","v":{"$error":"#REF!"}},{"$f":"INDEX(Measure,MATCH(0,COUNTIF(J$15:J45,Measure)+(Initiative<>J$14)+(Fuel<>J$15),0))","v":{"$error":"#REF!"}},{"$f":"INDEX(Measure,MATCH(0,COUNTIF(K$15:K45,Measure)+(Initiative<>K$14)+(Fuel<>K$15),0))","v":{"$error":"#REF!"}},{"$f":"INDEX(Life,MATCH(0,COUNTIF(L$16:L45,Life)+(Initiative<>L$14)+(Fuel<>L$15)+(Measure<>L$16),0))","v":{"$error":"#REF!"}},{"$f":"INDEX(Life,MATCH(0,COUNTIF(M$16:M45,Life)+(Initiative<>M$14)+(Fuel<>M$15)+(Measure<>M$16),0))","v":{"$error":"#REF!"}},{"$f":"INDEX(Life,MATCH(0,COUNTIF(N$16:N45,Life)+(Initiative<>N$14)+(Fuel<>N$15)+(Measure<>N$16),0))","v":{"$error":"#REF!"}},{"$f":"INDEX(Life,MATCH(0,COUNTIF(O$16:O45,Life)+(Initiative<>O$14)+(Fuel<>O$15)+(Measure<>O$16),0))","v":{"$error":"#REF!"}},{"$f":"INDEX(Life,MATCH(0,COUNTIF(P$16:P45,Life)+(Initiative<>P$14)+(Fuel<>P$15)+(Measure<>P$16),0))","v":{"$error":"#REF!"}},{"$f":"INDEX(Life,MATCH(0,COUNTIF(Q$16:Q45,Life)+(Initiative<>Q$14)+(Fuel<>Q$15)+(Measure<>Q$16),0))","v":{"$error":"#REF!"}},{"$f":"INDEX(Life,MATCH(0,COUNTIF(R$16:R45,Life)+(Initiative<>R$14)+(Fuel<>R$15)+(Measure<>R$16),0))","v":{"$error":"#REF!"}},{"$f":"INDEX(Life,MATCH(0,COUNTIF(S$16:S45,Life)+(Initiative<>S$14)+(Fuel<>S$15)+(Measure<>S$16),0))","v":{"$error":"#REF!"}},{"$f":"INDEX(Life,MATCH(0,COUNTIF(T$16:T45,Life)+(Initiative<>T$14)+(Fuel<>T$15)+(Measure<>T$16),0))","v":{"$error":"#REF!"}},{"$f":"INDEX(Life,MATCH(0,COUNTIF(U$16:U45,Life)+(Initiative<>U$14)+(Fuel<>U$15)+(Measure<>U$16),0))","v":{"$error":"#REF!"}}]
[null,{"$f":"INDEX(Measure,MATCH(0,COUNTIF(B$15:B46,Measure)+(Initiative<>B$14)+(Fuel<>B$15),0))","v":{"$error":"#REF!"}},{"$f":"INDEX(Measure,MATCH(0,COUNTIF(C$15:C46,Measure)+(Initiative<>C$14)+(Fuel<>C$15),0))","v":{"$error":"#REF!"}},{"$f":"INDEX(Measure,MATCH(0,COUNTIF(D$15:D46,Measure)+(Initiative<>D$14)+(Fuel<>D$15),0))","v":{"$error":"#REF!"}},{"$f":"INDEX(Measure,MATCH(0,COUNTIF(E$15:E46,Measure)+(Initiative<>E$14)+(Fuel<>E$15),0))","v":{"$error":"#REF!"}},{"$f":"INDEX(Measure,MATCH(0,COUNTIF(F$15:F46,Measure)+(Initiative<>F$14)+(Fuel<>F$15),0))","v":{"$error":"#REF!"}},{"$f":"INDEX(Measure,MATCH(0,COUNTIF(G$15:G46,Measure)+(Initiative<>G$14)+(Fuel<>G$15),0))","v":{"$error":"#REF!"}},{"$f":"INDEX(Measure,MATCH(0,COUNTIF(H$15:H46,Measure)+(Initiative<>H$14)+(Fuel<>H$15),0))","v":{"$error":"#REF!"}},{"$f":"INDEX(Measure,MATCH(0,COUNTIF(I$15:I46,Measure)+(Initiative<>I$14)+(Fuel<>I$15),0))","v":{"$error":"#REF!"}},{"$f":"INDEX(Measure,MATCH(0,COUNTIF(J$15:J46,Measure)+(Initiative<>J$14)+(Fuel<>J$15),0))","v":{"$error":"#REF!"}},{"$f":"INDEX(Measure,MATCH(0,COUNTIF(K$15:K46,Measure)+(Initiative<>K$14)+(Fuel<>K$15),0))","v":{"$error":"#REF!"}},{"$f":"INDEX(Life,MATCH(0,COUNTIF(L$16:L46,Life)+(Initiative<>L$14)+(Fuel<>L$15)+(Measure<>L$16),0))","v":{"$error":"#REF!"}},{"$f":"INDEX(Life,MATCH(0,COUNTIF(M$16:M46,Life)+(Initiative<>M$14)+(Fuel<>M$15)+(Measure<>M$16),0))","v":{"$error":"#REF!"}},{"$f":"INDEX(Life,MATCH(0,COUNTIF(N$16:N46,Life)+(Initiative<>N$14)+(Fuel<>N$15)+(Measure<>N$16),0))","v":{"$error":"#REF!"}},{"$f":"INDEX(Life,MATCH(0,COUNTIF(O$16:O46,Life)+(Initiative<>O$14)+(Fuel<>O$15)+(Measure<>O$16),0))","v":{"$error":"#REF!"}},{"$f":"INDEX(Life,MATCH(0,COUNTIF(P$16:P46,Life)+(Initiative<>P$14)+(Fuel<>P$15)+(Measure<>P$16),0))","v":{"$error":"#REF!"}},{"$f":"INDEX(Life,MATCH(0,COUNTIF(Q$16:Q46,Life)+(Initiative<>Q$14)+(Fuel<>Q$15)+(Measure<>Q$16),0))","v":{"$error":"#REF!"}},{"$f":"INDEX(Life,MATCH(0,COUNTIF(R$16:R46,Life)+(Initiative<>R$14)+(Fuel<>R$15)+(Measure<>R$16),0))","v":{"$error":"#REF!"}},{"$f":"INDEX(Life,MATCH(0,COUNTIF(S$16:S46,Life)+(Initiative<>S$14)+(Fuel<>S$15)+(Measure<>S$16),0))","v":{"$error":"#REF!"}},{"$f":"INDEX(Life,MATCH(0,COUNTIF(T$16:T46,Life)+(Initiative<>T$14)+(Fuel<>T$15)+(Measure<>T$16),0))","v":{"$error":"#REF!"}},{"$f":"INDEX(Life,MATCH(0,COUNTIF(U$16:U46,Life)+(Initiative<>U$14)+(Fuel<>U$15)+(Measure<>U$16),0))","v":{"$error":"#REF!"}}]
[null,{"$f":"INDEX(Measure,MATCH(0,COUNTIF(B$15:B47,Measure)+(Initiative<>B$14)+(Fuel<>B$15),0))","v":{"$error":"#REF!"}},{"$f":"INDEX(Measure,MATCH(0,COUNTIF(C$15:C47,Measure)+(Initiative<>C$14)+(Fuel<>C$15),0))","v":{"$error":"#REF!"}},{"$f":"INDEX(Measure,MATCH(0,COUNTIF(D$15:D47,Measure)+(Initiative<>D$14)+(Fuel<>D$15),0))","v":{"$error":"#REF!"}},{"$f":"INDEX(Measure,MATCH(0,COUNTIF(E$15:E47,Measure)+(Initiative<>E$14)+(Fuel<>E$15),0))","v":{"$error":"#REF!"}},{"$f":"INDEX(Measure,MATCH(0,COUNTIF(F$15:F47,Measure)+(Initiative<>F$14)+(Fuel<>F$15),0))","v":{"$error":"#REF!"}},{"$f":"INDEX(Measure,MATCH(0,COUNTIF(G$15:G47,Measure)+(Initiative<>G$14)+(Fuel<>G$15),0))","v":{"$error":"#REF!"}},{"$f":"INDEX(Measure,MATCH(0,COUNTIF(H$15:H47,Measure)+(Initiative<>H$14)+(Fuel<>H$15),0))","v":{"$error":"#REF!"}},{"$f":"INDEX(Measure,MATCH(0,COUNTIF(I$15:I47,Measure)+(Initiative<>I$14)+(Fuel<>I$15),0))","v":{"$error":"#REF!"}},{"$f":"INDEX(Measure,MATCH(0,COUNTIF(J$15:J47,Measure)+(Initiative<>J$14)+(Fuel<>J$15),0))","v":{"$error":"#REF!"}},{"$f":"INDEX(Measure,MATCH(0,COUNTIF(K$15:K47,Measure)+(Initiative<>K$14)+(Fuel<>K$15),0))","v":{"$error":"#REF!"}},{"$f":"INDEX(Life,MATCH(0,COUNTIF(L$16:L47,Life)+(Initiative<>L$14)+(Fuel<>L$15)+(Measure<>L$16),0))","v":{"$error":"#REF!"}},{"$f":"INDEX(Life,MATCH(0,COUNTIF(M$16:M47,Life)+(Initiative<>M$14)+(Fuel<>M$15)+(Measure<>M$16),0))","v":{"$error":"#REF!"}},{"$f":"INDEX(Life,MATCH(0,COUNTIF(N$16:N47,Life)+(Initiative<>N$14)+(Fuel<>N$15)+(Measure<>N$16),0))","v":{"$error":"#REF!"}},{"$f":"INDEX(Life,MATCH(0,COUNTIF(O$16:O47,Life)+(Initiative<>O$14)+(Fuel<>O$15)+(Measure<>O$16),0))","v":{"$error":"#REF!"}},{"$f":"INDEX(Life,MATCH(0,COUNTIF(P$16:P47,Life)+(Initiative<>P$14)+(Fuel<>P$15)+(Measure<>P$16),0))","v":{"$error":"#REF!"}},{"$f":"INDEX(Life,MATCH(0,COUNTIF(Q$16:Q47,Life)+(Initiative<>Q$14)+(Fuel<>Q$15)+(Measure<>Q$16),0))","v":{"$error":"#REF!"}},{"$f":"INDEX(Life,MATCH(0,COUNTIF(R$16:R47,Life)+(Initiative<>R$14)+(Fuel<>R$15)+(Measure<>R$16),0))","v":{"$error":"#REF!"}},{"$f":"INDEX(Life,MATCH(0,COUNTIF(S$16:S47,Life)+(Initiative<>S$14)+(Fuel<>S$15)+(Measure<>S$16),0))","v":{"$error":"#REF!"}},{"$f":"INDEX(Life,MATCH(0,COUNTIF(T$16:T47,Life)+(Initiative<>T$14)+(Fuel<>T$15)+(Measure<>T$16),0))","v":{"$error":"#REF!"}},{"$f":"INDEX(Life,MATCH(0,COUNTIF(U$16:U47,Life)+(Initiative<>U$14)+(Fuel<>U$15)+(Measure<>U$16),0))","v":{"$error":"#REF!"}}]
[null,{"$f":"INDEX(Measure,MATCH(0,COUNTIF(B$15:B48,Measure)+(Initiative<>B$14)+(Fuel<>B$15),0))","v":{"$error":"#REF!"}},{"$f":"INDEX(Measure,MATCH(0,COUNTIF(C$15:C48,Measure)+(Initiative<>C$14)+(Fuel<>C$15),0))","v":{"$error":"#REF!"}},{"$f":"INDEX(Measure,MATCH(0,COUNTIF(D$15:D48,Measure)+(Initiative<>D$14)+(Fuel<>D$15),0))","v":{"$error":"#REF!"}},{"$f":"INDEX(Measure,MATCH(0,COUNTIF(E$15:E48,Measure)+(Initiative<>E$14)+(Fuel<>E$15),0))","v":{"$error":"#REF!"}},{"$f":"INDEX(Measure,MATCH(0,COUNTIF(F$15:F48,Measure)+(Initiative<>F$14)+(Fuel<>F$15),0))","v":{"$error":"#REF!"}},{"$f":"INDEX(Measure,MATCH(0,COUNTIF(G$15:G48,Measure)+(Initiative<>G$14)+(Fuel<>G$15),0))","v":{"$error":"#REF!"}},{"$f":"INDEX(Measure,MATCH(0,COUNTIF(H$15:H48,Measure)+(Initiative<>H$14)+(Fuel<>H$15),0))","v":{"$error":"#REF!"}},{"$f":"INDEX(Measure,MATCH(0,COUNTIF(I$15:I48,Measure)+(Initiative<>I$14)+(Fuel<>I$15),0))","v":{"$error":"#REF!"}},{"$f":"INDEX(Measure,MATCH(0,COUNTIF(J$15:J48,Measure)+(Initiative<>J$14)+(Fuel<>J$15),0))","v":{"$error":"#REF!"}},{"$f":"INDEX(Measure,MATCH(0,COUNTIF(K$15:K48,Measure)+(Initiative<>K$14)+(Fuel<>K$15),0))","v":{"$error":"#REF!"}},{"$f":"INDEX(Life,MATCH(0,COUNTIF(L$16:L48,Life)+(Initiative<>L$14)+(Fuel<>L$15)+(Measure<>L$16),0))","v":{"$error":"#REF!"}},{"$f":"INDEX(Life,MATCH(0,COUNTIF(M$16:M48,Life)+(Initiative<>M$14)+(Fuel<>M$15)+(Measure<>M$16),0))","v":{"$error":"#REF!"}},{"$f":"INDEX(Life,MATCH(0,COUNTIF(N$16:N48,Life)+(Initiative<>N$14)+(Fuel<>N$15)+(Measure<>N$16),0))","v":{"$error":"#REF!"}},{"$f":"INDEX(Life,MATCH(0,COUNTIF(O$16:O48,Life)+(Initiative<>O$14)+(Fuel<>O$15)+(Measure<>O$16),0))","v":{"$error":"#REF!"}},{"$f":"INDEX(Life,MATCH(0,COUNTIF(P$16:P48,Life)+(Initiative<>P$14)+(Fuel<>P$15)+(Measure<>P$16),0))","v":{"$error":"#REF!"}},{"$f":"INDEX(Life,MATCH(0,COUNTIF(Q$16:Q48,Life)+(Initiative<>Q$14)+(Fuel<>Q$15)+(Measure<>Q$16),0))","v":{"$error":"#REF!"}},{"$f":"INDEX(Life,MATCH(0,COUNTIF(R$16:R48,Life)+(Initiative<>R$14)+(Fuel<>R$15)+(Measure<>R$16),0))","v":{"$error":"#REF!"}},{"$f":"INDEX(Life,MATCH(0,COUNTIF(S$16:S48,Life)+(Initiative<>S$14)+(Fuel<>S$15)+(Measure<>S$16),0))","v":{"$error":"#REF!"}},{"$f":"INDEX(Life,MATCH(0,COUNTIF(T$16:T48,Life)+(Initiative<>T$14)+(Fuel<>T$15)+(Measure<>T$16),0))","v":{"$error":"#REF!"}},{"$f":"INDEX(Life,MATCH(0,COUNTIF(U$16:U48,Life)+(Initiative<>U$14)+(Fuel<>U$15)+(Measure<>U$16),0))","v":{"$error":"#REF!"}}]
[null,{"$f":"INDEX(Measure,MATCH(0,COUNTIF(B$15:B49,Measure)+(Initiative<>B$14)+(Fuel<>B$15),0))","v":{"$error":"#REF!"}},{"$f":"INDEX(Measure,MATCH(0,COUNTIF(C$15:C49,Measure)+(Initiative<>C$14)+(Fuel<>C$15),0))","v":{"$error":"#REF!"}},{"$f":"INDEX(Measure,MATCH(0,COUNTIF(D$15:D49,Measure)+(Initiative<>D$14)+(Fuel<>D$15),0))","v":{"$error":"#REF!"}},{"$f":"INDEX(Measure,MATCH(0,COUNTIF(E$15:E49,Measure)+(Initiative<>E$14)+(Fuel<>E$15),0))","v":{"$error":"#REF!"}},{"$f":"INDEX(Measure,MATCH(0,COUNTIF(F$15:F49,Measure)+(Initiative<>F$14)+(Fuel<>F$15),0))","v":{"$error":"#REF!"}},{"$f":"INDEX(Measure,MATCH(0,COUNTIF(G$15:G49,Measure)+(Initiative<>G$14)+(Fuel<>G$15),0))","v":{"$error":"#REF!"}},{"$f":"INDEX(Measure,MATCH(0,COUNTIF(H$15:H49,Measure)+(Initiative<>H$14)+(Fuel<>H$15),0))","v":{"$error":"#REF!"}},{"$f":"INDEX(Measure,MATCH(0,COUNTIF(I$15:I49,Measure)+(Initiative<>I$14)+(Fuel<>I$15),0))","v":{"$error":"#REF!"}},{"$f":"INDEX(Measure,MATCH(0,COUNTIF(J$15:J49,Measure)+(Initiative<>J$14)+(Fuel<>J$15),0))","v":{"$error":"#REF!"}},{"$f":"INDEX(Measure,MATCH(0,COUNTIF(K$15:K49,Measure)+(Initiative<>K$14)+(Fuel<>K$15),0))","v":{"$error":"#REF!"}},{"$f":"INDEX(Life,MATCH(0,COUNTIF(L$16:L49,Life)+(Initiative<>L$14)+(Fuel<>L$15)+(Measure<>L$16),0))","v":{"$error":"#REF!"}},{"$f":"INDEX(Life,MATCH(0,COUNTIF(M$16:M49,Life)+(Initiative<>M$14)+(Fuel<>M$15)+(Measure<>M$16),0))","v":{"$error":"#REF!"}},{"$f":"INDEX(Life,MATCH(0,COUNTIF(N$16:N49,Life)+(Initiative<>N$14)+(Fuel<>N$15)+(Measure<>N$16),0))","v":{"$error":"#REF!"}},{"$f":"INDEX(Life,MATCH(0,COUNTIF(O$16:O49,Life)+(Initiative<>O$14)+(Fuel<>O$15)+(Measure<>O$16),0))","v":{"$error":"#REF!"}},{"$f":"INDEX(Life,MATCH(0,COUNTIF(P$16:P49,Life)+(Initiative<>P$14)+(Fuel<>P$15)+(Measure<>P$16),0))","v":{"$error":"#REF!"}},{"$f":"INDEX(Life,MATCH(0,COUNTIF(Q$16:Q49,Life)+(Initiative<>Q$14)+(Fuel<>Q$15)+(Measure<>Q$16),0))","v":{"$error":"#REF!"}},{"$f":"INDEX(Life,MATCH(0,COUNTIF(R$16:R49,Life)+(Initiative<>R$14)+(Fuel<>R$15)+(Measure<>R$16),0))","v":{"$error":"#REF!"}},{"$f":"INDEX(Life,MATCH(0,COUNTIF(S$16:S49,Life)+(Initiative<>S$14)+(Fuel<>S$15)+(Measure<>S$16),0))","v":{"$error":"#REF!"}},{"$f":"INDEX(Life,MATCH(0,COUNTIF(T$16:T49,Life)+(Initiative<>T$14)+(Fuel<>T$15)+(Measure<>T$16),0))","v":{"$error":"#REF!"}},{"$f":"INDEX(Life,MATCH(0,COUNTIF(U$16:U49,Life)+(Initiative<>U$14)+(Fuel<>U$15)+(Measure<>U$16),0))","v":{"$error":"#REF!"}}]
[null,{"$f":"INDEX(Measure,MATCH(0,COUNTIF(B$15:B50,Measure)+(Initiative<>B$14)+(Fuel<>B$15),0))","v":{"$error":"#REF!"}},{"$f":"INDEX(Measure,MATCH(0,COUNTIF(C$15:C50,Measure)+(Initiative<>C$14)+(Fuel<>C$15),0))","v":{"$error":"#REF!"}},{"$f":"INDEX(Measure,MATCH(0,COUNTIF(D$15:D50,Measure)+(Initiative<>D$14)+(Fuel<>D$15),0))","v":{"$error":"#REF!"}},{"$f":"INDEX(Measure,MATCH(0,COUNTIF(E$15:E50,Measure)+(Initiative<>E$14)+(Fuel<>E$15),0))","v":{"$error":"#REF!"}},{"$f":"INDEX(Measure,MATCH(0,COUNTIF(F$15:F50,Measure)+(Initiative<>F$14)+(Fuel<>F$15),0))","v":{"$error":"#REF!"}},{"$f":"INDEX(Measure,MATCH(0,COUNTIF(G$15:G50,Measure)+(Initiative<>G$14)+(Fuel<>G$15),0))","v":{"$error":"#REF!"}},{"$f":"INDEX(Measure,MATCH(0,COUNTIF(H$15:H50,Measure)+(Initiative<>H$14)+(Fuel<>H$15),0))","v":{"$error":"#REF!"}},{"$f":"INDEX(Measure,MATCH(0,COUNTIF(I$15:I50,Measure)+(Initiative<>I$14)+(Fuel<>I$15),0))","v":{"$error":"#REF!"}},{"$f":"INDEX(Measure,MATCH(0,COUNTIF(J$15:J50,Measure)+(Initiative<>J$14)+(Fuel<>J$15),0))","v":{"$error":"#REF!"}},{"$f":"INDEX(Measure,MATCH(0,COUNTIF(K$15:K50,Measure)+(Initiative<>K$14)+(Fuel<>K$15),0))","v":{"$error":"#REF!"}}]
[null,{"$f":"INDEX(Measure,MATCH(0,COUNTIF(B$15:B51,Measure)+(Initiative<>B$14)+(Fuel<>B$15),0))","v":{"$error":"#REF!"}},{"$f":"INDEX(Measure,MATCH(0,COUNTIF(C$15:C51,Measure)+(Initiative<>C$14)+(Fuel<>C$15),0))","v":{"$error":"#REF!"}},{"$f":"INDEX(Measure,MATCH(0,COUNTIF(D$15:D51,Measure)+(Initiative<>D$14)+(Fuel<>D$15),0))","v":{"$error":"#REF!"}},{"$f":"INDEX(Measure,MATCH(0,COUNTIF(E$15:E51,Measure)+(Initiative<>E$14)+(Fuel<>E$15),0))","v":{"$error":"#REF!"}},{"$f":"INDEX(Measure,MATCH(0,COUNTIF(F$15:F51,Measure)+(Initiative<>F$14)+(Fuel<>F$15),0))","v":{"$error":"#REF!"}},{"$f":"INDEX(Measure,MATCH(0,COUNTIF(G$15:G51,Measure)+(Initiative<>G$14)+(Fuel<>G$15),0))","v":{"$error":"#REF!"}},{"$f":"INDEX(Measure,MATCH(0,COUNTIF(H$15:H51,Measure)+(Initiative<>H$14)+(Fuel<>H$15),0))","v":{"$error":"#REF!"}},{"$f":"INDEX(Measure,MATCH(0,COUNTIF(I$15:I51,Measure)+(Initiative<>I$14)+(Fuel<>I$15),0))","v":{"$error":"#REF!"}},{"$f":"INDEX(Measure,MATCH(0,COUNTIF(J$15:J51,Measure)+(Initiative<>J$14)+(Fuel<>J$15),0))","v":{"$error":"#REF!"}},{"$f":"INDEX(Measure,MATCH(0,COUNTIF(K$15:K51,Measure)+(Initiative<>K$14)+(Fuel<>K$15),0))","v":{"$error":"#REF!"}}]
[null,{"$f":"INDEX(Measure,MATCH(0,COUNTIF(B$15:B52,Measure)+(Initiative<>B$14)+(Fuel<>B$15),0))","v":{"$error":"#REF!"}},{"$f":"INDEX(Measure,MATCH(0,COUNTIF(C$15:C52,Measure)+(Initiative<>C$14)+(Fuel<>C$15),0))","v":{"$error":"#REF!"}},{"$f":"INDEX(Measure,MATCH(0,COUNTIF(D$15:D52,Measure)+(Initiative<>D$14)+(Fuel<>D$15),0))","v":{"$error":"#REF!"}},{"$f":"INDEX(Measure,MATCH(0,COUNTIF(E$15:E52,Measure)+(Initiative<>E$14)+(Fuel<>E$15),0))","v":{"$error":"#REF!"}},{"$f":"INDEX(Measure,MATCH(0,COUNTIF(F$15:F52,Measure)+(Initiative<>F$14)+(Fuel<>F$15),0))","v":{"$error":"#REF!"}},{"$f":"INDEX(Measure,MATCH(0,COUNTIF(G$15:G52,Measure)+(Initiative<>G$14)+(Fuel<>G$15),0))","v":{"$error":"#REF!"}},{"$f":"INDEX(Measure,MATCH(0,COUNTIF(H$15:H52,Measure)+(Initiative<>H$14)+(Fuel<>H$15),0))","v":{"$error":"#REF!"}},{"$f":"INDEX(Measure,MATCH(0,COUNTIF(I$15:I52,Measure)+(Initiative<>I$14)+(Fuel<>I$15),0))","v":{"$error":"#REF!"}},{"$f":"INDEX(Measure,MATCH(0,COUNTIF(J$15:J52,Measure)+(Initiative<>J$14)+(Fuel<>J$15),0))","v":{"$error":"#REF!"}},{"$f":"INDEX(Measure,MATCH(0,COUNTIF(K$15:K52,Measure)+(Initiative<>K$14)+(Fuel<>K$15),0))","v":{"$error":"#REF!"}}]
[null,{"$f":"INDEX(Measure,MATCH(0,COUNTIF(B$15:B53,Measure)+(Initiative<>B$14)+(Fuel<>B$15),0))","v":{"$error":"#REF!"}},{"$f":"INDEX(Measure,MATCH(0,COUNTIF(C$15:C53,Measure)+(Initiative<>C$14)+(Fuel<>C$15),0))","v":{"$error":"#REF!"}},{"$f":"INDEX(Measure,MATCH(0,COUNTIF(D$15:D53,Measure)+(Initiative<>D$14)+(Fuel<>D$15),0))","v":{"$error":"#REF!"}},{"$f":"INDEX(Measure,MATCH(0,COUNTIF(E$15:E53,Measure)+(Initiative<>E$14)+(Fuel<>E$15),0))","v":{"$error":"#REF!"}},{"$f":"INDEX(Measure,MATCH(0,COUNTIF(F$15:F53,Measure)+(Initiative<>F$14)+(Fuel<>F$15),0))","v":{"$error":"#REF!"}},{"$f":"INDEX(Measure,MATCH(0,COUNTIF(G$15:G53,Measure)+(Initiative<>G$14)+(Fuel<>G$15),0))","v":{"$error":"#REF!"}},{"$f":"INDEX(Measure,MATCH(0,COUNTIF(H$15:H53,Measure)+(Initiative<>H$14)+(Fuel<>H$15),0))","v":{"$error":"#REF!"}},{"$f":"INDEX(Measure,MATCH(0,COUNTIF(I$15:I53,Measure)+(Initiative<>I$14)+(Fuel<>I$15),0))","v":{"$error":"#REF!"}},{"$f":"INDEX(Measure,MATCH(0,COUNTIF(J$15:J53,Measure)+(Initiative<>J$14)+(Fuel<>J$15),0))","v":{"$error":"#REF!"}},{"$f":"INDEX(Measure,MATCH(0,COUNTIF(K$15:K53,Measure)+(Initiative<>K$14)+(Fuel<>K$15),0))","v":{"$error":"#REF!"}}]
[null,{"$f":"INDEX(Measure,MATCH(0,COUNTIF(B$15:B54,Measure)+(Initiative<>B$14)+(Fuel<>B$15),0))","v":{"$error":"#REF!"}},{"$f":"INDEX(Measure,MATCH(0,COUNTIF(C$15:C54,Measure)+(Initiative<>C$14)+(Fuel<>C$15),0))","v":{"$error":"#REF!"}},{"$f":"INDEX(Measure,MATCH(0,COUNTIF(D$15:D54,Measure)+(Initiative<>D$14)+(Fuel<>D$15),0))","v":{"$error":"#REF!"}},{"$f":"INDEX(Measure,MATCH(0,COUNTIF(E$15:E54,Measure)+(Initiative<>E$14)+(Fuel<>E$15),0))","v":{"$error":"#REF!"}},{"$f":"INDEX(Measure,MATCH(0,COUNTIF(F$15:F54,Measure)+(Initiative<>F$14)+(Fuel<>F$15),0))","v":{"$error":"#REF!"}},{"$f":"INDEX(Measure,MATCH(0,COUNTIF(G$15:G54,Measure)+(Initiative<>G$14)+(Fuel<>G$15),0))","v":{"$error":"#REF!"}},{"$f":"INDEX(Measure,MATCH(0,COUNTIF(H$15:H54,Measure)+(Initiative<>H$14)+(Fuel<>H$15),0))","v":{"$error":"#REF!"}},{"$f":"INDEX(Measure,MATCH(0,COUNTIF(I$15:I54,Measure)+(Initiative<>I$14)+(Fuel<>I$15),0))","v":{"$error":"#REF!"}},{"$f":"INDEX(Measure,MATCH(0,COUNTIF(J$15:J54,Measure)+(Initiative<>J$14)+(Fuel<>J$15),0))","v":{"$error":"#REF!"}},{"$f":"INDEX(Measure,MATCH(0,COUNTIF(K$15:K54,Measure)+(Initiative<>K$14)+(Fuel<>K$15),0))","v":{"$error":"#REF!"}}]
[null,{"$f":"INDEX(Measure,MATCH(0,COUNTIF(B$15:B55,Measure)+(Initiative<>B$14)+(Fuel<>B$15),0))","v":{"$error":"#REF!"}},{"$f":"INDEX(Measure,MATCH(0,COUNTIF(C$15:C55,Measure)+(Initiative<>C$14)+(Fuel<>C$15),0))","v":{"$error":"#REF!"}},{"$f":"INDEX(Measure,MATCH(0,COUNTIF(D$15:D55,Measure)+(Initiative<>D$14)+(Fuel<>D$15),0))","v":{"$error":"#REF!"}},{"$f":"INDEX(Measure,MATCH(0,COUNTIF(E$15:E55,Measure)+(Initiative<>E$14)+(Fuel<>E$15),0))","v":{"$error":"#REF!"}},{"$f":"INDEX(Measure,MATCH(0,COUNTIF(F$15:F55,Measure)+(Initiative<>F$14)+(Fuel<>F$15),0))","v":{"$error":"#REF!"}},{"$f":"INDEX(Measure,MATCH(0,COUNTIF(G$15:G55,Measure)+(Initiative<>G$14)+(Fuel<>G$15),0))","v":{"$error":"#REF!"}},{"$f":"INDEX(Measure,MATCH(0,COUNTIF(H$15:H55,Measure)+(Initiative<>H$14)+(Fuel<>H$15),0))","v":{"$error":"#REF!"}},{"$f":"INDEX(Measure,MATCH(0,COUNTIF(I$15:I55,Measure)+(Initiative<>I$14)+(Fuel<>I$15),0))","v":{"$error":"#REF!"}},{"$f":"INDEX(Measure,MATCH(0,COUNTIF(J$15:J55,Measure)+(Initiative<>J$14)+(Fuel<>J$15),0))","v":{"$error":"#REF!"}},{"$f":"INDEX(Measure,MATCH(0,COUNTIF(K$15:K55,Measure)+(Initiative<>K$14)+(Fuel<>K$15),0))","v":{"$error":"#REF!"}}]
[null,{"$f":"INDEX(Measure,MATCH(0,COUNTIF(B$15:B56,Measure)+(Initiative<>B$14)+(Fuel<>B$15),0))","v":{"$error":"#REF!"}},{"$f":"INDEX(Measure,MATCH(0,COUNTIF(C$15:C56,Measure)+(Initiative<>C$14)+(Fuel<>C$15),0))","v":{"$error":"#REF!"}},{"$f":"INDEX(Measure,MATCH(0,COUNTIF(D$15:D56,Measure)+(Initiative<>D$14)+(Fuel<>D$15),0))","v":{"$error":"#REF!"}},{"$f":"INDEX(Measure,MATCH(0,COUNTIF(E$15:E56,Measure)+(Initiative<>E$14)+(Fuel<>E$15),0))","v":{"$error":"#REF!"}},{"$f":"INDEX(Measure,MATCH(0,COUNTIF(F$15:F56,Measure)+(Initiative<>F$14)+(Fuel<>F$15),0))","v":{"$error":"#REF!"}},{"$f":"INDEX(Measure,MATCH(0,COUNTIF(G$15:G56,Measure)+(Initiative<>G$14)+(Fuel<>G$15),0))","v":{"$error":"#REF!"}},{"$f":"INDEX(Measure,MATCH(0,COUNTIF(H$15:H56,Measure)+(Initiative<>H$14)+(Fuel<>H$15),0))","v":{"$error":"#REF!"}},{"$f":"INDEX(Measure,MATCH(0,COUNTIF(I$15:I56,Measure)+(Initiative<>I$14)+(Fuel<>I$15),0))","v":{"$error":"#REF!"}},{"$f":"INDEX(Measure,MATCH(0,COUNTIF(J$15:J56,Measure)+(Initiative<>J$14)+(Fuel<>J$15),0))","v":{"$error":"#REF!"}},{"$f":"INDEX(Measure,MATCH(0,COUNTIF(K$15:K56,Measure)+(Initiative<>K$14)+(Fuel<>K$15),0))","v":{"$error":"#REF!"}}]
[null,{"$f":"INDEX(Measure,MATCH(0,COUNTIF(B$15:B57,Measure)+(Initiative<>B$14)+(Fuel<>B$15),0))","v":{"$error":"#REF!"}},{"$f":"INDEX(Measure,MATCH(0,COUNTIF(C$15:C57,Measure)+(Initiative<>C$14)+(Fuel<>C$15),0))","v":{"$error":"#REF!"}},{"$f":"INDEX(Measure,MATCH(0,COUNTIF(D$15:D57,Measure)+(Initiative<>D$14)+(Fuel<>D$15),0))","v":{"$error":"#REF!"}},{"$f":"INDEX(Measure,MATCH(0,COUNTIF(E$15:E57,Measure)+(Initiative<>E$14)+(Fuel<>E$15),0))","v":{"$error":"#REF!"}},{"$f":"INDEX(Measure,MATCH(0,COUNTIF(F$15:F57,Measure)+(Initiative<>F$14)+(Fuel<>F$15),0))","v":{"$error":"#REF!"}},{"$f":"INDEX(Measure,MATCH(0,COUNTIF(G$15:G57,Measure)+(Initiative<>G$14)+(Fuel<>G$15),0))","v":{"$error":"#REF!"}},{"$f":"INDEX(Measure,MATCH(0,COUNTIF(H$15:H57,Measure)+(Initiative<>H$14)+(Fuel<>H$15),0))","v":{"$error":"#REF!"}},{"$f":"INDEX(Measure,MATCH(0,COUNTIF(I$15:I57,Measure)+(Initiative<>I$14)+(Fuel<>I$15),0))","v":{"$error":"#REF!"}},{"$f":"INDEX(Measure,MATCH(0,COUNTIF(J$15:J57,Measure)+(Initiative<>J$14)+(Fuel<>J$15),0))","v":{"$error":"#REF!"}},{"$f":"INDEX(Measure,MATCH(0,COUNTIF(K$15:K57,Measure)+(Initiative<>K$14)+(Fuel<>K$15),0))","v":{"$error":"#REF!"}}]
[null,{"$f":"INDEX(Measure,MATCH(0,COUNTIF(B$15:B58,Measure)+(Initiative<>B$14)+(Fuel<>B$15),0))","v":{"$error":"#REF!"}},{"$f":"INDEX(Measure,MATCH(0,COUNTIF(C$15:C58,Measure)+(Initiative<>C$14)+(Fuel<>C$15),0))","v":{"$error":"#REF!"}},{"$f":"INDEX(Measure,MATCH(0,COUNTIF(D$15:D58,Measure)+(Initiative<>D$14)+(Fuel<>D$15),0))","v":{"$error":"#REF!"}},{"$f":"INDEX(Measure,MATCH(0,COUNTIF(E$15:E58,Measure)+(Initiative<>E$14)+(Fuel<>E$15),0))","v":{"$error":"#REF!"}},{"$f":"INDEX(Measure,MATCH(0,COUNTIF(F$15:F58,Measure)+(Initiative<>F$14)+(Fuel<>F$15),0))","v":{"$error":"#REF!"}},{"$f":"INDEX(Measure,MATCH(0,COUNTIF(G$15:G58,Measure)+(Initiative<>G$14)+(Fuel<>G$15),0))","v":{"$error":"#REF!"}},{"$f":"INDEX(Measure,MATCH(0,COUNTIF(H$15:H58,Measure)+(Initiative<>H$14)+(Fuel<>H$15),0))","v":{"$error":"#REF!"}},{"$f":"INDEX(Measure,MATCH(0,COUNTIF(I$15:I58,Measure)+(Initiative<>I$14)+(Fuel<>I$15),0))","v":{"$error":"#REF!"}},{"$f":"INDEX(Measure,MATCH(0,COUNTIF(J$15:J58,Measure)+(Initiative<>J$14)+(Fuel<>J$15),0))","v":{"$error":"#REF!"}},{"$f":"INDEX(Measure,MATCH(0,COUNTIF(K$15:K58,Measure)+(Initiative<>K$14)+(Fuel<>K$15),0))","v":{"$error":"#REF!"}}]
[null,{"$f":"INDEX(Measure,MATCH(0,COUNTIF(B$15:B59,Measure)+(Initiative<>B$14)+(Fuel<>B$15),0))","v":{"$error":"#REF!"}},{"$f":"INDEX(Measure,MATCH(0,COUNTIF(C$15:C59,Measure)+(Initiative<>C$14)+(Fuel<>C$15),0))","v":{"$error":"#REF!"}},{"$f":"INDEX(Measure,MATCH(0,COUNTIF(D$15:D59,Measure)+(Initiative<>D$14)+(Fuel<>D$15),0))","v":{"$error":"#REF!"}},{"$f":"INDEX(Measure,MATCH(0,COUNTIF(E$15:E59,Measure)+(Initiative<>E$14)+(Fuel<>E$15),0))","v":{"$error":"#REF!"}},{"$f":"INDEX(Measure,MATCH(0,COUNTIF(F$15:F59,Measure)+(Initiative<>F$14)+(Fuel<>F$15),0))","v":{"$error":"#REF!"}},{"$f":"INDEX(Measure,MATCH(0,COUNTIF(G$15:G59,Measure)+(Initiative<>G$14)+(Fuel<>G$15),0))","v":{"$error":"#REF!"}},{"$f":"INDEX(Measure,MATCH(0,COUNTIF(H$15:H59,Measure)+(Initiative<>H$14)+(Fuel<>H$15),0))","v":{"$error":"#REF!"}},{"$f":"INDEX(Measure,MATCH(0,COUNTIF(I$15:I59,Measure)+(Initiative<>I$14)+(Fuel<>I$15),0))","v":{"$error":"#REF!"}},{"$f":"INDEX(Measure,MATCH(0,COUNTIF(J$15:J59,Measure)+(Initiative<>J$14)+(Fuel<>J$15),0))","v":{"$error":"#REF!"}},{"$f":"INDEX(Measure,MATCH(0,COUNTIF(K$15:K59,Measure)+(Initiative<>K$14)+(Fuel<>K$15),0))","v":{"$error":"#REF!"}}]
[null,{"$f":"INDEX(Measure,MATCH(0,COUNTIF(B$15:B60,Measure)+(Initiative<>B$14)+(Fuel<>B$15),0))","v":{"$error":"#REF!"}},{"$f":"INDEX(Measure,MATCH(0,COUNTIF(C$15:C60,Measure)+(Initiative<>C$14)+(Fuel<>C$15),0))","v":{"$error":"#REF!"}},{"$f":"INDEX(Measure,MATCH(0,COUNTIF(D$15:D60,Measure)+(Initiative<>D$14)+(Fuel<>D$15),0))","v":{"$error":"#REF!"}},{"$f":"INDEX(Measure,MATCH(0,COUNTIF(E$15:E60,Measure)+(Initiative<>E$14)+(Fuel<>E$15),0))","v":{"$error":"#REF!"}},{"$f":"INDEX(Measure,MATCH(0,COUNTIF(F$15:F60,Measure)+(Initiative<>F$14)+(Fuel<>F$15),0))","v":{"$error":"#REF!"}},{"$f":"INDEX(Measure,MATCH(0,COUNTIF(G$15:G60,Measure)+(Initiative<>G$14)+(Fuel<>G$15),0))","v":{"$error":"#REF!"}},{"$f":"INDEX(Measure,MATCH(0,COUNTIF(H$15:H60,Measure)+(Initiative<>H$14)+(Fuel<>H$15),0))","v":{"$error":"#REF!"}},{"$f":"INDEX(Measure,MATCH(0,COUNTIF(I$15:I60,Measure)+(Initiative<>I$14)+(Fuel<>I$15),0))","v":{"$error":"#REF!"}},{"$f":"INDEX(Measure,MATCH(0,COUNTIF(J$15:J60,Measure)+(Initiative<>J$14)+(Fuel<>J$15),0))","v":{"$error":"#REF!"}},{"$f":"INDEX(Measure,MATCH(0,COUNTIF(K$15:K60,Measure)+(Initiative<>K$14)+(Fuel<>K$15),0))","v":{"$error":"#REF!"}}]
[null,{"$f":"INDEX(Measure,MATCH(0,COUNTIF(B$15:B61,Measure)+(Initiative<>B$14)+(Fuel<>B$15),0))","v":{"$error":"#REF!"}},{"$f":"INDEX(Measure,MATCH(0,COUNTIF(C$15:C61,Measure)+(Initiative<>C$14)+(Fuel<>C$15),0))","v":{"$error":"#REF!"}},{"$f":"INDEX(Measure,MATCH(0,COUNTIF(D$15:D61,Measure)+(Initiative<>D$14)+(Fuel<>D$15),0))","v":{"$error":"#REF!"}},{"$f":"INDEX(Measure,MATCH(0,COUNTIF(E$15:E61,Measure)+(Initiative<>E$14)+(Fuel<>E$15),0))","v":{"$error":"#REF!"}},{"$f":"INDEX(Measure,MATCH(0,COUNTIF(F$15:F61,Measure)+(Initiative<>F$14)+(Fuel<>F$15),0))","v":{"$error":"#REF!"}},{"$f":"INDEX(Measure,MATCH(0,COUNTIF(G$15:G61,Measure)+(Initiative<>G$14)+(Fuel<>G$15),0))","v":{"$error":"#REF!"}},{"$f":"INDEX(Measure,MATCH(0,COUNTIF(H$15:H61,Measure)+(Initiative<>H$14)+(Fuel<>H$15),0))","v":{"$error":"#REF!"}},{"$f":"INDEX(Measure,MATCH(0,COUNTIF(I$15:I61,Measure)+(Initiative<>I$14)+(Fuel<>I$15),0))","v":{"$error":"#REF!"}},{"$f":"INDEX(Measure,MATCH(0,COUNTIF(J$15:J61,Measure)+(Initiative<>J$14)+(Fuel<>J$15),0))","v":{"$error":"#REF!"}},{"$f":"INDEX(Measure,MATCH(0,COUNTIF(K$15:K61,Measure)+(Initiative<>K$14)+(Fuel<>K$15),0))","v":{"$error":"#REF!"}}]
[null,{"$f":"INDEX(Measure,MATCH(0,COUNTIF(B$15:B62,Measure)+(Initiative<>B$14)+(Fuel<>B$15),0))","v":{"$error":"#REF!"}},{"$f":"INDEX(Measure,MATCH(0,COUNTIF(C$15:C62,Measure)+(Initiative<>C$14)+(Fuel<>C$15),0))","v":{"$error":"#REF!"}},{"$f":"INDEX(Measure,MATCH(0,COUNTIF(D$15:D62,Measure)+(Initiative<>D$14)+(Fuel<>D$15),0))","v":{"$error":"#REF!"}},{"$f":"INDEX(Measure,MATCH(0,COUNTIF(E$15:E62,Measure)+(Initiative<>E$14)+(Fuel<>E$15),0))","v":{"$error":"#REF!"}},{"$f":"INDEX(Measure,MATCH(0,COUNTIF(F$15:F62,Measure)+(Initiative<>F$14)+(Fuel<>F$15),0))","v":{"$error":"#REF!"}},{"$f":"INDEX(Measure,MATCH(0,COUNTIF(G$15:G62,Measure)+(Initiative<>G$14)+(Fuel<>G$15),0))","v":{"$error":"#REF!"}},{"$f":"INDEX(Measure,MATCH(0,COUNTIF(H$15:H62,Measure)+(Initiative<>H$14)+(Fuel<>H$15),0))","v":{"$error":"#REF!"}},{"$f":"INDEX(Measure,MATCH(0,COUNTIF(I$15:I62,Measure)+(Initiative<>I$14)+(Fuel<>I$15),0))","v":{"$error":"#REF!"}},{"$f":"INDEX(Measure,MATCH(0,COUNTIF(J$15:J62,Measure)+(Initiative<>J$14)+(Fuel<>J$15),0))","v":{"$error":"#REF!"}},{"$f":"INDEX(Measure,MATCH(0,COUNTIF(K$15:K62,Measure)+(Initiative<>K$14)+(Fuel<>K$15),0))","v":{"$error":"#REF!"}}]
[null,{"$f":"INDEX(Measure,MATCH(0,COUNTIF(B$15:B63,Measure)+(Initiative<>B$14)+(Fuel<>B$15),0))","v":{"$error":"#REF!"}},{"$f":"INDEX(Measure,MATCH(0,COUNTIF(C$15:C63,Measure)+(Initiative<>C$14)+(Fuel<>C$15),0))","v":{"$error":"#REF!"}},{"$f":"INDEX(Measure,MATCH(0,COUNTIF(D$15:D63,Measure)+(Initiative<>D$14)+(Fuel<>D$15),0))","v":{"$error":"#REF!"}},{"$f":"INDEX(Measure,MATCH(0,COUNTIF(E$15:E63,Measure)+(Initiative<>E$14)+(Fuel<>E$15),0))","v":{"$error":"#REF!"}},{"$f":"INDEX(Measure,MATCH(0,COUNTIF(F$15:F63,Measure)+(Initiative<>F$14)+(Fuel<>F$15),0))","v":{"$error":"#REF!"}},{"$f":"INDEX(Measure,MATCH(0,COUNTIF(G$15:G63,Measure)+(Initiative<>G$14)+(Fuel<>G$15),0))","v":{"$error":"#REF!"}},{"$f":"INDEX(Measure,MATCH(0,COUNTIF(H$15:H63,Measure)+(Initiative<>H$14)+(Fuel<>H$15),0))","v":{"$error":"#REF!"}},{"$f":"INDEX(Measure,MATCH(0,COUNTIF(I$15:I63,Measure)+(Initiative<>I$14)+(Fuel<>I$15),0))","v":{"$error":"#REF!"}},{"$f":"INDEX(Measure,MATCH(0,COUNTIF(J$15:J63,Measure)+(Initiative<>J$14)+(Fuel<>J$15),0))","v":{"$error":"#REF!"}},{"$f":"INDEX(Measure,MATCH(0,COUNTIF(K$15:K63,Measure)+(Initiative<>K$14)+(Fuel<>K$15),0))","v":{"$error":"#REF!"}}]
[null,{"$f":"INDEX(Measure,MATCH(0,COUNTIF(B$15:B64,Measure)+(Initiative<>B$14)+(Fuel<>B$15),0))","v":{"$error":"#REF!"}},{"$f":"INDEX(Measure,MATCH(0,COUNTIF(C$15:C64,Measure)+(Initiative<>C$14)+(Fuel<>C$15),0))","v":{"$error":"#REF!"}},{"$f":"INDEX(Measure,MATCH(0,COUNTIF(D$15:D64,Measure)+(Initiative<>D$14)+(Fuel<>D$15),0))","v":{"$error":"#REF!"}},{"$f":"INDEX(Measure,MATCH(0,COUNTIF(E$15:E64,Measure)+(Initiative<>E$14)+(Fuel<>E$15),0))","v":{"$error":"#REF!"}},{"$f":"INDEX(Measure,MATCH(0,COUNTIF(F$15:F64,Measure)+(Initiative<>F$14)+(Fuel<>F$15),0))","v":{"$error":"#REF!"}},{"$f":"INDEX(Measure,MATCH(0,COUNTIF(G$15:G64,Measure)+(Initiative<>G$14)+(Fuel<>G$15),0))","v":{"$error":"#REF!"}},{"$f":"INDEX(Measure,MATCH(0,COUNTIF(H$15:H64,Measure)+(Initiative<>H$14)+(Fuel<>H$15),0))","v":{"$error":"#REF!"}},{"$f":"INDEX(Measure,MATCH(0,COUNTIF(I$15:I64,Measure)+(Initiative<>I$14)+(Fuel<>I$15),0))","v":{"$error":"#REF!"}},{"$f":"INDEX(Measure,MATCH(0,COUNTIF(J$15:J64,Measure)+(Initiative<>J$14)+(Fuel<>J$15),0))","v":{"$error":"#REF!"}},{"$f":"INDEX(Measure,MATCH(0,COUNTIF(K$15:K64,Measure)+(Initiative<>K$14)+(Fuel<>K$15),0))","v":{"$error":"#REF!"}}]
[null,{"$f":"INDEX(Measure,MATCH(0,COUNTIF(B$15:B65,Measure)+(Initiative<>B$14)+(Fuel<>B$15),0))","v":{"$error":"#REF!"}},{"$f":"INDEX(Measure,MATCH(0,COUNTIF(C$15:C65,Measure)+(Initiative<>C$14)+(Fuel<>C$15),0))","v":{"$error":"#REF!"}},{"$f":"INDEX(Measure,MATCH(0,COUNTIF(D$15:D65,Measure)+(Initiative<>D$14)+(Fuel<>D$15),0))","v":{"$error":"#REF!"}},{"$f":"INDEX(Measure,MATCH(0,COUNTIF(E$15:E65,Measure)+(Initiative<>E$14)+(Fuel<>E$15),0))","v":{"$error":"#REF!"}},{"$f":"INDEX(Measure,MATCH(0,COUNTIF(F$15:F65,Measure)+(Initiative<>F$14)+(Fuel<>F$15),0))","v":{"$error":"#REF!"}},{"$f":"INDEX(Measure,MATCH(0,COUNTIF(G$15:G65,Measure)+(Initiative<>G$14)+(Fuel<>G$15),0))","v":{"$error":"#REF!"}},{"$f":"INDEX(Measure,MATCH(0,COUNTIF(H$15:H65,Measure)+(Initiative<>H$14)+(Fuel<>H$15),0))","v":{"$error":"#REF!"}},{"$f":"INDEX(Measure,MATCH(0,COUNTIF(I$15:I65,Measure)+(Initiative<>I$14)+(Fuel<>I$15),0))","v":{"$error":"#REF!"}},{"$f":"INDEX(Measure,MATCH(0,COUNTIF(J$15:J65,Measure)+(Initiative<>J$14)+(Fuel<>J$15),0))","v":{"$error":"#REF!"}},{"$f":"INDEX(Measure,MATCH(0,COUNTIF(K$15:K65,Measure)+(Initiative<>K$14)+(Fuel<>K$15),0))","v":{"$error":"#REF!"}}]
[null,{"$f":"INDEX(Measure,MATCH(0,COUNTIF(B$15:B66,Measure)+(Initiative<>B$14)+(Fuel<>B$15),0))","v":{"$error":"#REF!"}},{"$f":"INDEX(Measure,MATCH(0,COUNTIF(C$15:C66,Measure)+(Initiative<>C$14)+(Fuel<>C$15),0))","v":{"$error":"#REF!"}},{"$f":"INDEX(Measure,MATCH(0,COUNTIF(D$15:D66,Measure)+(Initiative<>D$14)+(Fuel<>D$15),0))","v":{"$error":"#REF!"}},{"$f":"INDEX(Measure,MATCH(0,COUNTIF(E$15:E66,Measure)+(Initiative<>E$14)+(Fuel<>E$15),0))","v":{"$error":"#REF!"}},{"$f":"INDEX(Measure,MATCH(0,COUNTIF(F$15:F66,Measure)+(Initiative<>F$14)+(Fuel<>F$15),0))","v":{"$error":"#REF!"}},{"$f":"INDEX(Measure,MATCH(0,COUNTIF(G$15:G66,Measure)+(Initiative<>G$14)+(Fuel<>G$15),0))","v":{"$error":"#REF!"}},{"$f":"INDEX(Measure,MATCH(0,COUNTIF(H$15:H66,Measure)+(Initiative<>H$14)+(Fuel<>H$15),0))","v":{"$error":"#REF!"}},{"$f":"INDEX(Measure,MATCH(0,COUNTIF(I$15:I66,Measure)+(Initiative<>I$14)+(Fuel<>I$15),0))","v":{"$error":"#REF!"}},{"$f":"INDEX(Measure,MATCH(0,COUNTIF(J$15:J66,Measure)+(Initiative<>J$14)+(Fuel<>J$15),0))","v":{"$error":"#REF!"}},{"$f":"INDEX(Measure,MATCH(0,COUNTIF(K$15:K66,Measure)+(Initiative<>K$14)+(Fuel<>K$15),0))","v":{"$error":"#REF!"}}]
[null,{"$f":"INDEX(Measure,MATCH(0,COUNTIF(B$15:B67,Measure)+(Initiative<>B$14)+(Fuel<>B$15),0))","v":{"$error":"#REF!"}},{"$f":"INDEX(Measure,MATCH(0,COUNTIF(C$15:C67,Measure)+(Initiative<>C$14)+(Fuel<>C$15),0))","v":{"$error":"#REF!"}},{"$f":"INDEX(Measure,MATCH(0,COUNTIF(D$15:D67,Measure)+(Initiative<>D$14)+(Fuel<>D$15),0))","v":{"$error":"#REF!"}},{"$f":"INDEX(Measure,MATCH(0,COUNTIF(E$15:E67,Measure)+(Initiative<>E$14)+(Fuel<>E$15),0))","v":{"$error":"#REF!"}},{"$f":"INDEX(Measure,MATCH(0,COUNTIF(F$15:F67,Measure)+(Initiative<>F$14)+(Fuel<>F$15),0))","v":{"$error":"#REF!"}},{"$f":"INDEX(Measure,MATCH(0,COUNTIF(G$15:G67,Measure)+(Initiative<>G$14)+(Fuel<>G$15),0))","v":{"$error":"#REF!"}},{"$f":"INDEX(Measure,MATCH(0,COUNTIF(H$15:H67,Measure)+(Initiative<>H$14)+(Fuel<>H$15),0))","v":{"$error":"#REF!"}},{"$f":"INDEX(Measure,MATCH(0,COUNTIF(I$15:I67,Measure)+(Initiative<>I$14)+(Fuel<>I$15),0))","v":{"$error":"#REF!"}},{"$f":"INDEX(Measure,MATCH(0,COUNTIF(J$15:J67,Measure)+(Initiative<>J$14)+(Fuel<>J$15),0))","v":{"$error":"#REF!"}},{"$f":"INDEX(Measure,MATCH(0,COUNTIF(K$15:K67,Measure)+(Initiative<>K$14)+(Fuel<>K$15),0))","v":{"$error":"#REF!"}}]
[null,{"$f":"INDEX(Measure,MATCH(0,COUNTIF(B$15:B68,Measure)+(Initiative<>B$14)+(Fuel<>B$15),0))","v":{"$error":"#REF!"}},{"$f":"INDEX(Measure,MATCH(0,COUNTIF(C$15:C68,Measure)+(Initiative<>C$14)+(Fuel<>C$15),0))","v":{"$error":"#REF!"}},{"$f":"INDEX(Measure,MATCH(0,COUNTIF(D$15:D68,Measure)+(Initiative<>D$14)+(Fuel<>D$15),0))","v":{"$error":"#REF!"}},{"$f":"INDEX(Measure,MATCH(0,COUNTIF(E$15:E68,Measure)+(Initiative<>E$14)+(Fuel<>E$15),0))","v":{"$error":"#REF!"}},{"$f":"INDEX(Measure,MATCH(0,COUNTIF(F$15:F68,Measure)+(Initiative<>F$14)+(Fuel<>F$15),0))","v":{"$error":"#REF!"}},{"$f":"INDEX(Measure,MATCH(0,COUNTIF(G$15:G68,Measure)+(Initiative<>G$14)+(Fuel<>G$15),0))","v":{"$error":"#REF!"}},{"$f":"INDEX(Measure,MATCH(0,COUNTIF(H$15:H68,Measure)+(Initiative<>H$14)+(Fuel<>H$15),0))","v":{"$error":"#REF!"}},{"$f":"INDEX(Measure,MATCH(0,COUNTIF(I$15:I68,Measure)+(Initiative<>I$14)+(Fuel<>I$15),0))","v":{"$error":"#REF!"}},{"$f":"INDEX(Measure,MATCH(0,COUNTIF(J$15:J68,Measure)+(Initiative<>J$14)+(Fuel<>J$15),0))","v":{"$error":"#REF!"}},{"$f":"INDEX(Measure,MATCH(0,COUNTIF(K$15:K68,Measure)+(Initiative<>K$14)+(Fuel<>K$15),0))","v":{"$error":"#REF!"}}]
[null,{"$f":"INDEX(Measure,MATCH(0,COUNTIF(B$15:B69,Measure)+(Initiative<>B$14)+(Fuel<>B$15),0))","v":{"$error":"#REF!"}},{"$f":"INDEX(Measure,MATCH(0,COUNTIF(C$15:C69,Measure)+(Initiative<>C$14)+(Fuel<>C$15),0))","v":{"$error":"#REF!"}},{"$f":"INDEX(Measure,MATCH(0,COUNTIF(D$15:D69,Measure)+(Initiative<>D$14)+(Fuel<>D$15),0))","v":{"$error":"#REF!"}},{"$f":"INDEX(Measure,MATCH(0,COUNTIF(E$15:E69,Measure)+(Initiative<>E$14)+(Fuel<>E$15),0))","v":{"$error":"#REF!"}},{"$f":"INDEX(Measure,MATCH(0,COUNTIF(F$15:F69,Measure)+(Initiative<>F$14)+(Fuel<>F$15),0))","v":{"$error":"#REF!"}},{"$f":"INDEX(Measure,MATCH(0,COUNTIF(G$15:G69,Measure)+(Initiative<>G$14)+(Fuel<>G$15),0))","v":{"$error":"#REF!"}},{"$f":"INDEX(Measure,MATCH(0,COUNTIF(H$15:H69,Measure)+(Initiative<>H$14)+(Fuel<>H$15),0))","v":{"$error":"#REF!"}},{"$f":"INDEX(Measure,MATCH(0,COUNTIF(I$15:I69,Measure)+(Initiative<>I$14)+(Fuel<>I$15),0))","v":{"$error":"#REF!"}},{"$f":"INDEX(Measure,MATCH(0,COUNTIF(J$15:J69,Measure)+(Initiative<>J$14)+(Fuel<>J$15),0))","v":{"$error":"#REF!"}},{"$f":"INDEX(Measure,MATCH(0,COUNTIF(K$15:K69,Measure)+(Initiative<>K$14)+(Fuel<>K$15),0))","v":{"$error":"#REF!"}}]
[null,{"$f":"INDEX(Measure,MATCH(0,COUNTIF(B$15:B70,Measure)+(Initiative<>B$14)+(Fuel<>B$15),0))","v":{"$error":"#REF!"}},{"$f":"INDEX(Measure,MATCH(0,COUNTIF(C$15:C70,Measure)+(Initiative<>C$14)+(Fuel<>C$15),0))","v":{"$error":"#REF!"}},{"$f":"INDEX(Measure,MATCH(0,COUNTIF(D$15:D70,Measure)+(Initiative<>D$14)+(Fuel<>D$15),0))","v":{"$error":"#REF!"}},{"$f":"INDEX(Measure,MATCH(0,COUNTIF(E$15:E70,Measure)+(Initiative<>E$14)+(Fuel<>E$15),0))","v":{"$error":"#REF!"}},{"$f":"INDEX(Measure,MATCH(0,COUNTIF(F$15:F70,Measure)+(Initiative<>F$14)+(Fuel<>F$15),0))","v":{"$error":"#REF!"}},{"$f":"INDEX(Measure,MATCH(0,COUNTIF(G$15:G70,Measure)+(Initiative<>G$14)+(Fuel<>G$15),0))","v":{"$error":"#REF!"}},{"$f":"INDEX(Measure,MATCH(0,COUNTIF(H$15:H70,Measure)+(Initiative<>H$14)+(Fuel<>H$15),0))","v":{"$error":"#REF!"}},{"$f":"INDEX(Measure,MATCH(0,COUNTIF(I$15:I70,Measure)+(Initiative<>I$14)+(Fuel<>I$15),0))","v":{"$error":"#REF!"}},{"$f":"INDEX(Measure,MATCH(0,COUNTIF(J$15:J70,Measure)+(Initiative<>J$14)+(Fuel<>J$15),0))","v":{"$error":"#REF!"}},{"$f":"INDEX(Measure,MATCH(0,COUNTIF(K$15:K70,Measure)+(Initiative<>K$14)+(Fuel<>K$15),0))","v":{"$error":"#REF!"}}]
[null,{"$f":"INDEX(Measure,MATCH(0,COUNTIF(B$15:B71,Measure)+(Initiative<>B$14)+(Fuel<>B$15),0))","v":{"$error":"#REF!"}},{"$f":"INDEX(Measure,MATCH(0,COUNTIF(C$15:C71,Measure)+(Initiative<>C$14)+(Fuel<>C$15),0))","v":{"$error":"#REF!"}},{"$f":"INDEX(Measure,MATCH(0,COUNTIF(D$15:D71,Measure)+(Initiative<>D$14)+(Fuel<>D$15),0))","v":{"$error":"#REF!"}},{"$f":"INDEX(Measure,MATCH(0,COUNTIF(E$15:E71,Measure)+(Initiative<>E$14)+(Fuel<>E$15),0))","v":{"$error":"#REF!"}},{"$f":"INDEX(Measure,MATCH(0,COUNTIF(F$15:F71,Measure)+(Initiative<>F$14)+(Fuel<>F$15),0))","v":{"$error":"#REF!"}},{"$f":"INDEX(Measure,MATCH(0,COUNTIF(G$15:G71,Measure)+(Initiative<>G$14)+(Fuel<>G$15),0))","v":{"$error":"#REF!"}},{"$f":"INDEX(Measure,MATCH(0,COUNTIF(H$15:H71,Measure)+(Initiative<>H$14)+(Fuel<>H$15),0))","v":{"$error":"#REF!"}},{"$f":"INDEX(Measure,MATCH(0,COUNTIF(I$15:I71,Measure)+(Initiative<>I$14)+(Fuel<>I$15),0))","v":{"$error":"#REF!"}},{"$f":"INDEX(Measure,MATCH(0,COUNTIF(J$15:J71,Measure)+(Initiative<>J$14)+(Fuel<>J$15),0))","v":{"$error":"#REF!"}},{"$f":"INDEX(Measure,MATCH(0,COUNTIF(K$15:K71,Measure)+(Initiative<>K$14)+(Fuel<>K$15),0))","v":{"$error":"#REF!"}}]
[null,{"$f":"INDEX(Measure,MATCH(0,COUNTIF(B$15:B72,Measure)+(Initiative<>B$14)+(Fuel<>B$15),0))","v":{"$error":"#REF!"}},{"$f":"INDEX(Measure,MATCH(0,COUNTIF(C$15:C72,Measure)+(Initiative<>C$14)+(Fuel<>C$15),0))","v":{"$error":"#REF!"}},{"$f":"INDEX(Measure,MATCH(0,COUNTIF(D$15:D72,Measure)+(Initiative<>D$14)+(Fuel<>D$15),0))","v":{"$error":"#REF!"}},{"$f":"INDEX(Measure,MATCH(0,COUNTIF(E$15:E72,Measure)+(Initiative<>E$14)+(Fuel<>E$15),0))","v":{"$error":"#REF!"}},{"$f":"INDEX(Measure,MATCH(0,COUNTIF(F$15:F72,Measure)+(Initiative<>F$14)+(Fuel<>F$15),0))","v":{"$error":"#REF!"}},{"$f":"INDEX(Measure,MATCH(0,COUNTIF(G$15:G72,Measure)+(Initiative<>G$14)+(Fuel<>G$15),0))","v":{"$error":"#REF!"}},{"$f":"INDEX(Measure,MATCH(0,COUNTIF(H$15:H72,Measure)+(Initiative<>H$14)+(Fuel<>H$15),0))","v":{"$error":"#REF!"}},{"$f":"INDEX(Measure,MATCH(0,COUNTIF(I$15:I72,Measure)+(Initiative<>I$14)+(Fuel<>I$15),0))","v":{"$error":"#REF!"}},{"$f":"INDEX(Measure,MATCH(0,COUNTIF(J$15:J72,Measure)+(Initiative<>J$14)+(Fuel<>J$15),0))","v":{"$error":"#REF!"}},{"$f":"INDEX(Measure,MATCH(0,COUNTIF(K$15:K72,Measure)+(Initiative<>K$14)+(Fuel<>K$15),0))","v":{"$error":"#REF!"}}]
[null,{"$f":"INDEX(Measure,MATCH(0,COUNTIF(B$15:B73,Measure)+(Initiative<>B$14)+(Fuel<>B$15),0))","v":{"$error":"#REF!"}},{"$f":"INDEX(Measure,MATCH(0,COUNTIF(C$15:C73,Measure)+(Initiative<>C$14)+(Fuel<>C$15),0))","v":{"$error":"#REF!"}},{"$f":"INDEX(Measure,MATCH(0,COUNTIF(D$15:D73,Measure)+(Initiative<>D$14)+(Fuel<>D$15),0))","v":{"$error":"#REF!"}},{"$f":"INDEX(Measure,MATCH(0,COUNTIF(E$15:E73,Measure)+(Initiative<>E$14)+(Fuel<>E$15),0))","v":{"$error":"#REF!"}},{"$f":"INDEX(Measure,MATCH(0,COUNTIF(F$15:F73,Measure)+(Initiative<>F$14)+(Fuel<>F$15),0))","v":{"$error":"#REF!"}},{"$f":"INDEX(Measure,MATCH(0,COUNTIF(G$15:G73,Measure)+(Initiative<>G$14)+(Fuel<>G$15),0))","v":{"$error":"#REF!"}},{"$f":"INDEX(Measure,MATCH(0,COUNTIF(H$15:H73,Measure)+(Initiative<>H$14)+(Fuel<>H$15),0))","v":{"$error":"#REF!"}},{"$f":"INDEX(Measure,MATCH(0,COUNTIF(I$15:I73,Measure)+(Initiative<>I$14)+(Fuel<>I$15),0))","v":{"$error":"#REF!"}},{"$f":"INDEX(Measure,MATCH(0,COUNTIF(J$15:J73,Measure)+(Initiative<>J$14)+(Fuel<>J$15),0))","v":{"$error":"#REF!"}},{"$f":"INDEX(Measure,MATCH(0,COUNTIF(K$15:K73,Measure)+(Initiative<>K$14)+(Fuel<>K$15),0))","v":{"$error":"#REF!"}}]
[null,{"$f":"INDEX(Measure,MATCH(0,COUNTIF(B$15:B74,Measure)+(Initiative<>B$14)+(Fuel<>B$15),0))","v":{"$error":"#REF!"}},{"$f":"INDEX(Measure,MATCH(0,COUNTIF(C$15:C74,Measure)+(Initiative<>C$14)+(Fuel<>C$15),0))","v":{"$error":"#REF!"}},{"$f":"INDEX(Measure,MATCH(0,COUNTIF(D$15:D74,Measure)+(Initiative<>D$14)+(Fuel<>D$15),0))","v":{"$error":"#REF!"}},{"$f":"INDEX(Measure,MATCH(0,COUNTIF(E$15:E74,Measure)+(Initiative<>E$14)+(Fuel<>E$15),0))","v":{"$error":"#REF!"}},{"$f":"INDEX(Measure,MATCH(0,COUNTIF(F$15:F74,Measure)+(Initiative<>F$14)+(Fuel<>F$15),0))","v":{"$error":"#REF!"}},{"$f":"INDEX(Measure,MATCH(0,COUNTIF(G$15:G74,Measure)+(Initiative<>G$14)+(Fuel<>G$15),0))","v":{"$error":"#REF!"}},{"$f":"INDEX(Measure,MATCH(0,COUNTIF(H$15:H74,Measure)+(Initiative<>H$14)+(Fuel<>H$15),0))","v":{"$error":"#REF!"}},{"$f":"INDEX(Measure,MATCH(0,COUNTIF(I$15:I74,Measure)+(Initiative<>I$14)+(Fuel<>I$15),0))","v":{"$error":"#REF!"}},{"$f":"INDEX(Measure,MATCH(0,COUNTIF(J$15:J74,Measure)+(Initiative<>J$14)+(Fuel<>J$15),0))","v":{"$error":"#REF!"}},{"$f":"INDEX(Measure,MATCH(0,COUNTIF(K$15:K74,Measure)+(Initiative<>K$14)+(Fuel<>K$15),0))","v":{"$error":"#REF!"}}]
[null,{"$f":"INDEX(Measure,MATCH(0,COUNTIF(B$15:B75,Measure)+(Initiative<>B$14)+(Fuel<>B$15),0))","v":{"$error":"#REF!"}},{"$f":"INDEX(Measure,MATCH(0,COUNTIF(C$15:C75,Measure)+(Initiative<>C$14)+(Fuel<>C$15),0))","v":{"$error":"#REF!"}},{"$f":"INDEX(Measure,MATCH(0,COUNTIF(D$15:D75,Measure)+(Initiative<>D$14)+(Fuel<>D$15),0))","v":{"$error":"#REF!"}},{"$f":"INDEX(Measure,MATCH(0,COUNTIF(E$15:E75,Measure)+(Initiative<>E$14)+(Fuel<>E$15),0))","v":{"$error":"#REF!"}},{"$f":"INDEX(Measure,MATCH(0,COUNTIF(F$15:F75,Measure)+(Initiative<>F$14)+(Fuel<>F$15),0))","v":{"$error":"#REF!"}},{"$f":"INDEX(Measure,MATCH(0,COUNTIF(G$15:G75,Measure)+(Initiative<>G$14)+(Fuel<>G$15),0))","v":{"$error":"#REF!"}},{"$f":"INDEX(Measure,MATCH(0,COUNTIF(H$15:H75,Measure)+(Initiative<>H$14)+(Fuel<>H$15),0))","v":{"$error":"#REF!"}},{"$f":"INDEX(Measure,MATCH(0,COUNTIF(I$15:I75,Measure)+(Initiative<>I$14)+(Fuel<>I$15),0))","v":{"$error":"#REF!"}},{"$f":"INDEX(Measure,MATCH(0,COUNTIF(J$15:J75,Measure)+(Initiative<>J$14)+(Fuel<>J$15),0))","v":{"$error":"#REF!"}},{"$f":"INDEX(Measure,MATCH(0,COUNTIF(K$15:K75,Measure)+(Initiative<>K$14)+(Fuel<>K$15),0))","v":{"$error":"#REF!"}}]
[null,{"$f":"INDEX(Measure,MATCH(0,COUNTIF(B$15:B76,Measure)+(Initiative<>B$14)+(Fuel<>B$15),0))","v":{"$error":"#REF!"}},{"$f":"INDEX(Measure,MATCH(0,COUNTIF(C$15:C76,Measure)+(Initiative<>C$14)+(Fuel<>C$15),0))","v":{"$error":"#REF!"}},{"$f":"INDEX(Measure,MATCH(0,COUNTIF(D$15:D76,Measure)+(Initiative<>D$14)+(Fuel<>D$15),0))","v":{"$error":"#REF!"}},{"$f":"INDEX(Measure,MATCH(0,COUNTIF(E$15:E76,Measure)+(Initiative<>E$14)+(Fuel<>E$15),0))","v":{"$error":"#REF!"}},{"$f":"INDEX(Measure,MATCH(0,COUNTIF(F$15:F76,Measure)+(Initiative<>F$14)+(Fuel<>F$15),0))","v":{"$error":"#REF!"}},{"$f":"INDEX(Measure,MATCH(0,COUNTIF(G$15:G76,Measure)+(Initiative<>G$14)+(Fuel<>G$15),0))","v":{"$error":"#REF!"}},{"$f":"INDEX(Measure,MATCH(0,COUNTIF(H$15:H76,Measure)+(Initiative<>H$14)+(Fuel<>H$15),0))","v":{"$error":"#REF!"}},{"$f":"INDEX(Measure,MATCH(0,COUNTIF(I$15:I76,Measure)+(Initiative<>I$14)+(Fuel<>I$15),0))","v":{"$error":"#REF!"}},{"$f":"INDEX(Measure,MATCH(0,COUNTIF(J$15:J76,Measure)+(Initiative<>J$14)+(Fuel<>J$15),0))","v":{"$error":"#REF!"}},{"$f":"INDEX(Measure,MATCH(0,COUNTIF(K$15:K76,Measure)+(Initiative<>K$14)+(Fuel<>K$15),0))","v":{"$error":"#REF!"}}]
[null,{"$f":"INDEX(Measure,MATCH(0,COUNTIF(B$15:B77,Measure)+(Initiative<>B$14)+(Fuel<>B$15),0))","v":{"$error":"#REF!"}},{"$f":"INDEX(Measure,MATCH(0,COUNTIF(C$15:C77,Measure)+(Initiative<>C$14)+(Fuel<>C$15),0))","v":{"$error":"#REF!"}},{"$f":"INDEX(Measure,MATCH(0,COUNTIF(D$15:D77,Measure)+(Initiative<>D$14)+(Fuel<>D$15),0))","v":{"$error":"#REF!"}},{"$f":"INDEX(Measure,MATCH(0,COUNTIF(E$15:E77,Measure)+(Initiative<>E$14)+(Fuel<>E$15),0))","v":{"$error":"#REF!"}},{"$f":"INDEX(Measure,MATCH(0,COUNTIF(F$15:F77,Measure)+(Initiative<>F$14)+(Fuel<>F$15),0))","v":{"$error":"#REF!"}},{"$f":"INDEX(Measure,MATCH(0,COUNTIF(G$15:G77,Measure)+(Initiative<>G$14)+(Fuel<>G$15),0))","v":{"$error":"#REF!"}},{"$f":"INDEX(Measure,MATCH(0,COUNTIF(H$15:H77,Measure)+(Initiative<>H$14)+(Fuel<>H$15),0))","v":{"$error":"#REF!"}},{"$f":"INDEX(Measure,MATCH(0,COUNTIF(I$15:I77,Measure)+(Initiative<>I$14)+(Fuel<>I$15),0))","v":{"$error":"#REF!"}},{"$f":"INDEX(Measure,MATCH(0,COUNTIF(J$15:J77,Measure)+(Initiative<>J$14)+(Fuel<>J$15),0))","v":{"$error":"#REF!"}},{"$f":"INDEX(Measure,MATCH(0,COUNTIF(K$15:K77,Measure)+(Initiative<>K$14)+(Fuel<>K$15),0))","v":{"$error":"#REF!"}}]
[null,{"$f":"INDEX(Measure,MATCH(0,COUNTIF(B$15:B78,Measure)+(Initiative<>B$14)+(Fuel<>B$15),0))","v":{"$error":"#REF!"}},{"$f":"INDEX(Measure,MATCH(0,COUNTIF(C$15:C78,Measure)+(Initiative<>C$14)+(Fuel<>C$15),0))","v":{"$error":"#REF!"}},{"$f":"INDEX(Measure,MATCH(0,COUNTIF(D$15:D78,Measure)+(Initiative<>D$14)+(Fuel<>D$15),0))","v":{"$error":"#REF!"}},{"$f":"INDEX(Measure,MATCH(0,COUNTIF(E$15:E78,Measure)+(Initiative<>E$14)+(Fuel<>E$15),0))","v":{"$error":"#REF!"}},{"$f":"INDEX(Measure,MATCH(0,COUNTIF(F$15:F78,Measure)+(Initiative<>F$14)+(Fuel<>F$15),0))","v":{"$error":"#REF!"}},{"$f":"INDEX(Measure,MATCH(0,COUNTIF(G$15:G78,Measure)+(Initiative<>G$14)+(Fuel<>G$15),0))","v":{"$error":"#REF!"}},{"$f":"INDEX(Measure,MATCH(0,COUNTIF(H$15:H78,Measure)+(Initiative<>H$14)+(Fuel<>H$15),0))","v":{"$error":"#REF!"}},{"$f":"INDEX(Measure,MATCH(0,COUNTIF(I$15:I78,Measure)+(Initiative<>I$14)+(Fuel<>I$15),0))","v":{"$error":"#REF!"}},{"$f":"INDEX(Measure,MATCH(0,COUNTIF(J$15:J78,Measure)+(Initiative<>J$14)+(Fuel<>J$15),0))","v":{"$error":"#REF!"}},{"$f":"INDEX(Measure,MATCH(0,COUNTIF(K$15:K78,Measure)+(Initiative<>K$14)+(Fuel<>K$15),0))","v":{"$error":"#REF!"}}]
[null,{"$f":"INDEX(Measure,MATCH(0,COUNTIF(B$15:B79,Measure)+(Initiative<>B$14)+(Fuel<>B$15),0))","v":{"$error":"#REF!"}},{"$f":"INDEX(Measure,MATCH(0,COUNTIF(C$15:C79,Measure)+(Initiative<>C$14)+(Fuel<>C$15),0))","v":{"$error":"#REF!"}},{"$f":"INDEX(Measure,MATCH(0,COUNTIF(D$15:D79,Measure)+(Initiative<>D$14)+(Fuel<>D$15),0))","v":{"$error":"#REF!"}},{"$f":"INDEX(Measure,MATCH(0,COUNTIF(E$15:E79,Measure)+(Initiative<>E$14)+(Fuel<>E$15),0))","v":{"$error":"#REF!"}},{"$f":"INDEX(Measure,MATCH(0,COUNTIF(F$15:F79,Measure)+(Initiative<>F$14)+(Fuel<>F$15),0))","v":{"$error":"#REF!"}},{"$f":"INDEX(Measure,MATCH(0,COUNTIF(G$15:G79,Measure)+(Initiative<>G$14)+(Fuel<>G$15),0))","v":{"$error":"#REF!"}},{"$f":"INDEX(Measure,MATCH(0,COUNTIF(H$15:H79,Measure)+(Initiative<>H$14)+(Fuel<>H$15),0))","v":{"$error":"#REF!"}},{"$f":"INDEX(Measure,MATCH(0,COUNTIF(I$15:I79,Measure)+(Initiative<>I$14)+(Fuel<>I$15),0))","v":{"$error":"#REF!"}},{"$f":"INDEX(Measure,MATCH(0,COUNTIF(J$15:J79,Measure)+(Initiative<>J$14)+(Fuel<>J$15),0))","v":{"$error":"#REF!"}},{"$f":"INDEX(Measure,MATCH(0,COUNTIF(K$15:K79,Measure)+(Initiative<>K$14)+(Fuel<>K$15),0))","v":{"$error":"#REF!"}}]

{"sheet":"Version","index":21,"n_rows":7,"n_cols":3,"rows_kept":7,"cut":false,"hidden":true,"merged":[[2,1,2,2],[3,1,3,2],[4,1,4,2],[5,0,5,2],[1,1,1,2]]}
["This tab used to record the version changes only related to the tool."]
["Version Name:","2019 Statewide Custom Screening Tool v1.00"]
["Version N°:",{"$f":"MAX(B7:B20)","v":1}]
["Version Date:",{"$f":"MAX(A7:A20)","v":"2019-04-08"}]
["Last Revised by:","Whitney Brougher"]
["Revision History"]
["2019-04-08",1,"Significant updates from v1.01 of the 2018 Custom Screening Tool include:\n-Use of the 2018 AESC study avoided costs.  Updates to the underlying models and assumptions to avoided costs may result in larger differences in BC results as compared to the 2018 Custom Screening Tool.  New benefit streams added for MA and RI for emissions and/or environmental compliance costs. \n- Inclusion of Dual Baseline considerations for MA Existing Building Retrofit program.  \n      - No additional information required for screening inputs\n      - Dual Baseline assumptions and adjustments made within the tool and will affect cost effectiveness\n      - Users should use calculated measure lives for dual baseline projects for tracking purposes\n      - Users will see some changes to measure life options for Retrofit measures\n      - Added display and informational fields to the Screening Tool tab to outline dual baseline assumptions and outputs.\n      - See Policy & Definitions tab for more information or contact your PA evaluator with questions\n- Measure Label on Screening Tool highlighted if an error or note pertains to that measure\n- Removed \"Project Type\" from input screen.  User will enter the Initiative directly.\n- Updated default gas and electric Rates\n- Updated ID Weighted Life tool methods for fuel specific tracking.  No change to weighted life used for screening.\n- For National Grid users - update to csv template for 2019.  Updates should be compatible with gas/electric custom application merger"]

{"sheet":"RI CHP","index":22,"n_rows":8,"n_cols":13,"rows_kept":8,"cut":false,"hidden":true,"merged":[[1,0,1,15],[4,1,5,1]]}
["Tab Explanation:"]
["This tab collects information specifically required for CHP projects screened in RI.  Even if populated, these values will not affect any MA projects or non-CHP RI project.  The values requested here should be developed seperately, outside of this screening tool.  "]
[]
["Additional Inputs for RI CHP:"]
[null,null,"Measure Label",{"$f":"#REF!","v":{"$error":"#REF!"}},{"$f":"#REF!","v":{"$error":"#REF!"}},{"$f":"#REF!","v":{"$error":"#REF!"}},{"$f":"#REF!","v":{"$error":"#REF!"}},{"$f":"#REF!","v":{"$error":"#REF!"}},{"$f":"#REF!","v":{"$error":"#REF!"}},{"$f":"#REF!","v":{"$error":"#REF!"}},{"$f":"#REF!","v":{"$error":"#REF!"}},{"$f":"#REF!","v":{"$error":"#REF!"}},{"$f":"#REF!","v":{"$error":"#REF!"}}]
[null,null,"Measure Code",{"$f":"#REF!","v":{"$error":"#REF!"}},{"$f":"#REF!","v":{"$error":"#REF!"}},{"$f":"#REF!","v":{"$error":"#REF!"}},{"$f":"#REF!","v":{"$error":"#REF!"}},{"$f":"#REF!","v":{"$error":"#REF!"}},{"$f":"#REF!","v":{"$error":"#REF!"}},{"$f":"#REF!","v":{"$error":"#REF!"}},{"$f":"#REF!","v":{"$error":"#REF!"}},{"$f":"#REF!","v":{"$error":"#REF!"}},{"$f":"#REF!","v":{"$error":"#REF!"}}]
[null,"RI CHP Only","Total Net Nameplate kW"]
[null,null,"Custom Distribution Benefit"]

{"sheet":"Default On Peak","index":23,"n_rows":30,"n_cols":14,"rows_kept":30,"cut":false,"hidden":true,"merged":[[29,3,29,12],[2,1,2,11],[5,2,5,11],[6,2,6,11],[7,2,7,11],[24,1,25,1],[9,2,9,11],[8,2,8,11],[12,1,13,1],[16,1,19,1],[20,1,21,1],[27,3,27,12],[28,3,28,12]]}
[]
[null,"Tab Explanation:"]
[null,"This tab shows the default calculations for the electric energy loadshapes and for the demand peak savings.  These calculations represent conservative estimates based on the annual electric energy savings, the % Energy Savings On Peak, and general assumptions of % summer savings.  The % Summer savings is a very general assumption based on the percent of energy savings that occur during the summer.  Measures with year round savings assume 1/3 (33%) of savings occur during the summer, measures with summer heavy savings (HVAC) assume 2/3 (67%), and other measures assume 50%."]
[]
[null,"Directions:"]
[null,"1.","On the \"Screening Tool\" tab, populate Measure Information."]
[null,"2.","On the \"Screening Tool\" tab, populate the Gross Annual kWh "]
[null,"3.","Fill in % Energy On Peak fields in table below.  % On Peak is the percent of energy savings occurring between 7am-11pm, year round."]
[null,"4.","If desired, verify and refine the % Summer values."]
[null,"5.","Copy and paste (values only) the Electric Energy Loadshape information from the table below into the relevant fields on the \"Screening Tool\" tab"]
[]
[null,"Inputs:",null,{"$f":"#REF!","v":{"$error":"#REF!"}},{"$f":"#REF!","v":{"$error":"#REF!"}},{"$f":"#REF!","v":{"$error":"#REF!"}},{"$f":"#REF!","v":{"$error":"#REF!"}},{"$f":"#REF!","v":{"$error":"#REF!"}},{"$f":"#REF!","v":{"$error":"#REF!"}},{"$f":"#REF!","v":{"$error":"#REF!"}},{"$f":"#REF!","v":{"$error":"#REF!"}},{"$f":"#REF!","v":{"$error":"#REF!"}},{"$f":"#REF!","v":{"$error":"#REF!"}}]
[null,"User","% Energy On Peak",{"$f":"Table1[[#Totals],[Percent On Peak kWh Savings]]","v":{"$error":"#DIV/0!"}}]
[null,null,"Override % Summer"]
[null,null,"check if summer override",{"$f":"(D14<>\"\")*D14+(D14=\"\")*D27","v":{"$error":"#REF!"}},{"$error":"#REF!"},{"$error":"#REF!"},{"$error":"#REF!"},{"$error":"#REF!"},{"$error":"#REF!"},{"$error":"#REF!"},{"$error":"#REF!"},{"$error":"#REF!"},{"$error":"#REF!"}]
[null,"Results (copy and paste values only into Measure Inputs):"]
[null,"Electric Energy Loadshape","Summer On Peak",{"$f":"IF(#REF!<>\"\",D15*D13,\"\")","v":{"$error":"#REF!"}},{"$f":"IF(#REF!<>\"\",E15*E13,\"\")","v":{"$error":"#REF!"}},{"$f":"IF(#REF!<>\"\",F15*F13,\"\")","v":{"$error":"#REF!"}},{"$f":"IF(#REF!<>\"\",G15*G13,\"\")","v":{"$error":"#REF!"}},{"$f":"IF(#REF!<>\"\",H15*H13,\"\")","v":{"$error":"#REF!"}},{"$f":"IF(#REF!<>\"\",I15*I13,\"\")","v":{"$error":"#REF!"}},{"$f":"IF(#REF!<>\"\",J15*J13,\"\")","v":{"$error":"#REF!"}},{"$f":"IF(#REF!<>\"\",K15*K13,\"\")","v":{"$error":"#REF!"}},{"$f":"IF(#REF!<>\"\",L15*L13,\"\")","v":{"$error":"#REF!"}},{"$f":"IF(#REF!<>\"\",M15*M13,\"\")","v":{"$error":"#REF!"}},"= (% Summer) * (% Energy On Peak)"]
[null,null,"Summer Off Peak",{"$f":"IF(#REF!<>\"\",D15*(1-D13),\"\")","v":{"$error":"#REF!"}},{"$f":"IF(#REF!<>\"\",E15*(1-E13),\"\")","v":{"$error":"#REF!"}},{"$f":"IF(#REF!<>\"\",F15*(1-F13),\"\")","v":{"$error":"#REF!"}},{"$f":"IF(#REF!<>\"\",G15*(1-G13),\"\")","v":{"$error":"#REF!"}},{"$f":"IF(#REF!<>\"\",H15*(1-H13),\"\")","v":{"$error":"#REF!"}},{"$f":"IF(#REF!<>\"\",I15*(1-I13),\"\")","v":{"$error":"#REF!"}},{"$f":"IF(#REF!<>\"\",J15*(1-J13),\"\")","v":{"$error":"#REF!"}},{"$f":"IF(#REF!<>\"\",K15*(1-K13),\"\")","v":{"$error":"#REF!"}},{"$f":"IF(#REF!<>\"\",L15*(1-L13),\"\")","v":{"$error":"#REF!"}},{"$f":"IF(#REF!<>\"\",M15*(1-M13),\"\")","v":{"$error":"#REF!"}},"= (% Summer) * (1 - % Energy On Peak)"]
[null,null,"Winter On Peak",{"$f":"IF(#REF!<>\"\",(1-D15)*D13,\"\")","v":{"$error":"#REF!"}},{"$f":"IF(#REF!<>\"\",(1-E15)*E13,\"\")","v":{"$error":"#REF!"}},{"$f":"IF(#REF!<>\"\",(1-F15)*F13,\"\")","v":{"$error":"#REF!"}},{"$f":"IF(#REF!<>\"\",(1-G15)*G13,\"\")","v":{"$error":"#REF!"}},{"$f":"IF(#REF!<>\"\",(1-H15)*H13,\"\")","v":{"$error":"#REF!"}},{"$f":"IF(#REF!<>\"\",(1-I15)*I13,\"\")","v":{"$error":"#REF!"}},{"$f":"IF(#REF!<>\"\",(1-J15)*J13,\"\")","v":{"$error":"#REF!"}},{"$f":"IF(#REF!<>\"\",(1-K15)*K13,\"\")","v":{"$error":"#REF!"}},{"$f":"IF(#REF!<>\"\",(1-L15)*L13,\"\")","v":{"$error":"#REF!"}},{"$f":"IF(#REF!<>\"\",(1-M15)*M13,\"\")","v":{"$error":"#REF!"}},"= (1 - % Summer) * (% Energy On Peak)"]
[null,null,"Winter Off Peak",{"$f":"IF(#REF!<>\"\",(1-D15)*(1-D13),\"\")","v":{"$error":"#REF!"}},{"$f":"IF(#REF!<>\"\",(1-E15)*(1-E13),\"\")","v":{"$error":"#REF!"}},{"$f":"IF(#REF!<>\"\",(1-F15)*(1-F13),\"\")","v":{"$error":"#REF!"}},{"$f":"IF(#REF!<>\"\",(1-G15)*(1-G13),\"\")","v":{"$error":"#REF!"}},{"$f":"IF(#REF!<>\"\",(1-H15)*(1-H13),\"\")","v":{"$error":"#REF!"}},{"$f":"IF(#REF!<>\"\",(1-I15)*(1-I13),\"\")","v":{"$error":"#REF!"}},{"$f":"IF(#REF!<>\"\",(1-J15)*(1-J13),\"\")","v":{"$error":"#REF!"}},{"$f":"IF(#REF!<>\"\",(1-K15)*(1-K13),\"\")","v":{"$error":"#REF!"}},{"$f":"IF(#REF!<>\"\",(1-L15)*(1-L13),\"\")","v":{"$error":"#REF!"}},{"$f":"IF(#REF!<>\"\",(1-M15)*(1-M13),\"\")","v":{"$error":"#REF!"}},"= (1 - % Summer) * (1 - % Energy On Peak)"]
[null,"Peak Demand Savings","Summer Peak kW",{"$f":"IF(#REF!<>\"\",(D26*D17)/$C$28,\"\")","v":{"$error":"#REF!"}},{"$f":"IF(#REF!<>\"\",(E26*E17)/$C$28,\"\")","v":{"$error":"#REF!"}},{"$f":"IF(#REF!<>\"\",(F26*F17)/$C$28,\"\")","v":{"$error":"#REF!"}},{"$f":"IF(#REF!<>\"\",(G26*G17)/$C$28,\"\")","v":{"$error":"#REF!"}},{"$f":"IF(#REF!<>\"\",(H26*H17)/$C$28,\"\")","v":{"$error":"#REF!"}},{"$f":"IF(#REF!<>\"\",(I26*I17)/$C$28,\"\")","v":{"$error":"#REF!"}},{"$f":"IF(#REF!<>\"\",(J26*J17)/$C$28,\"\")","v":{"$error":"#REF!"}},{"$f":"IF(#REF!<>\"\",(K26*K17)/$C$28,\"\")","v":{"$error":"#REF!"}},{"$f":"IF(#REF!<>\"\",(L26*L17)/$C$28,\"\")","v":{"$error":"#REF!"}},{"$f":"IF(#REF!<>\"\",(M26*M17)/$C$28,\"\")","v":{"$error":"#REF!"}},"= (Summer On Peak) * (Annual kWh) / (Hours in Summer On Peak Period)"]
[null,null,"Winter Peak kW",{"$f":"IF(#REF!<>\"\",(D26*D19)/$C$29,\"\")","v":{"$error":"#REF!"}},{"$f":"IF(#REF!<>\"\",(E26*E19)/$C$29,\"\")","v":{"$error":"#REF!"}},{"$f":"IF(#REF!<>\"\",(F26*F19)/$C$29,\"\")","v":{"$error":"#REF!"}},{"$f":"IF(#REF!<>\"\",(G26*G19)/$C$29,\"\")","v":{"$error":"#REF!"}},{"$f":"IF(#REF!<>\"\",(H26*H19)/$C$29,\"\")","v":{"$error":"#REF!"}},{"$f":"IF(#REF!<>\"\",(I26*I19)/$C$29,\"\")","v":{"$error":"#REF!"}},{"$f":"IF(#REF!<>\"\",(J26*J19)/$C$29,\"\")","v":{"$error":"#REF!"}},{"$f":"IF(#REF!<>\"\",(K26*K19)/$C$29,\"\")","v":{"$error":"#REF!"}},{"$f":"IF(#REF!<>\"\",(L26*L19)/$C$29,\"\")","v":{"$error":"#REF!"}},{"$f":"IF(#REF!<>\"\",(M26*M19)/$C$29,\"\")","v":{"$error":"#REF!"}},"= (Winter On Peak) * (Annual kWh) / (Hours in Winter On Peak Period)"]
[]
[null,"Assumptions:"]
[null,"From Screening Tool Tab","Measure Code",{"$f":"#REF!","v":{"$error":"#REF!"}},{"$f":"#REF!","v":{"$error":"#REF!"}},{"$f":"#REF!","v":{"$error":"#REF!"}},{"$f":"#REF!","v":{"$error":"#REF!"}},{"$f":"#REF!","v":{"$error":"#REF!"}},{"$f":"#REF!","v":{"$error":"#REF!"}},{"$f":"#REF!","v":{"$error":"#REF!"}},{"$f":"#REF!","v":{"$error":"#REF!"}},{"$f":"#REF!","v":{"$error":"#REF!"}},{"$f":"#REF!","v":{"$error":"#REF!"}}]
[null,null,"Annual kWh",{"$f":"#REF!","v":{"$error":"#REF!"}},{"$f":"#REF!","v":{"$error":"#REF!"}},{"$f":"#REF!","v":{"$error":"#REF!"}},{"$f":"#REF!","v":{"$error":"#REF!"}},{"$f":"#REF!","v":{"$error":"#REF!"}},{"$f":"#REF!","v":{"$error":"#REF!"}},{"$f":"#REF!","v":{"$error":"#REF!"}},{"$f":"#REF!","v":{"$error":"#REF!"}},{"$f":"#REF!","v":{"$error":"#REF!"}},{"$f":"#REF!","v":{"$error":"#REF!"}}]
[null,"From Measures Tab","% Summer",{"$f":"IF(#REF!<>\"\",VLOOKUP(D25,#REF!,5,FALSE),\"\")","v":{"$error":"#REF!"}},{"$f":"IF(#REF!<>\"\",VLOOKUP(E25,#REF!,5,FALSE),\"\")","v":{"$error":"#REF!"}},{"$f":"IF(#REF!<>\"\",VLOOKUP(F25,#REF!,5,FALSE),\"\")","v":{"$error":"#REF!"}},{"$f":"IF(#REF!<>\"\",VLOOKUP(G25,#REF!,5,FALSE),\"\")","v":{"$error":"#REF!"}},{"$f":"IF(#REF!<>\"\",VLOOKUP(H25,#REF!,5,FALSE),\"\")","v":{"$error":"#REF!"}},{"$f":"IF(#REF!<>\"\",VLOOKUP(I25,#REF!,5,FALSE),\"\")","v":{"$error":"#REF!"}},{"$f":"IF(#REF!<>\"\",VLOOKUP(J25,#REF!,5,FALSE),\"\")","v":{"$error":"#REF!"}},{"$f":"IF(#REF!<>\"\",VLOOKUP(K25,#REF!,5,FALSE),\"\")","v":{"$error":"#REF!"}},{"$f":"IF(#REF!<>\"\",VLOOKUP(L25,#REF!,5,FALSE),\"\")","v":{"$error":"#REF!"}},{"$f":"IF(#REF!<>\"\",VLOOKUP(M25,#REF!,5,FALSE),\"\")","v":{"$error":"#REF!"}}]
[null,"Hours in Summer On Peak Period",1380,"Summer On Peak period is between 7am-11pm, M-F, June-Sept, excluding holidays."]
[null,"Hours in Winter On Peak Period",2600,"Winter On Peak period is between 7am-11pm, M-F, Oct-May, excluding holidays.  "]
[null,"% Summer","Varies by measure type","Measure type specific estimate of percent electric energy savings that occur during the summer.  Used to calculate default loadshape percentages. For example, measures with savings occurring evenly through the year, like lighting, are assumed to generate 33% of annual savings during the summer months."]

{"sheet":"MRD","index":24,"n_rows":92,"n_cols":11,"rows_kept":92,"cut":false,"hidden":false,"merged":[[680,2,680,3],[680,4,680,7],[680,8,680,9],[681,2,681,3],[681,4,681,7],[681,8,681,9],[678,2,678,3],[678,4,678,7],[678,8,678,9],[679,2,679,3],[679,4,679,7],[679,8,679,9],[676,2,676,3],[676,4,676,7],[676,8,676,9],[677,2,677,3],[677,4,677,7],[677,8,677,9],[674,2,674,3],[674,4,674,7],[674,8,674,9],[675,2,675,3],[675,4,675,7],[675,8,675,9],[672,2,672,3],[672,4,672,7],[672,8,672,9],[673,2,673,3],[673,4,673,7],[673,8,673,9],[670,2,670,3],[670,4,670,7],[670,8,670,9],[671,2,671,3],[671,4,671,7],[671,8,671,9],[668,2,668,3],[668,4,668,7],[668,8,668,9],[669,2,669,3],[669,4,669,7],[669,8,669,9],[666,2,666,3],[666,4,666,7],[666,8,666,9],[667,2,667,3],[667,4,667,7],[667,8,667,9],[664,2,664,3],[664,4,664,7],[664,8,664,9],[665,2,665,3],[665,4,665,7],[665,8,665,9],[662,2,662,3],[662,4,662,7],[662,8,662,9],[663,2,663,3],[663,4,663,7],[663,8,663,9],[660,2,660,3],[660,4,660,7],[660,8,660,9],[661,2,661,3],[661,4,661,7],[661,8,661,9],[658,2,658,3],[658,4,658,7],[658,8,658,9],[659,2,659,3],[659,4,659,7],[659,8,659,9],[656,2,656,3],[656,4,656,7],[656,8,656,9],[657,2,657,3],[657,4,657,7],[657,8,657,9],[654,2,654,3],[654,4,654,7],[654,8,654,9],[655,2,655,3],[655,4,655,7],[655,8,655,9],[652,2,652,3],[652,4,652,7],[652,8,652,9],[653,2,653,3],[653,4,653,7],[653,8,653,9],[650,2,650,3],[650,4,650,7],[650,8,650,9],[651,2,651,3],[651,4,651,7],[651,8,651,9],[648,2,648,3],[648,4,648,7],[648,8,648,9],[649,2,649,3],[649,4,649,7],[649,8,649,9],[646,2,646,3],[646,4,646,7],[646,8,646,9],[647,2,647,3],[647,4,647,7],[647,8,647,9],[644,2,644,3],[644,4,644,7],[644,8,644,9],[645,2,645,3],[645,4,645,7],[645,8,645,9],[642,2,642,3],[642,4,642,7],[642,8,642,9],[643,2,643,3],[643,4,643,7],[643,8,643,9],[640,2,640,3],[640,4,640,7],[640,8,640,9],[641,2,641,3],[641,4,641,7],[641,8,641,9],[638,2,638,3],[638,4,638,7],[638,8,638,9],[639,2,639,3],[639,4,639,7],[639,8,639,9],[636,2,636,3],[636,4,636,7],[636,8,636,9],[637,2,637,3],[637,4,637,7],[637,8,637,9],[634,2,634,3],[634,4,634,7],[634,8,634,9],[635,2,635,3],[635,4,635,7],[635,8,635,9],[632,2,632,3],[632,4,632,7],[632,8,632,9],[633,2,633,3],[633,4,633,7],[633,8,633,9],[630,2,630,3],[630,4,630,7],[630,8,630,9],[631,2,631,3],[631,4,631,7],[631,8,631,9],[628,2,628,3],[628,4,628,7],[628,8,628,9],[629,2,629,3],[629,4,629,7],[629,8,629,9],[626,2,626,3],[626,4,626,7],[626,8,626,9],[627,2,627,3],[627,4,627,7],[627,8,627,9],[624,2,624,3],[624,4,624,7],[624,8,624,9],[625,2,625,3],[625,4,625,7],[625,8,625,9],[622,2,622,3],[622,4,622,7],[622,8,622,9],[623,2,623,3],[623,4,623,7],[623,8,623,9],[620,2,620,3],[620,4,620,7],[620,8,620,9],[621,2,621,3],[621,4,621,7],[621,8,621,9],[618,2,618,3],[618,4,618,7],[618,8,618,9],[619,2,619,3],[619,4,619,7],[619,8,619,9],[616,2,616,3],[616,4,616,7],[616,8,616,9],[617,2,617,3],[617,4,617,7],[617,8,617,9],[614,2,614,3],[614,4,614,7],[614,8,614,9],[615,2,615,3],[615,4,615,7],[615,8,615,9],[612,2,612,3],[612,4,612,7],[612,8,612,9],[613,2,613,3],[613,4,613,7],[613,8,613,9],[610,2,610,3],[610,4,610,7],[610,8,610,9],[611,2,611,3],[611,4,611,7],[611,8,611,9],[608,2,608,3],[608,4,608,7],[608,8,608,9],[609,2,609,3],[609,4,609,7],[609,8,609,9],[606,2,606,3],[606,4,606,7],[606,8,606,9],[607,2,607,3],[607,4,607,7],[607,8,607,9],[604,2,604,3],[604,4,604,7],[604,8,604,9],[605,2,605,3],[605,4,605,7],[605,8,605,9],[602,2,602,3],[602,4,602,7],[602,8,602,9],[603,2,603,3],[603,4,603,7],[603,8,603,9],[600,2,600,3],[600,4,600,7],[600,8,600,9],[601,2,601,3],[601,4,601,7],[601,8,601,9],[598,2,598,3],[598,4,598,7],[598,8,598,9],[599,2,599,3],[599,4,599,7],[599,8,599,9],[596,2,596,3],[596,4,596,7],[596,8,596,9],[597,2,597,3],[597,4,597,7],[597,8,597,9],[594,2,594,3],[594,4,594,7],[594,8,594,9],[595,2,595,3],[595,4,595,7],[595,8,595,9],[592,2,592,3],[592,4,592,7],[592,8,592,9],[593,2,593,3],[593,4,593,7],[593,8,593,9],[590,2,590,3],[590,4,590,7],[590,8,590,9],[591,2,591,3],[591,4,591,7],[591,8,591,9],[588,2,588,3],[588,4,588,7],[588,8,588,9],[589,2,589,3],[589,4,589,7],[589,8,589,9],[586,2,586,3],[586,4,586,7],[586,8,586,9],[587,2,587,3],[587,4,587,7],[587,8,587,9],[584,2,584,3],[584,4,584,7],[584,8,584,9],[585,2,585,3],[585,4,585,7],[585,8,585,9],[582,2,582,3],[582,4,582,7],[582,8,582,9],[583,2,583,3],[583,4,583,7],[583,8,583,9],[580,2,580,3],[580,4,580,7],[580,8,580,9],[581,2,581,3],[581,4,581,7],[581,8,581,9],[578,2,578,3],[578,4,578,7],[578,8,578,9],[579,2,579,3],[579,4,579,7],[579,8,579,9],[576,2,576,3],[576,4,576,7],[576,8,576,9],[577,2,577,3],[577,4,577,7],[577,8,577,9],[574,2,574,3],[574,4,574,7],[574,8,574,9],[575,2,575,3],[575,4,575,7],[575,8,575,9],[572,2,572,3],[572,4,572,7],[572,8,572,9],[573,2,573,3],[573,4,573,7],[573,8,573,9],[570,2,570,3],[570,4,570,7],[570,8,570,9],[571,2,571,3],[571,4,571,7],[571,8,571,9],[568,2,568,3],[568,4,568,7],[568,8,568,9],[569,2,569,3],[569,4,569,7],[569,8,569,9],[566,2,566,3],[566,4,566,7],[566,8,566,9],[567,2,567,3],[567,4,567,7],[567,8,567,9],[564,2,564,3],[564,4,564,7],[564,8,564,9],[565,2,565,3],[565,4,565,7],[565,8,565,9],[562,2,562,3],[562,4,562,7],[562,8,562,9],[563,2,563,3],[563,4,563,7],[563,8,563,9],[560,2,560,3],[560,4,560,7],[560,8,560,9],[561,2,561,3],[561,4,561,7],[561,8,561,9],[558,2,558,3],[558,4,558,7],[558,8,558,9],[559,2,559,3],[559,4,559,7],[559,8,559,9],[556,2,556,3],[556,4,556,7],[556,8,556,9],[557,2,557,3],[557,4,557,7],[557,8,557,9],[554,2,554,3],[554,4,554,7],[554,8,554,9],[555,2,555,3],[555,4,555,7],[555,8,555,9],[552,2,552,3],[552,4,552,7],[552,8,552,9],[553,2,553,3],[553,4,553,7],[553,8,553,9],[550,2,550,3],[550,4,550,7],[550,8,550,9],[551,2,551,3],[551,4,551,7],[551,8,551,9],[548,2,548,3],[548,4,548,7],[548,8,548,9],[549,2,549,3],[549,4,549,7],[549,8,549,9],[546,2,546,3],[546,4,546,7],[546,8,546,9],[547,2,547,3],[547,4,547,7],[547,8,547,9],[544,2,544,3],[544,4,544,7],[544,8,544,9],[545,2,545,3],[545,4,545,7],[545,8,545,9],[542,2,542,3],[542,4,542,7],[542,8,542,9],[543,2,543,3],[543,4,543,7],[543,8,543,9],[540,2,540,3],[540,4,540,7],[540,8,540,9],[541,2,541,3],[541,4,541,7],[541,8,541,9],[538,2,538,3],[538,4,538,7],[538,8,538,9],[539,2,539,3],[539,4,539,7],[539,8,539,9],[536,2,536,3],[536,4,536,7],[536,8,536,9],[537,2,537,3],[537,4,537,7],[537,8,537,9],[534,2,534,3],[534,4,534,7],[534,8,534,9],[535,2,535,3],[535,4,535,7],[535,8,535,9],[532,2,532,3],[532,4,532,7],[532,8,532,9],[533,2,533,3],[533,4,533,7],[533,8,533,9],[530,2,530,3],[530,4,530,7],[530,8,530,9],[531,2,531,3],[531,4,531,7],[531,8,531,9],[528,2,528,3],[528,4,528,7],[528,8,528,9],[529,2,529,3],[529,4,529,7],[529,8,529,9],[526,2,526,3],[526,4,526,7],[526,8,526,9],[527,2,527,3],[527,4,527,7],[527,8,527,9],[524,2,524,3],[524,4,524,7],[524,8,524,9],[525,2,525,3],[525,4,525,7],[525,8,525,9],[522,2,522,3],[522,4,522,7],[522,8,522,9],[523,2,523,3],[523,4,523,7],[523,8,523,9],[520,2,520,3],[520,4,520,7],[520,8,520,9],[521,2,521,3],[521,4,521,7],[521,8,521,9],[518,2,518,3],[518,4,518,7],[518,8,518,9],[519,2,519,3],[519,4,519,7],[519,8,519,9],[516,2,516,3],[516,4,516,7],[516,8,516,9],[517,2,517,3],[517,4,517,7],[517,8,517,9],[514,2,514,3],[514,4,514,7],[514,8,514,9],[515,2,515,3],[515,4,515,7],[515,8,515,9],[512,2,512,3],[512,4,512,7],[512,8,512,9],[513,2,513,3],[513,4,513,7],[513,8,513,9],[510,2,510,3],[510,4,510,7],[510,8,510,9],[511,2,511,3],[511,4,511,7],[511,8,511,9],[508,2,508,3],[508,4,508,7],[508,8,508,9],[509,2,509,3],[509,4,509,7],[509,8,509,9],[506,2,506,3],[506,4,506,7],[506,8,506,9],[507,2,507,3],[507,4,507,7],[507,8,507,9],[504,2,504,3],[504,4,504,7],[504,8,504,9],[505,2,505,3],[505,4,505,7],[505,8,505,9],[502,2,502,3],[502,4,502,7],[502,8,502,9],[503,2,503,3],[503,4,503,7],[503,8,503,9],[500,2,500,3],[500,4,500,7],[500,8,500,9],[501,2,501,3],[501,4,501,7],[501,8,501,9],[498,2,498,3],[498,4,498,7],[498,8,498,9],[499,2,499,3],[499,4,499,7],[499,8,499,9],[496,2,496,3],[496,4,496,7],[496,8,496,9],[497,2,497,3],[497,4,497,7],[497,8,497,9],[494,2,494,3],[494,4,494,7],[494,8,494,9],[495,2,495,3],[495,4,495,7],[495,8,495,9],[492,2,492,3],[492,4,492,7],[492,8,492,9],[493,2,493,3],[493,4,493,7],[493,8,493,9],[490,2,490,3],[490,4,490,7],[490,8,490,9],[491,2,491,3],[491,4,491,7],[491,8,491,9],[488,2,488,3],[488,4,488,7],[488,8,488,9],[489,2,489,3],[489,4,489,7],[489,8,489,9],[486,2,486,3],[486,4,486,7],[486,8,486,9],[487,2,487,3],[487,4,487,7],[487,8,487,9],[484,2,484,3],[484,4,484,7],[484,8,484,9],[485,2,485,3],[485,4,485,7],[485,8,485,9],[482,2,482,3],[482,4,482,7],[482,8,482,9],[483,2,483,3],[483,4,483,7],[483,8,483,9],[480,2,480,3],[480,4,480,7],[480,8,480,9],[481,2,481,3],[481,4,481,7],[481,8,481,9],[478,2,478,3],[478,4,478,7],[478,8,478,9],[479,2,479,3],[479,4,479,7],[479,8,479,9],[476,2,476,3],[476,4,476,7],[476,8,476,9],[477,2,477,3],[477,4,477,7],[477,8,477,9],[474,2,474,3],[474,4,474,7],[474,8,474,9],[475,2,475,3],[475,4,475,7],[475,8,475,9],[472,2,472,3],[472,4,472,7],[472,8,472,9],[473,2,473,3],[473,4,473,7],[473,8,473,9],[470,2,470,3],[470,4,470,7],[470,8,470,9],[471,2,471,3],[471,4,471,7],[471,8,471,9],[468,2,468,3],[468,4,468,7],[468,8,468,9],[469,2,469,3],[469,4,469,7],[469,8,469,9],[466,2,466,3],[466,4,466,7],[466,8,466,9],[467,2,467,3],[467,4,467,7],[467,8,467,9],[464,2,464,3],[464,4,464,7],[464,8,464,9],[465,2,465,3],[465,4,465,7],[465,8,465,9],[462,0,462,1],[462,2,462,3],[462,4,462,7],[462,8,462,9],[463,0,463,1],[463,2,463,3],[463,4,463,7],[463,8,463,9],[460,0,460,1],[460,2,460,3],[460,4,460,7],[460,8,460,9],[461,0,461,1],[461,2,461,3],[461,4,461,7],[461,8,461,9],[458,0,458,1],[458,2,458,3],[458,4,458,7],[458,8,458,9],[459,0,459,1],[459,2,459,3],[459,4,459,7],[459,8,459,9],[456,0,456,1],[456,2,456,3],[456,4,456,7],[456,8,456,9],[457,0,457,1],[457,2,457,3],[457,4,457,7],[457,8,457,9],[454,0,454,1],[454,2,454,3],[454,4,454,7],[454,8,454,9],[455,0,455,1],[455,2,455,3],[455,4,455,7],[455,8,455,9],[452,0,452,1],[452,2,452,3],[452,4,452,7],[452,8,452,9],[453,0,453,1],[453,2,453,3],[453,4,453,7],[453,8,453,9],[450,0,450,1],[450,2,450,3],[450,4,450,7],[450,8,450,9],[451,0,451,1],[451,2,451,3],[451,4,451,7],[451,8,451,9],[448,0,448,1],[448,2,448,3],[448,4,448,7],[448,8,448,9],[449,0,449,1],[449,2,449,3],[449,4,449,7],[449,8,449,9],[446,0,446,1],[446,2,446,3],[446,4,446,7],[446,8,446,9],[447,0,447,1],[447,2,447,3],[447,4,447,7],[447,8,447,9],[444,0,444,1],[444,2,444,3],[444,4,444,7],[444,8,444,9],[445,0,445,1],[445,2,445,3],[445,4,445,7],[445,8,445,9],[442,0,442,1],[442,2,442,3],[442,4,442,7],[442,8,442,9],[443,0,443,1],[443,2,443,3],[443,4,443,7],[443,8,443,9],[440,0,440,1],[440,2,440,3],[440,4,440,7],[440,8,440,9],[441,0,441,1],[441,2,441,3],[441,4,441,7],[441,8,441,9],[438,0,438,1],[438,2,438,3],[438,4,438,7],[438,8,438,9],[439,0,439,1],[439,2,439,3],[439,4,439,7],[439,8,439,9],[436,0,436,1],[436,2,436,3],[436,4,436,7],[436,8,436,9],[437,0,437,1],[437,2,437,3],[437,4,437,7],[437,8,437,9],[434,0,434,1],[434,2,434,3],[434,4,434,7],[434,8,434,9],[435,0,435,1],[435,2,435,3],[435,4,435,7],[435,8,435,9],[432,0,432,1],[432,2,432,3],[432,4,432,7],[432,8,432,9],[433,0,433,1],[433,2,433,3],[433,4,433,7],[433,8,433,9],[430,0,430,1],[430,2,430,3],[430,4,430,7],[430,8,430,9],[431,0,431,1],[431,2,431,3],[431,4,431,7],[431,8,431,9],[428,0,428,1],[428,2,428,3],[428,4,428,7],[428,8,428,9],[429,0,429,1],[429,2,429,3],[429,4,429,7],[429,8,429,9],[426,0,426,1],[426,2,426,3],[426,4,426,7],[426,8,426,9],[427,0,427,1],[427,2,427,3],[427,4,427,7],[427,8,427,9],[424,0,424,1],[424,2,424,3],[424,4,424,7],[424,8,424,9],[425,0,425,1],[425,2,425,3],[425,4,425,7],[425,8,425,9],[422,0,422,1],[422,2,422,3],[422,4,422,7],[422,8,422,9],[423,0,423,1],[423,2,423,3],[423,4,423,7],[423,8,423,9],[420,0,420,1],[420,2,420,3],[420,4,420,7],[420,8,420,9],[421,0,421,1],[421,2,421,3],[421,4,421,7],[421,8,421,9],[418,0,418,1],[418,2,418,3],[418,4,418,7],[418,8,418,9],[419,0,419,1],[419,2,419,3],[419,4,419,7],[419,8,419,9],[416,0,416,1],[416,2,416,3],[416,4,416,7],[416,8,416,9],[417,0,417,1],[417,2,417,3],[417,4,417,7],[417,8,417,9],[414,0,414,1],[414,2,414,3],[414,4,414,7],[414,8,414,9],[415,0,415,1],[415,2,415,3],[415,4,415,7],[415,8,415,9],[412,0,412,1],[412,2,412,3],[412,4,412,7],[412,8,412,9],[413,0,413,1],[413,2,413,3],[413,4,413,7],[413,8,413,9],[410,0,410,1],[410,2,410,3],[410,4,410,7],[410,8,410,9],[411,0,411,1],[411,2,411,3],[411,4,411,7],[411,8,411,9],[408,0,408,1],[408,2,408,3],[408,4,408,7],[408,8,408,9],[409,0,409,1],[409,2,409,3],[409,4,409,7],[409,8,409,9],[406,0,406,1],[406,2,406,3],[406,4,406,7],[406,8,406,9],[407,0,407,1],[407,2,407,3],[407,4,407,7],[407,8,407,9],[404,0,404,1],[404,2,404,3],[404,4,404,7],[404,8,404,9],[405,0,405,1],[405,2,405,3],[405,4,405,7],[405,8,405,9],[402,0,402,1],[402,2,402,3],[402,4,402,7],[402,8,402,9],[403,0,403,1],[403,2,403,3],[403,4,403,7],[403,8,403,9],[400,0,400,1],[400,2,400,3],[400,4,400,7],[400,8,400,9],[401,0,401,1],[401,2,401,3],[401,4,401,7],[401,8,401,9],[398,0,398,1],[398,2,398,3],[398,4,398,7],[398,8,398,9],[399,0,399,1],[399,2,399,3],[399,4,399,7],[399,8,399,9],[396,0,396,1],[396,2,396,3],[396,4,396,7],[396,8,396,9],[397,0,397,1],[397,2,397,3],[397,4,397,7],[397,8,397,9],[394,0,394,1],[394,2,394,3],[394,4,394,7],[394,8,394,9],[395,0,395,1],[395,2,395,3],[395,4,395,7],[395,8,395,9],[392,0,392,1],[392,2,392,3],[392,4,392,7],[392,8,392,9],[393,0,393,1],[393,2,393,3],[393,4,393,7],[393,8,393,9],[390,0,390,1],[390,2,390,3],[390,4,390,7],[390,8,390,9],[391,0,391,1],[391,2,391,3],[391,4,391,7],[391,8,391,9],[388,0,388,1],[388,2,388,3],[388,4,388,7],[388,8,388,9],[389,0,389,1],[389,2,389,3],[389,4,389,7],[389,8,389,9],[386,0,386,1],[386,2,386,3],[386,4,386,7],[386,8,386,9],[387,0,387,1],[387,2,387,3],[387,4,387,7],[387,8,387,9],[384,0,384,1],[384,2,384,3],[384,4,384,7],[384,8,384,9],[385,0,385,1],[385,2,385,3],[385,4,385,7],[385,8,385,9],[382,0,382,1],[382,2,382,3],[382,4,382,7],[382,8,382,9],[383,0,383,1],[383,2,383,3],[383,4,383,7],[383,8,383,9],[380,0,380,1],[380,2,380,3],[380,4,380,7],[380,8,380,9],[381,0,381,1],[381,2,381,3],[381,4,381,7],[381,8,381,9],[378,0,378,1],[378,2,378,3],[378,4,378,7],[378,8,378,9],[379,0,379,1],[379,2,379,3],[379,4,379,7],[379,8,379,9],[376,0,376,1],[376,2,376,3]],"merged_total":2138,"flags":["merged_cut"]}
["Minimum Requirements Document"]
[]
[]
["Customer",{"$f":"'1 - Project Info'!C2","v":0},null,null,null,null,null,null,"Program","EI"]
["Facility",{"$f":"'1 - Project Info'!C3","v":0},null,null,null,null,null,null,"Application #",{"$f":"'1 - Project Info'!C5","v":0}]
["Measure","Custom Retrofit Lighting",null,null,null,null,null,null,"Cooling Type",{"$f":"'1 - Project Info'!C6","v":0}]
[]
["This document specifies the agreed upon minimum equipment specifications and operational requirements of the proposed system. These requirements shall address the criteria necessary to be met to achieve the demand and energy savings estimated in the engineering analysis for this project. Yes/No checkboxes are intended for use as Rhode Island Energy’s post-installation inspection record (check one).  "]
[]
[]
[]
[]
[]
["EQUIPMENT: Provide a list of equipment or materials installed as part of this project. Include equipment counts, HP, kW, efficiency  "]
["and capacity ratings, rating conditions, location of controls hardware, etc."]
[null,"Project Design Intent",null,null,null,null,null,null,"Post Inspection Findings"]
[null,"1.",{"$f":"\"Install \"&'3 - Savings Analysis'!Q45&\" lighting fixtures, per manufacturer's recommendation with fixture model numbers and counts per attached inventory, Table 1.\"","v":"Install 0 lighting fixtures, per manufacturer's recommendation with fixture model numbers and counts per attached inventory, Table 1."}]
[]
[]
[]
[]
["CONTROLS: Provide a description of equipment controls and associated operating hours reduction . "]
[".","2.",{"$f":"\"Verify the individual fixture control type per attached inventory Table 1.\"","v":"Verify the individual fixture control type per attached inventory Table 1."}]
[]
[]
[".","3.","Provide access to digital controls device for integral controls to verify the controls settings. "]
[]
[]
[]
["SEQUENCES OF OPERATION: Provide a description of equipment operating sequences, setpoints, operating schedules, "]
[" balancing requirements (flow, velocity, head, etc.) or any other required operating parameters. Describe requirements separately."]
[null,"4.",{"$f":"\"Verify the facility operating hours per attached inventory, Table 1.\"","v":"Verify the facility operating hours per attached inventory, Table 1."}]
[]
[]
[]
["DOCUMENTATION: List written documentation required to train, verify, operate, or maintain the equipment being installed or "]
["controlled. This may include specification sheets, test reports, construction drawings, etc."]
[null,"5.","Provide documentation (invoices, etc.) of all material, labor, and engineering costs as applicable to document the total installed project costs. Material and labor costs should be separately listed."]
[]
[]
[]
[]
[]
[]
[]
[]
["Minimum Requirements Document"]
[]
[]
["POST INSTALLATION VERIFICATION: Provide a list of controls and monitoring capabilities required to verify proper system "]
["operation. Trends should document operational sequences, set points and scheduling of equipment as described in TA Study."]
[null,"6.","Provide sample shipping boxes at time of post inspection for verification of fixture models where the fixtures are hard to reach or inaccessible. "]
[]
[]
[]
["Other Requirements: Describe any other requirements for demolition, removal, etc. of existing equipment. "]
[null,"7.","A representative familiar with the scope of the work is required to be on site for the post inspection. "]
[]
[]
[]
[]
["The pre-approved incentive is subject to Rhode Island Energy's POST INSPECTION of final specifications, drawings and operation of the proposed equipment.  In the event the proposed system is altered from the above description, notify the Company of the change prior to the equipment purchase and installation as the change in design and operation may impact the available incentive"]
[]
[]
[]
[]
["The Rhode Island Energy signature below indicates the Rhode Island Energy engineer, or their representative, has reviewed and agrees to the requirements stated in this MRD. The customer signature below indicates the customer also agrees with the requirements of this MRD and will implement as stated.  The customer should only sign below if this MRD has been signed by Rhode Island Energy or its representative."]
[]
[]
[]
[]
[]
[]
[]
[]
[]
["Rhode Island Energy Engineer or Representative",null,null,"Date",null,null,null,"Customer Agreement Signature",null,null,"Date"]
[]
[]
[]
["Once the installation is complete and the equipment is operational, the post inspector will sign below, confirming all requirements of this MRD have been met, and/or any discrepancies have been noted.  Rhode Island Energy will review any discrepancies to determine their impact on energy savings or incentive. The final customer signature indicates that they agree with the findings of the post inspector, including any discrepancies noted, and are satisfied with the installation. \n"]
[]
[]
[]
[]
[]
[]
[]
[]
[]
[]
["Rhode Island Energy Engineer or Representative",null,null,"Date",null,null,null,"Customer Agreement Signature",null,null,"Date"]

{"sheet":"MRD Table","index":25,"n_rows":1001,"n_cols":20,"rows_kept":1001,"cut":false,"hidden":false,"merged":[[0,0,1,8],[3,0,3,9]]}
["Minimum Requirements Document",null,null,null,null,null,null,null,null,null,null,"lines",{"$f":"COUNTA('3 - Savings Analysis'!B:B)-1","v":32}]
[null,null,null,null,null,null,null,null,null,null,null,"total line",{"$f":"M1+13","v":45}]
[null,null,null,null,null,null,null,null,null,null,null,"end",{"$f":"M1+4","v":36}]
["Table 1: Proposed Lighting Fixtures",null,null,null,null,null,null,null,null,null,"reff column",{"$f":"MATCH(L5,'3 - Savings Analysis'!14:14,0)","v":2},{"$f":"MATCH(M5,'3 - Savings Analysis'!14:14,0)","v":3},{"$f":"MATCH(N5,'3 - Savings Analysis'!14:14,0)","v":8},{"$f":"MATCH(O5,'3 - Savings Analysis'!14:14,0)","v":9},{"$f":"MATCH(P5,'3 - Savings Analysis'!14:14,0)","v":17},{"$f":"MATCH(Q5,'3 - Savings Analysis'!14:14,0)","v":19},{"$f":"MATCH(R5,'3 - Savings Analysis'!14:14,0)","v":20},{"$f":"MATCH(S5,'3 - Savings Analysis'!14:14,0)","v":23},{"$f":"MATCH(T5,'3 - Savings Analysis'!14:14,0)","v":47}]
["Line","Fixture Location","Annual Operating Hours","Ex. Qty","Prop. Qty","Manufacturer/Model Number","Proposed Wattage","Proposed High End Trim\n(% of Max Fixture Output)","Controls",null,"reff row","Line","Fixture Location","Annual Operating Hours","Ex. Qty","Prop. Qty","Manufacturer/Model Number","Proposed Wattage","Proposed High End Trim\n(% of Max Fixture Output)","Controls"]
[{"$f":"IF($K6<=$M$2,L6,\"\")","v":1},{"$f":"IF($K6<=$M$2,IF($A6=\"Total\",\"\",M6),\"\")","v":0},"",{"$f":"IF($K6<=$M$2,O6,\"\")","v":0},0,{"$f":"IF($K6<=$M$2,IF($A6=\"Total\",\"\",Q6),\"\")","v":""},"",{"$f":"IF($K6<=$M$2,IF($A6=\"Total\",\"\",IF($T6=0,\"\",S6)),\"\")","v":""},"",null,15,{"$f":"INDIRECT(ADDRESS($K6,L$4,1,1,\"3 - Savings Analysis\"))","v":1},{"$f":"INDIRECT(ADDRESS($K6,M$4,1,1,\"3 - Savings Analysis\"))","v":0},{"$f":"INDIRECT(ADDRESS($K6,N$4,1,1,\"3 - Savings Analysis\"))","v":""},{"$f":"INDIRECT(ADDRESS($K6,O$4,1,1,\"3 - Savings Analysis\"))","v":0},{"$f":"INDIRECT(ADDRESS($K6,P$4,1,1,\"3 - Savings Analysis\"))","v":0},{"$f":"INDIRECT(ADDRESS($K6,Q$4,1,1,\"3 - Savings Analysis\"))","v":""},{"$f":"INDIRECT(ADDRESS($K6,R$4,1,1,\"3 - Savings Analysis\"))","v":""},{"$f":"INDIRECT(ADDRESS($K6,S$4,1,1,\"3 - Savings Analysis\"))","v":0},{"$f":"INDIRECT(ADDRESS($K6,T$4,1,1,\"3 - Savings Analysis\"))","v":0}]
[{"$f":"IF($K7<=$M$2,L7,\"\")","v":2},0,"",0,0,"","","","",null,{"$f":"K6+1","v":16},{"$f":"INDIRECT(ADDRESS($K7,L$4,1,1,\"3 - Savings Analysis\"))","v":2},{"$f":"INDIRECT(ADDRESS($K7,M$4,1,1,\"3 - Savings Analysis\"))","v":0},{"$f":"INDIRECT(ADDRESS($K7,N$4,1,1,\"3 - Savings Analysis\"))","v":""},{"$f":"INDIRECT(ADDRESS($K7,O$4,1,1,\"3 - Savings Analysis\"))","v":0},{"$f":"INDIRECT(ADDRESS($K7,P$4,1,1,\"3 - Savings Analysis\"))","v":0},{"$f":"INDIRECT(ADDRESS($K7,Q$4,1,1,\"3 - Savings Analysis\"))","v":""},{"$f":"INDIRECT(ADDRESS($K7,R$4,1,1,\"3 - Savings Analysis\"))","v":""},{"$f":"INDIRECT(ADDRESS($K7,S$4,1,1,\"3 - Savings Analysis\"))","v":0},{"$f":"INDIRECT(ADDRESS($K7,T$4,1,1,\"3 - Savings Analysis\"))","v":0}]
[{"$f":"IF($K8<=$M$2,L8,\"\")","v":3},0,"",0,0,"","","","",null,{"$f":"K7+1","v":17},{"$f":"INDIRECT(ADDRESS($K8,L$4,1,1,\"3 - Savings Analysis\"))","v":3},{"$f":"INDIRECT(ADDRESS($K8,M$4,1,1,\"3 - Savings Analysis\"))","v":0},{"$f":"INDIRECT(ADDRESS($K8,N$4,1,1,\"3 - Savings Analysis\"))","v":""},{"$f":"INDIRECT(ADDRESS($K8,O$4,1,1,\"3 - Savings Analysis\"))","v":0},{"$f":"INDIRECT(ADDRESS($K8,P$4,1,1,\"3 - Savings Analysis\"))","v":0},{"$f":"INDIRECT(ADDRESS($K8,Q$4,1,1,\"3 - Savings Analysis\"))","v":""},{"$f":"INDIRECT(ADDRESS($K8,R$4,1,1,\"3 - Savings Analysis\"))","v":""},{"$f":"INDIRECT(ADDRESS($K8,S$4,1,1,\"3 - Savings Analysis\"))","v":0},{"$f":"INDIRECT(ADDRESS($K8,T$4,1,1,\"3 - Savings Analysis\"))","v":0}]
[{"$f":"IF($K9<=$M$2,L9,\"\")","v":4},{"$f":"IF($K9<=$M$2,IF($A9=\"Total\",\"\",M9),\"\")","v":0},{"$f":"IF($K9<=$M$2,IF($A9=\"Total\",\"\",N9),\"\")","v":""},{"$f":"IF($K9<=$M$2,O9,\"\")","v":0},{"$f":"IF($K9<=$M$2,P9,\"\")","v":0},{"$f":"IF($K9<=$M$2,IF($A9=\"Total\",\"\",Q9),\"\")","v":""},{"$f":"IF($K9<=$M$2,IF($A9=\"Total\",\"\",R9),\"\")","v":""},{"$f":"IF($K9<=$M$2,IF($A9=\"Total\",\"\",IF($T9=0,\"\",S9)),\"\")","v":""},{"$f":"IF($K9<=$M$2,IF($A9=\"Total\",\"\",IF($T9=0,\"\",T9)),\"\")","v":""},null,{"$f":"K8+1","v":18},{"$f":"INDIRECT(ADDRESS($K9,L$4,1,1,\"3 - Savings Analysis\"))","v":4},{"$f":"INDIRECT(ADDRESS($K9,M$4,1,1,\"3 - Savings Analysis\"))","v":0},{"$f":"INDIRECT(ADDRESS($K9,N$4,1,1,\"3 - Savings Analysis\"))","v":""},{"$f":"INDIRECT(ADDRESS($K9,O$4,1,1,\"3 - Savings Analysis\"))","v":0},{"$f":"INDIRECT(ADDRESS($K9,P$4,1,1,\"3 - Savings Analysis\"))","v":0},{"$f":"INDIRECT(ADDRESS($K9,Q$4,1,1,\"3 - Savings Analysis\"))","v":""},{"$f":"INDIRECT(ADDRESS($K9,R$4,1,1,\"3 - Savings Analysis\"))","v":""},{"$f":"INDIRECT(ADDRESS($K9,S$4,1,1,\"3 - Savings Analysis\"))","v":0},{"$f":"INDIRECT(ADDRESS($K9,T$4,1,1,\"3 - Savings Analysis\"))","v":0}]
[5,0,"",0,0,"","","","",null,19,{"$f":"INDIRECT(ADDRESS($K10,L$4,1,1,\"3 - Savings Analysis\"))","v":5},{"$f":"INDIRECT(ADDRESS($K10,M$4,1,1,\"3 - Savings Analysis\"))","v":0},{"$f":"INDIRECT(ADDRESS($K10,N$4,1,1,\"3 - Savings Analysis\"))","v":""},{"$f":"INDIRECT(ADDRESS($K10,O$4,1,1,\"3 - Savings Analysis\"))","v":0},{"$f":"INDIRECT(ADDRESS($K10,P$4,1,1,\"3 - Savings Analysis\"))","v":0},{"$f":"INDIRECT(ADDRESS($K10,Q$4,1,1,\"3 - Savings Analysis\"))","v":""},{"$f":"INDIRECT(ADDRESS($K10,R$4,1,1,\"3 - Savings Analysis\"))","v":""},{"$f":"INDIRECT(ADDRESS($K10,S$4,1,1,\"3 - Savings Analysis\"))","v":0},{"$f":"INDIRECT(ADDRESS($K10,T$4,1,1,\"3 - Savings Analysis\"))","v":0}]
[6,0,"",0,0,"","","","",null,20,{"$f":"INDIRECT(ADDRESS($K11,L$4,1,1,\"3 - Savings Analysis\"))","v":6},{"$f":"INDIRECT(ADDRESS($K11,M$4,1,1,\"3 - Savings Analysis\"))","v":0},{"$f":"INDIRECT(ADDRESS($K11,N$4,1,1,\"3 - Savings Analysis\"))","v":""},{"$f":"INDIRECT(ADDRESS($K11,O$4,1,1,\"3 - Savings Analysis\"))","v":0},{"$f":"INDIRECT(ADDRESS($K11,P$4,1,1,\"3 - Savings Analysis\"))","v":0},{"$f":"INDIRECT(ADDRESS($K11,Q$4,1,1,\"3 - Savings Analysis\"))","v":""},{"$f":"INDIRECT(ADDRESS($K11,R$4,1,1,\"3 - Savings Analysis\"))","v":""},{"$f":"INDIRECT(ADDRESS($K11,S$4,1,1,\"3 - Savings Analysis\"))","v":0},{"$f":"INDIRECT(ADDRESS($K11,T$4,1,1,\"3 - Savings Analysis\"))","v":0}]
[{"$f":"IF($K12<=$M$2,L12,\"\")","v":7},{"$f":"IF($K12<=$M$2,IF($A12=\"Total\",\"\",M12),\"\")","v":0},{"$f":"IF($K12<=$M$2,IF($A12=\"Total\",\"\",N12),\"\")","v":""},{"$f":"IF($K12<=$M$2,O12,\"\")","v":0},{"$f":"IF($K12<=$M$2,P12,\"\")","v":0},{"$f":"IF($K12<=$M$2,IF($A12=\"Total\",\"\",Q12),\"\")","v":""},{"$f":"IF($K12<=$M$2,IF($A12=\"Total\",\"\",R12),\"\")","v":""},{"$f":"IF($K12<=$M$2,IF($A12=\"Total\",\"\",IF($T12=0,\"\",S12)),\"\")","v":""},{"$f":"IF($K12<=$M$2,IF($A12=\"Total\",\"\",IF($T12=0,\"\",T12)),\"\")","v":""},null,21,{"$f":"INDIRECT(ADDRESS($K12,L$4,1,1,\"3 - Savings Analysis\"))","v":7},{"$f":"INDIRECT(ADDRESS($K12,M$4,1,1,\"3 - Savings Analysis\"))","v":0},{"$f":"INDIRECT(ADDRESS($K12,N$4,1,1,\"3 - Savings Analysis\"))","v":""},{"$f":"INDIRECT(ADDRESS($K12,O$4,1,1,\"3 - Savings Analysis\"))","v":0},{"$f":"INDIRECT(ADDRESS($K12,P$4,1,1,\"3 - Savings Analysis\"))","v":0},{"$f":"INDIRECT(ADDRESS($K12,Q$4,1,1,\"3 - Savings Analysis\"))","v":""},{"$f":"INDIRECT(ADDRESS($K12,R$4,1,1,\"3 - Savings Analysis\"))","v":""},{"$f":"INDIRECT(ADDRESS($K12,S$4,1,1,\"3 - Savings Analysis\"))","v":0},{"$f":"INDIRECT(ADDRESS($K12,T$4,1,1,\"3 - Savings Analysis\"))","v":0}]
[{"$f":"IF($K13<=$M$2,L13,\"\")","v":8},{"$f":"IF($K13<=$M$2,IF($A13=\"Total\",\"\",M13),\"\")","v":0},{"$f":"IF($K13<=$M$2,IF($A13=\"Total\",\"\",N13),\"\")","v":""},{"$f":"IF($K13<=$M$2,O13,\"\")","v":0},{"$f":"IF($K13<=$M$2,P13,\"\")","v":0},{"$f":"IF($K13<=$M$2,IF($A13=\"Total\",\"\",Q13),\"\")","v":""},{"$f":"IF($K13<=$M$2,IF($A13=\"Total\",\"\",R13),\"\")","v":""},{"$f":"IF($K13<=$M$2,IF($A13=\"Total\",\"\",IF($T13=0,\"\",S13)),\"\")","v":""},{"$f":"IF($K13<=$M$2,IF($A13=\"Total\",\"\",IF($T13=0,\"\",T13)),\"\")","v":""},null,22,{"$f":"INDIRECT(ADDRESS($K13,L$4,1,1,\"3 - Savings Analysis\"))","v":8},{"$f":"INDIRECT(ADDRESS($K13,M$4,1,1,\"3 - Savings Analysis\"))","v":0},{"$f":"INDIRECT(ADDRESS($K13,N$4,1,1,\"3 - Savings Analysis\"))","v":""},{"$f":"INDIRECT(ADDRESS($K13,O$4,1,1,\"3 - Savings Analysis\"))","v":0},{"$f":"INDIRECT(ADDRESS($K13,P$4,1,1,\"3 - Savings Analysis\"))","v":0},{"$f":"INDIRECT(ADDRESS($K13,Q$4,1,1,\"3 - Savings Analysis\"))","v":""},{"$f":"INDIRECT(ADDRESS($K13,R$4,1,1,\"3 - Savings Analysis\"))","v":""},{"$f":"INDIRECT(ADDRESS($K13,S$4,1,1,\"3 - Savings Analysis\"))","v":0},{"$f":"INDIRECT(ADDRESS($K13,T$4,1,1,\"3 - Savings Analysis\"))","v":0}]
[9,0,"",0,0,"","","","",null,23,{"$f":"INDIRECT(ADDRESS($K14,L$4,1,1,\"3 - Savings Analysis\"))","v":9},{"$f":"INDIRECT(ADDRESS($K14,M$4,1,1,\"3 - Savings Analysis\"))","v":0},{"$f":"INDIRECT(ADDRESS($K14,N$4,1,1,\"3 - Savings Analysis\"))","v":""},{"$f":"INDIRECT(ADDRESS($K14,O$4,1,1,\"3 - Savings Analysis\"))","v":0},{"$f":"INDIRECT(ADDRESS($K14,P$4,1,1,\"3 - Savings Analysis\"))","v":0},{"$f":"INDIRECT(ADDRESS($K14,Q$4,1,1,\"3 - Savings Analysis\"))","v":""},{"$f":"INDIRECT(ADDRESS($K14,R$4,1,1,\"3 - Savings Analysis\"))","v":""},{"$f":"INDIRECT(ADDRESS($K14,S$4,1,1,\"3 - Savings Analysis\"))","v":0},{"$f":"INDIRECT(ADDRESS($K14,T$4,1,1,\"3 - Savings Analysis\"))","v":0}]
[10,0,"",0,0,"","","","",null,24,{"$f":"INDIRECT(ADDRESS($K15,L$4,1,1,\"3 - Savings Analysis\"))","v":10},{"$f":"INDIRECT(ADDRESS($K15,M$4,1,1,\"3 - Savings Analysis\"))","v":0},{"$f":"INDIRECT(ADDRESS($K15,N$4,1,1,\"3 - Savings Analysis\"))","v":""},{"$f":"INDIRECT(ADDRESS($K15,O$4,1,1,\"3 - Savings Analysis\"))","v":0},{"$f":"INDIRECT(ADDRESS($K15,P$4,1,1,\"3 - Savings Analysis\"))","v":0},{"$f":"INDIRECT(ADDRESS($K15,Q$4,1,1,\"3 - Savings Analysis\"))","v":""},{"$f":"INDIRECT(ADDRESS($K15,R$4,1,1,\"3 - Savings Analysis\"))","v":""},{"$f":"INDIRECT(ADDRESS($K15,S$4,1,1,\"3 - Savings Analysis\"))","v":0},{"$f":"INDIRECT(ADDRESS($K15,T$4,1,1,\"3 - Savings Analysis\"))","v":0}]
[11,0,"",0,0,"","","","",null,25,{"$f":"INDIRECT(ADDRESS($K16,L$4,1,1,\"3 - Savings Analysis\"))","v":11},{"$f":"INDIRECT(ADDRESS($K16,M$4,1,1,\"3 - Savings Analysis\"))","v":0},{"$f":"INDIRECT(ADDRESS($K16,N$4,1,1,\"3 - Savings Analysis\"))","v":""},{"$f":"INDIRECT(ADDRESS($K16,O$4,1,1,\"3 - Savings Analysis\"))","v":0},{"$f":"INDIRECT(ADDRESS($K16,P$4,1,1,\"3 - Savings Analysis\"))","v":0},{"$f":"INDIRECT(ADDRESS($K16,Q$4,1,1,\"3 - Savings Analysis\"))","v":""},{"$f":"INDIRECT(ADDRESS($K16,R$4,1,1,\"3 - Savings Analysis\"))","v":""},{"$f":"INDIRECT(ADDRESS($K16,S$4,1,1,\"3 - Savings Analysis\"))","v":0},{"$f":"INDIRECT(ADDRESS($K16,T$4,1,1,\"3 - Savings Analysis\"))","v":0}]
[12,0,"",0,0,"","","","",null,26,{"$f":"INDIRECT(ADDRESS($K17,L$4,1,1,\"3 - Savings Analysis\"))","v":12},{"$f":"INDIRECT(ADDRESS($K17,M$4,1,1,\"3 - Savings Analysis\"))","v":0},{"$f":"INDIRECT(ADDRESS($K17,N$4,1,1,\"3 - Savings Analysis\"))","v":""},{"$f":"INDIRECT(ADDRESS($K17,O$4,1,1,\"3 - Savings Analysis\"))","v":0},{"$f":"INDIRECT(ADDRESS($K17,P$4,1,1,\"3 - Savings Analysis\"))","v":0},{"$f":"INDIRECT(ADDRESS($K17,Q$4,1,1,\"3 - Savings Analysis\"))","v":""},{"$f":"INDIRECT(ADDRESS($K17,R$4,1,1,\"3 - Savings Analysis\"))","v":""},{"$f":"INDIRECT(ADDRESS($K17,S$4,1,1,\"3 - Savings Analysis\"))","v":0},{"$f":"INDIRECT(ADDRESS($K17,T$4,1,1,\"3 - Savings Analysis\"))","v":0}]
[13,0,"",0,0,"","","","",null,27,{"$f":"INDIRECT(ADDRESS($K18,L$4,1,1,\"3 - Savings Analysis\"))","v":13},{"$f":"INDIRECT(ADDRESS($K18,M$4,1,1,\"3 - Savings Analysis\"))","v":0},{"$f":"INDIRECT(ADDRESS($K18,N$4,1,1,\"3 - Savings Analysis\"))","v":""},{"$f":"INDIRECT(ADDRESS($K18,O$4,1,1,\"3 - Savings Analysis\"))","v":0},{"$f":"INDIRECT(ADDRESS($K18,P$4,1,1,\"3 - Savings Analysis\"))","v":0},{"$f":"INDIRECT(ADDRESS($K18,Q$4,1,1,\"3 - Savings Analysis\"))","v":""},{"$f":"INDIRECT(ADDRESS($K18,R$4,1,1,\"3 - Savings Analysis\"))","v":""},{"$f":"INDIRECT(ADDRESS($K18,S$4,1,1,\"3 - Savings Analysis\"))","v":0},{"$f":"INDIRECT(ADDRESS($K18,T$4,1,1,\"3 - Savings Analysis\"))","v":0}]
[14,0,"",0,0,"","","","",null,28,{"$f":"INDIRECT(ADDRESS($K19,L$4,1,1,\"3 - Savings Analysis\"))","v":14},{"$f":"INDIRECT(ADDRESS($K19,M$4,1,1,\"3 - Savings Analysis\"))","v":0},{"$f":"INDIRECT(ADDRESS($K19,N$4,1,1,\"3 - Savings Analysis\"))","v":""},{"$f":"INDIRECT(ADDRESS($K19,O$4,1,1,\"3 - Savings Analysis\"))","v":0},{"$f":"INDIRECT(ADDRESS($K19,P$4,1,1,\"3 - Savings Analysis\"))","v":0},{"$f":"INDIRECT(ADDRESS($K19,Q$4,1,1,\"3 - Savings Analysis\"))","v":""},{"$f":"INDIRECT(ADDRESS($K19,R$4,1,1,\"3 - Savings Analysis\"))","v":""},{"$f":"INDIRECT(ADDRESS($K19,S$4,1,1,\"3 - Savings Analysis\"))","v":0},{"$f":"INDIRECT(ADDRESS($K19,T$4,1,1,\"3 - Savings Analysis\"))","v":0}]
[15,0,"",0,0,"","","","",null,29,{"$f":"INDIRECT(ADDRESS($K20,L$4,1,1,\"3 - Savings Analysis\"))","v":15},{"$f":"INDIRECT(ADDRESS($K20,M$4,1,1,\"3 - Savings Analysis\"))","v":0},{"$f":"INDIRECT(ADDRESS($K20,N$4,1,1,\"3 - Savings Analysis\"))","v":""},{"$f":"INDIRECT(ADDRESS($K20,O$4,1,1,\"3 - Savings Analysis\"))","v":0},{"$f":"INDIRECT(ADDRESS($K20,P$4,1,1,\"3 - Savings Analysis\"))","v":0},{"$f":"INDIRECT(ADDRESS($K20,Q$4,1,1,\"3 - Savings Analysis\"))","v":""},{"$f":"INDIRECT(ADDRESS($K20,R$4,1,1,\"3 - Savings Analysis\"))","v":""},{"$f":"INDIRECT(ADDRESS($K20,S$4,1,1,\"3 - Savings Analysis\"))","v":0},{"$f":"INDIRECT(ADDRESS($K20,T$4,1,1,\"3 - Savings Analysis\"))","v":0}]
[16,0,"",0,0,"","","","",null,30,{"$f":"INDIRECT(ADDRESS($K21,L$4,1,1,\"3 - Savings Analysis\"))","v":16},{"$f":"INDIRECT(ADDRESS($K21,M$4,1,1,\"3 - Savings Analysis\"))","v":0},{"$f":"INDIRECT(ADDRESS($K21,N$4,1,1,\"3 - Savings Analysis\"))","v":""},{"$f":"INDIRECT(ADDRESS($K21,O$4,1,1,\"3 - Savings Analysis\"))","v":0},{"$f":"INDIRECT(ADDRESS($K21,P$4,1,1,\"3 - Savings Analysis\"))","v":0},{"$f":"INDIRECT(ADDRESS($K21,Q$4,1,1,\"3 - Savings Analysis\"))","v":""},{"$f":"INDIRECT(ADDRESS($K21,R$4,1,1,\"3 - Savings Analysis\"))","v":""},{"$f":"INDIRECT(ADDRESS($K21,S$4,1,1,\"3 - Savings Analysis\"))","v":0},{"$f":"INDIRECT(ADDRESS($K21,T$4,1,1,\"3 - Savings Analysis\"))","v":0}]
[17,0,"",0,0,"","","","",null,31,{"$f":"INDIRECT(ADDRESS($K22,L$4,1,1,\"3 - Savings Analysis\"))","v":17},{"$f":"INDIRECT(ADDRESS($K22,M$4,1,1,\"3 - Savings Analysis\"))","v":0},{"$f":"INDIRECT(ADDRESS($K22,N$4,1,1,\"3 - Savings Analysis\"))","v":""},{"$f":"INDIRECT(ADDRESS($K22,O$4,1,1,\"3 - Savings Analysis\"))","v":0},{"$f":"INDIRECT(ADDRESS($K22,P$4,1,1,\"3 - Savings Analysis\"))","v":0},{"$f":"INDIRECT(ADDRESS($K22,Q$4,1,1,\"3 - Savings Analysis\"))","v":""},{"$f":"INDIRECT(ADDRESS($K22,R$4,1,1,\"3 - Savings Analysis\"))","v":""},{"$f":"INDIRECT(ADDRESS($K22,S$4,1,1,\"3 - Savings Analysis\"))","v":0},{"$f":"INDIRECT(ADDRESS($K22,T$4,1,1,\"3 - Savings Analysis\"))","v":0}]
[18,0,"",0,0,"","","","",null,32,{"$f":"INDIRECT(ADDRESS($K23,L$4,1,1,\"3 - Savings Analysis\"))","v":18},{"$f":"INDIRECT(ADDRESS($K23,M$4,1,1,\"3 - Savings Analysis\"))","v":0},{"$f":"INDIRECT(ADDRESS($K23,N$4,1,1,\"3 - Savings Analysis\"))","v":""},{"$f":"INDIRECT(ADDRESS($K23,O$4,1,1,\"3 - Savings Analysis\"))","v":0},{"$f":"INDIRECT(ADDRESS($K23,P$4,1,1,\"3 - Savings Analysis\"))","v":0},{"$f":"INDIRECT(ADDRESS($K23,Q$4,1,1,\"3 - Savings Analysis\"))","v":""},{"$f":"INDIRECT(ADDRESS($K23,R$4,1,1,\"3 - Savings Analysis\"))","v":""},{"$f":"INDIRECT(ADDRESS($K23,S$4,1,1,\"3 - Savings Analysis\"))","v":0},{"$f":"INDIRECT(ADDRESS($K23,T$4,1,1,\"3 - Savings Analysis\"))","v":0}]
[19,0,"",0,0,"","","","",null,33,{"$f":"INDIRECT(ADDRESS($K24,L$4,1,1,\"3 - Savings Analysis\"))","v":19},{"$f":"INDIRECT(ADDRESS($K24,M$4,1,1,\"3 - Savings Analysis\"))","v":0},{"$f":"INDIRECT(ADDRESS($K24,N$4,1,1,\"3 - Savings Analysis\"))","v":""},{"$f":"INDIRECT(ADDRESS($K24,O$4,1,1,\"3 - Savings Analysis\"))","v":0},{"$f":"INDIRECT(ADDRESS($K24,P$4,1,1,\"3 - Savings Analysis\"))","v":0},{"$f":"INDIRECT(ADDRESS($K24,Q$4,1,1,\"3 - Savings Analysis\"))","v":""},{"$f":"INDIRECT(ADDRESS($K24,R$4,1,1,\"3 - Savings Analysis\"))","v":""},{"$f":"INDIRECT(ADDRESS($K24,S$4,1,1,\"3 - Savings Analysis\"))","v":0},{"$f":"INDIRECT(ADDRESS($K24,T$4,1,1,\"3 - Savings Analysis\"))","v":0}]
[20,0,"",0,0,"","","","",null,34,{"$f":"INDIRECT(ADDRESS($K25,L$4,1,1,\"3 - Savings Analysis\"))","v":20},{"$f":"INDIRECT(ADDRESS($K25,M$4,1,1,\"3 - Savings Analysis\"))","v":0},{"$f":"INDIRECT(ADDRESS($K25,N$4,1,1,\"3 - Savings Analysis\"))","v":""},{"$f":"INDIRECT(ADDRESS($K25,O$4,1,1,\"3 - Savings Analysis\"))","v":0},{"$f":"INDIRECT(ADDRESS($K25,P$4,1,1,\"3 - Savings Analysis\"))","v":0},{"$f":"INDIRECT(ADDRESS($K25,Q$4,1,1,\"3 - Savings Analysis\"))","v":""},{"$f":"INDIRECT(ADDRESS($K25,R$4,1,1,\"3 - Savings Analysis\"))","v":""},{"$f":"INDIRECT(ADDRESS($K25,S$4,1,1,\"3 - Savings Analysis\"))","v":0},{"$f":"INDIRECT(ADDRESS($K25,T$4,1,1,\"3 - Savings Analysis\"))","v":0}]
[21,0,"",0,0,"","","","",null,35,{"$f":"INDIRECT(ADDRESS($K26,L$4,1,1,\"3 - Savings Analysis\"))","v":21},{"$f":"INDIRECT(ADDRESS($K26,M$4,1,1,\"3 - Savings Analysis\"))","v":0},{"$f":"INDIRECT(ADDRESS($K26,N$4,1,1,\"3 - Savings Analysis\"))","v":""},{"$f":"INDIRECT(ADDRESS($K26,O$4,1,1,\"3 - Savings Analysis\"))","v":0},{"$f":"INDIRECT(ADDRESS($K26,P$4,1,1,\"3 - Savings Analysis\"))","v":0},{"$f":"INDIRECT(ADDRESS($K26,Q$4,1,1,\"3 - Savings Analysis\"))","v":""},{"$f":"INDIRECT(ADDRESS($K26,R$4,1,1,\"3 - Savings Analysis\"))","v":""},{"$f":"INDIRECT(ADDRESS($K26,S$4,1,1,\"3 - Savings Analysis\"))","v":0},{"$f":"INDIRECT(ADDRESS($K26,T$4,1,1,\"3 - Savings Analysis\"))","v":0}]
[22,0,"",0,0,"","","","",null,36,{"$f":"INDIRECT(ADDRESS($K27,L$4,1,1,\"3 - Savings Analysis\"))","v":22},{"$f":"INDIRECT(ADDRESS($K27,M$4,1,1,\"3 - Savings Analysis\"))","v":0},{"$f":"INDIRECT(ADDRESS($K27,N$4,1,1,\"3 - Savings Analysis\"))","v":""},{"$f":"INDIRECT(ADDRESS($K27,O$4,1,1,\"3 - Savings Analysis\"))","v":0},{"$f":"INDIRECT(ADDRESS($K27,P$4,1,1,\"3 - Savings Analysis\"))","v":0},{"$f":"INDIRECT(ADDRESS($K27,Q$4,1,1,\"3 - Savings Analysis\"))","v":""},{"$f":"INDIRECT(ADDRESS($K27,R$4,1,1,\"3 - Savings Analysis\"))","v":""},{"$f":"INDIRECT(ADDRESS($K27,S$4,1,1,\"3 - Savings Analysis\"))","v":0},{"$f":"INDIRECT(ADDRESS($K27,T$4,1,1,\"3 - Savings Analysis\"))","v":0}]
[23,0,"",0,0,"","","","",null,37,{"$f":"INDIRECT(ADDRESS($K28,L$4,1,1,\"3 - Savings Analysis\"))","v":23},{"$f":"INDIRECT(ADDRESS($K28,M$4,1,1,\"3 - Savings Analysis\"))","v":0},{"$f":"INDIRECT(ADDRESS($K28,N$4,1,1,\"3 - Savings Analysis\"))","v":""},{"$f":"INDIRECT(ADDRESS($K28,O$4,1,1,\"3 - Savings Analysis\"))","v":0},{"$f":"INDIRECT(ADDRESS($K28,P$4,1,1,\"3 - Savings Analysis\"))","v":0},{"$f":"INDIRECT(ADDRESS($K28,Q$4,1,1,\"3 - Savings Analysis\"))","v":""},{"$f":"INDIRECT(ADDRESS($K28,R$4,1,1,\"3 - Savings Analysis\"))","v":""},{"$f":"INDIRECT(ADDRESS($K28,S$4,1,1,\"3 - Savings Analysis\"))","v":0},{"$f":"INDIRECT(ADDRESS($K28,T$4,1,1,\"3 - Savings Analysis\"))","v":0}]
[24,0,"",0,0,"","","","",null,38,{"$f":"INDIRECT(ADDRESS($K29,L$4,1,1,\"3 - Savings Analysis\"))","v":24},{"$f":"INDIRECT(ADDRESS($K29,M$4,1,1,\"3 - Savings Analysis\"))","v":0},{"$f":"INDIRECT(ADDRESS($K29,N$4,1,1,\"3 - Savings Analysis\"))","v":""},{"$f":"INDIRECT(ADDRESS($K29,O$4,1,1,\"3 - Savings Analysis\"))","v":0},{"$f":"INDIRECT(ADDRESS($K29,P$4,1,1,\"3 - Savings Analysis\"))","v":0},{"$f":"INDIRECT(ADDRESS($K29,Q$4,1,1,\"3 - Savings Analysis\"))","v":""},{"$f":"INDIRECT(ADDRESS($K29,R$4,1,1,\"3 - Savings Analysis\"))","v":""},{"$f":"INDIRECT(ADDRESS($K29,S$4,1,1,\"3 - Savings Analysis\"))","v":0},{"$f":"INDIRECT(ADDRESS($K29,T$4,1,1,\"3 - Savings Analysis\"))","v":0}]
[25,0,"",0,0,"","","","",null,39,{"$f":"INDIRECT(ADDRESS($K30,L$4,1,1,\"3 - Savings Analysis\"))","v":25},{"$f":"INDIRECT(ADDRESS($K30,M$4,1,1,\"3 - Savings Analysis\"))","v":0},{"$f":"INDIRECT(ADDRESS($K30,N$4,1,1,\"3 - Savings Analysis\"))","v":""},{"$f":"INDIRECT(ADDRESS($K30,O$4,1,1,\"3 - Savings Analysis\"))","v":0},{"$f":"INDIRECT(ADDRESS($K30,P$4,1,1,\"3 - Savings Analysis\"))","v":0},{"$f":"INDIRECT(ADDRESS($K30,Q$4,1,1,\"3 - Savings Analysis\"))","v":""},{"$f":"INDIRECT(ADDRESS($K30,R$4,1,1,\"3 - Savings Analysis\"))","v":""},{"$f":"INDIRECT(ADDRESS($K30,S$4,1,1,\"3 - Savings Analysis\"))","v":0},{"$f":"INDIRECT(ADDRESS($K30,T$4,1,1,\"3 - Savings Analysis\"))","v":0}]
[26,0,"",0,0,"","","","",null,40,{"$f":"INDIRECT(ADDRESS($K31,L$4,1,1,\"3 - Savings Analysis\"))","v":26},{"$f":"INDIRECT(ADDRESS($K31,M$4,1,1,\"3 - Savings Analysis\"))","v":0},{"$f":"INDIRECT(ADDRESS($K31,N$4,1,1,\"3 - Savings Analysis\"))","v":""},{"$f":"INDIRECT(ADDRESS($K31,O$4,1,1,\"3 - Savings Analysis\"))","v":0},{"$f":"INDIRECT(ADDRESS($K31,P$4,1,1,\"3 - Savings Analysis\"))","v":0},{"$f":"INDIRECT(ADDRESS($K31,Q$4,1,1,\"3 - Savings Analysis\"))","v":""},{"$f":"INDIRECT(ADDRESS($K31,R$4,1,1,\"3 - Savings Analysis\"))","v":""},{"$f":"INDIRECT(ADDRESS($K31,S$4,1,1,\"3 - Savings Analysis\"))","v":0},{"$f":"INDIRECT(ADDRESS($K31,T$4,1,1,\"3 - Savings Analysis\"))","v":0}]
[27,0,"",0,0,"","","","",null,41,{"$f":"INDIRECT(ADDRESS($K32,L$4,1,1,\"3 - Savings Analysis\"))","v":27},{"$f":"INDIRECT(ADDRESS($K32,M$4,1,1,\"3 - Savings Analysis\"))","v":0},{"$f":"INDIRECT(ADDRESS($K32,N$4,1,1,\"3 - Savings Analysis\"))","v":""},{"$f":"INDIRECT(ADDRESS($K32,O$4,1,1,\"3 - Savings Analysis\"))","v":0},{"$f":"INDIRECT(ADDRESS($K32,P$4,1,1,\"3 - Savings Analysis\"))","v":0},{"$f":"INDIRECT(ADDRESS($K32,Q$4,1,1,\"3 - Savings Analysis\"))","v":""},{"$f":"INDIRECT(ADDRESS($K32,R$4,1,1,\"3 - Savings Analysis\"))","v":""},{"$f":"INDIRECT(ADDRESS($K32,S$4,1,1,\"3 - Savings Analysis\"))","v":0},{"$f":"INDIRECT(ADDRESS($K32,T$4,1,1,\"3 - Savings Analysis\"))","v":0}]
[28,0,"",0,0,"","","","",null,42,{"$f":"INDIRECT(ADDRESS($K33,L$4,1,1,\"3 - Savings Analysis\"))","v":28},{"$f":"INDIRECT(ADDRESS($K33,M$4,1,1,\"3 - Savings Analysis\"))","v":0},{"$f":"INDIRECT(ADDRESS($K33,N$4,1,1,\"3 - Savings Analysis\"))","v":""},{"$f":"INDIRECT(ADDRESS($K33,O$4,1,1,\"3 - Savings Analysis\"))","v":0},{"$f":"INDIRECT(ADDRESS($K33,P$4,1,1,\"3 - Savings Analysis\"))","v":0},{"$f":"INDIRECT(ADDRESS($K33,Q$4,1,1,\"3 - Savings Analysis\"))","v":""},{"$f":"INDIRECT(ADDRESS($K33,R$4,1,1,\"3 - Savings Analysis\"))","v":""},{"$f":"INDIRECT(ADDRESS($K33,S$4,1,1,\"3 - Savings Analysis\"))","v":0},{"$f":"INDIRECT(ADDRESS($K33,T$4,1,1,\"3 - Savings Analysis\"))","v":0}]
[29,0,"",0,0,"","","","",null,43,{"$f":"INDIRECT(ADDRESS($K34,L$4,1,1,\"3 - Savings Analysis\"))","v":29},{"$f":"INDIRECT(ADDRESS($K34,M$4,1,1,\"3 - Savings Analysis\"))","v":0},{"$f":"INDIRECT(ADDRESS($K34,N$4,1,1,\"3 - Savings Analysis\"))","v":""},{"$f":"INDIRECT(ADDRESS($K34,O$4,1,1,\"3 - Savings Analysis\"))","v":0},{"$f":"INDIRECT(ADDRESS($K34,P$4,1,1,\"3 - Savings Analysis\"))","v":0},{"$f":"INDIRECT(ADDRESS($K34,Q$4,1,1,\"3 - Savings Analysis\"))","v":""},{"$f":"INDIRECT(ADDRESS($K34,R$4,1,1,\"3 - Savings Analysis\"))","v":""},{"$f":"INDIRECT(ADDRESS($K34,S$4,1,1,\"3 - Savings Analysis\"))","v":0},{"$f":"INDIRECT(ADDRESS($K34,T$4,1,1,\"3 - Savings Analysis\"))","v":0}]
[30,0,"",0,0,"","","","",null,44,{"$f":"INDIRECT(ADDRESS($K35,L$4,1,1,\"3 - Savings Analysis\"))","v":30},{"$f":"INDIRECT(ADDRESS($K35,M$4,1,1,\"3 - Savings Analysis\"))","v":0},{"$f":"INDIRECT(ADDRESS($K35,N$4,1,1,\"3 - Savings Analysis\"))","v":""},{"$f":"INDIRECT(ADDRESS($K35,O$4,1,1,\"3 - Savings Analysis\"))","v":0},{"$f":"INDIRECT(ADDRESS($K35,P$4,1,1,\"3 - Savings Analysis\"))","v":0},{"$f":"INDIRECT(ADDRESS($K35,Q$4,1,1,\"3 - Savings Analysis\"))","v":""},{"$f":"INDIRECT(ADDRESS($K35,R$4,1,1,\"3 - Savings Analysis\"))","v":""},{"$f":"INDIRECT(ADDRESS($K35,S$4,1,1,\"3 - Savings Analysis\"))","v":0},{"$f":"INDIRECT(ADDRESS($K35,T$4,1,1,\"3 - Savings Analysis\"))","v":0}]
["Total","","",0,0,"","","","",null,45,{"$f":"INDIRECT(ADDRESS($K36,L$4,1,1,\"3 - Savings Analysis\"))","v":"Total"},{"$f":"INDIRECT(ADDRESS($K36,M$4,1,1,\"3 - Savings Analysis\"))","v":0},{"$f":"INDIRECT(ADDRESS($K36,N$4,1,1,\"3 - Savings Analysis\"))","v":{"$error":"#DIV/0!"}},{"$f":"INDIRECT(ADDRESS($K36,O$4,1,1,\"3 - Savings Analysis\"))","v":0},{"$f":"INDIRECT(ADDRESS($K36,P$4,1,1,\"3 - Savings Analysis\"))","v":0},{"$f":"INDIRECT(ADDRESS($K36,Q$4,1,1,\"3 - Savings Analysis\"))","v":0},{"$f":"INDIRECT(ADDRESS($K36,R$4,1,1,\"3 - Savings Analysis\"))","v":0},{"$f":"INDIRECT(ADDRESS($K36,S$4,1,1,\"3 - Savings Analysis\"))","v":0},{"$f":"INDIRECT(ADDRESS($K36,T$4,1,1,\"3 - Savings Analysis\"))","v":0}]
["","","","","","","","","",null,46,{"$f":"INDIRECT(ADDRESS($K37,L$4,1,1,\"3 - Savings Analysis\"))","v":0},{"$f":"INDIRECT(ADDRESS($K37,M$4,1,1,\"3 - Savings Analysis\"))","v":0},{"$f":"INDIRECT(ADDRESS($K37,N$4,1,1,\"3 - Savings Analysis\"))","v":0},{"$f":"INDIRECT(ADDRESS($K37,O$4,1,1,\"3 - Savings Analysis\"))","v":0},{"$f":"INDIRECT(ADDRESS($K37,P$4,1,1,\"3 - Savings Analysis\"))","v":0},{"$f":"INDIRECT(ADDRESS($K37,Q$4,1,1,\"3 - Savings Analysis\"))","v":0},{"$f":"INDIRECT(ADDRESS($K37,R$4,1,1,\"3 - Savings Analysis\"))","v":0},{"$f":"INDIRECT(ADDRESS($K37,S$4,1,1,\"3 - Savings Analysis\"))","v":0},{"$f":"INDIRECT(ADDRESS($K37,T$4,1,1,\"3 - Savings Analysis\"))","v":0}]
["","","","","","","","","",null,47,{"$f":"INDIRECT(ADDRESS($K38,L$4,1,1,\"3 - Savings Analysis\"))","v":0},{"$f":"INDIRECT(ADDRESS($K38,M$4,1,1,\"3 - Savings Analysis\"))","v":0},{"$f":"INDIRECT(ADDRESS($K38,N$4,1,1,\"3 - Savings Analysis\"))","v":0},{"$f":"INDIRECT(ADDRESS($K38,O$4,1,1,\"3 - Savings Analysis\"))","v":0},{"$f":"INDIRECT(ADDRESS($K38,P$4,1,1,\"3 - Savings Analysis\"))","v":0},{"$f":"INDIRECT(ADDRESS($K38,Q$4,1,1,\"3 - Savings Analysis\"))","v":0},{"$f":"INDIRECT(ADDRESS($K38,R$4,1,1,\"3 - Savings Analysis\"))","v":0},{"$f":"INDIRECT(ADDRESS($K38,S$4,1,1,\"3 - Savings Analysis\"))","v":0},{"$f":"INDIRECT(ADDRESS($K38,T$4,1,1,\"3 - Savings Analysis\"))","v":0}]
["","","","","","","","","",null,48,{"$f":"INDIRECT(ADDRESS($K39,L$4,1,1,\"3 - Savings Analysis\"))","v":0},{"$f":"INDIRECT(ADDRESS($K39,M$4,1,1,\"3 - Savings Analysis\"))","v":0},{"$f":"INDIRECT(ADDRESS($K39,N$4,1,1,\"3 - Savings Analysis\"))","v":0},{"$f":"INDIRECT(ADDRESS($K39,O$4,1,1,\"3 - Savings Analysis\"))","v":0},{"$f":"INDIRECT(ADDRESS($K39,P$4,1,1,\"3 - Savings Analysis\"))","v":0},{"$f":"INDIRECT(ADDRESS($K39,Q$4,1,1,\"3 - Savings Analysis\"))","v":0},{"$f":"INDIRECT(ADDRESS($K39,R$4,1,1,\"3 - Savings Analysis\"))","v":0},{"$f":"INDIRECT(ADDRESS($K39,S$4,1,1,\"3 - Savings Analysis\"))","v":0},{"$f":"INDIRECT(ADDRESS($K39,T$4,1,1,\"3 - Savings Analysis\"))","v":0}]
["","","","","","","","","",null,49,{"$f":"INDIRECT(ADDRESS($K40,L$4,1,1,\"3 - Savings Analysis\"))","v":0},{"$f":"INDIRECT(ADDRESS($K40,M$4,1,1,\"3 - Savings Analysis\"))","v":0},{"$f":"INDIRECT(ADDRESS($K40,N$4,1,1,\"3 - Savings Analysis\"))","v":0},{"$f":"INDIRECT(ADDRESS($K40,O$4,1,1,\"3 - Savings Analysis\"))","v":0},{"$f":"INDIRECT(ADDRESS($K40,P$4,1,1,\"3 - Savings Analysis\"))","v":0},{"$f":"INDIRECT(ADDRESS($K40,Q$4,1,1,\"3 - Savings Analysis\"))","v":0},{"$f":"INDIRECT(ADDRESS($K40,R$4,1,1,\"3 - Savings Analysis\"))","v":0},{"$f":"INDIRECT(ADDRESS($K40,S$4,1,1,\"3 - Savings Analysis\"))","v":0},{"$f":"INDIRECT(ADDRESS($K40,T$4,1,1,\"3 - Savings Analysis\"))","v":0}]
["","","","","","","","","",null,50,{"$f":"INDIRECT(ADDRESS($K41,L$4,1,1,\"3 - Savings Analysis\"))","v":0},{"$f":"INDIRECT(ADDRESS($K41,M$4,1,1,\"3 - Savings Analysis\"))","v":0},{"$f":"INDIRECT(ADDRESS($K41,N$4,1,1,\"3 - Savings Analysis\"))","v":0},{"$f":"INDIRECT(ADDRESS($K41,O$4,1,1,\"3 - Savings Analysis\"))","v":0},{"$f":"INDIRECT(ADDRESS($K41,P$4,1,1,\"3 - Savings Analysis\"))","v":0},{"$f":"INDIRECT(ADDRESS($K41,Q$4,1,1,\"3 - Savings Analysis\"))","v":0},{"$f":"INDIRECT(ADDRESS($K41,R$4,1,1,\"3 - Savings Analysis\"))","v":0},{"$f":"INDIRECT(ADDRESS($K41,S$4,1,1,\"3 - Savings Analysis\"))","v":0},{"$f":"INDIRECT(ADDRESS($K41,T$4,1,1,\"3 - Savings Analysis\"))","v":0}]
["","","","","","","","","",null,51,{"$f":"INDIRECT(ADDRESS($K42,L$4,1,1,\"3 - Savings Analysis\"))","v":0},{"$f":"INDIRECT(ADDRESS($K42,M$4,1,1,\"3 - Savings Analysis\"))","v":0},{"$f":"INDIRECT(ADDRESS($K42,N$4,1,1,\"3 - Savings Analysis\"))","v":0},{"$f":"INDIRECT(ADDRESS($K42,O$4,1,1,\"3 - Savings Analysis\"))","v":0},{"$f":"INDIRECT(ADDRESS($K42,P$4,1,1,\"3 - Savings Analysis\"))","v":0},{"$f":"INDIRECT(ADDRESS($K42,Q$4,1,1,\"3 - Savings Analysis\"))","v":0},{"$f":"INDIRECT(ADDRESS($K42,R$4,1,1,\"3 - Savings Analysis\"))","v":0},{"$f":"INDIRECT(ADDRESS($K42,S$4,1,1,\"3 - Savings Analysis\"))","v":0},{"$f":"INDIRECT(ADDRESS($K42,T$4,1,1,\"3 - Savings Analysis\"))","v":0}]
["","","","","","","","","",null,52,{"$f":"INDIRECT(ADDRESS($K43,L$4,1,1,\"3 - Savings Analysis\"))","v":0},{"$f":"INDIRECT(ADDRESS($K43,M$4,1,1,\"3 - Savings Analysis\"))","v":0},{"$f":"INDIRECT(ADDRESS($K43,N$4,1,1,\"3 - Savings Analysis\"))","v":0},{"$f":"INDIRECT(ADDRESS($K43,O$4,1,1,\"3 - Savings Analysis\"))","v":0},{"$f":"INDIRECT(ADDRESS($K43,P$4,1,1,\"3 - Savings Analysis\"))","v":0},{"$f":"INDIRECT(ADDRESS($K43,Q$4,1,1,\"3 - Savings Analysis\"))","v":0},{"$f":"INDIRECT(ADDRESS($K43,R$4,1,1,\"3 - Savings Analysis\"))","v":0},{"$f":"INDIRECT(ADDRESS($K43,S$4,1,1,\"3 - Savings Analysis\"))","v":0},{"$f":"INDIRECT(ADDRESS($K43,T$4,1,1,\"3 - Savings Analysis\"))","v":0}]
["","","","","","","","","",null,53,{"$f":"INDIRECT(ADDRESS($K44,L$4,1,1,\"3 - Savings Analysis\"))","v":0},{"$f":"INDIRECT(ADDRESS($K44,M$4,1,1,\"3 - Savings Analysis\"))","v":0},{"$f":"INDIRECT(ADDRESS($K44,N$4,1,1,\"3 - Savings Analysis\"))","v":0},{"$f":"INDIRECT(ADDRESS($K44,O$4,1,1,\"3 - Savings Analysis\"))","v":0},{"$f":"INDIRECT(ADDRESS($K44,P$4,1,1,\"3 - Savings Analysis\"))","v":0},{"$f":"INDIRECT(ADDRESS($K44,Q$4,1,1,\"3 - Savings Analysis\"))","v":0},{"$f":"INDIRECT(ADDRESS($K44,R$4,1,1,\"3 - Savings Analysis\"))","v":0},{"$f":"INDIRECT(ADDRESS($K44,S$4,1,1,\"3 - Savings Analysis\"))","v":0},{"$f":"INDIRECT(ADDRESS($K44,T$4,1,1,\"3 - Savings Analysis\"))","v":0}]
["","","","","","","","","",null,54,{"$f":"INDIRECT(ADDRESS($K45,L$4,1,1,\"3 - Savings Analysis\"))","v":0},{"$f":"INDIRECT(ADDRESS($K45,M$4,1,1,\"3 - Savings Analysis\"))","v":0},{"$f":"INDIRECT(ADDRESS($K45,N$4,1,1,\"3 - Savings Analysis\"))","v":0},{"$f":"INDIRECT(ADDRESS($K45,O$4,1,1,\"3 - Savings Analysis\"))","v":0},{"$f":"INDIRECT(ADDRESS($K45,P$4,1,1,\"3 - Savings Analysis\"))","v":0},{"$f":"INDIRECT(ADDRESS($K45,Q$4,1,1,\"3 - Savings Analysis\"))","v":0},{"$f":"INDIRECT(ADDRESS($K45,R$4,1,1,\"3 - Savings Analysis\"))","v":0},{"$f":"INDIRECT(ADDRESS($K45,S$4,1,1,\"3 - Savings Analysis\"))","v":0},{"$f":"INDIRECT(ADDRESS($K45,T$4,1,1,\"3 - Savings Analysis\"))","v":0}]
["","","","","","","","","",null,55,{"$f":"INDIRECT(ADDRESS($K46,L$4,1,1,\"3 - Savings Analysis\"))","v":0},{"$f":"INDIRECT(ADDRESS($K46,M$4,1,1,\"3 - Savings Analysis\"))","v":0},{"$f":"INDIRECT(ADDRESS($K46,N$4,1,1,\"3 - Savings Analysis\"))","v":0},{"$f":"INDIRECT(ADDRESS($K46,O$4,1,1,\"3 - Savings Analysis\"))","v":0},{"$f":"INDIRECT(ADDRESS($K46,P$4,1,1,\"3 - Savings Analysis\"))","v":0},{"$f":"INDIRECT(ADDRESS($K46,Q$4,1,1,\"3 - Savings Analysis\"))","v":0},{"$f":"INDIRECT(ADDRESS($K46,R$4,1,1,\"3 - Savings Analysis\"))","v":0},{"$f":"INDIRECT(ADDRESS($K46,S$4,1,1,\"3 - Savings Analysis\"))","v":0},{"$f":"INDIRECT(ADDRESS($K46,T$4,1,1,\"3 - Savings Analysis\"))","v":0}]
["","","","","","","","","",null,56,{"$f":"INDIRECT(ADDRESS($K47,L$4,1,1,\"3 - Savings Analysis\"))","v":0},{"$f":"INDIRECT(ADDRESS($K47,M$4,1,1,\"3 - Savings Analysis\"))","v":0},{"$f":"INDIRECT(ADDRESS($K47,N$4,1,1,\"3 - Savings Analysis\"))","v":0},{"$f":"INDIRECT(ADDRESS($K47,O$4,1,1,\"3 - Savings Analysis\"))","v":0},{"$f":"INDIRECT(ADDRESS($K47,P$4,1,1,\"3 - Savings Analysis\"))","v":0},{"$f":"INDIRECT(ADDRESS($K47,Q$4,1,1,\"3 - Savings Analysis\"))","v":0},{"$f":"INDIRECT(ADDRESS($K47,R$4,1,1,\"3 - Savings Analysis\"))","v":0},{"$f":"INDIRECT(ADDRESS($K47,S$4,1,1,\"3 - Savings Analysis\"))","v":0},{"$f":"INDIRECT(ADDRESS($K47,T$4,1,1,\"3 - Savings Analysis\"))","v":0}]
["","","","","","","","","",null,57,{"$f":"INDIRECT(ADDRESS($K48,L$4,1,1,\"3 - Savings Analysis\"))","v":0},{"$f":"INDIRECT(ADDRESS($K48,M$4,1,1,\"3 - Savings Analysis\"))","v":0},{"$f":"INDIRECT(ADDRESS($K48,N$4,1,1,\"3 - Savings Analysis\"))","v":0},{"$f":"INDIRECT(ADDRESS($K48,O$4,1,1,\"3 - Savings Analysis\"))","v":0},{"$f":"INDIRECT(ADDRESS($K48,P$4,1,1,\"3 - Savings Analysis\"))","v":0},{"$f":"INDIRECT(ADDRESS($K48,Q$4,1,1,\"3 - Savings Analysis\"))","v":0},{"$f":"INDIRECT(ADDRESS($K48,R$4,1,1,\"3 - Savings Analysis\"))","v":0},{"$f":"INDIRECT(ADDRESS($K48,S$4,1,1,\"3 - Savings Analysis\"))","v":0},{"$f":"INDIRECT(ADDRESS($K48,T$4,1,1,\"3 - Savings Analysis\"))","v":0}]
["","","","","","","","","",null,58,{"$f":"INDIRECT(ADDRESS($K49,L$4,1,1,\"3 - Savings Analysis\"))","v":0},{"$f":"INDIRECT(ADDRESS($K49,M$4,1,1,\"3 - Savings Analysis\"))","v":0},{"$f":"INDIRECT(ADDRESS($K49,N$4,1,1,\"3 - Savings Analysis\"))","v":0},{"$f":"INDIRECT(ADDRESS($K49,O$4,1,1,\"3 - Savings Analysis\"))","v":0},{"$f":"INDIRECT(ADDRESS($K49,P$4,1,1,\"3 - Savings Analysis\"))","v":0},{"$f":"INDIRECT(ADDRESS($K49,Q$4,1,1,\"3 - Savings Analysis\"))","v":0},{"$f":"INDIRECT(ADDRESS($K49,R$4,1,1,\"3 - Savings Analysis\"))","v":0},{"$f":"INDIRECT(ADDRESS($K49,S$4,1,1,\"3 - Savings Analysis\"))","v":0},{"$f":"INDIRECT(ADDRESS($K49,T$4,1,1,\"3 - Savings Analysis\"))","v":0}]
["","","","","","","","","",null,59,{"$f":"INDIRECT(ADDRESS($K50,L$4,1,1,\"3 - Savings Analysis\"))","v":0},{"$f":"INDIRECT(ADDRESS($K50,M$4,1,1,\"3 - Savings Analysis\"))","v":0},{"$f":"INDIRECT(ADDRESS($K50,N$4,1,1,\"3 - Savings Analysis\"))","v":0},{"$f":"INDIRECT(ADDRESS($K50,O$4,1,1,\"3 - Savings Analysis\"))","v":0},{"$f":"INDIRECT(ADDRESS($K50,P$4,1,1,\"3 - Savings Analysis\"))","v":0},{"$f":"INDIRECT(ADDRESS($K50,Q$4,1,1,\"3 - Savings Analysis\"))","v":0},{"$f":"INDIRECT(ADDRESS($K50,R$4,1,1,\"3 - Savings Analysis\"))","v":0},{"$f":"INDIRECT(ADDRESS($K50,S$4,1,1,\"3 - Savings Analysis\"))","v":0},{"$f":"INDIRECT(ADDRESS($K50,T$4,1,1,\"3 - Savings Analysis\"))","v":0}]
["","","","","","","","","",null,60,{"$f":"INDIRECT(ADDRESS($K51,L$4,1,1,\"3 - Savings Analysis\"))","v":0},{"$f":"INDIRECT(ADDRESS($K51,M$4,1,1,\"3 - Savings Analysis\"))","v":0},{"$f":"INDIRECT(ADDRESS($K51,N$4,1,1,\"3 - Savings Analysis\"))","v":0},{"$f":"INDIRECT(ADDRESS($K51,O$4,1,1,\"3 - Savings Analysis\"))","v":0},{"$f":"INDIRECT(ADDRESS($K51,P$4,1,1,\"3 - Savings Analysis\"))","v":0},{"$f":"INDIRECT(ADDRESS($K51,Q$4,1,1,\"3 - Savings Analysis\"))","v":0},{"$f":"INDIRECT(ADDRESS($K51,R$4,1,1,\"3 - Savings Analysis\"))","v":0},{"$f":"INDIRECT(ADDRESS($K51,S$4,1,1,\"3 - Savings Analysis\"))","v":0},{"$f":"INDIRECT(ADDRESS($K51,T$4,1,1,\"3 - Savings Analysis\"))","v":0}]
["","","","","","","","","",null,61,{"$f":"INDIRECT(ADDRESS($K52,L$4,1,1,\"3 - Savings Analysis\"))","v":0},{"$f":"INDIRECT(ADDRESS($K52,M$4,1,1,\"3 - Savings Analysis\"))","v":0},{"$f":"INDIRECT(ADDRESS($K52,N$4,1,1,\"3 - Savings Analysis\"))","v":0},{"$f":"INDIRECT(ADDRESS($K52,O$4,1,1,\"3 - Savings Analysis\"))","v":0},{"$f":"INDIRECT(ADDRESS($K52,P$4,1,1,\"3 - Savings Analysis\"))","v":0},{"$f":"INDIRECT(ADDRESS($K52,Q$4,1,1,\"3 - Savings Analysis\"))","v":0},{"$f":"INDIRECT(ADDRESS($K52,R$4,1,1,\"3 - Savings Analysis\"))","v":0},{"$f":"INDIRECT(ADDRESS($K52,S$4,1,1,\"3 - Savings Analysis\"))","v":0},{"$f":"INDIRECT(ADDRESS($K52,T$4,1,1,\"3 - Savings Analysis\"))","v":0}]
["","","","","","","","","",null,62,{"$f":"INDIRECT(ADDRESS($K53,L$4,1,1,\"3 - Savings Analysis\"))","v":0},{"$f":"INDIRECT(ADDRESS($K53,M$4,1,1,\"3 - Savings Analysis\"))","v":0},{"$f":"INDIRECT(ADDRESS($K53,N$4,1,1,\"3 - Savings Analysis\"))","v":0},{"$f":"INDIRECT(ADDRESS($K53,O$4,1,1,\"3 - Savings Analysis\"))","v":0},{"$f":"INDIRECT(ADDRESS($K53,P$4,1,1,\"3 - Savings Analysis\"))","v":0},{"$f":"INDIRECT(ADDRESS($K53,Q$4,1,1,\"3 - Savings Analysis\"))","v":0},{"$f":"INDIRECT(ADDRESS($K53,R$4,1,1,\"3 - Savings Analysis\"))","v":0},{"$f":"INDIRECT(ADDRESS($K53,S$4,1,1,\"3 - Savings Analysis\"))","v":0},{"$f":"INDIRECT(ADDRESS($K53,T$4,1,1,\"3 - Savings Analysis\"))","v":0}]
["","","","","","","","","",null,63,{"$f":"INDIRECT(ADDRESS($K54,L$4,1,1,\"3 - Savings Analysis\"))","v":0},{"$f":"INDIRECT(ADDRESS($K54,M$4,1,1,\"3 - Savings Analysis\"))","v":0},{"$f":"INDIRECT(ADDRESS($K54,N$4,1,1,\"3 - Savings Analysis\"))","v":0},{"$f":"INDIRECT(ADDRESS($K54,O$4,1,1,\"3 - Savings Analysis\"))","v":0},{"$f":"INDIRECT(ADDRESS($K54,P$4,1,1,\"3 - Savings Analysis\"))","v":0},{"$f":"INDIRECT(ADDRESS($K54,Q$4,1,1,\"3 - Savings Analysis\"))","v":0},{"$f":"INDIRECT(ADDRESS($K54,R$4,1,1,\"3 - Savings Analysis\"))","v":0},{"$f":"INDIRECT(ADDRESS($K54,S$4,1,1,\"3 - Savings Analysis\"))","v":0},{"$f":"INDIRECT(ADDRESS($K54,T$4,1,1,\"3 - Savings Analysis\"))","v":0}]
["","","","","","","","","",null,64,{"$f":"INDIRECT(ADDRESS($K55,L$4,1,1,\"3 - Savings Analysis\"))","v":0},{"$f":"INDIRECT(ADDRESS($K55,M$4,1,1,\"3 - Savings Analysis\"))","v":0},{"$f":"INDIRECT(ADDRESS($K55,N$4,1,1,\"3 - Savings Analysis\"))","v":0},{"$f":"INDIRECT(ADDRESS($K55,O$4,1,1,\"3 - Savings Analysis\"))","v":0},{"$f":"INDIRECT(ADDRESS($K55,P$4,1,1,\"3 - Savings Analysis\"))","v":0},{"$f":"INDIRECT(ADDRESS($K55,Q$4,1,1,\"3 - Savings Analysis\"))","v":0},{"$f":"INDIRECT(ADDRESS($K55,R$4,1,1,\"3 - Savings Analysis\"))","v":0},{"$f":"INDIRECT(ADDRESS($K55,S$4,1,1,\"3 - Savings Analysis\"))","v":0},{"$f":"INDIRECT(ADDRESS($K55,T$4,1,1,\"3 - Savings Analysis\"))","v":0}]
["","","","","","","","","",null,65,{"$f":"INDIRECT(ADDRESS($K56,L$4,1,1,\"3 - Savings Analysis\"))","v":0},{"$f":"INDIRECT(ADDRESS($K56,M$4,1,1,\"3 - Savings Analysis\"))","v":0},{"$f":"INDIRECT(ADDRESS($K56,N$4,1,1,\"3 - Savings Analysis\"))","v":0},{"$f":"INDIRECT(ADDRESS($K56,O$4,1,1,\"3 - Savings Analysis\"))","v":0},{"$f":"INDIRECT(ADDRESS($K56,P$4,1,1,\"3 - Savings Analysis\"))","v":0},{"$f":"INDIRECT(ADDRESS($K56,Q$4,1,1,\"3 - Savings Analysis\"))","v":0},{"$f":"INDIRECT(ADDRESS($K56,R$4,1,1,\"3 - Savings Analysis\"))","v":0},{"$f":"INDIRECT(ADDRESS($K56,S$4,1,1,\"3 - Savings Analysis\"))","v":0},{"$f":"INDIRECT(ADDRESS($K56,T$4,1,1,\"3 - Savings Analysis\"))","v":0}]
["","","","","","","","","",null,66,{"$f":"INDIRECT(ADDRESS($K57,L$4,1,1,\"3 - Savings Analysis\"))","v":0},{"$f":"INDIRECT(ADDRESS($K57,M$4,1,1,\"3 - Savings Analysis\"))","v":0},{"$f":"INDIRECT(ADDRESS($K57,N$4,1,1,\"3 - Savings Analysis\"))","v":0},{"$f":"INDIRECT(ADDRESS($K57,O$4,1,1,\"3 - Savings Analysis\"))","v":0},{"$f":"INDIRECT(ADDRESS($K57,P$4,1,1,\"3 - Savings Analysis\"))","v":0},{"$f":"INDIRECT(ADDRESS($K57,Q$4,1,1,\"3 - Savings Analysis\"))","v":0},{"$f":"INDIRECT(ADDRESS($K57,R$4,1,1,\"3 - Savings Analysis\"))","v":0},{"$f":"INDIRECT(ADDRESS($K57,S$4,1,1,\"3 - Savings Analysis\"))","v":0},{"$f":"INDIRECT(ADDRESS($K57,T$4,1,1,\"3 - Savings Analysis\"))","v":0}]
["","","","","","","","","",null,67,{"$f":"INDIRECT(ADDRESS($K58,L$4,1,1,\"3 - Savings Analysis\"))","v":0},{"$f":"INDIRECT(ADDRESS($K58,M$4,1,1,\"3 - Savings Analysis\"))","v":0},{"$f":"INDIRECT(ADDRESS($K58,N$4,1,1,\"3 - Savings Analysis\"))","v":0},{"$f":"INDIRECT(ADDRESS($K58,O$4,1,1,\"3 - Savings Analysis\"))","v":0},{"$f":"INDIRECT(ADDRESS($K58,P$4,1,1,\"3 - Savings Analysis\"))","v":0},{"$f":"INDIRECT(ADDRESS($K58,Q$4,1,1,\"3 - Savings Analysis\"))","v":0},{"$f":"INDIRECT(ADDRESS($K58,R$4,1,1,\"3 - Savings Analysis\"))","v":0},{"$f":"INDIRECT(ADDRESS($K58,S$4,1,1,\"3 - Savings Analysis\"))","v":0},{"$f":"INDIRECT(ADDRESS($K58,T$4,1,1,\"3 - Savings Analysis\"))","v":0}]
["","","","","","","","","",null,68,{"$f":"INDIRECT(ADDRESS($K59,L$4,1,1,\"3 - Savings Analysis\"))","v":0},{"$f":"INDIRECT(ADDRESS($K59,M$4,1,1,\"3 - Savings Analysis\"))","v":0},{"$f":"INDIRECT(ADDRESS($K59,N$4,1,1,\"3 - Savings Analysis\"))","v":0},{"$f":"INDIRECT(ADDRESS($K59,O$4,1,1,\"3 - Savings Analysis\"))","v":0},{"$f":"INDIRECT(ADDRESS($K59,P$4,1,1,\"3 - Savings Analysis\"))","v":0},{"$f":"INDIRECT(ADDRESS($K59,Q$4,1,1,\"3 - Savings Analysis\"))","v":0},{"$f":"INDIRECT(ADDRESS($K59,R$4,1,1,\"3 - Savings Analysis\"))","v":0},{"$f":"INDIRECT(ADDRESS($K59,S$4,1,1,\"3 - Savings Analysis\"))","v":0},{"$f":"INDIRECT(ADDRESS($K59,T$4,1,1,\"3 - Savings Analysis\"))","v":0}]
["","","","","","","","","",null,69,{"$f":"INDIRECT(ADDRESS($K60,L$4,1,1,\"3 - Savings Analysis\"))","v":0},{"$f":"INDIRECT(ADDRESS($K60,M$4,1,1,\"3 - Savings Analysis\"))","v":0},{"$f":"INDIRECT(ADDRESS($K60,N$4,1,1,\"3 - Savings Analysis\"))","v":0},{"$f":"INDIRECT(ADDRESS($K60,O$4,1,1,\"3 - Savings Analysis\"))","v":0},{"$f":"INDIRECT(ADDRESS($K60,P$4,1,1,\"3 - Savings Analysis\"))","v":0},{"$f":"INDIRECT(ADDRESS($K60,Q$4,1,1,\"3 - Savings Analysis\"))","v":0},{"$f":"INDIRECT(ADDRESS($K60,R$4,1,1,\"3 - Savings Analysis\"))","v":0},{"$f":"INDIRECT(ADDRESS($K60,S$4,1,1,\"3 - Savings Analysis\"))","v":0},{"$f":"INDIRECT(ADDRESS($K60,T$4,1,1,\"3 - Savings Analysis\"))","v":0}]
["","","","","","","","","",null,70,{"$f":"INDIRECT(ADDRESS($K61,L$4,1,1,\"3 - Savings Analysis\"))","v":0},{"$f":"INDIRECT(ADDRESS($K61,M$4,1,1,\"3 - Savings Analysis\"))","v":0},{"$f":"INDIRECT(ADDRESS($K61,N$4,1,1,\"3 - Savings Analysis\"))","v":0},{"$f":"INDIRECT(ADDRESS($K61,O$4,1,1,\"3 - Savings Analysis\"))","v":0},{"$f":"INDIRECT(ADDRESS($K61,P$4,1,1,\"3 - Savings Analysis\"))","v":0},{"$f":"INDIRECT(ADDRESS($K61,Q$4,1,1,\"3 - Savings Analysis\"))","v":0},{"$f":"INDIRECT(ADDRESS($K61,R$4,1,1,\"3 - Savings Analysis\"))","v":0},{"$f":"INDIRECT(ADDRESS($K61,S$4,1,1,\"3 - Savings Analysis\"))","v":0},{"$f":"INDIRECT(ADDRESS($K61,T$4,1,1,\"3 - Savings Analysis\"))","v":0}]
["","","","","","","","","",null,71,{"$f":"INDIRECT(ADDRESS($K62,L$4,1,1,\"3 - Savings Analysis\"))","v":0},{"$f":"INDIRECT(ADDRESS($K62,M$4,1,1,\"3 - Savings Analysis\"))","v":0},{"$f":"INDIRECT(ADDRESS($K62,N$4,1,1,\"3 - Savings Analysis\"))","v":0},{"$f":"INDIRECT(ADDRESS($K62,O$4,1,1,\"3 - Savings Analysis\"))","v":0},{"$f":"INDIRECT(ADDRESS($K62,P$4,1,1,\"3 - Savings Analysis\"))","v":0},{"$f":"INDIRECT(ADDRESS($K62,Q$4,1,1,\"3 - Savings Analysis\"))","v":0},{"$f":"INDIRECT(ADDRESS($K62,R$4,1,1,\"3 - Savings Analysis\"))","v":0},{"$f":"INDIRECT(ADDRESS($K62,S$4,1,1,\"3 - Savings Analysis\"))","v":0},{"$f":"INDIRECT(ADDRESS($K62,T$4,1,1,\"3 - Savings Analysis\"))","v":0}]
["","","","","","","","","",null,72,{"$f":"INDIRECT(ADDRESS($K63,L$4,1,1,\"3 - Savings Analysis\"))","v":0},{"$f":"INDIRECT(ADDRESS($K63,M$4,1,1,\"3 - Savings Analysis\"))","v":0},{"$f":"INDIRECT(ADDRESS($K63,N$4,1,1,\"3 - Savings Analysis\"))","v":0},{"$f":"INDIRECT(ADDRESS($K63,O$4,1,1,\"3 - Savings Analysis\"))","v":0},{"$f":"INDIRECT(ADDRESS($K63,P$4,1,1,\"3 - Savings Analysis\"))","v":0},{"$f":"INDIRECT(ADDRESS($K63,Q$4,1,1,\"3 - Savings Analysis\"))","v":0},{"$f":"INDIRECT(ADDRESS($K63,R$4,1,1,\"3 - Savings Analysis\"))","v":0},{"$f":"INDIRECT(ADDRESS($K63,S$4,1,1,\"3 - Savings Analysis\"))","v":0},{"$f":"INDIRECT(ADDRESS($K63,T$4,1,1,\"3 - Savings Analysis\"))","v":0}]
["","","","","","","","","",null,73,{"$f":"INDIRECT(ADDRESS($K64,L$4,1,1,\"3 - Savings Analysis\"))","v":0},{"$f":"INDIRECT(ADDRESS($K64,M$4,1,1,\"3 - Savings Analysis\"))","v":0},{"$f":"INDIRECT(ADDRESS($K64,N$4,1,1,\"3 - Savings Analysis\"))","v":0},{"$f":"INDIRECT(ADDRESS($K64,O$4,1,1,\"3 - Savings Analysis\"))","v":0},{"$f":"INDIRECT(ADDRESS($K64,P$4,1,1,\"3 - Savings Analysis\"))","v":0},{"$f":"INDIRECT(ADDRESS($K64,Q$4,1,1,\"3 - Savings Analysis\"))","v":0},{"$f":"INDIRECT(ADDRESS($K64,R$4,1,1,\"3 - Savings Analysis\"))","v":0},{"$f":"INDIRECT(ADDRESS($K64,S$4,1,1,\"3 - Savings Analysis\"))","v":0},{"$f":"INDIRECT(ADDRESS($K64,T$4,1,1,\"3 - Savings Analysis\"))","v":0}]
["","","","","","","","","",null,74,{"$f":"INDIRECT(ADDRESS($K65,L$4,1,1,\"3 - Savings Analysis\"))","v":0},{"$f":"INDIRECT(ADDRESS($K65,M$4,1,1,\"3 - Savings Analysis\"))","v":0},{"$f":"INDIRECT(ADDRESS($K65,N$4,1,1,\"3 - Savings Analysis\"))","v":0},{"$f":"INDIRECT(ADDRESS($K65,O$4,1,1,\"3 - Savings Analysis\"))","v":0},{"$f":"INDIRECT(ADDRESS($K65,P$4,1,1,\"3 - Savings Analysis\"))","v":0},{"$f":"INDIRECT(ADDRESS($K65,Q$4,1,1,\"3 - Savings Analysis\"))","v":0},{"$f":"INDIRECT(ADDRESS($K65,R$4,1,1,\"3 - Savings Analysis\"))","v":0},{"$f":"INDIRECT(ADDRESS($K65,S$4,1,1,\"3 - Savings Analysis\"))","v":0},{"$f":"INDIRECT(ADDRESS($K65,T$4,1,1,\"3 - Savings Analysis\"))","v":0}]
["","","","","","","","","",null,75,{"$f":"INDIRECT(ADDRESS($K66,L$4,1,1,\"3 - Savings Analysis\"))","v":0},{"$f":"INDIRECT(ADDRESS($K66,M$4,1,1,\"3 - Savings Analysis\"))","v":0},{"$f":"INDIRECT(ADDRESS($K66,N$4,1,1,\"3 - Savings Analysis\"))","v":0},{"$f":"INDIRECT(ADDRESS($K66,O$4,1,1,\"3 - Savings Analysis\"))","v":0},{"$f":"INDIRECT(ADDRESS($K66,P$4,1,1,\"3 - Savings Analysis\"))","v":0},{"$f":"INDIRECT(ADDRESS($K66,Q$4,1,1,\"3 - Savings Analysis\"))","v":0},{"$f":"INDIRECT(ADDRESS($K66,R$4,1,1,\"3 - Savings Analysis\"))","v":0},{"$f":"INDIRECT(ADDRESS($K66,S$4,1,1,\"3 - Savings Analysis\"))","v":0},{"$f":"INDIRECT(ADDRESS($K66,T$4,1,1,\"3 - Savings Analysis\"))","v":0}]
["","","","","","","","","",null,76,{"$f":"INDIRECT(ADDRESS($K67,L$4,1,1,\"3 - Savings Analysis\"))","v":0},{"$f":"INDIRECT(ADDRESS($K67,M$4,1,1,\"3 - Savings Analysis\"))","v":0},{"$f":"INDIRECT(ADDRESS($K67,N$4,1,1,\"3 - Savings Analysis\"))","v":0},{"$f":"INDIRECT(ADDRESS($K67,O$4,1,1,\"3 - Savings Analysis\"))","v":0},{"$f":"INDIRECT(ADDRESS($K67,P$4,1,1,\"3 - Savings Analysis\"))","v":0},{"$f":"INDIRECT(ADDRESS($K67,Q$4,1,1,\"3 - Savings Analysis\"))","v":0},{"$f":"INDIRECT(ADDRESS($K67,R$4,1,1,\"3 - Savings Analysis\"))","v":0},{"$f":"INDIRECT(ADDRESS($K67,S$4,1,1,\"3 - Savings Analysis\"))","v":0},{"$f":"INDIRECT(ADDRESS($K67,T$4,1,1,\"3 - Savings Analysis\"))","v":0}]
["","","","","","","","","",null,77,{"$f":"INDIRECT(ADDRESS($K68,L$4,1,1,\"3 - Savings Analysis\"))","v":0},{"$f":"INDIRECT(ADDRESS($K68,M$4,1,1,\"3 - Savings Analysis\"))","v":0},{"$f":"INDIRECT(ADDRESS($K68,N$4,1,1,\"3 - Savings Analysis\"))","v":0},{"$f":"INDIRECT(ADDRESS($K68,O$4,1,1,\"3 - Savings Analysis\"))","v":0},{"$f":"INDIRECT(ADDRESS($K68,P$4,1,1,\"3 - Savings Analysis\"))","v":0},{"$f":"INDIRECT(ADDRESS($K68,Q$4,1,1,\"3 - Savings Analysis\"))","v":0},{"$f":"INDIRECT(ADDRESS($K68,R$4,1,1,\"3 - Savings Analysis\"))","v":0},{"$f":"INDIRECT(ADDRESS($K68,S$4,1,1,\"3 - Savings Analysis\"))","v":0},{"$f":"INDIRECT(ADDRESS($K68,T$4,1,1,\"3 - Savings Analysis\"))","v":0}]
["","","","","","","","","",null,78,{"$f":"INDIRECT(ADDRESS($K69,L$4,1,1,\"3 - Savings Analysis\"))","v":0},{"$f":"INDIRECT(ADDRESS($K69,M$4,1,1,\"3 - Savings Analysis\"))","v":0},{"$f":"INDIRECT(ADDRESS($K69,N$4,1,1,\"3 - Savings Analysis\"))","v":0},{"$f":"INDIRECT(ADDRESS($K69,O$4,1,1,\"3 - Savings Analysis\"))","v":0},{"$f":"INDIRECT(ADDRESS($K69,P$4,1,1,\"3 - Savings Analysis\"))","v":0},{"$f":"INDIRECT(ADDRESS($K69,Q$4,1,1,\"3 - Savings Analysis\"))","v":0},{"$f":"INDIRECT(ADDRESS($K69,R$4,1,1,\"3 - Savings Analysis\"))","v":0},{"$f":"INDIRECT(ADDRESS($K69,S$4,1,1,\"3 - Savings Analysis\"))","v":0},{"$f":"INDIRECT(ADDRESS($K69,T$4,1,1,\"3 - Savings Analysis\"))","v":0}]
["","","","","","","","","",null,79,{"$f":"INDIRECT(ADDRESS($K70,L$4,1,1,\"3 - Savings Analysis\"))","v":0},{"$f":"INDIRECT(ADDRESS($K70,M$4,1,1,\"3 - Savings Analysis\"))","v":0},{"$f":"INDIRECT(ADDRESS($K70,N$4,1,1,\"3 - Savings Analysis\"))","v":0},{"$f":"INDIRECT(ADDRESS($K70,O$4,1,1,\"3 - Savings Analysis\"))","v":0},{"$f":"INDIRECT(ADDRESS($K70,P$4,1,1,\"3 - Savings Analysis\"))","v":0},{"$f":"INDIRECT(ADDRESS($K70,Q$4,1,1,\"3 - Savings Analysis\"))","v":0},{"$f":"INDIRECT(ADDRESS($K70,R$4,1,1,\"3 - Savings Analysis\"))","v":0},{"$f":"INDIRECT(ADDRESS($K70,S$4,1,1,\"3 - Savings Analysis\"))","v":0},{"$f":"INDIRECT(ADDRESS($K70,T$4,1,1,\"3 - Savings Analysis\"))","v":0}]
["","","","","","","","","",null,80,{"$f":"INDIRECT(ADDRESS($K71,L$4,1,1,\"3 - Savings Analysis\"))","v":0},{"$f":"INDIRECT(ADDRESS($K71,M$4,1,1,\"3 - Savings Analysis\"))","v":0},{"$f":"INDIRECT(ADDRESS($K71,N$4,1,1,\"3 - Savings Analysis\"))","v":0},{"$f":"INDIRECT(ADDRESS($K71,O$4,1,1,\"3 - Savings Analysis\"))","v":0},{"$f":"INDIRECT(ADDRESS($K71,P$4,1,1,\"3 - Savings Analysis\"))","v":0},{"$f":"INDIRECT(ADDRESS($K71,Q$4,1,1,\"3 - Savings Analysis\"))","v":0},{"$f":"INDIRECT(ADDRESS($K71,R$4,1,1,\"3 - Savings Analysis\"))","v":0},{"$f":"INDIRECT(ADDRESS($K71,S$4,1,1,\"3 - Savings Analysis\"))","v":0},{"$f":"INDIRECT(ADDRESS($K71,T$4,1,1,\"3 - Savings Analysis\"))","v":0}]
["","","","","","","","","",null,81,{"$f":"INDIRECT(ADDRESS($K72,L$4,1,1,\"3 - Savings Analysis\"))","v":0},{"$f":"INDIRECT(ADDRESS($K72,M$4,1,1,\"3 - Savings Analysis\"))","v":0},{"$f":"INDIRECT(ADDRESS($K72,N$4,1,1,\"3 - Savings Analysis\"))","v":0},{"$f":"INDIRECT(ADDRESS($K72,O$4,1,1,\"3 - Savings Analysis\"))","v":0},{"$f":"INDIRECT(ADDRESS($K72,P$4,1,1,\"3 - Savings Analysis\"))","v":0},{"$f":"INDIRECT(ADDRESS($K72,Q$4,1,1,\"3 - Savings Analysis\"))","v":0},{"$f":"INDIRECT(ADDRESS($K72,R$4,1,1,\"3 - Savings Analysis\"))","v":0},{"$f":"INDIRECT(ADDRESS($K72,S$4,1,1,\"3 - Savings Analysis\"))","v":0},{"$f":"INDIRECT(ADDRESS($K72,T$4,1,1,\"3 - Savings Analysis\"))","v":0}]
["","","","","","","","","",null,{"$f":"K72+1","v":82},{"$f":"INDIRECT(ADDRESS($K73,L$4,1,1,\"3 - Savings Analysis\"))","v":0},{"$f":"INDIRECT(ADDRESS($K73,M$4,1,1,\"3 - Savings Analysis\"))","v":0},{"$f":"INDIRECT(ADDRESS($K73,N$4,1,1,\"3 - Savings Analysis\"))","v":0},{"$f":"INDIRECT(ADDRESS($K73,O$4,1,1,\"3 - Savings Analysis\"))","v":0},{"$f":"INDIRECT(ADDRESS($K73,P$4,1,1,\"3 - Savings Analysis\"))","v":0},{"$f":"INDIRECT(ADDRESS($K73,Q$4,1,1,\"3 - Savings Analysis\"))","v":0},{"$f":"INDIRECT(ADDRESS($K73,R$4,1,1,\"3 - Savings Analysis\"))","v":0},{"$f":"INDIRECT(ADDRESS($K73,S$4,1,1,\"3 - Savings Analysis\"))","v":0},{"$f":"INDIRECT(ADDRESS($K73,T$4,1,1,\"3 - Savings Analysis\"))","v":0}]
["","","","","","","","","",null,83,{"$f":"INDIRECT(ADDRESS($K74,L$4,1,1,\"3 - Savings Analysis\"))","v":0},{"$f":"INDIRECT(ADDRESS($K74,M$4,1,1,\"3 - Savings Analysis\"))","v":0},{"$f":"INDIRECT(ADDRESS($K74,N$4,1,1,\"3 - Savings Analysis\"))","v":0},{"$f":"INDIRECT(ADDRESS($K74,O$4,1,1,\"3 - Savings Analysis\"))","v":0},{"$f":"INDIRECT(ADDRESS($K74,P$4,1,1,\"3 - Savings Analysis\"))","v":0},{"$f":"INDIRECT(ADDRESS($K74,Q$4,1,1,\"3 - Savings Analysis\"))","v":0},{"$f":"INDIRECT(ADDRESS($K74,R$4,1,1,\"3 - Savings Analysis\"))","v":0},{"$f":"INDIRECT(ADDRESS($K74,S$4,1,1,\"3 - Savings Analysis\"))","v":0},{"$f":"INDIRECT(ADDRESS($K74,T$4,1,1,\"3 - Savings Analysis\"))","v":0}]
["","","","","","","","","",null,84,{"$f":"INDIRECT(ADDRESS($K75,L$4,1,1,\"3 - Savings Analysis\"))","v":0},{"$f":"INDIRECT(ADDRESS($K75,M$4,1,1,\"3 - Savings Analysis\"))","v":0},{"$f":"INDIRECT(ADDRESS($K75,N$4,1,1,\"3 - Savings Analysis\"))","v":0},{"$f":"INDIRECT(ADDRESS($K75,O$4,1,1,\"3 - Savings Analysis\"))","v":0},{"$f":"INDIRECT(ADDRESS($K75,P$4,1,1,\"3 - Savings Analysis\"))","v":0},{"$f":"INDIRECT(ADDRESS($K75,Q$4,1,1,\"3 - Savings Analysis\"))","v":0},{"$f":"INDIRECT(ADDRESS($K75,R$4,1,1,\"3 - Savings Analysis\"))","v":0},{"$f":"INDIRECT(ADDRESS($K75,S$4,1,1,\"3 - Savings Analysis\"))","v":0},{"$f":"INDIRECT(ADDRESS($K75,T$4,1,1,\"3 - Savings Analysis\"))","v":0}]
["","","","","","","","","",null,85,{"$f":"INDIRECT(ADDRESS($K76,L$4,1,1,\"3 - Savings Analysis\"))","v":0},{"$f":"INDIRECT(ADDRESS($K76,M$4,1,1,\"3 - Savings Analysis\"))","v":0},{"$f":"INDIRECT(ADDRESS($K76,N$4,1,1,\"3 - Savings Analysis\"))","v":0},{"$f":"INDIRECT(ADDRESS($K76,O$4,1,1,\"3 - Savings Analysis\"))","v":0},{"$f":"INDIRECT(ADDRESS($K76,P$4,1,1,\"3 - Savings Analysis\"))","v":0},{"$f":"INDIRECT(ADDRESS($K76,Q$4,1,1,\"3 - Savings Analysis\"))","v":0},{"$f":"INDIRECT(ADDRESS($K76,R$4,1,1,\"3 - Savings Analysis\"))","v":0},{"$f":"INDIRECT(ADDRESS($K76,S$4,1,1,\"3 - Savings Analysis\"))","v":0},{"$f":"INDIRECT(ADDRESS($K76,T$4,1,1,\"3 - Savings Analysis\"))","v":0}]
[{"$f":"IF($K77<=$M$2,L77,\"\")","v":""},{"$f":"IF($K77<=$M$2,IF($A77=\"Total\",\"\",M77),\"\")","v":""},{"$f":"IF($K77<=$M$2,IF($A77=\"Total\",\"\",N77),\"\")","v":""},{"$f":"IF($K77<=$M$2,O77,\"\")","v":""},{"$f":"IF($K77<=$M$2,P77,\"\")","v":""},{"$f":"IF($K77<=$M$2,IF($A77=\"Total\",\"\",Q77),\"\")","v":""},{"$f":"IF($K77<=$M$2,IF($A77=\"Total\",\"\",R77),\"\")","v":""},{"$f":"IF($K77<=$M$2,IF($A77=\"Total\",\"\",IF($T77=0,\"\",S77)),\"\")","v":""},{"$f":"IF($K77<=$M$2,IF($A77=\"Total\",\"\",IF($T77=0,\"\",T77)),\"\")","v":""},null,86,{"$f":"INDIRECT(ADDRESS($K77,L$4,1,1,\"3 - Savings Analysis\"))","v":0},{"$f":"INDIRECT(ADDRESS($K77,M$4,1,1,\"3 - Savings Analysis\"))","v":0},{"$f":"INDIRECT(ADDRESS($K77,N$4,1,1,\"3 - Savings Analysis\"))","v":0},{"$f":"INDIRECT(ADDRESS($K77,O$4,1,1,\"3 - Savings Analysis\"))","v":0},{"$f":"INDIRECT(ADDRESS($K77,P$4,1,1,\"3 - Savings Analysis\"))","v":0},{"$f":"INDIRECT(ADDRESS($K77,Q$4,1,1,\"3 - Savings Analysis\"))","v":0},{"$f":"INDIRECT(ADDRESS($K77,R$4,1,1,\"3 - Savings Analysis\"))","v":0},{"$f":"INDIRECT(ADDRESS($K77,S$4,1,1,\"3 - Savings Analysis\"))","v":0},{"$f":"INDIRECT(ADDRESS($K77,T$4,1,1,\"3 - Savings Analysis\"))","v":0}]
["","","","","","","","","",null,87,{"$f":"INDIRECT(ADDRESS($K78,L$4,1,1,\"3 - Savings Analysis\"))","v":0},{"$f":"INDIRECT(ADDRESS($K78,M$4,1,1,\"3 - Savings Analysis\"))","v":0},{"$f":"INDIRECT(ADDRESS($K78,N$4,1,1,\"3 - Savings Analysis\"))","v":0},{"$f":"INDIRECT(ADDRESS($K78,O$4,1,1,\"3 - Savings Analysis\"))","v":0},{"$f":"INDIRECT(ADDRESS($K78,P$4,1,1,\"3 - Savings Analysis\"))","v":0},{"$f":"INDIRECT(ADDRESS($K78,Q$4,1,1,\"3 - Savings Analysis\"))","v":0},{"$f":"INDIRECT(ADDRESS($K78,R$4,1,1,\"3 - Savings Analysis\"))","v":0},{"$f":"INDIRECT(ADDRESS($K78,S$4,1,1,\"3 - Savings Analysis\"))","v":0},{"$f":"INDIRECT(ADDRESS($K78,T$4,1,1,\"3 - Savings Analysis\"))","v":0}]
["","","","","","","","","",null,88,{"$f":"INDIRECT(ADDRESS($K79,L$4,1,1,\"3 - Savings Analysis\"))","v":0},{"$f":"INDIRECT(ADDRESS($K79,M$4,1,1,\"3 - Savings Analysis\"))","v":0},{"$f":"INDIRECT(ADDRESS($K79,N$4,1,1,\"3 - Savings Analysis\"))","v":0},{"$f":"INDIRECT(ADDRESS($K79,O$4,1,1,\"3 - Savings Analysis\"))","v":0},{"$f":"INDIRECT(ADDRESS($K79,P$4,1,1,\"3 - Savings Analysis\"))","v":0},{"$f":"INDIRECT(ADDRESS($K79,Q$4,1,1,\"3 - Savings Analysis\"))","v":0},{"$f":"INDIRECT(ADDRESS($K79,R$4,1,1,\"3 - Savings Analysis\"))","v":0},{"$f":"INDIRECT(ADDRESS($K79,S$4,1,1,\"3 - Savings Analysis\"))","v":0},{"$f":"INDIRECT(ADDRESS($K79,T$4,1,1,\"3 - Savings Analysis\"))","v":0}]
["","","","","","","","","",null,89,{"$f":"INDIRECT(ADDRESS($K80,L$4,1,1,\"3 - Savings Analysis\"))","v":0},{"$f":"INDIRECT(ADDRESS($K80,M$4,1,1,\"3 - Savings Analysis\"))","v":0},{"$f":"INDIRECT(ADDRESS($K80,N$4,1,1,\"3 - Savings Analysis\"))","v":0},{"$f":"INDIRECT(ADDRESS($K80,O$4,1,1,\"3 - Savings Analysis\"))","v":0},{"$f":"INDIRECT(ADDRESS($K80,P$4,1,1,\"3 - Savings Analysis\"))","v":0},{"$f":"INDIRECT(ADDRESS($K80,Q$4,1,1,\"3 - Savings Analysis\"))","v":0},{"$f":"INDIRECT(ADDRESS($K80,R$4,1,1,\"3 - Savings Analysis\"))","v":0},{"$f":"INDIRECT(ADDRESS($K80,S$4,1,1,\"3 - Savings Analysis\"))","v":0},{"$f":"INDIRECT(ADDRESS($K80,T$4,1,1,\"3 - Savings Analysis\"))","v":0}]
["","","","","","","","","",null,90,{"$f":"INDIRECT(ADDRESS($K81,L$4,1,1,\"3 - Savings Analysis\"))","v":0},{"$f":"INDIRECT(ADDRESS($K81,M$4,1,1,\"3 - Savings Analysis\"))","v":0},{"$f":"INDIRECT(ADDRESS($K81,N$4,1,1,\"3 - Savings Analysis\"))","v":0},{"$f":"INDIRECT(ADDRESS($K81,O$4,1,1,\"3 - Savings Analysis\"))","v":0},{"$f":"INDIRECT(ADDRESS($K81,P$4,1,1,\"3 - Savings Analysis\"))","v":0},{"$f":"INDIRECT(ADDRESS($K81,Q$4,1,1,\"3 - Savings Analysis\"))","v":0},{"$f":"INDIRECT(ADDRESS($K81,R$4,1,1,\"3 - Savings Analysis\"))","v":0},{"$f":"INDIRECT(ADDRESS($K81,S$4,1,1,\"3 - Savings Analysis\"))","v":0},{"$f":"INDIRECT(ADDRESS($K81,T$4,1,1,\"3 - Savings Analysis\"))","v":0}]
["","","","","","","","","",null,91,{"$f":"INDIRECT(ADDRESS($K82,L$4,1,1,\"3 - Savings Analysis\"))","v":0},{"$f":"INDIRECT(ADDRESS($K82,M$4,1,1,\"3 - Savings Analysis\"))","v":0},{"$f":"INDIRECT(ADDRESS($K82,N$4,1,1,\"3 - Savings Analysis\"))","v":0},{"$f":"INDIRECT(ADDRESS($K82,O$4,1,1,\"3 - Savings Analysis\"))","v":0},{"$f":"INDIRECT(ADDRESS($K82,P$4,1,1,\"3 - Savings Analysis\"))","v":0},{"$f":"INDIRECT(ADDRESS($K82,Q$4,1,1,\"3 - Savings Analysis\"))","v":0},{"$f":"INDIRECT(ADDRESS($K82,R$4,1,1,\"3 - Savings Analysis\"))","v":0},{"$f":"INDIRECT(ADDRESS($K82,S$4,1,1,\"3 - Savings Analysis\"))","v":0},{"$f":"INDIRECT(ADDRESS($K82,T$4,1,1,\"3 - Savings Analysis\"))","v":0}]
["","","","","","","","","",null,92,{"$f":"INDIRECT(ADDRESS($K83,L$4,1,1,\"3 - Savings Analysis\"))","v":0},{"$f":"INDIRECT(ADDRESS($K83,M$4,1,1,\"3 - Savings Analysis\"))","v":0},{"$f":"INDIRECT(ADDRESS($K83,N$4,1,1,\"3 - Savings Analysis\"))","v":0},{"$f":"INDIRECT(ADDRESS($K83,O$4,1,1,\"3 - Savings Analysis\"))","v":0},{"$f":"INDIRECT(ADDRESS($K83,P$4,1,1,\"3 - Savings Analysis\"))","v":0},{"$f":"INDIRECT(ADDRESS($K83,Q$4,1,1,\"3 - Savings Analysis\"))","v":0},{"$f":"INDIRECT(ADDRESS($K83,R$4,1,1,\"3 - Savings Analysis\"))","v":0},{"$f":"INDIRECT(ADDRESS($K83,S$4,1,1,\"3 - Savings Analysis\"))","v":0},{"$f":"INDIRECT(ADDRESS($K83,T$4,1,1,\"3 - Savings Analysis\"))","v":0}]
["","","","","","","","","",null,93,{"$f":"INDIRECT(ADDRESS($K84,L$4,1,1,\"3 - Savings Analysis\"))","v":0},{"$f":"INDIRECT(ADDRESS($K84,M$4,1,1,\"3 - Savings Analysis\"))","v":0},{"$f":"INDIRECT(ADDRESS($K84,N$4,1,1,\"3 - Savings Analysis\"))","v":0},{"$f":"INDIRECT(ADDRESS($K84,O$4,1,1,\"3 - Savings Analysis\"))","v":0},{"$f":"INDIRECT(ADDRESS($K84,P$4,1,1,\"3 - Savings Analysis\"))","v":0},{"$f":"INDIRECT(ADDRESS($K84,Q$4,1,1,\"3 - Savings Analysis\"))","v":0},{"$f":"INDIRECT(ADDRESS($K84,R$4,1,1,\"3 - Savings Analysis\"))","v":0},{"$f":"INDIRECT(ADDRESS($K84,S$4,1,1,\"3 - Savings Analysis\"))","v":0},{"$f":"INDIRECT(ADDRESS($K84,T$4,1,1,\"3 - Savings Analysis\"))","v":0}]
["","","","","","","","","",null,94,{"$f":"INDIRECT(ADDRESS($K85,L$4,1,1,\"3 - Savings Analysis\"))","v":0},{"$f":"INDIRECT(ADDRESS($K85,M$4,1,1,\"3 - Savings Analysis\"))","v":0},{"$f":"INDIRECT(ADDRESS($K85,N$4,1,1,\"3 - Savings Analysis\"))","v":0},{"$f":"INDIRECT(ADDRESS($K85,O$4,1,1,\"3 - Savings Analysis\"))","v":0},{"$f":"INDIRECT(ADDRESS($K85,P$4,1,1,\"3 - Savings Analysis\"))","v":0},{"$f":"INDIRECT(ADDRESS($K85,Q$4,1,1,\"3 - Savings Analysis\"))","v":0},{"$f":"INDIRECT(ADDRESS($K85,R$4,1,1,\"3 - Savings Analysis\"))","v":0},{"$f":"INDIRECT(ADDRESS($K85,S$4,1,1,\"3 - Savings Analysis\"))","v":0},{"$f":"INDIRECT(ADDRESS($K85,T$4,1,1,\"3 - Savings Analysis\"))","v":0}]
["","","","","","","","","",null,95,{"$f":"INDIRECT(ADDRESS($K86,L$4,1,1,\"3 - Savings Analysis\"))","v":0},{"$f":"INDIRECT(ADDRESS($K86,M$4,1,1,\"3 - Savings Analysis\"))","v":0},{"$f":"INDIRECT(ADDRESS($K86,N$4,1,1,\"3 - Savings Analysis\"))","v":0},{"$f":"INDIRECT(ADDRESS($K86,O$4,1,1,\"3 - Savings Analysis\"))","v":0},{"$f":"INDIRECT(ADDRESS($K86,P$4,1,1,\"3 - Savings Analysis\"))","v":0},{"$f":"INDIRECT(ADDRESS($K86,Q$4,1,1,\"3 - Savings Analysis\"))","v":0},{"$f":"INDIRECT(ADDRESS($K86,R$4,1,1,\"3 - Savings Analysis\"))","v":0},{"$f":"INDIRECT(ADDRESS($K86,S$4,1,1,\"3 - Savings Analysis\"))","v":0},{"$f":"INDIRECT(ADDRESS($K86,T$4,1,1,\"3 - Savings Analysis\"))","v":0}]
["","","","","","","","","",null,96,{"$f":"INDIRECT(ADDRESS($K87,L$4,1,1,\"3 - Savings Analysis\"))","v":0},{"$f":"INDIRECT(ADDRESS($K87,M$4,1,1,\"3 - Savings Analysis\"))","v":0},{"$f":"INDIRECT(ADDRESS($K87,N$4,1,1,\"3 - Savings Analysis\"))","v":0},{"$f":"INDIRECT(ADDRESS($K87,O$4,1,1,\"3 - Savings Analysis\"))","v":0},{"$f":"INDIRECT(ADDRESS($K87,P$4,1,1,\"3 - Savings Analysis\"))","v":0},{"$f":"INDIRECT(ADDRESS($K87,Q$4,1,1,\"3 - Savings Analysis\"))","v":0},{"$f":"INDIRECT(ADDRESS($K87,R$4,1,1,\"3 - Savings Analysis\"))","v":0},{"$f":"INDIRECT(ADDRESS($K87,S$4,1,1,\"3 - Savings Analysis\"))","v":0},{"$f":"INDIRECT(ADDRESS($K87,T$4,1,1,\"3 - Savings Analysis\"))","v":0}]
["","","","","","","","","",null,97,{"$f":"INDIRECT(ADDRESS($K88,L$4,1,1,\"3 - Savings Analysis\"))","v":0},{"$f":"INDIRECT(ADDRESS($K88,M$4,1,1,\"3 - Savings Analysis\"))","v":0},{"$f":"INDIRECT(ADDRESS($K88,N$4,1,1,\"3 - Savings Analysis\"))","v":0},{"$f":"INDIRECT(ADDRESS($K88,O$4,1,1,\"3 - Savings Analysis\"))","v":0},{"$f":"INDIRECT(ADDRESS($K88,P$4,1,1,\"3 - Savings Analysis\"))","v":0},{"$f":"INDIRECT(ADDRESS($K88,Q$4,1,1,\"3 - Savings Analysis\"))","v":0},{"$f":"INDIRECT(ADDRESS($K88,R$4,1,1,\"3 - Savings Analysis\"))","v":0},{"$f":"INDIRECT(ADDRESS($K88,S$4,1,1,\"3 - Savings Analysis\"))","v":0},{"$f":"INDIRECT(ADDRESS($K88,T$4,1,1,\"3 - Savings Analysis\"))","v":0}]
["","","","","","","","","",null,98,{"$f":"INDIRECT(ADDRESS($K89,L$4,1,1,\"3 - Savings Analysis\"))","v":0},{"$f":"INDIRECT(ADDRESS($K89,M$4,1,1,\"3 - Savings Analysis\"))","v":0},{"$f":"INDIRECT(ADDRESS($K89,N$4,1,1,\"3 - Savings Analysis\"))","v":0},{"$f":"INDIRECT(ADDRESS($K89,O$4,1,1,\"3 - Savings Analysis\"))","v":0},{"$f":"INDIRECT(ADDRESS($K89,P$4,1,1,\"3 - Savings Analysis\"))","v":0},{"$f":"INDIRECT(ADDRESS($K89,Q$4,1,1,\"3 - Savings Analysis\"))","v":0},{"$f":"INDIRECT(ADDRESS($K89,R$4,1,1,\"3 - Savings Analysis\"))","v":0},{"$f":"INDIRECT(ADDRESS($K89,S$4,1,1,\"3 - Savings Analysis\"))","v":0},{"$f":"INDIRECT(ADDRESS($K89,T$4,1,1,\"3 - Savings Analysis\"))","v":0}]
["","","","","","","","","",null,99,{"$f":"INDIRECT(ADDRESS($K90,L$4,1,1,\"3 - Savings Analysis\"))","v":0},{"$f":"INDIRECT(ADDRESS($K90,M$4,1,1,\"3 - Savings Analysis\"))","v":0},{"$f":"INDIRECT(ADDRESS($K90,N$4,1,1,\"3 - Savings Analysis\"))","v":0},{"$f":"INDIRECT(ADDRESS($K90,O$4,1,1,\"3 - Savings Analysis\"))","v":0},{"$f":"INDIRECT(ADDRESS($K90,P$4,1,1,\"3 - Savings Analysis\"))","v":0},{"$f":"INDIRECT(ADDRESS($K90,Q$4,1,1,\"3 - Savings Analysis\"))","v":0},{"$f":"INDIRECT(ADDRESS($K90,R$4,1,1,\"3 - Savings Analysis\"))","v":0},{"$f":"INDIRECT(ADDRESS($K90,S$4,1,1,\"3 - Savings Analysis\"))","v":0},{"$f":"INDIRECT(ADDRESS($K90,T$4,1,1,\"3 - Savings Analysis\"))","v":0}]
["","","","","","","","","",null,100,{"$f":"INDIRECT(ADDRESS($K91,L$4,1,1,\"3 - Savings Analysis\"))","v":0},{"$f":"INDIRECT(ADDRESS($K91,M$4,1,1,\"3 - Savings Analysis\"))","v":0},{"$f":"INDIRECT(ADDRESS($K91,N$4,1,1,\"3 - Savings Analysis\"))","v":0},{"$f":"INDIRECT(ADDRESS($K91,O$4,1,1,\"3 - Savings Analysis\"))","v":0},{"$f":"INDIRECT(ADDRESS($K91,P$4,1,1,\"3 - Savings Analysis\"))","v":0},{"$f":"INDIRECT(ADDRESS($K91,Q$4,1,1,\"3 - Savings Analysis\"))","v":0},{"$f":"INDIRECT(ADDRESS($K91,R$4,1,1,\"3 - Savings Analysis\"))","v":0},{"$f":"INDIRECT(ADDRESS($K91,S$4,1,1,\"3 - Savings Analysis\"))","v":0},{"$f":"INDIRECT(ADDRESS($K91,T$4,1,1,\"3 - Savings Analysis\"))","v":0}]
["","","","","","","","","",null,101,{"$f":"INDIRECT(ADDRESS($K92,L$4,1,1,\"3 - Savings Analysis\"))","v":0},{"$f":"INDIRECT(ADDRESS($K92,M$4,1,1,\"3 - Savings Analysis\"))","v":0},{"$f":"INDIRECT(ADDRESS($K92,N$4,1,1,\"3 - Savings Analysis\"))","v":0},{"$f":"INDIRECT(ADDRESS($K92,O$4,1,1,\"3 - Savings Analysis\"))","v":0},{"$f":"INDIRECT(ADDRESS($K92,P$4,1,1,\"3 - Savings Analysis\"))","v":0},{"$f":"INDIRECT(ADDRESS($K92,Q$4,1,1,\"3 - Savings Analysis\"))","v":0},{"$f":"INDIRECT(ADDRESS($K92,R$4,1,1,\"3 - Savings Analysis\"))","v":0},{"$f":"INDIRECT(ADDRESS($K92,S$4,1,1,\"3 - Savings Analysis\"))","v":0},{"$f":"INDIRECT(ADDRESS($K92,T$4,1,1,\"3 - Savings Analysis\"))","v":0}]
["","","","","","","","","",null,102,{"$f":"INDIRECT(ADDRESS($K93,L$4,1,1,\"3 - Savings Analysis\"))","v":0},{"$f":"INDIRECT(ADDRESS($K93,M$4,1,1,\"3 - Savings Analysis\"))","v":0},{"$f":"INDIRECT(ADDRESS($K93,N$4,1,1,\"3 - Savings Analysis\"))","v":0},{"$f":"INDIRECT(ADDRESS($K93,O$4,1,1,\"3 - Savings Analysis\"))","v":0},{"$f":"INDIRECT(ADDRESS($K93,P$4,1,1,\"3 - Savings Analysis\"))","v":0},{"$f":"INDIRECT(ADDRESS($K93,Q$4,1,1,\"3 - Savings Analysis\"))","v":0},{"$f":"INDIRECT(ADDRESS($K93,R$4,1,1,\"3 - Savings Analysis\"))","v":0},{"$f":"INDIRECT(ADDRESS($K93,S$4,1,1,\"3 - Savings Analysis\"))","v":0},{"$f":"INDIRECT(ADDRESS($K93,T$4,1,1,\"3 - Savings Analysis\"))","v":0}]
["","","","","","","","","",null,103,{"$f":"INDIRECT(ADDRESS($K94,L$4,1,1,\"3 - Savings Analysis\"))","v":0},{"$f":"INDIRECT(ADDRESS($K94,M$4,1,1,\"3 - Savings Analysis\"))","v":0},{"$f":"INDIRECT(ADDRESS($K94,N$4,1,1,\"3 - Savings Analysis\"))","v":0},{"$f":"INDIRECT(ADDRESS($K94,O$4,1,1,\"3 - Savings Analysis\"))","v":0},{"$f":"INDIRECT(ADDRESS($K94,P$4,1,1,\"3 - Savings Analysis\"))","v":0},{"$f":"INDIRECT(ADDRESS($K94,Q$4,1,1,\"3 - Savings Analysis\"))","v":0},{"$f":"INDIRECT(ADDRESS($K94,R$4,1,1,\"3 - Savings Analysis\"))","v":0},{"$f":"INDIRECT(ADDRESS($K94,S$4,1,1,\"3 - Savings Analysis\"))","v":0},{"$f":"INDIRECT(ADDRESS($K94,T$4,1,1,\"3 - Savings Analysis\"))","v":0}]
["","","","","","","","","",null,104,{"$f":"INDIRECT(ADDRESS($K95,L$4,1,1,\"3 - Savings Analysis\"))","v":0},{"$f":"INDIRECT(ADDRESS($K95,M$4,1,1,\"3 - Savings Analysis\"))","v":0},{"$f":"INDIRECT(ADDRESS($K95,N$4,1,1,\"3 - Savings Analysis\"))","v":0},{"$f":"INDIRECT(ADDRESS($K95,O$4,1,1,\"3 - Savings Analysis\"))","v":0},{"$f":"INDIRECT(ADDRESS($K95,P$4,1,1,\"3 - Savings Analysis\"))","v":0},{"$f":"INDIRECT(ADDRESS($K95,Q$4,1,1,\"3 - Savings Analysis\"))","v":0},{"$f":"INDIRECT(ADDRESS($K95,R$4,1,1,\"3 - Savings Analysis\"))","v":0},{"$f":"INDIRECT(ADDRESS($K95,S$4,1,1,\"3 - Savings Analysis\"))","v":0},{"$f":"INDIRECT(ADDRESS($K95,T$4,1,1,\"3 - Savings Analysis\"))","v":0}]
["","","","","","","","","",null,105,{"$f":"INDIRECT(ADDRESS($K96,L$4,1,1,\"3 - Savings Analysis\"))","v":0},{"$f":"INDIRECT(ADDRESS($K96,M$4,1,1,\"3 - Savings Analysis\"))","v":0},{"$f":"INDIRECT(ADDRESS($K96,N$4,1,1,\"3 - Savings Analysis\"))","v":0},{"$f":"INDIRECT(ADDRESS($K96,O$4,1,1,\"3 - Savings Analysis\"))","v":0},{"$f":"INDIRECT(ADDRESS($K96,P$4,1,1,\"3 - Savings Analysis\"))","v":0},{"$f":"INDIRECT(ADDRESS($K96,Q$4,1,1,\"3 - Savings Analysis\"))","v":0},{"$f":"INDIRECT(ADDRESS($K96,R$4,1,1,\"3 - Savings Analysis\"))","v":0},{"$f":"INDIRECT(ADDRESS($K96,S$4,1,1,\"3 - Savings Analysis\"))","v":0},{"$f":"INDIRECT(ADDRESS($K96,T$4,1,1,\"3 - Savings Analysis\"))","v":0}]
["","","","","","","","","",null,106,{"$f":"INDIRECT(ADDRESS($K97,L$4,1,1,\"3 - Savings Analysis\"))","v":0},{"$f":"INDIRECT(ADDRESS($K97,M$4,1,1,\"3 - Savings Analysis\"))","v":0},{"$f":"INDIRECT(ADDRESS($K97,N$4,1,1,\"3 - Savings Analysis\"))","v":0},{"$f":"INDIRECT(ADDRESS($K97,O$4,1,1,\"3 - Savings Analysis\"))","v":0},{"$f":"INDIRECT(ADDRESS($K97,P$4,1,1,\"3 - Savings Analysis\"))","v":0},{"$f":"INDIRECT(ADDRESS($K97,Q$4,1,1,\"3 - Savings Analysis\"))","v":0},{"$f":"INDIRECT(ADDRESS($K97,R$4,1,1,\"3 - Savings Analysis\"))","v":0},{"$f":"INDIRECT(ADDRESS($K97,S$4,1,1,\"3 - Savings Analysis\"))","v":0},{"$f":"INDIRECT(ADDRESS($K97,T$4,1,1,\"3 - Savings Analysis\"))","v":0}]
["","","","","","","","","",null,107,{"$f":"INDIRECT(ADDRESS($K98,L$4,1,1,\"3 - Savings Analysis\"))","v":0},{"$f":"INDIRECT(ADDRESS($K98,M$4,1,1,\"3 - Savings Analysis\"))","v":0},{"$f":"INDIRECT(ADDRESS($K98,N$4,1,1,\"3 - Savings Analysis\"))","v":0},{"$f":"INDIRECT(ADDRESS($K98,O$4,1,1,\"3 - Savings Analysis\"))","v":0},{"$f":"INDIRECT(ADDRESS($K98,P$4,1,1,\"3 - Savings Analysis\"))","v":0},{"$f":"INDIRECT(ADDRESS($K98,Q$4,1,1,\"3 - Savings Analysis\"))","v":0},{"$f":"INDIRECT(ADDRESS($K98,R$4,1,1,\"3 - Savings Analysis\"))","v":0},{"$f":"INDIRECT(ADDRESS($K98,S$4,1,1,\"3 - Savings Analysis\"))","v":0},{"$f":"INDIRECT(ADDRESS($K98,T$4,1,1,\"3 - Savings Analysis\"))","v":0}]
["","","","","","","","","",null,108,{"$f":"INDIRECT(ADDRESS($K99,L$4,1,1,\"3 - Savings Analysis\"))","v":0},{"$f":"INDIRECT(ADDRESS($K99,M$4,1,1,\"3 - Savings Analysis\"))","v":0},{"$f":"INDIRECT(ADDRESS($K99,N$4,1,1,\"3 - Savings Analysis\"))","v":0},{"$f":"INDIRECT(ADDRESS($K99,O$4,1,1,\"3 - Savings Analysis\"))","v":0},{"$f":"INDIRECT(ADDRESS($K99,P$4,1,1,\"3 - Savings Analysis\"))","v":0},{"$f":"INDIRECT(ADDRESS($K99,Q$4,1,1,\"3 - Savings Analysis\"))","v":0},{"$f":"INDIRECT(ADDRESS($K99,R$4,1,1,\"3 - Savings Analysis\"))","v":0},{"$f":"INDIRECT(ADDRESS($K99,S$4,1,1,\"3 - Savings Analysis\"))","v":0},{"$f":"INDIRECT(ADDRESS($K99,T$4,1,1,\"3 - Savings Analysis\"))","v":0}]
["","","","","","","","","",null,109,{"$f":"INDIRECT(ADDRESS($K100,L$4,1,1,\"3 - Savings Analysis\"))","v":0},{"$f":"INDIRECT(ADDRESS($K100,M$4,1,1,\"3 - Savings Analysis\"))","v":0},{"$f":"INDIRECT(ADDRESS($K100,N$4,1,1,\"3 - Savings Analysis\"))","v":0},{"$f":"INDIRECT(ADDRESS($K100,O$4,1,1,\"3 - Savings Analysis\"))","v":0},{"$f":"INDIRECT(ADDRESS($K100,P$4,1,1,\"3 - Savings Analysis\"))","v":0},{"$f":"INDIRECT(ADDRESS($K100,Q$4,1,1,\"3 - Savings Analysis\"))","v":0},{"$f":"INDIRECT(ADDRESS($K100,R$4,1,1,\"3 - Savings Analysis\"))","v":0},{"$f":"INDIRECT(ADDRESS($K100,S$4,1,1,\"3 - Savings Analysis\"))","v":0},{"$f":"INDIRECT(ADDRESS($K100,T$4,1,1,\"3 - Savings Analysis\"))","v":0}]
["","","","","","","","","",null,110,{"$f":"INDIRECT(ADDRESS($K101,L$4,1,1,\"3 - Savings Analysis\"))","v":0},{"$f":"INDIRECT(ADDRESS($K101,M$4,1,1,\"3 - Savings Analysis\"))","v":0},{"$f":"INDIRECT(ADDRESS($K101,N$4,1,1,\"3 - Savings Analysis\"))","v":0},{"$f":"INDIRECT(ADDRESS($K101,O$4,1,1,\"3 - Savings Analysis\"))","v":0},{"$f":"INDIRECT(ADDRESS($K101,P$4,1,1,\"3 - Savings Analysis\"))","v":0},{"$f":"INDIRECT(ADDRESS($K101,Q$4,1,1,\"3 - Savings Analysis\"))","v":0},{"$f":"INDIRECT(ADDRESS($K101,R$4,1,1,\"3 - Savings Analysis\"))","v":0},{"$f":"INDIRECT(ADDRESS($K101,S$4,1,1,\"3 - Savings Analysis\"))","v":0},{"$f":"INDIRECT(ADDRESS($K101,T$4,1,1,\"3 - Savings Analysis\"))","v":0}]
["","","","","","","","","",null,111,{"$f":"INDIRECT(ADDRESS($K102,L$4,1,1,\"3 - Savings Analysis\"))","v":0},{"$f":"INDIRECT(ADDRESS($K102,M$4,1,1,\"3 - Savings Analysis\"))","v":0},{"$f":"INDIRECT(ADDRESS($K102,N$4,1,1,\"3 - Savings Analysis\"))","v":0},{"$f":"INDIRECT(ADDRESS($K102,O$4,1,1,\"3 - Savings Analysis\"))","v":0},{"$f":"INDIRECT(ADDRESS($K102,P$4,1,1,\"3 - Savings Analysis\"))","v":0},{"$f":"INDIRECT(ADDRESS($K102,Q$4,1,1,\"3 - Savings Analysis\"))","v":0},{"$f":"INDIRECT(ADDRESS($K102,R$4,1,1,\"3 - Savings Analysis\"))","v":0},{"$f":"INDIRECT(ADDRESS($K102,S$4,1,1,\"3 - Savings Analysis\"))","v":0},{"$f":"INDIRECT(ADDRESS($K102,T$4,1,1,\"3 - Savings Analysis\"))","v":0}]
["","","","","","","","","",null,112,{"$f":"INDIRECT(ADDRESS($K103,L$4,1,1,\"3 - Savings Analysis\"))","v":0},{"$f":"INDIRECT(ADDRESS($K103,M$4,1,1,\"3 - Savings Analysis\"))","v":0},{"$f":"INDIRECT(ADDRESS($K103,N$4,1,1,\"3 - Savings Analysis\"))","v":0},{"$f":"INDIRECT(ADDRESS($K103,O$4,1,1,\"3 - Savings Analysis\"))","v":0},{"$f":"INDIRECT(ADDRESS($K103,P$4,1,1,\"3 - Savings Analysis\"))","v":0},{"$f":"INDIRECT(ADDRESS($K103,Q$4,1,1,\"3 - Savings Analysis\"))","v":0},{"$f":"INDIRECT(ADDRESS($K103,R$4,1,1,\"3 - Savings Analysis\"))","v":0},{"$f":"INDIRECT(ADDRESS($K103,S$4,1,1,\"3 - Savings Analysis\"))","v":0},{"$f":"INDIRECT(ADDRESS($K103,T$4,1,1,\"3 - Savings Analysis\"))","v":0}]
["","","","","","","","","",null,113,{"$f":"INDIRECT(ADDRESS($K104,L$4,1,1,\"3 - Savings Analysis\"))","v":0},{"$f":"INDIRECT(ADDRESS($K104,M$4,1,1,\"3 - Savings Analysis\"))","v":0},{"$f":"INDIRECT(ADDRESS($K104,N$4,1,1,\"3 - Savings Analysis\"))","v":0},{"$f":"INDIRECT(ADDRESS($K104,O$4,1,1,\"3 - Savings Analysis\"))","v":0},{"$f":"INDIRECT(ADDRESS($K104,P$4,1,1,\"3 - Savings Analysis\"))","v":0},{"$f":"INDIRECT(ADDRESS($K104,Q$4,1,1,\"3 - Savings Analysis\"))","v":0},{"$f":"INDIRECT(ADDRESS($K104,R$4,1,1,\"3 - Savings Analysis\"))","v":0},{"$f":"INDIRECT(ADDRESS($K104,S$4,1,1,\"3 - Savings Analysis\"))","v":0},{"$f":"INDIRECT(ADDRESS($K104,T$4,1,1,\"3 - Savings Analysis\"))","v":0}]
["","","","","","","","","",null,114,{"$f":"INDIRECT(ADDRESS($K105,L$4,1,1,\"3 - Savings Analysis\"))","v":0},{"$f":"INDIRECT(ADDRESS($K105,M$4,1,1,\"3 - Savings Analysis\"))","v":0},{"$f":"INDIRECT(ADDRESS($K105,N$4,1,1,\"3 - Savings Analysis\"))","v":0},{"$f":"INDIRECT(ADDRESS($K105,O$4,1,1,\"3 - Savings Analysis\"))","v":0},{"$f":"INDIRECT(ADDRESS($K105,P$4,1,1,\"3 - Savings Analysis\"))","v":0},{"$f":"INDIRECT(ADDRESS($K105,Q$4,1,1,\"3 - Savings Analysis\"))","v":0},{"$f":"INDIRECT(ADDRESS($K105,R$4,1,1,\"3 - Savings Analysis\"))","v":0},{"$f":"INDIRECT(ADDRESS($K105,S$4,1,1,\"3 - Savings Analysis\"))","v":0},{"$f":"INDIRECT(ADDRESS($K105,T$4,1,1,\"3 - Savings Analysis\"))","v":0}]
["","","","","","","","","",null,115,{"$f":"INDIRECT(ADDRESS($K106,L$4,1,1,\"3 - Savings Analysis\"))","v":0},{"$f":"INDIRECT(ADDRESS($K106,M$4,1,1,\"3 - Savings Analysis\"))","v":0},{"$f":"INDIRECT(ADDRESS($K106,N$4,1,1,\"3 - Savings Analysis\"))","v":0},{"$f":"INDIRECT(ADDRESS($K106,O$4,1,1,\"3 - Savings Analysis\"))","v":0},{"$f":"INDIRECT(ADDRESS($K106,P$4,1,1,\"3 - Savings Analysis\"))","v":0},{"$f":"INDIRECT(ADDRESS($K106,Q$4,1,1,\"3 - Savings Analysis\"))","v":0},{"$f":"INDIRECT(ADDRESS($K106,R$4,1,1,\"3 - Savings Analysis\"))","v":0},{"$f":"INDIRECT(ADDRESS($K106,S$4,1,1,\"3 - Savings Analysis\"))","v":0},{"$f":"INDIRECT(ADDRESS($K106,T$4,1,1,\"3 - Savings Analysis\"))","v":0}]
["","","","","","","","","",null,116,{"$f":"INDIRECT(ADDRESS($K107,L$4,1,1,\"3 - Savings Analysis\"))","v":0},{"$f":"INDIRECT(ADDRESS($K107,M$4,1,1,\"3 - Savings Analysis\"))","v":0},{"$f":"INDIRECT(ADDRESS($K107,N$4,1,1,\"3 - Savings Analysis\"))","v":0},{"$f":"INDIRECT(ADDRESS($K107,O$4,1,1,\"3 - Savings Analysis\"))","v":0},{"$f":"INDIRECT(ADDRESS($K107,P$4,1,1,\"3 - Savings Analysis\"))","v":0},{"$f":"INDIRECT(ADDRESS($K107,Q$4,1,1,\"3 - Savings Analysis\"))","v":0},{"$f":"INDIRECT(ADDRESS($K107,R$4,1,1,\"3 - Savings Analysis\"))","v":0},{"$f":"INDIRECT(ADDRESS($K107,S$4,1,1,\"3 - Savings Analysis\"))","v":0},{"$f":"INDIRECT(ADDRESS($K107,T$4,1,1,\"3 - Savings Analysis\"))","v":0}]
["","","","","","","","","",null,117,{"$f":"INDIRECT(ADDRESS($K108,L$4,1,1,\"3 - Savings Analysis\"))","v":0},{"$f":"INDIRECT(ADDRESS($K108,M$4,1,1,\"3 - Savings Analysis\"))","v":0},{"$f":"INDIRECT(ADDRESS($K108,N$4,1,1,\"3 - Savings Analysis\"))","v":0},{"$f":"INDIRECT(ADDRESS($K108,O$4,1,1,\"3 - Savings Analysis\"))","v":0},{"$f":"INDIRECT(ADDRESS($K108,P$4,1,1,\"3 - Savings Analysis\"))","v":0},{"$f":"INDIRECT(ADDRESS($K108,Q$4,1,1,\"3 - Savings Analysis\"))","v":0},{"$f":"INDIRECT(ADDRESS($K108,R$4,1,1,\"3 - Savings Analysis\"))","v":0},{"$f":"INDIRECT(ADDRESS($K108,S$4,1,1,\"3 - Savings Analysis\"))","v":0},{"$f":"INDIRECT(ADDRESS($K108,T$4,1,1,\"3 - Savings Analysis\"))","v":0}]
["","","","","","","","","",null,118,{"$f":"INDIRECT(ADDRESS($K109,L$4,1,1,\"3 - Savings Analysis\"))","v":0},{"$f":"INDIRECT(ADDRESS($K109,M$4,1,1,\"3 - Savings Analysis\"))","v":0},{"$f":"INDIRECT(ADDRESS($K109,N$4,1,1,\"3 - Savings Analysis\"))","v":0},{"$f":"INDIRECT(ADDRESS($K109,O$4,1,1,\"3 - Savings Analysis\"))","v":0},{"$f":"INDIRECT(ADDRESS($K109,P$4,1,1,\"3 - Savings Analysis\"))","v":0},{"$f":"INDIRECT(ADDRESS($K109,Q$4,1,1,\"3 - Savings Analysis\"))","v":0},{"$f":"INDIRECT(ADDRESS($K109,R$4,1,1,\"3 - Savings Analysis\"))","v":0},{"$f":"INDIRECT(ADDRESS($K109,S$4,1,1,\"3 - Savings Analysis\"))","v":0},{"$f":"INDIRECT(ADDRESS($K109,T$4,1,1,\"3 - Savings Analysis\"))","v":0}]
["","","","","","","","","",null,119,{"$f":"INDIRECT(ADDRESS($K110,L$4,1,1,\"3 - Savings Analysis\"))","v":0},{"$f":"INDIRECT(ADDRESS($K110,M$4,1,1,\"3 - Savings Analysis\"))","v":0},{"$f":"INDIRECT(ADDRESS($K110,N$4,1,1,\"3 - Savings Analysis\"))","v":0},{"$f":"INDIRECT(ADDRESS($K110,O$4,1,1,\"3 - Savings Analysis\"))","v":0},{"$f":"INDIRECT(ADDRESS($K110,P$4,1,1,\"3 - Savings Analysis\"))","v":0},{"$f":"INDIRECT(ADDRESS($K110,Q$4,1,1,\"3 - Savings Analysis\"))","v":0},{"$f":"INDIRECT(ADDRESS($K110,R$4,1,1,\"3 - Savings Analysis\"))","v":0},{"$f":"INDIRECT(ADDRESS($K110,S$4,1,1,\"3 - Savings Analysis\"))","v":0},{"$f":"INDIRECT(ADDRESS($K110,T$4,1,1,\"3 - Savings Analysis\"))","v":0}]
["","","","","","","","","",null,120,{"$f":"INDIRECT(ADDRESS($K111,L$4,1,1,\"3 - Savings Analysis\"))","v":0},{"$f":"INDIRECT(ADDRESS($K111,M$4,1,1,\"3 - Savings Analysis\"))","v":0},{"$f":"INDIRECT(ADDRESS($K111,N$4,1,1,\"3 - Savings Analysis\"))","v":0},{"$f":"INDIRECT(ADDRESS($K111,O$4,1,1,\"3 - Savings Analysis\"))","v":0},{"$f":"INDIRECT(ADDRESS($K111,P$4,1,1,\"3 - Savings Analysis\"))","v":0},{"$f":"INDIRECT(ADDRESS($K111,Q$4,1,1,\"3 - Savings Analysis\"))","v":0},{"$f":"INDIRECT(ADDRESS($K111,R$4,1,1,\"3 - Savings Analysis\"))","v":0},{"$f":"INDIRECT(ADDRESS($K111,S$4,1,1,\"3 - Savings Analysis\"))","v":0},{"$f":"INDIRECT(ADDRESS($K111,T$4,1,1,\"3 - Savings Analysis\"))","v":0}]
["","","","","","","","","",null,121,{"$f":"INDIRECT(ADDRESS($K112,L$4,1,1,\"3 - Savings Analysis\"))","v":0},{"$f":"INDIRECT(ADDRESS($K112,M$4,1,1,\"3 - Savings Analysis\"))","v":0},{"$f":"INDIRECT(ADDRESS($K112,N$4,1,1,\"3 - Savings Analysis\"))","v":0},{"$f":"INDIRECT(ADDRESS($K112,O$4,1,1,\"3 - Savings Analysis\"))","v":0},{"$f":"INDIRECT(ADDRESS($K112,P$4,1,1,\"3 - Savings Analysis\"))","v":0},{"$f":"INDIRECT(ADDRESS($K112,Q$4,1,1,\"3 - Savings Analysis\"))","v":0},{"$f":"INDIRECT(ADDRESS($K112,R$4,1,1,\"3 - Savings Analysis\"))","v":0},{"$f":"INDIRECT(ADDRESS($K112,S$4,1,1,\"3 - Savings Analysis\"))","v":0},{"$f":"INDIRECT(ADDRESS($K112,T$4,1,1,\"3 - Savings Analysis\"))","v":0}]
["","","","","","","","","",null,122,{"$f":"INDIRECT(ADDRESS($K113,L$4,1,1,\"3 - Savings Analysis\"))","v":0},{"$f":"INDIRECT(ADDRESS($K113,M$4,1,1,\"3 - Savings Analysis\"))","v":0},{"$f":"INDIRECT(ADDRESS($K113,N$4,1,1,\"3 - Savings Analysis\"))","v":0},{"$f":"INDIRECT(ADDRESS($K113,O$4,1,1,\"3 - Savings Analysis\"))","v":0},{"$f":"INDIRECT(ADDRESS($K113,P$4,1,1,\"3 - Savings Analysis\"))","v":0},{"$f":"INDIRECT(ADDRESS($K113,Q$4,1,1,\"3 - Savings Analysis\"))","v":0},{"$f":"INDIRECT(ADDRESS($K113,R$4,1,1,\"3 - Savings Analysis\"))","v":0},{"$f":"INDIRECT(ADDRESS($K113,S$4,1,1,\"3 - Savings Analysis\"))","v":0},{"$f":"INDIRECT(ADDRESS($K113,T$4,1,1,\"3 - Savings Analysis\"))","v":0}]
["","","","","","","","","",null,123,{"$f":"INDIRECT(ADDRESS($K114,L$4,1,1,\"3 - Savings Analysis\"))","v":0},{"$f":"INDIRECT(ADDRESS($K114,M$4,1,1,\"3 - Savings Analysis\"))","v":0},{"$f":"INDIRECT(ADDRESS($K114,N$4,1,1,\"3 - Savings Analysis\"))","v":0},{"$f":"INDIRECT(ADDRESS($K114,O$4,1,1,\"3 - Savings Analysis\"))","v":0},{"$f":"INDIRECT(ADDRESS($K114,P$4,1,1,\"3 - Savings Analysis\"))","v":0},{"$f":"INDIRECT(ADDRESS($K114,Q$4,1,1,\"3 - Savings Analysis\"))","v":0},{"$f":"INDIRECT(ADDRESS($K114,R$4,1,1,\"3 - Savings Analysis\"))","v":0},{"$f":"INDIRECT(ADDRESS($K114,S$4,1,1,\"3 - Savings Analysis\"))","v":0},{"$f":"INDIRECT(ADDRESS($K114,T$4,1,1,\"3 - Savings Analysis\"))","v":0}]
["","","","","","","","","",null,124,{"$f":"INDIRECT(ADDRESS($K115,L$4,1,1,\"3 - Savings Analysis\"))","v":0},{"$f":"INDIRECT(ADDRESS($K115,M$4,1,1,\"3 - Savings Analysis\"))","v":0},{"$f":"INDIRECT(ADDRESS($K115,N$4,1,1,\"3 - Savings Analysis\"))","v":0},{"$f":"INDIRECT(ADDRESS($K115,O$4,1,1,\"3 - Savings Analysis\"))","v":0},{"$f":"INDIRECT(ADDRESS($K115,P$4,1,1,\"3 - Savings Analysis\"))","v":0},{"$f":"INDIRECT(ADDRESS($K115,Q$4,1,1,\"3 - Savings Analysis\"))","v":0},{"$f":"INDIRECT(ADDRESS($K115,R$4,1,1,\"3 - Savings Analysis\"))","v":0},{"$f":"INDIRECT(ADDRESS($K115,S$4,1,1,\"3 - Savings Analysis\"))","v":0},{"$f":"INDIRECT(ADDRESS($K115,T$4,1,1,\"3 - Savings Analysis\"))","v":0}]
["","","","","","","","","",null,125,{"$f":"INDIRECT(ADDRESS($K116,L$4,1,1,\"3 - Savings Analysis\"))","v":0},{"$f":"INDIRECT(ADDRESS($K116,M$4,1,1,\"3 - Savings Analysis\"))","v":0},{"$f":"INDIRECT(ADDRESS($K116,N$4,1,1,\"3 - Savings Analysis\"))","v":0},{"$f":"INDIRECT(ADDRESS($K116,O$4,1,1,\"3 - Savings Analysis\"))","v":0},{"$f":"INDIRECT(ADDRESS($K116,P$4,1,1,\"3 - Savings Analysis\"))","v":0},{"$f":"INDIRECT(ADDRESS($K116,Q$4,1,1,\"3 - Savings Analysis\"))","v":0},{"$f":"INDIRECT(ADDRESS($K116,R$4,1,1,\"3 - Savings Analysis\"))","v":0},{"$f":"INDIRECT(ADDRESS($K116,S$4,1,1,\"3 - Savings Analysis\"))","v":0},{"$f":"INDIRECT(ADDRESS($K116,T$4,1,1,\"3 - Savings Analysis\"))","v":0}]
["","","","","","","","","",null,126,{"$f":"INDIRECT(ADDRESS($K117,L$4,1,1,\"3 - Savings Analysis\"))","v":0},{"$f":"INDIRECT(ADDRESS($K117,M$4,1,1,\"3 - Savings Analysis\"))","v":0},{"$f":"INDIRECT(ADDRESS($K117,N$4,1,1,\"3 - Savings Analysis\"))","v":0},{"$f":"INDIRECT(ADDRESS($K117,O$4,1,1,\"3 - Savings Analysis\"))","v":0},{"$f":"INDIRECT(ADDRESS($K117,P$4,1,1,\"3 - Savings Analysis\"))","v":0},{"$f":"INDIRECT(ADDRESS($K117,Q$4,1,1,\"3 - Savings Analysis\"))","v":0},{"$f":"INDIRECT(ADDRESS($K117,R$4,1,1,\"3 - Savings Analysis\"))","v":0},{"$f":"INDIRECT(ADDRESS($K117,S$4,1,1,\"3 - Savings Analysis\"))","v":0},{"$f":"INDIRECT(ADDRESS($K117,T$4,1,1,\"3 - Savings Analysis\"))","v":0}]
["","","","","","","","","",null,127,{"$f":"INDIRECT(ADDRESS($K118,L$4,1,1,\"3 - Savings Analysis\"))","v":0},{"$f":"INDIRECT(ADDRESS($K118,M$4,1,1,\"3 - Savings Analysis\"))","v":0},{"$f":"INDIRECT(ADDRESS($K118,N$4,1,1,\"3 - Savings Analysis\"))","v":0},{"$f":"INDIRECT(ADDRESS($K118,O$4,1,1,\"3 - Savings Analysis\"))","v":0},{"$f":"INDIRECT(ADDRESS($K118,P$4,1,1,\"3 - Savings Analysis\"))","v":0},{"$f":"INDIRECT(ADDRESS($K118,Q$4,1,1,\"3 - Savings Analysis\"))","v":0},{"$f":"INDIRECT(ADDRESS($K118,R$4,1,1,\"3 - Savings Analysis\"))","v":0},{"$f":"INDIRECT(ADDRESS($K118,S$4,1,1,\"3 - Savings Analysis\"))","v":0},{"$f":"INDIRECT(ADDRESS($K118,T$4,1,1,\"3 - Savings Analysis\"))","v":0}]
["","","","","","","","","",null,128,{"$f":"INDIRECT(ADDRESS($K119,L$4,1,1,\"3 - Savings Analysis\"))","v":0},{"$f":"INDIRECT(ADDRESS($K119,M$4,1,1,\"3 - Savings Analysis\"))","v":0},{"$f":"INDIRECT(ADDRESS($K119,N$4,1,1,\"3 - Savings Analysis\"))","v":0},{"$f":"INDIRECT(ADDRESS($K119,O$4,1,1,\"3 - Savings Analysis\"))","v":0},{"$f":"INDIRECT(ADDRESS($K119,P$4,1,1,\"3 - Savings Analysis\"))","v":0},{"$f":"INDIRECT(ADDRESS($K119,Q$4,1,1,\"3 - Savings Analysis\"))","v":0},{"$f":"INDIRECT(ADDRESS($K119,R$4,1,1,\"3 - Savings Analysis\"))","v":0},{"$f":"INDIRECT(ADDRESS($K119,S$4,1,1,\"3 - Savings Analysis\"))","v":0},{"$f":"INDIRECT(ADDRESS($K119,T$4,1,1,\"3 - Savings Analysis\"))","v":0}]
["","","","","","","","","",null,129,{"$f":"INDIRECT(ADDRESS($K120,L$4,1,1,\"3 - Savings Analysis\"))","v":0},{"$f":"INDIRECT(ADDRESS($K120,M$4,1,1,\"3 - Savings Analysis\"))","v":0},{"$f":"INDIRECT(ADDRESS($K120,N$4,1,1,\"3 - Savings Analysis\"))","v":0},{"$f":"INDIRECT(ADDRESS($K120,O$4,1,1,\"3 - Savings Analysis\"))","v":0},{"$f":"INDIRECT(ADDRESS($K120,P$4,1,1,\"3 - Savings Analysis\"))","v":0},{"$f":"INDIRECT(ADDRESS($K120,Q$4,1,1,\"3 - Savings Analysis\"))","v":0},{"$f":"INDIRECT(ADDRESS($K120,R$4,1,1,\"3 - Savings Analysis\"))","v":0},{"$f":"INDIRECT(ADDRESS($K120,S$4,1,1,\"3 - Savings Analysis\"))","v":0},{"$f":"INDIRECT(ADDRESS($K120,T$4,1,1,\"3 - Savings Analysis\"))","v":0}]
["","","","","","","","","",null,130,{"$f":"INDIRECT(ADDRESS($K121,L$4,1,1,\"3 - Savings Analysis\"))","v":0},{"$f":"INDIRECT(ADDRESS($K121,M$4,1,1,\"3 - Savings Analysis\"))","v":0},{"$f":"INDIRECT(ADDRESS($K121,N$4,1,1,\"3 - Savings Analysis\"))","v":0},{"$f":"INDIRECT(ADDRESS($K121,O$4,1,1,\"3 - Savings Analysis\"))","v":0},{"$f":"INDIRECT(ADDRESS($K121,P$4,1,1,\"3 - Savings Analysis\"))","v":0},{"$f":"INDIRECT(ADDRESS($K121,Q$4,1,1,\"3 - Savings Analysis\"))","v":0},{"$f":"INDIRECT(ADDRESS($K121,R$4,1,1,\"3 - Savings Analysis\"))","v":0},{"$f":"INDIRECT(ADDRESS($K121,S$4,1,1,\"3 - Savings Analysis\"))","v":0},{"$f":"INDIRECT(ADDRESS($K121,T$4,1,1,\"3 - Savings Analysis\"))","v":0}]
["","","","","","","","","",null,131,{"$f":"INDIRECT(ADDRESS($K122,L$4,1,1,\"3 - Savings Analysis\"))","v":0},{"$f":"INDIRECT(ADDRESS($K122,M$4,1,1,\"3 - Savings Analysis\"))","v":0},{"$f":"INDIRECT(ADDRESS($K122,N$4,1,1,\"3 - Savings Analysis\"))","v":0},{"$f":"INDIRECT(ADDRESS($K122,O$4,1,1,\"3 - Savings Analysis\"))","v":0},{"$f":"INDIRECT(ADDRESS($K122,P$4,1,1,\"3 - Savings Analysis\"))","v":0},{"$f":"INDIRECT(ADDRESS($K122,Q$4,1,1,\"3 - Savings Analysis\"))","v":0},{"$f":"INDIRECT(ADDRESS($K122,R$4,1,1,\"3 - Savings Analysis\"))","v":0},{"$f":"INDIRECT(ADDRESS($K122,S$4,1,1,\"3 - Savings Analysis\"))","v":0},{"$f":"INDIRECT(ADDRESS($K122,T$4,1,1,\"3 - Savings Analysis\"))","v":0}]
["","","","","","","","","",null,132,{"$f":"INDIRECT(ADDRESS($K123,L$4,1,1,\"3 - Savings Analysis\"))","v":0},{"$f":"INDIRECT(ADDRESS($K123,M$4,1,1,\"3 - Savings Analysis\"))","v":0},{"$f":"INDIRECT(ADDRESS($K123,N$4,1,1,\"3 - Savings Analysis\"))","v":0},{"$f":"INDIRECT(ADDRESS($K123,O$4,1,1,\"3 - Savings Analysis\"))","v":0},{"$f":"INDIRECT(ADDRESS($K123,P$4,1,1,\"3 - Savings Analysis\"))","v":0},{"$f":"INDIRECT(ADDRESS($K123,Q$4,1,1,\"3 - Savings Analysis\"))","v":0},{"$f":"INDIRECT(ADDRESS($K123,R$4,1,1,\"3 - Savings Analysis\"))","v":0},{"$f":"INDIRECT(ADDRESS($K123,S$4,1,1,\"3 - Savings Analysis\"))","v":0},{"$f":"INDIRECT(ADDRESS($K123,T$4,1,1,\"3 - Savings Analysis\"))","v":0}]
["","","","","","","","","",null,133,{"$f":"INDIRECT(ADDRESS($K124,L$4,1,1,\"3 - Savings Analysis\"))","v":0},{"$f":"INDIRECT(ADDRESS($K124,M$4,1,1,\"3 - Savings Analysis\"))","v":0},{"$f":"INDIRECT(ADDRESS($K124,N$4,1,1,\"3 - Savings Analysis\"))","v":0},{"$f":"INDIRECT(ADDRESS($K124,O$4,1,1,\"3 - Savings Analysis\"))","v":0},{"$f":"INDIRECT(ADDRESS($K124,P$4,1,1,\"3 - Savings Analysis\"))","v":0},{"$f":"INDIRECT(ADDRESS($K124,Q$4,1,1,\"3 - Savings Analysis\"))","v":0},{"$f":"INDIRECT(ADDRESS($K124,R$4,1,1,\"3 - Savings Analysis\"))","v":0},{"$f":"INDIRECT(ADDRESS($K124,S$4,1,1,\"3 - Savings Analysis\"))","v":0},{"$f":"INDIRECT(ADDRESS($K124,T$4,1,1,\"3 - Savings Analysis\"))","v":0}]
["","","","","","","","","",null,134,{"$f":"INDIRECT(ADDRESS($K125,L$4,1,1,\"3 - Savings Analysis\"))","v":0},{"$f":"INDIRECT(ADDRESS($K125,M$4,1,1,\"3 - Savings Analysis\"))","v":0},{"$f":"INDIRECT(ADDRESS($K125,N$4,1,1,\"3 - Savings Analysis\"))","v":0},{"$f":"INDIRECT(ADDRESS($K125,O$4,1,1,\"3 - Savings Analysis\"))","v":0},{"$f":"INDIRECT(ADDRESS($K125,P$4,1,1,\"3 - Savings Analysis\"))","v":0},{"$f":"INDIRECT(ADDRESS($K125,Q$4,1,1,\"3 - Savings Analysis\"))","v":0},{"$f":"INDIRECT(ADDRESS($K125,R$4,1,1,\"3 - Savings Analysis\"))","v":0},{"$f":"INDIRECT(ADDRESS($K125,S$4,1,1,\"3 - Savings Analysis\"))","v":0},{"$f":"INDIRECT(ADDRESS($K125,T$4,1,1,\"3 - Savings Analysis\"))","v":0}]
["","","","","","","","","",null,135,{"$f":"INDIRECT(ADDRESS($K126,L$4,1,1,\"3 - Savings Analysis\"))","v":0},{"$f":"INDIRECT(ADDRESS($K126,M$4,1,1,\"3 - Savings Analysis\"))","v":0},{"$f":"INDIRECT(ADDRESS($K126,N$4,1,1,\"3 - Savings Analysis\"))","v":0},{"$f":"INDIRECT(ADDRESS($K126,O$4,1,1,\"3 - Savings Analysis\"))","v":0},{"$f":"INDIRECT(ADDRESS($K126,P$4,1,1,\"3 - Savings Analysis\"))","v":0},{"$f":"INDIRECT(ADDRESS($K126,Q$4,1,1,\"3 - Savings Analysis\"))","v":0},{"$f":"INDIRECT(ADDRESS($K126,R$4,1,1,\"3 - Savings Analysis\"))","v":0},{"$f":"INDIRECT(ADDRESS($K126,S$4,1,1,\"3 - Savings Analysis\"))","v":0},{"$f":"INDIRECT(ADDRESS($K126,T$4,1,1,\"3 - Savings Analysis\"))","v":0}]
["","","","","","","","","",null,136,{"$f":"INDIRECT(ADDRESS($K127,L$4,1,1,\"3 - Savings Analysis\"))","v":0},{"$f":"INDIRECT(ADDRESS($K127,M$4,1,1,\"3 - Savings Analysis\"))","v":0},{"$f":"INDIRECT(ADDRESS($K127,N$4,1,1,\"3 - Savings Analysis\"))","v":0},{"$f":"INDIRECT(ADDRESS($K127,O$4,1,1,\"3 - Savings Analysis\"))","v":0},{"$f":"INDIRECT(ADDRESS($K127,P$4,1,1,\"3 - Savings Analysis\"))","v":0},{"$f":"INDIRECT(ADDRESS($K127,Q$4,1,1,\"3 - Savings Analysis\"))","v":0},{"$f":"INDIRECT(ADDRESS($K127,R$4,1,1,\"3 - Savings Analysis\"))","v":0},{"$f":"INDIRECT(ADDRESS($K127,S$4,1,1,\"3 - Savings Analysis\"))","v":0},{"$f":"INDIRECT(ADDRESS($K127,T$4,1,1,\"3 - Savings Analysis\"))","v":0}]
["","","","","","","","","",null,137,{"$f":"INDIRECT(ADDRESS($K128,L$4,1,1,\"3 - Savings Analysis\"))","v":0},{"$f":"INDIRECT(ADDRESS($K128,M$4,1,1,\"3 - Savings Analysis\"))","v":0},{"$f":"INDIRECT(ADDRESS($K128,N$4,1,1,\"3 - Savings Analysis\"))","v":0},{"$f":"INDIRECT(ADDRESS($K128,O$4,1,1,\"3 - Savings Analysis\"))","v":0},{"$f":"INDIRECT(ADDRESS($K128,P$4,1,1,\"3 - Savings Analysis\"))","v":0},{"$f":"INDIRECT(ADDRESS($K128,Q$4,1,1,\"3 - Savings Analysis\"))","v":0},{"$f":"INDIRECT(ADDRESS($K128,R$4,1,1,\"3 - Savings Analysis\"))","v":0},{"$f":"INDIRECT(ADDRESS($K128,S$4,1,1,\"3 - Savings Analysis\"))","v":0},{"$f":"INDIRECT(ADDRESS($K128,T$4,1,1,\"3 - Savings Analysis\"))","v":0}]
["","","","","","","","","",null,138,{"$f":"INDIRECT(ADDRESS($K129,L$4,1,1,\"3 - Savings Analysis\"))","v":0},{"$f":"INDIRECT(ADDRESS($K129,M$4,1,1,\"3 - Savings Analysis\"))","v":0},{"$f":"INDIRECT(ADDRESS($K129,N$4,1,1,\"3 - Savings Analysis\"))","v":0},{"$f":"INDIRECT(ADDRESS($K129,O$4,1,1,\"3 - Savings Analysis\"))","v":0},{"$f":"INDIRECT(ADDRESS($K129,P$4,1,1,\"3 - Savings Analysis\"))","v":0},{"$f":"INDIRECT(ADDRESS($K129,Q$4,1,1,\"3 - Savings Analysis\"))","v":0},{"$f":"INDIRECT(ADDRESS($K129,R$4,1,1,\"3 - Savings Analysis\"))","v":0},{"$f":"INDIRECT(ADDRESS($K129,S$4,1,1,\"3 - Savings Analysis\"))","v":0},{"$f":"INDIRECT(ADDRESS($K129,T$4,1,1,\"3 - Savings Analysis\"))","v":0}]
["","","","","","","","","",null,139,{"$f":"INDIRECT(ADDRESS($K130,L$4,1,1,\"3 - Savings Analysis\"))","v":0},{"$f":"INDIRECT(ADDRESS($K130,M$4,1,1,\"3 - Savings Analysis\"))","v":0},{"$f":"INDIRECT(ADDRESS($K130,N$4,1,1,\"3 - Savings Analysis\"))","v":0},{"$f":"INDIRECT(ADDRESS($K130,O$4,1,1,\"3 - Savings Analysis\"))","v":0},{"$f":"INDIRECT(ADDRESS($K130,P$4,1,1,\"3 - Savings Analysis\"))","v":0},{"$f":"INDIRECT(ADDRESS($K130,Q$4,1,1,\"3 - Savings Analysis\"))","v":0},{"$f":"INDIRECT(ADDRESS($K130,R$4,1,1,\"3 - Savings Analysis\"))","v":0},{"$f":"INDIRECT(ADDRESS($K130,S$4,1,1,\"3 - Savings Analysis\"))","v":0},{"$f":"INDIRECT(ADDRESS($K130,T$4,1,1,\"3 - Savings Analysis\"))","v":0}]
["","","","","","","","","",null,140,{"$f":"INDIRECT(ADDRESS($K131,L$4,1,1,\"3 - Savings Analysis\"))","v":0},{"$f":"INDIRECT(ADDRESS($K131,M$4,1,1,\"3 - Savings Analysis\"))","v":0},{"$f":"INDIRECT(ADDRESS($K131,N$4,1,1,\"3 - Savings Analysis\"))","v":0},{"$f":"INDIRECT(ADDRESS($K131,O$4,1,1,\"3 - Savings Analysis\"))","v":0},{"$f":"INDIRECT(ADDRESS($K131,P$4,1,1,\"3 - Savings Analysis\"))","v":0},{"$f":"INDIRECT(ADDRESS($K131,Q$4,1,1,\"3 - Savings Analysis\"))","v":0},{"$f":"INDIRECT(ADDRESS($K131,R$4,1,1,\"3 - Savings Analysis\"))","v":0},{"$f":"INDIRECT(ADDRESS($K131,S$4,1,1,\"3 - Savings Analysis\"))","v":0},{"$f":"INDIRECT(ADDRESS($K131,T$4,1,1,\"3 - Savings Analysis\"))","v":0}]
["","","","","","","","","",null,141,{"$f":"INDIRECT(ADDRESS($K132,L$4,1,1,\"3 - Savings Analysis\"))","v":0},{"$f":"INDIRECT(ADDRESS($K132,M$4,1,1,\"3 - Savings Analysis\"))","v":0},{"$f":"INDIRECT(ADDRESS($K132,N$4,1,1,\"3 - Savings Analysis\"))","v":0},{"$f":"INDIRECT(ADDRESS($K132,O$4,1,1,\"3 - Savings Analysis\"))","v":0},{"$f":"INDIRECT(ADDRESS($K132,P$4,1,1,\"3 - Savings Analysis\"))","v":0},{"$f":"INDIRECT(ADDRESS($K132,Q$4,1,1,\"3 - Savings Analysis\"))","v":0},{"$f":"INDIRECT(ADDRESS($K132,R$4,1,1,\"3 - Savings Analysis\"))","v":0},{"$f":"INDIRECT(ADDRESS($K132,S$4,1,1,\"3 - Savings Analysis\"))","v":0},{"$f":"INDIRECT(ADDRESS($K132,T$4,1,1,\"3 - Savings Analysis\"))","v":0}]
["","","","","","","","","",null,142,{"$f":"INDIRECT(ADDRESS($K133,L$4,1,1,\"3 - Savings Analysis\"))","v":0},{"$f":"INDIRECT(ADDRESS($K133,M$4,1,1,\"3 - Savings Analysis\"))","v":0},{"$f":"INDIRECT(ADDRESS($K133,N$4,1,1,\"3 - Savings Analysis\"))","v":0},{"$f":"INDIRECT(ADDRESS($K133,O$4,1,1,\"3 - Savings Analysis\"))","v":0},{"$f":"INDIRECT(ADDRESS($K133,P$4,1,1,\"3 - Savings Analysis\"))","v":0},{"$f":"INDIRECT(ADDRESS($K133,Q$4,1,1,\"3 - Savings Analysis\"))","v":0},{"$f":"INDIRECT(ADDRESS($K133,R$4,1,1,\"3 - Savings Analysis\"))","v":0},{"$f":"INDIRECT(ADDRESS($K133,S$4,1,1,\"3 - Savings Analysis\"))","v":0},{"$f":"INDIRECT(ADDRESS($K133,T$4,1,1,\"3 - Savings Analysis\"))","v":0}]
["","","","","","","","","",null,143,{"$f":"INDIRECT(ADDRESS($K134,L$4,1,1,\"3 - Savings Analysis\"))","v":0},{"$f":"INDIRECT(ADDRESS($K134,M$4,1,1,\"3 - Savings Analysis\"))","v":0},{"$f":"INDIRECT(ADDRESS($K134,N$4,1,1,\"3 - Savings Analysis\"))","v":0},{"$f":"INDIRECT(ADDRESS($K134,O$4,1,1,\"3 - Savings Analysis\"))","v":0},{"$f":"INDIRECT(ADDRESS($K134,P$4,1,1,\"3 - Savings Analysis\"))","v":0},{"$f":"INDIRECT(ADDRESS($K134,Q$4,1,1,\"3 - Savings Analysis\"))","v":0},{"$f":"INDIRECT(ADDRESS($K134,R$4,1,1,\"3 - Savings Analysis\"))","v":0},{"$f":"INDIRECT(ADDRESS($K134,S$4,1,1,\"3 - Savings Analysis\"))","v":0},{"$f":"INDIRECT(ADDRESS($K134,T$4,1,1,\"3 - Savings Analysis\"))","v":0}]
["","","","","","","","","",null,144,{"$f":"INDIRECT(ADDRESS($K135,L$4,1,1,\"3 - Savings Analysis\"))","v":0},{"$f":"INDIRECT(ADDRESS($K135,M$4,1,1,\"3 - Savings Analysis\"))","v":0},{"$f":"INDIRECT(ADDRESS($K135,N$4,1,1,\"3 - Savings Analysis\"))","v":0},{"$f":"INDIRECT(ADDRESS($K135,O$4,1,1,\"3 - Savings Analysis\"))","v":0},{"$f":"INDIRECT(ADDRESS($K135,P$4,1,1,\"3 - Savings Analysis\"))","v":0},{"$f":"INDIRECT(ADDRESS($K135,Q$4,1,1,\"3 - Savings Analysis\"))","v":0},{"$f":"INDIRECT(ADDRESS($K135,R$4,1,1,\"3 - Savings Analysis\"))","v":0},{"$f":"INDIRECT(ADDRESS($K135,S$4,1,1,\"3 - Savings Analysis\"))","v":0},{"$f":"INDIRECT(ADDRESS($K135,T$4,1,1,\"3 - Savings Analysis\"))","v":0}]
["","","","","","","","","",null,145,{"$f":"INDIRECT(ADDRESS($K136,L$4,1,1,\"3 - Savings Analysis\"))","v":0},{"$f":"INDIRECT(ADDRESS($K136,M$4,1,1,\"3 - Savings Analysis\"))","v":0},{"$f":"INDIRECT(ADDRESS($K136,N$4,1,1,\"3 - Savings Analysis\"))","v":0},{"$f":"INDIRECT(ADDRESS($K136,O$4,1,1,\"3 - Savings Analysis\"))","v":0},{"$f":"INDIRECT(ADDRESS($K136,P$4,1,1,\"3 - Savings Analysis\"))","v":0},{"$f":"INDIRECT(ADDRESS($K136,Q$4,1,1,\"3 - Savings Analysis\"))","v":0},{"$f":"INDIRECT(ADDRESS($K136,R$4,1,1,\"3 - Savings Analysis\"))","v":0},{"$f":"INDIRECT(ADDRESS($K136,S$4,1,1,\"3 - Savings Analysis\"))","v":0},{"$f":"INDIRECT(ADDRESS($K136,T$4,1,1,\"3 - Savings Analysis\"))","v":0}]
["","","","","","","","","",null,{"$f":"K136+1","v":146},{"$f":"INDIRECT(ADDRESS($K137,L$4,1,1,\"3 - Savings Analysis\"))","v":0},{"$f":"INDIRECT(ADDRESS($K137,M$4,1,1,\"3 - Savings Analysis\"))","v":0},{"$f":"INDIRECT(ADDRESS($K137,N$4,1,1,\"3 - Savings Analysis\"))","v":0},{"$f":"INDIRECT(ADDRESS($K137,O$4,1,1,\"3 - Savings Analysis\"))","v":0},{"$f":"INDIRECT(ADDRESS($K137,P$4,1,1,\"3 - Savings Analysis\"))","v":0},{"$f":"INDIRECT(ADDRESS($K137,Q$4,1,1,\"3 - Savings Analysis\"))","v":0},{"$f":"INDIRECT(ADDRESS($K137,R$4,1,1,\"3 - Savings Analysis\"))","v":0},{"$f":"INDIRECT(ADDRESS($K137,S$4,1,1,\"3 - Savings Analysis\"))","v":0},{"$f":"INDIRECT(ADDRESS($K137,T$4,1,1,\"3 - Savings Analysis\"))","v":0}]
["","","","","","","","","",null,147,{"$f":"INDIRECT(ADDRESS($K138,L$4,1,1,\"3 - Savings Analysis\"))","v":0},{"$f":"INDIRECT(ADDRESS($K138,M$4,1,1,\"3 - Savings Analysis\"))","v":0},{"$f":"INDIRECT(ADDRESS($K138,N$4,1,1,\"3 - Savings Analysis\"))","v":0},{"$f":"INDIRECT(ADDRESS($K138,O$4,1,1,\"3 - Savings Analysis\"))","v":0},{"$f":"INDIRECT(ADDRESS($K138,P$4,1,1,\"3 - Savings Analysis\"))","v":0},{"$f":"INDIRECT(ADDRESS($K138,Q$4,1,1,\"3 - Savings Analysis\"))","v":0},{"$f":"INDIRECT(ADDRESS($K138,R$4,1,1,\"3 - Savings Analysis\"))","v":0},{"$f":"INDIRECT(ADDRESS($K138,S$4,1,1,\"3 - Savings Analysis\"))","v":0},{"$f":"INDIRECT(ADDRESS($K138,T$4,1,1,\"3 - Savings Analysis\"))","v":0}]
["","","","","","","","","",null,148,{"$f":"INDIRECT(ADDRESS($K139,L$4,1,1,\"3 - Savings Analysis\"))","v":0},{"$f":"INDIRECT(ADDRESS($K139,M$4,1,1,\"3 - Savings Analysis\"))","v":0},{"$f":"INDIRECT(ADDRESS($K139,N$4,1,1,\"3 - Savings Analysis\"))","v":0},{"$f":"INDIRECT(ADDRESS($K139,O$4,1,1,\"3 - Savings Analysis\"))","v":0},{"$f":"INDIRECT(ADDRESS($K139,P$4,1,1,\"3 - Savings Analysis\"))","v":0},{"$f":"INDIRECT(ADDRESS($K139,Q$4,1,1,\"3 - Savings Analysis\"))","v":0},{"$f":"INDIRECT(ADDRESS($K139,R$4,1,1,\"3 - Savings Analysis\"))","v":0},{"$f":"INDIRECT(ADDRESS($K139,S$4,1,1,\"3 - Savings Analysis\"))","v":0},{"$f":"INDIRECT(ADDRESS($K139,T$4,1,1,\"3 - Savings Analysis\"))","v":0}]
["","","","","","","","","",null,149,{"$f":"INDIRECT(ADDRESS($K140,L$4,1,1,\"3 - Savings Analysis\"))","v":0},{"$f":"INDIRECT(ADDRESS($K140,M$4,1,1,\"3 - Savings Analysis\"))","v":0},{"$f":"INDIRECT(ADDRESS($K140,N$4,1,1,\"3 - Savings Analysis\"))","v":0},{"$f":"INDIRECT(ADDRESS($K140,O$4,1,1,\"3 - Savings Analysis\"))","v":0},{"$f":"INDIRECT(ADDRESS($K140,P$4,1,1,\"3 - Savings Analysis\"))","v":0},{"$f":"INDIRECT(ADDRESS($K140,Q$4,1,1,\"3 - Savings Analysis\"))","v":0},{"$f":"INDIRECT(ADDRESS($K140,R$4,1,1,\"3 - Savings Analysis\"))","v":0},{"$f":"INDIRECT(ADDRESS($K140,S$4,1,1,\"3 - Savings Analysis\"))","v":0},{"$f":"INDIRECT(ADDRESS($K140,T$4,1,1,\"3 - Savings Analysis\"))","v":0}]
[{"$f":"IF($K141<=$M$2,L141,\"\")","v":""},{"$f":"IF($K141<=$M$2,IF($A141=\"Total\",\"\",M141),\"\")","v":""},{"$f":"IF($K141<=$M$2,IF($A141=\"Total\",\"\",N141),\"\")","v":""},{"$f":"IF($K141<=$M$2,O141,\"\")","v":""},{"$f":"IF($K141<=$M$2,P141,\"\")","v":""},{"$f":"IF($K141<=$M$2,IF($A141=\"Total\",\"\",Q141),\"\")","v":""},{"$f":"IF($K141<=$M$2,IF($A141=\"Total\",\"\",R141),\"\")","v":""},{"$f":"IF($K141<=$M$2,IF($A141=\"Total\",\"\",IF($T141=0,\"\",S141)),\"\")","v":""},{"$f":"IF($K141<=$M$2,IF($A141=\"Total\",\"\",IF($T141=0,\"\",T141)),\"\")","v":""},null,150,{"$f":"INDIRECT(ADDRESS($K141,L$4,1,1,\"3 - Savings Analysis\"))","v":0},{"$f":"INDIRECT(ADDRESS($K141,M$4,1,1,\"3 - Savings Analysis\"))","v":0},{"$f":"INDIRECT(ADDRESS($K141,N$4,1,1,\"3 - Savings Analysis\"))","v":0},{"$f":"INDIRECT(ADDRESS($K141,O$4,1,1,\"3 - Savings Analysis\"))","v":0},{"$f":"INDIRECT(ADDRESS($K141,P$4,1,1,\"3 - Savings Analysis\"))","v":0},{"$f":"INDIRECT(ADDRESS($K141,Q$4,1,1,\"3 - Savings Analysis\"))","v":0},{"$f":"INDIRECT(ADDRESS($K141,R$4,1,1,\"3 - Savings Analysis\"))","v":0},{"$f":"INDIRECT(ADDRESS($K141,S$4,1,1,\"3 - Savings Analysis\"))","v":0},{"$f":"INDIRECT(ADDRESS($K141,T$4,1,1,\"3 - Savings Analysis\"))","v":0}]
["","","","","","","","","",null,151,{"$f":"INDIRECT(ADDRESS($K142,L$4,1,1,\"3 - Savings Analysis\"))","v":0},{"$f":"INDIRECT(ADDRESS($K142,M$4,1,1,\"3 - Savings Analysis\"))","v":0},{"$f":"INDIRECT(ADDRESS($K142,N$4,1,1,\"3 - Savings Analysis\"))","v":0},{"$f":"INDIRECT(ADDRESS($K142,O$4,1,1,\"3 - Savings Analysis\"))","v":0},{"$f":"INDIRECT(ADDRESS($K142,P$4,1,1,\"3 - Savings Analysis\"))","v":0},{"$f":"INDIRECT(ADDRESS($K142,Q$4,1,1,\"3 - Savings Analysis\"))","v":0},{"$f":"INDIRECT(ADDRESS($K142,R$4,1,1,\"3 - Savings Analysis\"))","v":0},{"$f":"INDIRECT(ADDRESS($K142,S$4,1,1,\"3 - Savings Analysis\"))","v":0},{"$f":"INDIRECT(ADDRESS($K142,T$4,1,1,\"3 - Savings Analysis\"))","v":0}]
["","","","","","","","","",null,152,{"$f":"INDIRECT(ADDRESS($K143,L$4,1,1,\"3 - Savings Analysis\"))","v":0},{"$f":"INDIRECT(ADDRESS($K143,M$4,1,1,\"3 - Savings Analysis\"))","v":0},{"$f":"INDIRECT(ADDRESS($K143,N$4,1,1,\"3 - Savings Analysis\"))","v":0},{"$f":"INDIRECT(ADDRESS($K143,O$4,1,1,\"3 - Savings Analysis\"))","v":0},{"$f":"INDIRECT(ADDRESS($K143,P$4,1,1,\"3 - Savings Analysis\"))","v":0},{"$f":"INDIRECT(ADDRESS($K143,Q$4,1,1,\"3 - Savings Analysis\"))","v":0},{"$f":"INDIRECT(ADDRESS($K143,R$4,1,1,\"3 - Savings Analysis\"))","v":0},{"$f":"INDIRECT(ADDRESS($K143,S$4,1,1,\"3 - Savings Analysis\"))","v":0},{"$f":"INDIRECT(ADDRESS($K143,T$4,1,1,\"3 - Savings Analysis\"))","v":0}]
["","","","","","","","","",null,153,{"$f":"INDIRECT(ADDRESS($K144,L$4,1,1,\"3 - Savings Analysis\"))","v":0},{"$f":"INDIRECT(ADDRESS($K144,M$4,1,1,\"3 - Savings Analysis\"))","v":0},{"$f":"INDIRECT(ADDRESS($K144,N$4,1,1,\"3 - Savings Analysis\"))","v":0},{"$f":"INDIRECT(ADDRESS($K144,O$4,1,1,\"3 - Savings Analysis\"))","v":0},{"$f":"INDIRECT(ADDRESS($K144,P$4,1,1,\"3 - Savings Analysis\"))","v":0},{"$f":"INDIRECT(ADDRESS($K144,Q$4,1,1,\"3 - Savings Analysis\"))","v":0},{"$f":"INDIRECT(ADDRESS($K144,R$4,1,1,\"3 - Savings Analysis\"))","v":0},{"$f":"INDIRECT(ADDRESS($K144,S$4,1,1,\"3 - Savings Analysis\"))","v":0},{"$f":"INDIRECT(ADDRESS($K144,T$4,1,1,\"3 - Savings Analysis\"))","v":0}]
["","","","","","","","","",null,154,{"$f":"INDIRECT(ADDRESS($K145,L$4,1,1,\"3 - Savings Analysis\"))","v":0},{"$f":"INDIRECT(ADDRESS($K145,M$4,1,1,\"3 - Savings Analysis\"))","v":0},{"$f":"INDIRECT(ADDRESS($K145,N$4,1,1,\"3 - Savings Analysis\"))","v":0},{"$f":"INDIRECT(ADDRESS($K145,O$4,1,1,\"3 - Savings Analysis\"))","v":0},{"$f":"INDIRECT(ADDRESS($K145,P$4,1,1,\"3 - Savings Analysis\"))","v":0},{"$f":"INDIRECT(ADDRESS($K145,Q$4,1,1,\"3 - Savings Analysis\"))","v":0},{"$f":"INDIRECT(ADDRESS($K145,R$4,1,1,\"3 - Savings Analysis\"))","v":0},{"$f":"INDIRECT(ADDRESS($K145,S$4,1,1,\"3 - Savings Analysis\"))","v":0},{"$f":"INDIRECT(ADDRESS($K145,T$4,1,1,\"3 - Savings Analysis\"))","v":0}]
["","","","","","","","","",null,155,{"$f":"INDIRECT(ADDRESS($K146,L$4,1,1,\"3 - Savings Analysis\"))","v":0},{"$f":"INDIRECT(ADDRESS($K146,M$4,1,1,\"3 - Savings Analysis\"))","v":0},{"$f":"INDIRECT(ADDRESS($K146,N$4,1,1,\"3 - Savings Analysis\"))","v":0},{"$f":"INDIRECT(ADDRESS($K146,O$4,1,1,\"3 - Savings Analysis\"))","v":0},{"$f":"INDIRECT(ADDRESS($K146,P$4,1,1,\"3 - Savings Analysis\"))","v":0},{"$f":"INDIRECT(ADDRESS($K146,Q$4,1,1,\"3 - Savings Analysis\"))","v":0},{"$f":"INDIRECT(ADDRESS($K146,R$4,1,1,\"3 - Savings Analysis\"))","v":0},{"$f":"INDIRECT(ADDRESS($K146,S$4,1,1,\"3 - Savings Analysis\"))","v":0},{"$f":"INDIRECT(ADDRESS($K146,T$4,1,1,\"3 - Savings Analysis\"))","v":0}]
["","","","","","","","","",null,156,{"$f":"INDIRECT(ADDRESS($K147,L$4,1,1,\"3 - Savings Analysis\"))","v":0},{"$f":"INDIRECT(ADDRESS($K147,M$4,1,1,\"3 - Savings Analysis\"))","v":0},{"$f":"INDIRECT(ADDRESS($K147,N$4,1,1,\"3 - Savings Analysis\"))","v":0},{"$f":"INDIRECT(ADDRESS($K147,O$4,1,1,\"3 - Savings Analysis\"))","v":0},{"$f":"INDIRECT(ADDRESS($K147,P$4,1,1,\"3 - Savings Analysis\"))","v":0},{"$f":"INDIRECT(ADDRESS($K147,Q$4,1,1,\"3 - Savings Analysis\"))","v":0},{"$f":"INDIRECT(ADDRESS($K147,R$4,1,1,\"3 - Savings Analysis\"))","v":0},{"$f":"INDIRECT(ADDRESS($K147,S$4,1,1,\"3 - Savings Analysis\"))","v":0},{"$f":"INDIRECT(ADDRESS($K147,T$4,1,1,\"3 - Savings Analysis\"))","v":0}]
["","","","","","","","","",null,157,{"$f":"INDIRECT(ADDRESS($K148,L$4,1,1,\"3 - Savings Analysis\"))","v":0},{"$f":"INDIRECT(ADDRESS($K148,M$4,1,1,\"3 - Savings Analysis\"))","v":0},{"$f":"INDIRECT(ADDRESS($K148,N$4,1,1,\"3 - Savings Analysis\"))","v":0},{"$f":"INDIRECT(ADDRESS($K148,O$4,1,1,\"3 - Savings Analysis\"))","v":0},{"$f":"INDIRECT(ADDRESS($K148,P$4,1,1,\"3 - Savings Analysis\"))","v":0},{"$f":"INDIRECT(ADDRESS($K148,Q$4,1,1,\"3 - Savings Analysis\"))","v":0},{"$f":"INDIRECT(ADDRESS($K148,R$4,1,1,\"3 - Savings Analysis\"))","v":0},{"$f":"INDIRECT(ADDRESS($K148,S$4,1,1,\"3 - Savings Analysis\"))","v":0},{"$f":"INDIRECT(ADDRESS($K148,T$4,1,1,\"3 - Savings Analysis\"))","v":0}]
["","","","","","","","","",null,158,{"$f":"INDIRECT(ADDRESS($K149,L$4,1,1,\"3 - Savings Analysis\"))","v":0},{"$f":"INDIRECT(ADDRESS($K149,M$4,1,1,\"3 - Savings Analysis\"))","v":0},{"$f":"INDIRECT(ADDRESS($K149,N$4,1,1,\"3 - Savings Analysis\"))","v":0},{"$f":"INDIRECT(ADDRESS($K149,O$4,1,1,\"3 - Savings Analysis\"))","v":0},{"$f":"INDIRECT(ADDRESS($K149,P$4,1,1,\"3 - Savings Analysis\"))","v":0},{"$f":"INDIRECT(ADDRESS($K149,Q$4,1,1,\"3 - Savings Analysis\"))","v":0},{"$f":"INDIRECT(ADDRESS($K149,R$4,1,1,\"3 - Savings Analysis\"))","v":0},{"$f":"INDIRECT(ADDRESS($K149,S$4,1,1,\"3 - Savings Analysis\"))","v":0},{"$f":"INDIRECT(ADDRESS($K149,T$4,1,1,\"3 - Savings Analysis\"))","v":0}]
["","","","","","","","","",null,159,{"$f":"INDIRECT(ADDRESS($K150,L$4,1,1,\"3 - Savings Analysis\"))","v":0},{"$f":"INDIRECT(ADDRESS($K150,M$4,1,1,\"3 - Savings Analysis\"))","v":0},{"$f":"INDIRECT(ADDRESS($K150,N$4,1,1,\"3 - Savings Analysis\"))","v":0},{"$f":"INDIRECT(ADDRESS($K150,O$4,1,1,\"3 - Savings Analysis\"))","v":0},{"$f":"INDIRECT(ADDRESS($K150,P$4,1,1,\"3 - Savings Analysis\"))","v":0},{"$f":"INDIRECT(ADDRESS($K150,Q$4,1,1,\"3 - Savings Analysis\"))","v":0},{"$f":"INDIRECT(ADDRESS($K150,R$4,1,1,\"3 - Savings Analysis\"))","v":0},{"$f":"INDIRECT(ADDRESS($K150,S$4,1,1,\"3 - Savings Analysis\"))","v":0},{"$f":"INDIRECT(ADDRESS($K150,T$4,1,1,\"3 - Savings Analysis\"))","v":0}]
["","","","","","","","","",null,160,{"$f":"INDIRECT(ADDRESS($K151,L$4,1,1,\"3 - Savings Analysis\"))","v":0},{"$f":"INDIRECT(ADDRESS($K151,M$4,1,1,\"3 - Savings Analysis\"))","v":0},{"$f":"INDIRECT(ADDRESS($K151,N$4,1,1,\"3 - Savings Analysis\"))","v":0},{"$f":"INDIRECT(ADDRESS($K151,O$4,1,1,\"3 - Savings Analysis\"))","v":0},{"$f":"INDIRECT(ADDRESS($K151,P$4,1,1,\"3 - Savings Analysis\"))","v":0},{"$f":"INDIRECT(ADDRESS($K151,Q$4,1,1,\"3 - Savings Analysis\"))","v":0},{"$f":"INDIRECT(ADDRESS($K151,R$4,1,1,\"3 - Savings Analysis\"))","v":0},{"$f":"INDIRECT(ADDRESS($K151,S$4,1,1,\"3 - Savings Analysis\"))","v":0},{"$f":"INDIRECT(ADDRESS($K151,T$4,1,1,\"3 - Savings Analysis\"))","v":0}]
["","","","","","","","","",null,161,{"$f":"INDIRECT(ADDRESS($K152,L$4,1,1,\"3 - Savings Analysis\"))","v":0},{"$f":"INDIRECT(ADDRESS($K152,M$4,1,1,\"3 - Savings Analysis\"))","v":0},{"$f":"INDIRECT(ADDRESS($K152,N$4,1,1,\"3 - Savings Analysis\"))","v":0},{"$f":"INDIRECT(ADDRESS($K152,O$4,1,1,\"3 - Savings Analysis\"))","v":0},{"$f":"INDIRECT(ADDRESS($K152,P$4,1,1,\"3 - Savings Analysis\"))","v":0},{"$f":"INDIRECT(ADDRESS($K152,Q$4,1,1,\"3 - Savings Analysis\"))","v":0},{"$f":"INDIRECT(ADDRESS($K152,R$4,1,1,\"3 - Savings Analysis\"))","v":0},{"$f":"INDIRECT(ADDRESS($K152,S$4,1,1,\"3 - Savings Analysis\"))","v":0},{"$f":"INDIRECT(ADDRESS($K152,T$4,1,1,\"3 - Savings Analysis\"))","v":0}]
["","","","","","","","","",null,162,{"$f":"INDIRECT(ADDRESS($K153,L$4,1,1,\"3 - Savings Analysis\"))","v":0},{"$f":"INDIRECT(ADDRESS($K153,M$4,1,1,\"3 - Savings Analysis\"))","v":0},{"$f":"INDIRECT(ADDRESS($K153,N$4,1,1,\"3 - Savings Analysis\"))","v":0},{"$f":"INDIRECT(ADDRESS($K153,O$4,1,1,\"3 - Savings Analysis\"))","v":0},{"$f":"INDIRECT(ADDRESS($K153,P$4,1,1,\"3 - Savings Analysis\"))","v":0},{"$f":"INDIRECT(ADDRESS($K153,Q$4,1,1,\"3 - Savings Analysis\"))","v":0},{"$f":"INDIRECT(ADDRESS($K153,R$4,1,1,\"3 - Savings Analysis\"))","v":0},{"$f":"INDIRECT(ADDRESS($K153,S$4,1,1,\"3 - Savings Analysis\"))","v":0},{"$f":"INDIRECT(ADDRESS($K153,T$4,1,1,\"3 - Savings Analysis\"))","v":0}]
["","","","","","","","","",null,163,{"$f":"INDIRECT(ADDRESS($K154,L$4,1,1,\"3 - Savings Analysis\"))","v":0},{"$f":"INDIRECT(ADDRESS($K154,M$4,1,1,\"3 - Savings Analysis\"))","v":0},{"$f":"INDIRECT(ADDRESS($K154,N$4,1,1,\"3 - Savings Analysis\"))","v":0},{"$f":"INDIRECT(ADDRESS($K154,O$4,1,1,\"3 - Savings Analysis\"))","v":0},{"$f":"INDIRECT(ADDRESS($K154,P$4,1,1,\"3 - Savings Analysis\"))","v":0},{"$f":"INDIRECT(ADDRESS($K154,Q$4,1,1,\"3 - Savings Analysis\"))","v":0},{"$f":"INDIRECT(ADDRESS($K154,R$4,1,1,\"3 - Savings Analysis\"))","v":0},{"$f":"INDIRECT(ADDRESS($K154,S$4,1,1,\"3 - Savings Analysis\"))","v":0},{"$f":"INDIRECT(ADDRESS($K154,T$4,1,1,\"3 - Savings Analysis\"))","v":0}]
["","","","","","","","","",null,164,{"$f":"INDIRECT(ADDRESS($K155,L$4,1,1,\"3 - Savings Analysis\"))","v":0},{"$f":"INDIRECT(ADDRESS($K155,M$4,1,1,\"3 - Savings Analysis\"))","v":0},{"$f":"INDIRECT(ADDRESS($K155,N$4,1,1,\"3 - Savings Analysis\"))","v":0},{"$f":"INDIRECT(ADDRESS($K155,O$4,1,1,\"3 - Savings Analysis\"))","v":0},{"$f":"INDIRECT(ADDRESS($K155,P$4,1,1,\"3 - Savings Analysis\"))","v":0},{"$f":"INDIRECT(ADDRESS($K155,Q$4,1,1,\"3 - Savings Analysis\"))","v":0},{"$f":"INDIRECT(ADDRESS($K155,R$4,1,1,\"3 - Savings Analysis\"))","v":0},{"$f":"INDIRECT(ADDRESS($K155,S$4,1,1,\"3 - Savings Analysis\"))","v":0},{"$f":"INDIRECT(ADDRESS($K155,T$4,1,1,\"3 - Savings Analysis\"))","v":0}]
["","","","","","","","","",null,165,{"$f":"INDIRECT(ADDRESS($K156,L$4,1,1,\"3 - Savings Analysis\"))","v":0},{"$f":"INDIRECT(ADDRESS($K156,M$4,1,1,\"3 - Savings Analysis\"))","v":0},{"$f":"INDIRECT(ADDRESS($K156,N$4,1,1,\"3 - Savings Analysis\"))","v":0},{"$f":"INDIRECT(ADDRESS($K156,O$4,1,1,\"3 - Savings Analysis\"))","v":0},{"$f":"INDIRECT(ADDRESS($K156,P$4,1,1,\"3 - Savings Analysis\"))","v":0},{"$f":"INDIRECT(ADDRESS($K156,Q$4,1,1,\"3 - Savings Analysis\"))","v":0},{"$f":"INDIRECT(ADDRESS($K156,R$4,1,1,\"3 - Savings Analysis\"))","v":0},{"$f":"INDIRECT(ADDRESS($K156,S$4,1,1,\"3 - Savings Analysis\"))","v":0},{"$f":"INDIRECT(ADDRESS($K156,T$4,1,1,\"3 - Savings Analysis\"))","v":0}]
["","","","","","","","","",null,166,{"$f":"INDIRECT(ADDRESS($K157,L$4,1,1,\"3 - Savings Analysis\"))","v":0},{"$f":"INDIRECT(ADDRESS($K157,M$4,1,1,\"3 - Savings Analysis\"))","v":0},{"$f":"INDIRECT(ADDRESS($K157,N$4,1,1,\"3 - Savings Analysis\"))","v":0},{"$f":"INDIRECT(ADDRESS($K157,O$4,1,1,\"3 - Savings Analysis\"))","v":0},{"$f":"INDIRECT(ADDRESS($K157,P$4,1,1,\"3 - Savings Analysis\"))","v":0},{"$f":"INDIRECT(ADDRESS($K157,Q$4,1,1,\"3 - Savings Analysis\"))","v":0},{"$f":"INDIRECT(ADDRESS($K157,R$4,1,1,\"3 - Savings Analysis\"))","v":0},{"$f":"INDIRECT(ADDRESS($K157,S$4,1,1,\"3 - Savings Analysis\"))","v":0},{"$f":"INDIRECT(ADDRESS($K157,T$4,1,1,\"3 - Savings Analysis\"))","v":0}]
["","","","","","","","","",null,167,{"$f":"INDIRECT(ADDRESS($K158,L$4,1,1,\"3 - Savings Analysis\"))","v":0},{"$f":"INDIRECT(ADDRESS($K158,M$4,1,1,\"3 - Savings Analysis\"))","v":0},{"$f":"INDIRECT(ADDRESS($K158,N$4,1,1,\"3 - Savings Analysis\"))","v":0},{"$f":"INDIRECT(ADDRESS($K158,O$4,1,1,\"3 - Savings Analysis\"))","v":0},{"$f":"INDIRECT(ADDRESS($K158,P$4,1,1,\"3 - Savings Analysis\"))","v":0},{"$f":"INDIRECT(ADDRESS($K158,Q$4,1,1,\"3 - Savings Analysis\"))","v":0},{"$f":"INDIRECT(ADDRESS($K158,R$4,1,1,\"3 - Savings Analysis\"))","v":0},{"$f":"INDIRECT(ADDRESS($K158,S$4,1,1,\"3 - Savings Analysis\"))","v":0},{"$f":"INDIRECT(ADDRESS($K158,T$4,1,1,\"3 - Savings Analysis\"))","v":0}]
["","","","","","","","","",null,168,{"$f":"INDIRECT(ADDRESS($K159,L$4,1,1,\"3 - Savings Analysis\"))","v":0},{"$f":"INDIRECT(ADDRESS($K159,M$4,1,1,\"3 - Savings Analysis\"))","v":0},{"$f":"INDIRECT(ADDRESS($K159,N$4,1,1,\"3 - Savings Analysis\"))","v":0},{"$f":"INDIRECT(ADDRESS($K159,O$4,1,1,\"3 - Savings Analysis\"))","v":0},{"$f":"INDIRECT(ADDRESS($K159,P$4,1,1,\"3 - Savings Analysis\"))","v":0},{"$f":"INDIRECT(ADDRESS($K159,Q$4,1,1,\"3 - Savings Analysis\"))","v":0},{"$f":"INDIRECT(ADDRESS($K159,R$4,1,1,\"3 - Savings Analysis\"))","v":0},{"$f":"INDIRECT(ADDRESS($K159,S$4,1,1,\"3 - Savings Analysis\"))","v":0},{"$f":"INDIRECT(ADDRESS($K159,T$4,1,1,\"3 - Savings Analysis\"))","v":0}]
["","","","","","","","","",null,169,{"$f":"INDIRECT(ADDRESS($K160,L$4,1,1,\"3 - Savings Analysis\"))","v":0},{"$f":"INDIRECT(ADDRESS($K160,M$4,1,1,\"3 - Savings Analysis\"))","v":0},{"$f":"INDIRECT(ADDRESS($K160,N$4,1,1,\"3 - Savings Analysis\"))","v":0},{"$f":"INDIRECT(ADDRESS($K160,O$4,1,1,\"3 - Savings Analysis\"))","v":0},{"$f":"INDIRECT(ADDRESS($K160,P$4,1,1,\"3 - Savings Analysis\"))","v":0},{"$f":"INDIRECT(ADDRESS($K160,Q$4,1,1,\"3 - Savings Analysis\"))","v":0},{"$f":"INDIRECT(ADDRESS($K160,R$4,1,1,\"3 - Savings Analysis\"))","v":0},{"$f":"INDIRECT(ADDRESS($K160,S$4,1,1,\"3 - Savings Analysis\"))","v":0},{"$f":"INDIRECT(ADDRESS($K160,T$4,1,1,\"3 - Savings Analysis\"))","v":0}]
["","","","","","","","","",null,170,{"$f":"INDIRECT(ADDRESS($K161,L$4,1,1,\"3 - Savings Analysis\"))","v":0},{"$f":"INDIRECT(ADDRESS($K161,M$4,1,1,\"3 - Savings Analysis\"))","v":0},{"$f":"INDIRECT(ADDRESS($K161,N$4,1,1,\"3 - Savings Analysis\"))","v":0},{"$f":"INDIRECT(ADDRESS($K161,O$4,1,1,\"3 - Savings Analysis\"))","v":0},{"$f":"INDIRECT(ADDRESS($K161,P$4,1,1,\"3 - Savings Analysis\"))","v":0},{"$f":"INDIRECT(ADDRESS($K161,Q$4,1,1,\"3 - Savings Analysis\"))","v":0},{"$f":"INDIRECT(ADDRESS($K161,R$4,1,1,\"3 - Savings Analysis\"))","v":0},{"$f":"INDIRECT(ADDRESS($K161,S$4,1,1,\"3 - Savings Analysis\"))","v":0},{"$f":"INDIRECT(ADDRESS($K161,T$4,1,1,\"3 - Savings Analysis\"))","v":0}]
["","","","","","","","","",null,171,{"$f":"INDIRECT(ADDRESS($K162,L$4,1,1,\"3 - Savings Analysis\"))","v":0},{"$f":"INDIRECT(ADDRESS($K162,M$4,1,1,\"3 - Savings Analysis\"))","v":0},{"$f":"INDIRECT(ADDRESS($K162,N$4,1,1,\"3 - Savings Analysis\"))","v":0},{"$f":"INDIRECT(ADDRESS($K162,O$4,1,1,\"3 - Savings Analysis\"))","v":0},{"$f":"INDIRECT(ADDRESS($K162,P$4,1,1,\"3 - Savings Analysis\"))","v":0},{"$f":"INDIRECT(ADDRESS($K162,Q$4,1,1,\"3 - Savings Analysis\"))","v":0},{"$f":"INDIRECT(ADDRESS($K162,R$4,1,1,\"3 - Savings Analysis\"))","v":0},{"$f":"INDIRECT(ADDRESS($K162,S$4,1,1,\"3 - Savings Analysis\"))","v":0},{"$f":"INDIRECT(ADDRESS($K162,T$4,1,1,\"3 - Savings Analysis\"))","v":0}]
["","","","","","","","","",null,172,{"$f":"INDIRECT(ADDRESS($K163,L$4,1,1,\"3 - Savings Analysis\"))","v":0},{"$f":"INDIRECT(ADDRESS($K163,M$4,1,1,\"3 - Savings Analysis\"))","v":0},{"$f":"INDIRECT(ADDRESS($K163,N$4,1,1,\"3 - Savings Analysis\"))","v":0},{"$f":"INDIRECT(ADDRESS($K163,O$4,1,1,\"3 - Savings Analysis\"))","v":0},{"$f":"INDIRECT(ADDRESS($K163,P$4,1,1,\"3 - Savings Analysis\"))","v":0},{"$f":"INDIRECT(ADDRESS($K163,Q$4,1,1,\"3 - Savings Analysis\"))","v":0},{"$f":"INDIRECT(ADDRESS($K163,R$4,1,1,\"3 - Savings Analysis\"))","v":0},{"$f":"INDIRECT(ADDRESS($K163,S$4,1,1,\"3 - Savings Analysis\"))","v":0},{"$f":"INDIRECT(ADDRESS($K163,T$4,1,1,\"3 - Savings Analysis\"))","v":0}]
["","","","","","","","","",null,173,{"$f":"INDIRECT(ADDRESS($K164,L$4,1,1,\"3 - Savings Analysis\"))","v":0},{"$f":"INDIRECT(ADDRESS($K164,M$4,1,1,\"3 - Savings Analysis\"))","v":0},{"$f":"INDIRECT(ADDRESS($K164,N$4,1,1,\"3 - Savings Analysis\"))","v":0},{"$f":"INDIRECT(ADDRESS($K164,O$4,1,1,\"3 - Savings Analysis\"))","v":0},{"$f":"INDIRECT(ADDRESS($K164,P$4,1,1,\"3 - Savings Analysis\"))","v":0},{"$f":"INDIRECT(ADDRESS($K164,Q$4,1,1,\"3 - Savings Analysis\"))","v":0},{"$f":"INDIRECT(ADDRESS($K164,R$4,1,1,\"3 - Savings Analysis\"))","v":0},{"$f":"INDIRECT(ADDRESS($K164,S$4,1,1,\"3 - Savings Analysis\"))","v":0},{"$f":"INDIRECT(ADDRESS($K164,T$4,1,1,\"3 - Savings Analysis\"))","v":0}]
["","","","","","","","","",null,174,{"$f":"INDIRECT(ADDRESS($K165,L$4,1,1,\"3 - Savings Analysis\"))","v":0},{"$f":"INDIRECT(ADDRESS($K165,M$4,1,1,\"3 - Savings Analysis\"))","v":0},{"$f":"INDIRECT(ADDRESS($K165,N$4,1,1,\"3 - Savings Analysis\"))","v":0},{"$f":"INDIRECT(ADDRESS($K165,O$4,1,1,\"3 - Savings Analysis\"))","v":0},{"$f":"INDIRECT(ADDRESS($K165,P$4,1,1,\"3 - Savings Analysis\"))","v":0},{"$f":"INDIRECT(ADDRESS($K165,Q$4,1,1,\"3 - Savings Analysis\"))","v":0},{"$f":"INDIRECT(ADDRESS($K165,R$4,1,1,\"3 - Savings Analysis\"))","v":0},{"$f":"INDIRECT(ADDRESS($K165,S$4,1,1,\"3 - Savings Analysis\"))","v":0},{"$f":"INDIRECT(ADDRESS($K165,T$4,1,1,\"3 - Savings Analysis\"))","v":0}]
["","","","","","","","","",null,175,{"$f":"INDIRECT(ADDRESS($K166,L$4,1,1,\"3 - Savings Analysis\"))","v":0},{"$f":"INDIRECT(ADDRESS($K166,M$4,1,1,\"3 - Savings Analysis\"))","v":0},{"$f":"INDIRECT(ADDRESS($K166,N$4,1,1,\"3 - Savings Analysis\"))","v":0},{"$f":"INDIRECT(ADDRESS($K166,O$4,1,1,\"3 - Savings Analysis\"))","v":0},{"$f":"INDIRECT(ADDRESS($K166,P$4,1,1,\"3 - Savings Analysis\"))","v":0},{"$f":"INDIRECT(ADDRESS($K166,Q$4,1,1,\"3 - Savings Analysis\"))","v":0},{"$f":"INDIRECT(ADDRESS($K166,R$4,1,1,\"3 - Savings Analysis\"))","v":0},{"$f":"INDIRECT(ADDRESS($K166,S$4,1,1,\"3 - Savings Analysis\"))","v":0},{"$f":"INDIRECT(ADDRESS($K166,T$4,1,1,\"3 - Savings Analysis\"))","v":0}]
["","","","","","","","","",null,176,{"$f":"INDIRECT(ADDRESS($K167,L$4,1,1,\"3 - Savings Analysis\"))","v":0},{"$f":"INDIRECT(ADDRESS($K167,M$4,1,1,\"3 - Savings Analysis\"))","v":0},{"$f":"INDIRECT(ADDRESS($K167,N$4,1,1,\"3 - Savings Analysis\"))","v":0},{"$f":"INDIRECT(ADDRESS($K167,O$4,1,1,\"3 - Savings Analysis\"))","v":0},{"$f":"INDIRECT(ADDRESS($K167,P$4,1,1,\"3 - Savings Analysis\"))","v":0},{"$f":"INDIRECT(ADDRESS($K167,Q$4,1,1,\"3 - Savings Analysis\"))","v":0},{"$f":"INDIRECT(ADDRESS($K167,R$4,1,1,\"3 - Savings Analysis\"))","v":0},{"$f":"INDIRECT(ADDRESS($K167,S$4,1,1,\"3 - Savings Analysis\"))","v":0},{"$f":"INDIRECT(ADDRESS($K167,T$4,1,1,\"3 - Savings Analysis\"))","v":0}]
["","","","","","","","","",null,177,{"$f":"INDIRECT(ADDRESS($K168,L$4,1,1,\"3 - Savings Analysis\"))","v":0},{"$f":"INDIRECT(ADDRESS($K168,M$4,1,1,\"3 - Savings Analysis\"))","v":0},{"$f":"INDIRECT(ADDRESS($K168,N$4,1,1,\"3 - Savings Analysis\"))","v":0},{"$f":"INDIRECT(ADDRESS($K168,O$4,1,1,\"3 - Savings Analysis\"))","v":0},{"$f":"INDIRECT(ADDRESS($K168,P$4,1,1,\"3 - Savings Analysis\"))","v":0},{"$f":"INDIRECT(ADDRESS($K168,Q$4,1,1,\"3 - Savings Analysis\"))","v":0},{"$f":"INDIRECT(ADDRESS($K168,R$4,1,1,\"3 - Savings Analysis\"))","v":0},{"$f":"INDIRECT(ADDRESS($K168,S$4,1,1,\"3 - Savings Analysis\"))","v":0},{"$f":"INDIRECT(ADDRESS($K168,T$4,1,1,\"3 - Savings Analysis\"))","v":0}]
["","","","","","","","","",null,178,{"$f":"INDIRECT(ADDRESS($K169,L$4,1,1,\"3 - Savings Analysis\"))","v":0},{"$f":"INDIRECT(ADDRESS($K169,M$4,1,1,\"3 - Savings Analysis\"))","v":0},{"$f":"INDIRECT(ADDRESS($K169,N$4,1,1,\"3 - Savings Analysis\"))","v":0},{"$f":"INDIRECT(ADDRESS($K169,O$4,1,1,\"3 - Savings Analysis\"))","v":0},{"$f":"INDIRECT(ADDRESS($K169,P$4,1,1,\"3 - Savings Analysis\"))","v":0},{"$f":"INDIRECT(ADDRESS($K169,Q$4,1,1,\"3 - Savings Analysis\"))","v":0},{"$f":"INDIRECT(ADDRESS($K169,R$4,1,1,\"3 - Savings Analysis\"))","v":0},{"$f":"INDIRECT(ADDRESS($K169,S$4,1,1,\"3 - Savings Analysis\"))","v":0},{"$f":"INDIRECT(ADDRESS($K169,T$4,1,1,\"3 - Savings Analysis\"))","v":0}]
["","","","","","","","","",null,179,{"$f":"INDIRECT(ADDRESS($K170,L$4,1,1,\"3 - Savings Analysis\"))","v":0},{"$f":"INDIRECT(ADDRESS($K170,M$4,1,1,\"3 - Savings Analysis\"))","v":0},{"$f":"INDIRECT(ADDRESS($K170,N$4,1,1,\"3 - Savings Analysis\"))","v":0},{"$f":"INDIRECT(ADDRESS($K170,O$4,1,1,\"3 - Savings Analysis\"))","v":0},{"$f":"INDIRECT(ADDRESS($K170,P$4,1,1,\"3 - Savings Analysis\"))","v":0},{"$f":"INDIRECT(ADDRESS($K170,Q$4,1,1,\"3 - Savings Analysis\"))","v":0},{"$f":"INDIRECT(ADDRESS($K170,R$4,1,1,\"3 - Savings Analysis\"))","v":0},{"$f":"INDIRECT(ADDRESS($K170,S$4,1,1,\"3 - Savings Analysis\"))","v":0},{"$f":"INDIRECT(ADDRESS($K170,T$4,1,1,\"3 - Savings Analysis\"))","v":0}]
["","","","","","","","","",null,180,{"$f":"INDIRECT(ADDRESS($K171,L$4,1,1,\"3 - Savings Analysis\"))","v":0},{"$f":"INDIRECT(ADDRESS($K171,M$4,1,1,\"3 - Savings Analysis\"))","v":0},{"$f":"INDIRECT(ADDRESS($K171,N$4,1,1,\"3 - Savings Analysis\"))","v":0},{"$f":"INDIRECT(ADDRESS($K171,O$4,1,1,\"3 - Savings Analysis\"))","v":0},{"$f":"INDIRECT(ADDRESS($K171,P$4,1,1,\"3 - Savings Analysis\"))","v":0},{"$f":"INDIRECT(ADDRESS($K171,Q$4,1,1,\"3 - Savings Analysis\"))","v":0},{"$f":"INDIRECT(ADDRESS($K171,R$4,1,1,\"3 - Savings Analysis\"))","v":0},{"$f":"INDIRECT(ADDRESS($K171,S$4,1,1,\"3 - Savings Analysis\"))","v":0},{"$f":"INDIRECT(ADDRESS($K171,T$4,1,1,\"3 - Savings Analysis\"))","v":0}]
["","","","","","","","","",null,181,{"$f":"INDIRECT(ADDRESS($K172,L$4,1,1,\"3 - Savings Analysis\"))","v":0},{"$f":"INDIRECT(ADDRESS($K172,M$4,1,1,\"3 - Savings Analysis\"))","v":0},{"$f":"INDIRECT(ADDRESS($K172,N$4,1,1,\"3 - Savings Analysis\"))","v":0},{"$f":"INDIRECT(ADDRESS($K172,O$4,1,1,\"3 - Savings Analysis\"))","v":0},{"$f":"INDIRECT(ADDRESS($K172,P$4,1,1,\"3 - Savings Analysis\"))","v":0},{"$f":"INDIRECT(ADDRESS($K172,Q$4,1,1,\"3 - Savings Analysis\"))","v":0},{"$f":"INDIRECT(ADDRESS($K172,R$4,1,1,\"3 - Savings Analysis\"))","v":0},{"$f":"INDIRECT(ADDRESS($K172,S$4,1,1,\"3 - Savings Analysis\"))","v":0},{"$f":"INDIRECT(ADDRESS($K172,T$4,1,1,\"3 - Savings Analysis\"))","v":0}]
["","","","","","","","","",null,182,{"$f":"INDIRECT(ADDRESS($K173,L$4,1,1,\"3 - Savings Analysis\"))","v":0},{"$f":"INDIRECT(ADDRESS($K173,M$4,1,1,\"3 - Savings Analysis\"))","v":0},{"$f":"INDIRECT(ADDRESS($K173,N$4,1,1,\"3 - Savings Analysis\"))","v":0},{"$f":"INDIRECT(ADDRESS($K173,O$4,1,1,\"3 - Savings Analysis\"))","v":0},{"$f":"INDIRECT(ADDRESS($K173,P$4,1,1,\"3 - Savings Analysis\"))","v":0},{"$f":"INDIRECT(ADDRESS($K173,Q$4,1,1,\"3 - Savings Analysis\"))","v":0},{"$f":"INDIRECT(ADDRESS($K173,R$4,1,1,\"3 - Savings Analysis\"))","v":0},{"$f":"INDIRECT(ADDRESS($K173,S$4,1,1,\"3 - Savings Analysis\"))","v":0},{"$f":"INDIRECT(ADDRESS($K173,T$4,1,1,\"3 - Savings Analysis\"))","v":0}]
["","","","","","","","","",null,183,{"$f":"INDIRECT(ADDRESS($K174,L$4,1,1,\"3 - Savings Analysis\"))","v":0},{"$f":"INDIRECT(ADDRESS($K174,M$4,1,1,\"3 - Savings Analysis\"))","v":0},{"$f":"INDIRECT(ADDRESS($K174,N$4,1,1,\"3 - Savings Analysis\"))","v":0},{"$f":"INDIRECT(ADDRESS($K174,O$4,1,1,\"3 - Savings Analysis\"))","v":0},{"$f":"INDIRECT(ADDRESS($K174,P$4,1,1,\"3 - Savings Analysis\"))","v":0},{"$f":"INDIRECT(ADDRESS($K174,Q$4,1,1,\"3 - Savings Analysis\"))","v":0},{"$f":"INDIRECT(ADDRESS($K174,R$4,1,1,\"3 - Savings Analysis\"))","v":0},{"$f":"INDIRECT(ADDRESS($K174,S$4,1,1,\"3 - Savings Analysis\"))","v":0},{"$f":"INDIRECT(ADDRESS($K174,T$4,1,1,\"3 - Savings Analysis\"))","v":0}]
["","","","","","","","","",null,184,{"$f":"INDIRECT(ADDRESS($K175,L$4,1,1,\"3 - Savings Analysis\"))","v":0},{"$f":"INDIRECT(ADDRESS($K175,M$4,1,1,\"3 - Savings Analysis\"))","v":0},{"$f":"INDIRECT(ADDRESS($K175,N$4,1,1,\"3 - Savings Analysis\"))","v":0},{"$f":"INDIRECT(ADDRESS($K175,O$4,1,1,\"3 - Savings Analysis\"))","v":0},{"$f":"INDIRECT(ADDRESS($K175,P$4,1,1,\"3 - Savings Analysis\"))","v":0},{"$f":"INDIRECT(ADDRESS($K175,Q$4,1,1,\"3 - Savings Analysis\"))","v":0},{"$f":"INDIRECT(ADDRESS($K175,R$4,1,1,\"3 - Savings Analysis\"))","v":0},{"$f":"INDIRECT(ADDRESS($K175,S$4,1,1,\"3 - Savings Analysis\"))","v":0},{"$f":"INDIRECT(ADDRESS($K175,T$4,1,1,\"3 - Savings Analysis\"))","v":0}]
["","","","","","","","","",null,185,{"$f":"INDIRECT(ADDRESS($K176,L$4,1,1,\"3 - Savings Analysis\"))","v":0},{"$f":"INDIRECT(ADDRESS($K176,M$4,1,1,\"3 - Savings Analysis\"))","v":0},{"$f":"INDIRECT(ADDRESS($K176,N$4,1,1,\"3 - Savings Analysis\"))","v":0},{"$f":"INDIRECT(ADDRESS($K176,O$4,1,1,\"3 - Savings Analysis\"))","v":0},{"$f":"INDIRECT(ADDRESS($K176,P$4,1,1,\"3 - Savings Analysis\"))","v":0},{"$f":"INDIRECT(ADDRESS($K176,Q$4,1,1,\"3 - Savings Analysis\"))","v":0},{"$f":"INDIRECT(ADDRESS($K176,R$4,1,1,\"3 - Savings Analysis\"))","v":0},{"$f":"INDIRECT(ADDRESS($K176,S$4,1,1,\"3 - Savings Analysis\"))","v":0},{"$f":"INDIRECT(ADDRESS($K176,T$4,1,1,\"3 - Savings Analysis\"))","v":0}]
["","","","","","","","","",null,186,{"$f":"INDIRECT(ADDRESS($K177,L$4,1,1,\"3 - Savings Analysis\"))","v":0},{"$f":"INDIRECT(ADDRESS($K177,M$4,1,1,\"3 - Savings Analysis\"))","v":0},{"$f":"INDIRECT(ADDRESS($K177,N$4,1,1,\"3 - Savings Analysis\"))","v":0},{"$f":"INDIRECT(ADDRESS($K177,O$4,1,1,\"3 - Savings Analysis\"))","v":0},{"$f":"INDIRECT(ADDRESS($K177,P$4,1,1,\"3 - Savings Analysis\"))","v":0},{"$f":"INDIRECT(ADDRESS($K177,Q$4,1,1,\"3 - Savings Analysis\"))","v":0},{"$f":"INDIRECT(ADDRESS($K177,R$4,1,1,\"3 - Savings Analysis\"))","v":0},{"$f":"INDIRECT(ADDRESS($K177,S$4,1,1,\"3 - Savings Analysis\"))","v":0},{"$f":"INDIRECT(ADDRESS($K177,T$4,1,1,\"3 - Savings Analysis\"))","v":0}]
["","","","","","","","","",null,187,{"$f":"INDIRECT(ADDRESS($K178,L$4,1,1,\"3 - Savings Analysis\"))","v":0},{"$f":"INDIRECT(ADDRESS($K178,M$4,1,1,\"3 - Savings Analysis\"))","v":0},{"$f":"INDIRECT(ADDRESS($K178,N$4,1,1,\"3 - Savings Analysis\"))","v":0},{"$f":"INDIRECT(ADDRESS($K178,O$4,1,1,\"3 - Savings Analysis\"))","v":0},{"$f":"INDIRECT(ADDRESS($K178,P$4,1,1,\"3 - Savings Analysis\"))","v":0},{"$f":"INDIRECT(ADDRESS($K178,Q$4,1,1,\"3 - Savings Analysis\"))","v":0},{"$f":"INDIRECT(ADDRESS($K178,R$4,1,1,\"3 - Savings Analysis\"))","v":0},{"$f":"INDIRECT(ADDRESS($K178,S$4,1,1,\"3 - Savings Analysis\"))","v":0},{"$f":"INDIRECT(ADDRESS($K178,T$4,1,1,\"3 - Savings Analysis\"))","v":0}]
["","","","","","","","","",null,188,{"$f":"INDIRECT(ADDRESS($K179,L$4,1,1,\"3 - Savings Analysis\"))","v":0},{"$f":"INDIRECT(ADDRESS($K179,M$4,1,1,\"3 - Savings Analysis\"))","v":0},{"$f":"INDIRECT(ADDRESS($K179,N$4,1,1,\"3 - Savings Analysis\"))","v":0},{"$f":"INDIRECT(ADDRESS($K179,O$4,1,1,\"3 - Savings Analysis\"))","v":0},{"$f":"INDIRECT(ADDRESS($K179,P$4,1,1,\"3 - Savings Analysis\"))","v":0},{"$f":"INDIRECT(ADDRESS($K179,Q$4,1,1,\"3 - Savings Analysis\"))","v":0},{"$f":"INDIRECT(ADDRESS($K179,R$4,1,1,\"3 - Savings Analysis\"))","v":0},{"$f":"INDIRECT(ADDRESS($K179,S$4,1,1,\"3 - Savings Analysis\"))","v":0},{"$f":"INDIRECT(ADDRESS($K179,T$4,1,1,\"3 - Savings Analysis\"))","v":0}]
["","","","","","","","","",null,189,{"$f":"INDIRECT(ADDRESS($K180,L$4,1,1,\"3 - Savings Analysis\"))","v":0},{"$f":"INDIRECT(ADDRESS($K180,M$4,1,1,\"3 - Savings Analysis\"))","v":0},{"$f":"INDIRECT(ADDRESS($K180,N$4,1,1,\"3 - Savings Analysis\"))","v":0},{"$f":"INDIRECT(ADDRESS($K180,O$4,1,1,\"3 - Savings Analysis\"))","v":0},{"$f":"INDIRECT(ADDRESS($K180,P$4,1,1,\"3 - Savings Analysis\"))","v":0},{"$f":"INDIRECT(ADDRESS($K180,Q$4,1,1,\"3 - Savings Analysis\"))","v":0},{"$f":"INDIRECT(ADDRESS($K180,R$4,1,1,\"3 - Savings Analysis\"))","v":0},{"$f":"INDIRECT(ADDRESS($K180,S$4,1,1,\"3 - Savings Analysis\"))","v":0},{"$f":"INDIRECT(ADDRESS($K180,T$4,1,1,\"3 - Savings Analysis\"))","v":0}]
["","","","","","","","","",null,190,{"$f":"INDIRECT(ADDRESS($K181,L$4,1,1,\"3 - Savings Analysis\"))","v":0},{"$f":"INDIRECT(ADDRESS($K181,M$4,1,1,\"3 - Savings Analysis\"))","v":0},{"$f":"INDIRECT(ADDRESS($K181,N$4,1,1,\"3 - Savings Analysis\"))","v":0},{"$f":"INDIRECT(ADDRESS($K181,O$4,1,1,\"3 - Savings Analysis\"))","v":0},{"$f":"INDIRECT(ADDRESS($K181,P$4,1,1,\"3 - Savings Analysis\"))","v":0},{"$f":"INDIRECT(ADDRESS($K181,Q$4,1,1,\"3 - Savings Analysis\"))","v":0},{"$f":"INDIRECT(ADDRESS($K181,R$4,1,1,\"3 - Savings Analysis\"))","v":0},{"$f":"INDIRECT(ADDRESS($K181,S$4,1,1,\"3 - Savings Analysis\"))","v":0},{"$f":"INDIRECT(ADDRESS($K181,T$4,1,1,\"3 - Savings Analysis\"))","v":0}]
["","","","","","","","","",null,191,{"$f":"INDIRECT(ADDRESS($K182,L$4,1,1,\"3 - Savings Analysis\"))","v":0},{"$f":"INDIRECT(ADDRESS($K182,M$4,1,1,\"3 - Savings Analysis\"))","v":0},{"$f":"INDIRECT(ADDRESS($K182,N$4,1,1,\"3 - Savings Analysis\"))","v":0},{"$f":"INDIRECT(ADDRESS($K182,O$4,1,1,\"3 - Savings Analysis\"))","v":0},{"$f":"INDIRECT(ADDRESS($K182,P$4,1,1,\"3 - Savings Analysis\"))","v":0},{"$f":"INDIRECT(ADDRESS($K182,Q$4,1,1,\"3 - Savings Analysis\"))","v":0},{"$f":"INDIRECT(ADDRESS($K182,R$4,1,1,\"3 - Savings Analysis\"))","v":0},{"$f":"INDIRECT(ADDRESS($K182,S$4,1,1,\"3 - Savings Analysis\"))","v":0},{"$f":"INDIRECT(ADDRESS($K182,T$4,1,1,\"3 - Savings Analysis\"))","v":0}]
["","","","","","","","","",null,192,{"$f":"INDIRECT(ADDRESS($K183,L$4,1,1,\"3 - Savings Analysis\"))","v":0},{"$f":"INDIRECT(ADDRESS($K183,M$4,1,1,\"3 - Savings Analysis\"))","v":0},{"$f":"INDIRECT(ADDRESS($K183,N$4,1,1,\"3 - Savings Analysis\"))","v":0},{"$f":"INDIRECT(ADDRESS($K183,O$4,1,1,\"3 - Savings Analysis\"))","v":0},{"$f":"INDIRECT(ADDRESS($K183,P$4,1,1,\"3 - Savings Analysis\"))","v":0},{"$f":"INDIRECT(ADDRESS($K183,Q$4,1,1,\"3 - Savings Analysis\"))","v":0},{"$f":"INDIRECT(ADDRESS($K183,R$4,1,1,\"3 - Savings Analysis\"))","v":0},{"$f":"INDIRECT(ADDRESS($K183,S$4,1,1,\"3 - Savings Analysis\"))","v":0},{"$f":"INDIRECT(ADDRESS($K183,T$4,1,1,\"3 - Savings Analysis\"))","v":0}]
["","","","","","","","","",null,193,{"$f":"INDIRECT(ADDRESS($K184,L$4,1,1,\"3 - Savings Analysis\"))","v":0},{"$f":"INDIRECT(ADDRESS($K184,M$4,1,1,\"3 - Savings Analysis\"))","v":0},{"$f":"INDIRECT(ADDRESS($K184,N$4,1,1,\"3 - Savings Analysis\"))","v":0},{"$f":"INDIRECT(ADDRESS($K184,O$4,1,1,\"3 - Savings Analysis\"))","v":0},{"$f":"INDIRECT(ADDRESS($K184,P$4,1,1,\"3 - Savings Analysis\"))","v":0},{"$f":"INDIRECT(ADDRESS($K184,Q$4,1,1,\"3 - Savings Analysis\"))","v":0},{"$f":"INDIRECT(ADDRESS($K184,R$4,1,1,\"3 - Savings Analysis\"))","v":0},{"$f":"INDIRECT(ADDRESS($K184,S$4,1,1,\"3 - Savings Analysis\"))","v":0},{"$f":"INDIRECT(ADDRESS($K184,T$4,1,1,\"3 - Savings Analysis\"))","v":0}]
["","","","","","","","","",null,194,{"$f":"INDIRECT(ADDRESS($K185,L$4,1,1,\"3 - Savings Analysis\"))","v":0},{"$f":"INDIRECT(ADDRESS($K185,M$4,1,1,\"3 - Savings Analysis\"))","v":0},{"$f":"INDIRECT(ADDRESS($K185,N$4,1,1,\"3 - Savings Analysis\"))","v":0},{"$f":"INDIRECT(ADDRESS($K185,O$4,1,1,\"3 - Savings Analysis\"))","v":0},{"$f":"INDIRECT(ADDRESS($K185,P$4,1,1,\"3 - Savings Analysis\"))","v":0},{"$f":"INDIRECT(ADDRESS($K185,Q$4,1,1,\"3 - Savings Analysis\"))","v":0},{"$f":"INDIRECT(ADDRESS($K185,R$4,1,1,\"3 - Savings Analysis\"))","v":0},{"$f":"INDIRECT(ADDRESS($K185,S$4,1,1,\"3 - Savings Analysis\"))","v":0},{"$f":"INDIRECT(ADDRESS($K185,T$4,1,1,\"3 - Savings Analysis\"))","v":0}]
["","","","","","","","","",null,195,{"$f":"INDIRECT(ADDRESS($K186,L$4,1,1,\"3 - Savings Analysis\"))","v":0},{"$f":"INDIRECT(ADDRESS($K186,M$4,1,1,\"3 - Savings Analysis\"))","v":0},{"$f":"INDIRECT(ADDRESS($K186,N$4,1,1,\"3 - Savings Analysis\"))","v":0},{"$f":"INDIRECT(ADDRESS($K186,O$4,1,1,\"3 - Savings Analysis\"))","v":0},{"$f":"INDIRECT(ADDRESS($K186,P$4,1,1,\"3 - Savings Analysis\"))","v":0},{"$f":"INDIRECT(ADDRESS($K186,Q$4,1,1,\"3 - Savings Analysis\"))","v":0},{"$f":"INDIRECT(ADDRESS($K186,R$4,1,1,\"3 - Savings Analysis\"))","v":0},{"$f":"INDIRECT(ADDRESS($K186,S$4,1,1,\"3 - Savings Analysis\"))","v":0},{"$f":"INDIRECT(ADDRESS($K186,T$4,1,1,\"3 - Savings Analysis\"))","v":0}]
["","","","","","","","","",null,196,{"$f":"INDIRECT(ADDRESS($K187,L$4,1,1,\"3 - Savings Analysis\"))","v":0},{"$f":"INDIRECT(ADDRESS($K187,M$4,1,1,\"3 - Savings Analysis\"))","v":0},{"$f":"INDIRECT(ADDRESS($K187,N$4,1,1,\"3 - Savings Analysis\"))","v":0},{"$f":"INDIRECT(ADDRESS($K187,O$4,1,1,\"3 - Savings Analysis\"))","v":0},{"$f":"INDIRECT(ADDRESS($K187,P$4,1,1,\"3 - Savings Analysis\"))","v":0},{"$f":"INDIRECT(ADDRESS($K187,Q$4,1,1,\"3 - Savings Analysis\"))","v":0},{"$f":"INDIRECT(ADDRESS($K187,R$4,1,1,\"3 - Savings Analysis\"))","v":0},{"$f":"INDIRECT(ADDRESS($K187,S$4,1,1,\"3 - Savings Analysis\"))","v":0},{"$f":"INDIRECT(ADDRESS($K187,T$4,1,1,\"3 - Savings Analysis\"))","v":0}]
["","","","","","","","","",null,197,{"$f":"INDIRECT(ADDRESS($K188,L$4,1,1,\"3 - Savings Analysis\"))","v":0},{"$f":"INDIRECT(ADDRESS($K188,M$4,1,1,\"3 - Savings Analysis\"))","v":0},{"$f":"INDIRECT(ADDRESS($K188,N$4,1,1,\"3 - Savings Analysis\"))","v":0},{"$f":"INDIRECT(ADDRESS($K188,O$4,1,1,\"3 - Savings Analysis\"))","v":0},{"$f":"INDIRECT(ADDRESS($K188,P$4,1,1,\"3 - Savings Analysis\"))","v":0},{"$f":"INDIRECT(ADDRESS($K188,Q$4,1,1,\"3 - Savings Analysis\"))","v":0},{"$f":"INDIRECT(ADDRESS($K188,R$4,1,1,\"3 - Savings Analysis\"))","v":0},{"$f":"INDIRECT(ADDRESS($K188,S$4,1,1,\"3 - Savings Analysis\"))","v":0},{"$f":"INDIRECT(ADDRESS($K188,T$4,1,1,\"3 - Savings Analysis\"))","v":0}]
["","","","","","","","","",null,198,{"$f":"INDIRECT(ADDRESS($K189,L$4,1,1,\"3 - Savings Analysis\"))","v":0},{"$f":"INDIRECT(ADDRESS($K189,M$4,1,1,\"3 - Savings Analysis\"))","v":0},{"$f":"INDIRECT(ADDRESS($K189,N$4,1,1,\"3 - Savings Analysis\"))","v":0},{"$f":"INDIRECT(ADDRESS($K189,O$4,1,1,\"3 - Savings Analysis\"))","v":0},{"$f":"INDIRECT(ADDRESS($K189,P$4,1,1,\"3 - Savings Analysis\"))","v":0},{"$f":"INDIRECT(ADDRESS($K189,Q$4,1,1,\"3 - Savings Analysis\"))","v":0},{"$f":"INDIRECT(ADDRESS($K189,R$4,1,1,\"3 - Savings Analysis\"))","v":0},{"$f":"INDIRECT(ADDRESS($K189,S$4,1,1,\"3 - Savings Analysis\"))","v":0},{"$f":"INDIRECT(ADDRESS($K189,T$4,1,1,\"3 - Savings Analysis\"))","v":0}]
["","","","","","","","","",null,199,{"$f":"INDIRECT(ADDRESS($K190,L$4,1,1,\"3 - Savings Analysis\"))","v":0},{"$f":"INDIRECT(ADDRESS($K190,M$4,1,1,\"3 - Savings Analysis\"))","v":0},{"$f":"INDIRECT(ADDRESS($K190,N$4,1,1,\"3 - Savings Analysis\"))","v":0},{"$f":"INDIRECT(ADDRESS($K190,O$4,1,1,\"3 - Savings Analysis\"))","v":0},{"$f":"INDIRECT(ADDRESS($K190,P$4,1,1,\"3 - Savings Analysis\"))","v":0},{"$f":"INDIRECT(ADDRESS($K190,Q$4,1,1,\"3 - Savings Analysis\"))","v":0},{"$f":"INDIRECT(ADDRESS($K190,R$4,1,1,\"3 - Savings Analysis\"))","v":0},{"$f":"INDIRECT(ADDRESS($K190,S$4,1,1,\"3 - Savings Analysis\"))","v":0},{"$f":"INDIRECT(ADDRESS($K190,T$4,1,1,\"3 - Savings Analysis\"))","v":0}]
["","","","","","","","","",null,200,{"$f":"INDIRECT(ADDRESS($K191,L$4,1,1,\"3 - Savings Analysis\"))","v":0},{"$f":"INDIRECT(ADDRESS($K191,M$4,1,1,\"3 - Savings Analysis\"))","v":0},{"$f":"INDIRECT(ADDRESS($K191,N$4,1,1,\"3 - Savings Analysis\"))","v":0},{"$f":"INDIRECT(ADDRESS($K191,O$4,1,1,\"3 - Savings Analysis\"))","v":0},{"$f":"INDIRECT(ADDRESS($K191,P$4,1,1,\"3 - Savings Analysis\"))","v":0},{"$f":"INDIRECT(ADDRESS($K191,Q$4,1,1,\"3 - Savings Analysis\"))","v":0},{"$f":"INDIRECT(ADDRESS($K191,R$4,1,1,\"3 - Savings Analysis\"))","v":0},{"$f":"INDIRECT(ADDRESS($K191,S$4,1,1,\"3 - Savings Analysis\"))","v":0},{"$f":"INDIRECT(ADDRESS($K191,T$4,1,1,\"3 - Savings Analysis\"))","v":0}]
["","","","","","","","","",null,201,{"$f":"INDIRECT(ADDRESS($K192,L$4,1,1,\"3 - Savings Analysis\"))","v":0},{"$f":"INDIRECT(ADDRESS($K192,M$4,1,1,\"3 - Savings Analysis\"))","v":0},{"$f":"INDIRECT(ADDRESS($K192,N$4,1,1,\"3 - Savings Analysis\"))","v":0},{"$f":"INDIRECT(ADDRESS($K192,O$4,1,1,\"3 - Savings Analysis\"))","v":0},{"$f":"INDIRECT(ADDRESS($K192,P$4,1,1,\"3 - Savings Analysis\"))","v":0},{"$f":"INDIRECT(ADDRESS($K192,Q$4,1,1,\"3 - Savings Analysis\"))","v":0},{"$f":"INDIRECT(ADDRESS($K192,R$4,1,1,\"3 - Savings Analysis\"))","v":0},{"$f":"INDIRECT(ADDRESS($K192,S$4,1,1,\"3 - Savings Analysis\"))","v":0},{"$f":"INDIRECT(ADDRESS($K192,T$4,1,1,\"3 - Savings Analysis\"))","v":0}]
["","","","","","","","","",null,202,{"$f":"INDIRECT(ADDRESS($K193,L$4,1,1,\"3 - Savings Analysis\"))","v":0},{"$f":"INDIRECT(ADDRESS($K193,M$4,1,1,\"3 - Savings Analysis\"))","v":0},{"$f":"INDIRECT(ADDRESS($K193,N$4,1,1,\"3 - Savings Analysis\"))","v":0},{"$f":"INDIRECT(ADDRESS($K193,O$4,1,1,\"3 - Savings Analysis\"))","v":0},{"$f":"INDIRECT(ADDRESS($K193,P$4,1,1,\"3 - Savings Analysis\"))","v":0},{"$f":"INDIRECT(ADDRESS($K193,Q$4,1,1,\"3 - Savings Analysis\"))","v":0},{"$f":"INDIRECT(ADDRESS($K193,R$4,1,1,\"3 - Savings Analysis\"))","v":0},{"$f":"INDIRECT(ADDRESS($K193,S$4,1,1,\"3 - Savings Analysis\"))","v":0},{"$f":"INDIRECT(ADDRESS($K193,T$4,1,1,\"3 - Savings Analysis\"))","v":0}]
["","","","","","","","","",null,203,{"$f":"INDIRECT(ADDRESS($K194,L$4,1,1,\"3 - Savings Analysis\"))","v":0},{"$f":"INDIRECT(ADDRESS($K194,M$4,1,1,\"3 - Savings Analysis\"))","v":0},{"$f":"INDIRECT(ADDRESS($K194,N$4,1,1,\"3 - Savings Analysis\"))","v":0},{"$f":"INDIRECT(ADDRESS($K194,O$4,1,1,\"3 - Savings Analysis\"))","v":0},{"$f":"INDIRECT(ADDRESS($K194,P$4,1,1,\"3 - Savings Analysis\"))","v":0},{"$f":"INDIRECT(ADDRESS($K194,Q$4,1,1,\"3 - Savings Analysis\"))","v":0},{"$f":"INDIRECT(ADDRESS($K194,R$4,1,1,\"3 - Savings Analysis\"))","v":0},{"$f":"INDIRECT(ADDRESS($K194,S$4,1,1,\"3 - Savings Analysis\"))","v":0},{"$f":"INDIRECT(ADDRESS($K194,T$4,1,1,\"3 - Savings Analysis\"))","v":0}]
["","","","","","","","","",null,204,{"$f":"INDIRECT(ADDRESS($K195,L$4,1,1,\"3 - Savings Analysis\"))","v":0},{"$f":"INDIRECT(ADDRESS($K195,M$4,1,1,\"3 - Savings Analysis\"))","v":0},{"$f":"INDIRECT(ADDRESS($K195,N$4,1,1,\"3 - Savings Analysis\"))","v":0},{"$f":"INDIRECT(ADDRESS($K195,O$4,1,1,\"3 - Savings Analysis\"))","v":0},{"$f":"INDIRECT(ADDRESS($K195,P$4,1,1,\"3 - Savings Analysis\"))","v":0},{"$f":"INDIRECT(ADDRESS($K195,Q$4,1,1,\"3 - Savings Analysis\"))","v":0},{"$f":"INDIRECT(ADDRESS($K195,R$4,1,1,\"3 - Savings Analysis\"))","v":0},{"$f":"INDIRECT(ADDRESS($K195,S$4,1,1,\"3 - Savings Analysis\"))","v":0},{"$f":"INDIRECT(ADDRESS($K195,T$4,1,1,\"3 - Savings Analysis\"))","v":0}]
["","","","","","","","","",null,205,{"$f":"INDIRECT(ADDRESS($K196,L$4,1,1,\"3 - Savings Analysis\"))","v":0},{"$f":"INDIRECT(ADDRESS($K196,M$4,1,1,\"3 - Savings Analysis\"))","v":0},{"$f":"INDIRECT(ADDRESS($K196,N$4,1,1,\"3 - Savings Analysis\"))","v":0},{"$f":"INDIRECT(ADDRESS($K196,O$4,1,1,\"3 - Savings Analysis\"))","v":0},{"$f":"INDIRECT(ADDRESS($K196,P$4,1,1,\"3 - Savings Analysis\"))","v":0},{"$f":"INDIRECT(ADDRESS($K196,Q$4,1,1,\"3 - Savings Analysis\"))","v":0},{"$f":"INDIRECT(ADDRESS($K196,R$4,1,1,\"3 - Savings Analysis\"))","v":0},{"$f":"INDIRECT(ADDRESS($K196,S$4,1,1,\"3 - Savings Analysis\"))","v":0},{"$f":"INDIRECT(ADDRESS($K196,T$4,1,1,\"3 - Savings Analysis\"))","v":0}]
["","","","","","","","","",null,206,{"$f":"INDIRECT(ADDRESS($K197,L$4,1,1,\"3 - Savings Analysis\"))","v":0},{"$f":"INDIRECT(ADDRESS($K197,M$4,1,1,\"3 - Savings Analysis\"))","v":0},{"$f":"INDIRECT(ADDRESS($K197,N$4,1,1,\"3 - Savings Analysis\"))","v":0},{"$f":"INDIRECT(ADDRESS($K197,O$4,1,1,\"3 - Savings Analysis\"))","v":0},{"$f":"INDIRECT(ADDRESS($K197,P$4,1,1,\"3 - Savings Analysis\"))","v":0},{"$f":"INDIRECT(ADDRESS($K197,Q$4,1,1,\"3 - Savings Analysis\"))","v":0},{"$f":"INDIRECT(ADDRESS($K197,R$4,1,1,\"3 - Savings Analysis\"))","v":0},{"$f":"INDIRECT(ADDRESS($K197,S$4,1,1,\"3 - Savings Analysis\"))","v":0},{"$f":"INDIRECT(ADDRESS($K197,T$4,1,1,\"3 - Savings Analysis\"))","v":0}]
["","","","","","","","","",null,207,{"$f":"INDIRECT(ADDRESS($K198,L$4,1,1,\"3 - Savings Analysis\"))","v":0},{"$f":"INDIRECT(ADDRESS($K198,M$4,1,1,\"3 - Savings Analysis\"))","v":0},{"$f":"INDIRECT(ADDRESS($K198,N$4,1,1,\"3 - Savings Analysis\"))","v":0},{"$f":"INDIRECT(ADDRESS($K198,O$4,1,1,\"3 - Savings Analysis\"))","v":0},{"$f":"INDIRECT(ADDRESS($K198,P$4,1,1,\"3 - Savings Analysis\"))","v":0},{"$f":"INDIRECT(ADDRESS($K198,Q$4,1,1,\"3 - Savings Analysis\"))","v":0},{"$f":"INDIRECT(ADDRESS($K198,R$4,1,1,\"3 - Savings Analysis\"))","v":0},{"$f":"INDIRECT(ADDRESS($K198,S$4,1,1,\"3 - Savings Analysis\"))","v":0},{"$f":"INDIRECT(ADDRESS($K198,T$4,1,1,\"3 - Savings Analysis\"))","v":0}]
["","","","","","","","","",null,208,{"$f":"INDIRECT(ADDRESS($K199,L$4,1,1,\"3 - Savings Analysis\"))","v":0},{"$f":"INDIRECT(ADDRESS($K199,M$4,1,1,\"3 - Savings Analysis\"))","v":0},{"$f":"INDIRECT(ADDRESS($K199,N$4,1,1,\"3 - Savings Analysis\"))","v":0},{"$f":"INDIRECT(ADDRESS($K199,O$4,1,1,\"3 - Savings Analysis\"))","v":0},{"$f":"INDIRECT(ADDRESS($K199,P$4,1,1,\"3 - Savings Analysis\"))","v":0},{"$f":"INDIRECT(ADDRESS($K199,Q$4,1,1,\"3 - Savings Analysis\"))","v":0},{"$f":"INDIRECT(ADDRESS($K199,R$4,1,1,\"3 - Savings Analysis\"))","v":0},{"$f":"INDIRECT(ADDRESS($K199,S$4,1,1,\"3 - Savings Analysis\"))","v":0},{"$f":"INDIRECT(ADDRESS($K199,T$4,1,1,\"3 - Savings Analysis\"))","v":0}]
["","","","","","","","","",null,209,{"$f":"INDIRECT(ADDRESS($K200,L$4,1,1,\"3 - Savings Analysis\"))","v":0},{"$f":"INDIRECT(ADDRESS($K200,M$4,1,1,\"3 - Savings Analysis\"))","v":0},{"$f":"INDIRECT(ADDRESS($K200,N$4,1,1,\"3 - Savings Analysis\"))","v":0},{"$f":"INDIRECT(ADDRESS($K200,O$4,1,1,\"3 - Savings Analysis\"))","v":0},{"$f":"INDIRECT(ADDRESS($K200,P$4,1,1,\"3 - Savings Analysis\"))","v":0},{"$f":"INDIRECT(ADDRESS($K200,Q$4,1,1,\"3 - Savings Analysis\"))","v":0},{"$f":"INDIRECT(ADDRESS($K200,R$4,1,1,\"3 - Savings Analysis\"))","v":0},{"$f":"INDIRECT(ADDRESS($K200,S$4,1,1,\"3 - Savings Analysis\"))","v":0},{"$f":"INDIRECT(ADDRESS($K200,T$4,1,1,\"3 - Savings Analysis\"))","v":0}]
["","","","","","","","","",null,{"$f":"K200+1","v":210},{"$f":"INDIRECT(ADDRESS($K201,L$4,1,1,\"3 - Savings Analysis\"))","v":0},{"$f":"INDIRECT(ADDRESS($K201,M$4,1,1,\"3 - Savings Analysis\"))","v":0},{"$f":"INDIRECT(ADDRESS($K201,N$4,1,1,\"3 - Savings Analysis\"))","v":0},{"$f":"INDIRECT(ADDRESS($K201,O$4,1,1,\"3 - Savings Analysis\"))","v":0},{"$f":"INDIRECT(ADDRESS($K201,P$4,1,1,\"3 - Savings Analysis\"))","v":0},{"$f":"INDIRECT(ADDRESS($K201,Q$4,1,1,\"3 - Savings Analysis\"))","v":0},{"$f":"INDIRECT(ADDRESS($K201,R$4,1,1,\"3 - Savings Analysis\"))","v":0},{"$f":"INDIRECT(ADDRESS($K201,S$4,1,1,\"3 - Savings Analysis\"))","v":0},{"$f":"INDIRECT(ADDRESS($K201,T$4,1,1,\"3 - Savings Analysis\"))","v":0}]
["","","","","","","","","",null,211,{"$f":"INDIRECT(ADDRESS($K202,L$4,1,1,\"3 - Savings Analysis\"))","v":0},{"$f":"INDIRECT(ADDRESS($K202,M$4,1,1,\"3 - Savings Analysis\"))","v":0},{"$f":"INDIRECT(ADDRESS($K202,N$4,1,1,\"3 - Savings Analysis\"))","v":0},{"$f":"INDIRECT(ADDRESS($K202,O$4,1,1,\"3 - Savings Analysis\"))","v":0},{"$f":"INDIRECT(ADDRESS($K202,P$4,1,1,\"3 - Savings Analysis\"))","v":0},{"$f":"INDIRECT(ADDRESS($K202,Q$4,1,1,\"3 - Savings Analysis\"))","v":0},{"$f":"INDIRECT(ADDRESS($K202,R$4,1,1,\"3 - Savings Analysis\"))","v":0},{"$f":"INDIRECT(ADDRESS($K202,S$4,1,1,\"3 - Savings Analysis\"))","v":0},{"$f":"INDIRECT(ADDRESS($K202,T$4,1,1,\"3 - Savings Analysis\"))","v":0}]
["","","","","","","","","",null,212,{"$f":"INDIRECT(ADDRESS($K203,L$4,1,1,\"3 - Savings Analysis\"))","v":0},{"$f":"INDIRECT(ADDRESS($K203,M$4,1,1,\"3 - Savings Analysis\"))","v":0},{"$f":"INDIRECT(ADDRESS($K203,N$4,1,1,\"3 - Savings Analysis\"))","v":0},{"$f":"INDIRECT(ADDRESS($K203,O$4,1,1,\"3 - Savings Analysis\"))","v":0},{"$f":"INDIRECT(ADDRESS($K203,P$4,1,1,\"3 - Savings Analysis\"))","v":0},{"$f":"INDIRECT(ADDRESS($K203,Q$4,1,1,\"3 - Savings Analysis\"))","v":0},{"$f":"INDIRECT(ADDRESS($K203,R$4,1,1,\"3 - Savings Analysis\"))","v":0},{"$f":"INDIRECT(ADDRESS($K203,S$4,1,1,\"3 - Savings Analysis\"))","v":0},{"$f":"INDIRECT(ADDRESS($K203,T$4,1,1,\"3 - Savings Analysis\"))","v":0}]
["","","","","","","","","",null,213,{"$f":"INDIRECT(ADDRESS($K204,L$4,1,1,\"3 - Savings Analysis\"))","v":0},{"$f":"INDIRECT(ADDRESS($K204,M$4,1,1,\"3 - Savings Analysis\"))","v":0},{"$f":"INDIRECT(ADDRESS($K204,N$4,1,1,\"3 - Savings Analysis\"))","v":0},{"$f":"INDIRECT(ADDRESS($K204,O$4,1,1,\"3 - Savings Analysis\"))","v":0},{"$f":"INDIRECT(ADDRESS($K204,P$4,1,1,\"3 - Savings Analysis\"))","v":0},{"$f":"INDIRECT(ADDRESS($K204,Q$4,1,1,\"3 - Savings Analysis\"))","v":0},{"$f":"INDIRECT(ADDRESS($K204,R$4,1,1,\"3 - Savings Analysis\"))","v":0},{"$f":"INDIRECT(ADDRESS($K204,S$4,1,1,\"3 - Savings Analysis\"))","v":0},{"$f":"INDIRECT(ADDRESS($K204,T$4,1,1,\"3 - Savings Analysis\"))","v":0}]
[{"$f":"IF($K205<=$M$2,L205,\"\")","v":""},{"$f":"IF($K205<=$M$2,IF($A205=\"Total\",\"\",M205),\"\")","v":""},{"$f":"IF($K205<=$M$2,IF($A205=\"Total\",\"\",N205),\"\")","v":""},{"$f":"IF($K205<=$M$2,O205,\"\")","v":""},{"$f":"IF($K205<=$M$2,P205,\"\")","v":""},{"$f":"IF($K205<=$M$2,IF($A205=\"Total\",\"\",Q205),\"\")","v":""},{"$f":"IF($K205<=$M$2,IF($A205=\"Total\",\"\",R205),\"\")","v":""},{"$f":"IF($K205<=$M$2,IF($A205=\"Total\",\"\",IF($T205=0,\"\",S205)),\"\")","v":""},{"$f":"IF($K205<=$M$2,IF($A205=\"Total\",\"\",IF($T205=0,\"\",T205)),\"\")","v":""},null,214,{"$f":"INDIRECT(ADDRESS($K205,L$4,1,1,\"3 - Savings Analysis\"))","v":0},{"$f":"INDIRECT(ADDRESS($K205,M$4,1,1,\"3 - Savings Analysis\"))","v":0},{"$f":"INDIRECT(ADDRESS($K205,N$4,1,1,\"3 - Savings Analysis\"))","v":0},{"$f":"INDIRECT(ADDRESS($K205,O$4,1,1,\"3 - Savings Analysis\"))","v":0},{"$f":"INDIRECT(ADDRESS($K205,P$4,1,1,\"3 - Savings Analysis\"))","v":0},{"$f":"INDIRECT(ADDRESS($K205,Q$4,1,1,\"3 - Savings Analysis\"))","v":0},{"$f":"INDIRECT(ADDRESS($K205,R$4,1,1,\"3 - Savings Analysis\"))","v":0},{"$f":"INDIRECT(ADDRESS($K205,S$4,1,1,\"3 - Savings Analysis\"))","v":0},{"$f":"INDIRECT(ADDRESS($K205,T$4,1,1,\"3 - Savings Analysis\"))","v":0}]
["","","","","","","","","",null,215,{"$f":"INDIRECT(ADDRESS($K206,L$4,1,1,\"3 - Savings Analysis\"))","v":0},{"$f":"INDIRECT(ADDRESS($K206,M$4,1,1,\"3 - Savings Analysis\"))","v":0},{"$f":"INDIRECT(ADDRESS($K206,N$4,1,1,\"3 - Savings Analysis\"))","v":0},{"$f":"INDIRECT(ADDRESS($K206,O$4,1,1,\"3 - Savings Analysis\"))","v":0},{"$f":"INDIRECT(ADDRESS($K206,P$4,1,1,\"3 - Savings Analysis\"))","v":0},{"$f":"INDIRECT(ADDRESS($K206,Q$4,1,1,\"3 - Savings Analysis\"))","v":0},{"$f":"INDIRECT(ADDRESS($K206,R$4,1,1,\"3 - Savings Analysis\"))","v":0},{"$f":"INDIRECT(ADDRESS($K206,S$4,1,1,\"3 - Savings Analysis\"))","v":0},{"$f":"INDIRECT(ADDRESS($K206,T$4,1,1,\"3 - Savings Analysis\"))","v":0}]
["","","","","","","","","",null,216,{"$f":"INDIRECT(ADDRESS($K207,L$4,1,1,\"3 - Savings Analysis\"))","v":0},{"$f":"INDIRECT(ADDRESS($K207,M$4,1,1,\"3 - Savings Analysis\"))","v":0},{"$f":"INDIRECT(ADDRESS($K207,N$4,1,1,\"3 - Savings Analysis\"))","v":0},{"$f":"INDIRECT(ADDRESS($K207,O$4,1,1,\"3 - Savings Analysis\"))","v":0},{"$f":"INDIRECT(ADDRESS($K207,P$4,1,1,\"3 - Savings Analysis\"))","v":0},{"$f":"INDIRECT(ADDRESS($K207,Q$4,1,1,\"3 - Savings Analysis\"))","v":0},{"$f":"INDIRECT(ADDRESS($K207,R$4,1,1,\"3 - Savings Analysis\"))","v":0},{"$f":"INDIRECT(ADDRESS($K207,S$4,1,1,\"3 - Savings Analysis\"))","v":0},{"$f":"INDIRECT(ADDRESS($K207,T$4,1,1,\"3 - Savings Analysis\"))","v":0}]
["","","","","","","","","",null,217,{"$f":"INDIRECT(ADDRESS($K208,L$4,1,1,\"3 - Savings Analysis\"))","v":0},{"$f":"INDIRECT(ADDRESS($K208,M$4,1,1,\"3 - Savings Analysis\"))","v":0},{"$f":"INDIRECT(ADDRESS($K208,N$4,1,1,\"3 - Savings Analysis\"))","v":0},{"$f":"INDIRECT(ADDRESS($K208,O$4,1,1,\"3 - Savings Analysis\"))","v":0},{"$f":"INDIRECT(ADDRESS($K208,P$4,1,1,\"3 - Savings Analysis\"))","v":0},{"$f":"INDIRECT(ADDRESS($K208,Q$4,1,1,\"3 - Savings Analysis\"))","v":0},{"$f":"INDIRECT(ADDRESS($K208,R$4,1,1,\"3 - Savings Analysis\"))","v":0},{"$f":"INDIRECT(ADDRESS($K208,S$4,1,1,\"3 - Savings Analysis\"))","v":0},{"$f":"INDIRECT(ADDRESS($K208,T$4,1,1,\"3 - Savings Analysis\"))","v":0}]
["","","","","","","","","",null,218,{"$f":"INDIRECT(ADDRESS($K209,L$4,1,1,\"3 - Savings Analysis\"))","v":0},{"$f":"INDIRECT(ADDRESS($K209,M$4,1,1,\"3 - Savings Analysis\"))","v":0},{"$f":"INDIRECT(ADDRESS($K209,N$4,1,1,\"3 - Savings Analysis\"))","v":0},{"$f":"INDIRECT(ADDRESS($K209,O$4,1,1,\"3 - Savings Analysis\"))","v":0},{"$f":"INDIRECT(ADDRESS($K209,P$4,1,1,\"3 - Savings Analysis\"))","v":0},{"$f":"INDIRECT(ADDRESS($K209,Q$4,1,1,\"3 - Savings Analysis\"))","v":0},{"$f":"INDIRECT(ADDRESS($K209,R$4,1,1,\"3 - Savings Analysis\"))","v":0},{"$f":"INDIRECT(ADDRESS($K209,S$4,1,1,\"3 - Savings Analysis\"))","v":0},{"$f":"INDIRECT(ADDRESS($K209,T$4,1,1,\"3 - Savings Analysis\"))","v":0}]
["","","","","","","","","",null,219,{"$f":"INDIRECT(ADDRESS($K210,L$4,1,1,\"3 - Savings Analysis\"))","v":0},{"$f":"INDIRECT(ADDRESS($K210,M$4,1,1,\"3 - Savings Analysis\"))","v":0},{"$f":"INDIRECT(ADDRESS($K210,N$4,1,1,\"3 - Savings Analysis\"))","v":0},{"$f":"INDIRECT(ADDRESS($K210,O$4,1,1,\"3 - Savings Analysis\"))","v":0},{"$f":"INDIRECT(ADDRESS($K210,P$4,1,1,\"3 - Savings Analysis\"))","v":0},{"$f":"INDIRECT(ADDRESS($K210,Q$4,1,1,\"3 - Savings Analysis\"))","v":0},{"$f":"INDIRECT(ADDRESS($K210,R$4,1,1,\"3 - Savings Analysis\"))","v":0},{"$f":"INDIRECT(ADDRESS($K210,S$4,1,1,\"3 - Savings Analysis\"))","v":0},{"$f":"INDIRECT(ADDRESS($K210,T$4,1,1,\"3 - Savings Analysis\"))","v":0}]
["","","","","","","","","",null,220,{"$f":"INDIRECT(ADDRESS($K211,L$4,1,1,\"3 - Savings Analysis\"))","v":0},{"$f":"INDIRECT(ADDRESS($K211,M$4,1,1,\"3 - Savings Analysis\"))","v":0},{"$f":"INDIRECT(ADDRESS($K211,N$4,1,1,\"3 - Savings Analysis\"))","v":0},{"$f":"INDIRECT(ADDRESS($K211,O$4,1,1,\"3 - Savings Analysis\"))","v":0},{"$f":"INDIRECT(ADDRESS($K211,P$4,1,1,\"3 - Savings Analysis\"))","v":0},{"$f":"INDIRECT(ADDRESS($K211,Q$4,1,1,\"3 - Savings Analysis\"))","v":0},{"$f":"INDIRECT(ADDRESS($K211,R$4,1,1,\"3 - Savings Analysis\"))","v":0},{"$f":"INDIRECT(ADDRESS($K211,S$4,1,1,\"3 - Savings Analysis\"))","v":0},{"$f":"INDIRECT(ADDRESS($K211,T$4,1,1,\"3 - Savings Analysis\"))","v":0}]
["","","","","","","","","",null,221,{"$f":"INDIRECT(ADDRESS($K212,L$4,1,1,\"3 - Savings Analysis\"))","v":0},{"$f":"INDIRECT(ADDRESS($K212,M$4,1,1,\"3 - Savings Analysis\"))","v":0},{"$f":"INDIRECT(ADDRESS($K212,N$4,1,1,\"3 - Savings Analysis\"))","v":0},{"$f":"INDIRECT(ADDRESS($K212,O$4,1,1,\"3 - Savings Analysis\"))","v":0},{"$f":"INDIRECT(ADDRESS($K212,P$4,1,1,\"3 - Savings Analysis\"))","v":0},{"$f":"INDIRECT(ADDRESS($K212,Q$4,1,1,\"3 - Savings Analysis\"))","v":0},{"$f":"INDIRECT(ADDRESS($K212,R$4,1,1,\"3 - Savings Analysis\"))","v":0},{"$f":"INDIRECT(ADDRESS($K212,S$4,1,1,\"3 - Savings Analysis\"))","v":0},{"$f":"INDIRECT(ADDRESS($K212,T$4,1,1,\"3 - Savings Analysis\"))","v":0}]
["","","","","","","","","",null,222,{"$f":"INDIRECT(ADDRESS($K213,L$4,1,1,\"3 - Savings Analysis\"))","v":0},{"$f":"INDIRECT(ADDRESS($K213,M$4,1,1,\"3 - Savings Analysis\"))","v":0},{"$f":"INDIRECT(ADDRESS($K213,N$4,1,1,\"3 - Savings Analysis\"))","v":0},{"$f":"INDIRECT(ADDRESS($K213,O$4,1,1,\"3 - Savings Analysis\"))","v":0},{"$f":"INDIRECT(ADDRESS($K213,P$4,1,1,\"3 - Savings Analysis\"))","v":0},{"$f":"INDIRECT(ADDRESS($K213,Q$4,1,1,\"3 - Savings Analysis\"))","v":0},{"$f":"INDIRECT(ADDRESS($K213,R$4,1,1,\"3 - Savings Analysis\"))","v":0},{"$f":"INDIRECT(ADDRESS($K213,S$4,1,1,\"3 - Savings Analysis\"))","v":0},{"$f":"INDIRECT(ADDRESS($K213,T$4,1,1,\"3 - Savings Analysis\"))","v":0}]
["","","","","","","","","",null,223,{"$f":"INDIRECT(ADDRESS($K214,L$4,1,1,\"3 - Savings Analysis\"))","v":0},{"$f":"INDIRECT(ADDRESS($K214,M$4,1,1,\"3 - Savings Analysis\"))","v":0},{"$f":"INDIRECT(ADDRESS($K214,N$4,1,1,\"3 - Savings Analysis\"))","v":0},{"$f":"INDIRECT(ADDRESS($K214,O$4,1,1,\"3 - Savings Analysis\"))","v":0},{"$f":"INDIRECT(ADDRESS($K214,P$4,1,1,\"3 - Savings Analysis\"))","v":0},{"$f":"INDIRECT(ADDRESS($K214,Q$4,1,1,\"3 - Savings Analysis\"))","v":0},{"$f":"INDIRECT(ADDRESS($K214,R$4,1,1,\"3 - Savings Analysis\"))","v":0},{"$f":"INDIRECT(ADDRESS($K214,S$4,1,1,\"3 - Savings Analysis\"))","v":0},{"$f":"INDIRECT(ADDRESS($K214,T$4,1,1,\"3 - Savings Analysis\"))","v":0}]
["","","","","","","","","",null,224,{"$f":"INDIRECT(ADDRESS($K215,L$4,1,1,\"3 - Savings Analysis\"))","v":0},{"$f":"INDIRECT(ADDRESS($K215,M$4,1,1,\"3 - Savings Analysis\"))","v":0},{"$f":"INDIRECT(ADDRESS($K215,N$4,1,1,\"3 - Savings Analysis\"))","v":0},{"$f":"INDIRECT(ADDRESS($K215,O$4,1,1,\"3 - Savings Analysis\"))","v":0},{"$f":"INDIRECT(ADDRESS($K215,P$4,1,1,\"3 - Savings Analysis\"))","v":0},{"$f":"INDIRECT(ADDRESS($K215,Q$4,1,1,\"3 - Savings Analysis\"))","v":0},{"$f":"INDIRECT(ADDRESS($K215,R$4,1,1,\"3 - Savings Analysis\"))","v":0},{"$f":"INDIRECT(ADDRESS($K215,S$4,1,1,\"3 - Savings Analysis\"))","v":0},{"$f":"INDIRECT(ADDRESS($K215,T$4,1,1,\"3 - Savings Analysis\"))","v":0}]
["","","","","","","","","",null,225,{"$f":"INDIRECT(ADDRESS($K216,L$4,1,1,\"3 - Savings Analysis\"))","v":0},{"$f":"INDIRECT(ADDRESS($K216,M$4,1,1,\"3 - Savings Analysis\"))","v":0},{"$f":"INDIRECT(ADDRESS($K216,N$4,1,1,\"3 - Savings Analysis\"))","v":0},{"$f":"INDIRECT(ADDRESS($K216,O$4,1,1,\"3 - Savings Analysis\"))","v":0},{"$f":"INDIRECT(ADDRESS($K216,P$4,1,1,\"3 - Savings Analysis\"))","v":0},{"$f":"INDIRECT(ADDRESS($K216,Q$4,1,1,\"3 - Savings Analysis\"))","v":0},{"$f":"INDIRECT(ADDRESS($K216,R$4,1,1,\"3 - Savings Analysis\"))","v":0},{"$f":"INDIRECT(ADDRESS($K216,S$4,1,1,\"3 - Savings Analysis\"))","v":0},{"$f":"INDIRECT(ADDRESS($K216,T$4,1,1,\"3 - Savings Analysis\"))","v":0}]
["","","","","","","","","",null,226,{"$f":"INDIRECT(ADDRESS($K217,L$4,1,1,\"3 - Savings Analysis\"))","v":0},{"$f":"INDIRECT(ADDRESS($K217,M$4,1,1,\"3 - Savings Analysis\"))","v":0},{"$f":"INDIRECT(ADDRESS($K217,N$4,1,1,\"3 - Savings Analysis\"))","v":0},{"$f":"INDIRECT(ADDRESS($K217,O$4,1,1,\"3 - Savings Analysis\"))","v":0},{"$f":"INDIRECT(ADDRESS($K217,P$4,1,1,\"3 - Savings Analysis\"))","v":0},{"$f":"INDIRECT(ADDRESS($K217,Q$4,1,1,\"3 - Savings Analysis\"))","v":0},{"$f":"INDIRECT(ADDRESS($K217,R$4,1,1,\"3 - Savings Analysis\"))","v":0},{"$f":"INDIRECT(ADDRESS($K217,S$4,1,1,\"3 - Savings Analysis\"))","v":0},{"$f":"INDIRECT(ADDRESS($K217,T$4,1,1,\"3 - Savings Analysis\"))","v":0}]
["","","","","","","","","",null,227,{"$f":"INDIRECT(ADDRESS($K218,L$4,1,1,\"3 - Savings Analysis\"))","v":0},{"$f":"INDIRECT(ADDRESS($K218,M$4,1,1,\"3 - Savings Analysis\"))","v":0},{"$f":"INDIRECT(ADDRESS($K218,N$4,1,1,\"3 - Savings Analysis\"))","v":0},{"$f":"INDIRECT(ADDRESS($K218,O$4,1,1,\"3 - Savings Analysis\"))","v":0},{"$f":"INDIRECT(ADDRESS($K218,P$4,1,1,\"3 - Savings Analysis\"))","v":0},{"$f":"INDIRECT(ADDRESS($K218,Q$4,1,1,\"3 - Savings Analysis\"))","v":0},{"$f":"INDIRECT(ADDRESS($K218,R$4,1,1,\"3 - Savings Analysis\"))","v":0},{"$f":"INDIRECT(ADDRESS($K218,S$4,1,1,\"3 - Savings Analysis\"))","v":0},{"$f":"INDIRECT(ADDRESS($K218,T$4,1,1,\"3 - Savings Analysis\"))","v":0}]
["","","","","","","","","",null,228,{"$f":"INDIRECT(ADDRESS($K219,L$4,1,1,\"3 - Savings Analysis\"))","v":0},{"$f":"INDIRECT(ADDRESS($K219,M$4,1,1,\"3 - Savings Analysis\"))","v":0},{"$f":"INDIRECT(ADDRESS($K219,N$4,1,1,\"3 - Savings Analysis\"))","v":0},{"$f":"INDIRECT(ADDRESS($K219,O$4,1,1,\"3 - Savings Analysis\"))","v":0},{"$f":"INDIRECT(ADDRESS($K219,P$4,1,1,\"3 - Savings Analysis\"))","v":0},{"$f":"INDIRECT(ADDRESS($K219,Q$4,1,1,\"3 - Savings Analysis\"))","v":0},{"$f":"INDIRECT(ADDRESS($K219,R$4,1,1,\"3 - Savings Analysis\"))","v":0},{"$f":"INDIRECT(ADDRESS($K219,S$4,1,1,\"3 - Savings Analysis\"))","v":0},{"$f":"INDIRECT(ADDRESS($K219,T$4,1,1,\"3 - Savings Analysis\"))","v":0}]
["","","","","","","","","",null,229,{"$f":"INDIRECT(ADDRESS($K220,L$4,1,1,\"3 - Savings Analysis\"))","v":0},{"$f":"INDIRECT(ADDRESS($K220,M$4,1,1,\"3 - Savings Analysis\"))","v":0},{"$f":"INDIRECT(ADDRESS($K220,N$4,1,1,\"3 - Savings Analysis\"))","v":0},{"$f":"INDIRECT(ADDRESS($K220,O$4,1,1,\"3 - Savings Analysis\"))","v":0},{"$f":"INDIRECT(ADDRESS($K220,P$4,1,1,\"3 - Savings Analysis\"))","v":0},{"$f":"INDIRECT(ADDRESS($K220,Q$4,1,1,\"3 - Savings Analysis\"))","v":0},{"$f":"INDIRECT(ADDRESS($K220,R$4,1,1,\"3 - Savings Analysis\"))","v":0},{"$f":"INDIRECT(ADDRESS($K220,S$4,1,1,\"3 - Savings Analysis\"))","v":0},{"$f":"INDIRECT(ADDRESS($K220,T$4,1,1,\"3 - Savings Analysis\"))","v":0}]
["","","","","","","","","",null,230,{"$f":"INDIRECT(ADDRESS($K221,L$4,1,1,\"3 - Savings Analysis\"))","v":0},{"$f":"INDIRECT(ADDRESS($K221,M$4,1,1,\"3 - Savings Analysis\"))","v":0},{"$f":"INDIRECT(ADDRESS($K221,N$4,1,1,\"3 - Savings Analysis\"))","v":0},{"$f":"INDIRECT(ADDRESS($K221,O$4,1,1,\"3 - Savings Analysis\"))","v":0},{"$f":"INDIRECT(ADDRESS($K221,P$4,1,1,\"3 - Savings Analysis\"))","v":0},{"$f":"INDIRECT(ADDRESS($K221,Q$4,1,1,\"3 - Savings Analysis\"))","v":0},{"$f":"INDIRECT(ADDRESS($K221,R$4,1,1,\"3 - Savings Analysis\"))","v":0},{"$f":"INDIRECT(ADDRESS($K221,S$4,1,1,\"3 - Savings Analysis\"))","v":0},{"$f":"INDIRECT(ADDRESS($K221,T$4,1,1,\"3 - Savings Analysis\"))","v":0}]
["","","","","","","","","",null,231,{"$f":"INDIRECT(ADDRESS($K222,L$4,1,1,\"3 - Savings Analysis\"))","v":0},{"$f":"INDIRECT(ADDRESS($K222,M$4,1,1,\"3 - Savings Analysis\"))","v":0},{"$f":"INDIRECT(ADDRESS($K222,N$4,1,1,\"3 - Savings Analysis\"))","v":0},{"$f":"INDIRECT(ADDRESS($K222,O$4,1,1,\"3 - Savings Analysis\"))","v":0},{"$f":"INDIRECT(ADDRESS($K222,P$4,1,1,\"3 - Savings Analysis\"))","v":0},{"$f":"INDIRECT(ADDRESS($K222,Q$4,1,1,\"3 - Savings Analysis\"))","v":0},{"$f":"INDIRECT(ADDRESS($K222,R$4,1,1,\"3 - Savings Analysis\"))","v":0},{"$f":"INDIRECT(ADDRESS($K222,S$4,1,1,\"3 - Savings Analysis\"))","v":0},{"$f":"INDIRECT(ADDRESS($K222,T$4,1,1,\"3 - Savings Analysis\"))","v":0}]
["","","","","","","","","",null,232,{"$f":"INDIRECT(ADDRESS($K223,L$4,1,1,\"3 - Savings Analysis\"))","v":0},{"$f":"INDIRECT(ADDRESS($K223,M$4,1,1,\"3 - Savings Analysis\"))","v":0},{"$f":"INDIRECT(ADDRESS($K223,N$4,1,1,\"3 - Savings Analysis\"))","v":0},{"$f":"INDIRECT(ADDRESS($K223,O$4,1,1,\"3 - Savings Analysis\"))","v":0},{"$f":"INDIRECT(ADDRESS($K223,P$4,1,1,\"3 - Savings Analysis\"))","v":0},{"$f":"INDIRECT(ADDRESS($K223,Q$4,1,1,\"3 - Savings Analysis\"))","v":0},{"$f":"INDIRECT(ADDRESS($K223,R$4,1,1,\"3 - Savings Analysis\"))","v":0},{"$f":"INDIRECT(ADDRESS($K223,S$4,1,1,\"3 - Savings Analysis\"))","v":0},{"$f":"INDIRECT(ADDRESS($K223,T$4,1,1,\"3 - Savings Analysis\"))","v":0}]
["","","","","","","","","",null,233,{"$f":"INDIRECT(ADDRESS($K224,L$4,1,1,\"3 - Savings Analysis\"))","v":0},{"$f":"INDIRECT(ADDRESS($K224,M$4,1,1,\"3 - Savings Analysis\"))","v":0},{"$f":"INDIRECT(ADDRESS($K224,N$4,1,1,\"3 - Savings Analysis\"))","v":0},{"$f":"INDIRECT(ADDRESS($K224,O$4,1,1,\"3 - Savings Analysis\"))","v":0},{"$f":"INDIRECT(ADDRESS($K224,P$4,1,1,\"3 - Savings Analysis\"))","v":0},{"$f":"INDIRECT(ADDRESS($K224,Q$4,1,1,\"3 - Savings Analysis\"))","v":0},{"$f":"INDIRECT(ADDRESS($K224,R$4,1,1,\"3 - Savings Analysis\"))","v":0},{"$f":"INDIRECT(ADDRESS($K224,S$4,1,1,\"3 - Savings Analysis\"))","v":0},{"$f":"INDIRECT(ADDRESS($K224,T$4,1,1,\"3 - Savings Analysis\"))","v":0}]
["","","","","","","","","",null,234,{"$f":"INDIRECT(ADDRESS($K225,L$4,1,1,\"3 - Savings Analysis\"))","v":0},{"$f":"INDIRECT(ADDRESS($K225,M$4,1,1,\"3 - Savings Analysis\"))","v":0},{"$f":"INDIRECT(ADDRESS($K225,N$4,1,1,\"3 - Savings Analysis\"))","v":0},{"$f":"INDIRECT(ADDRESS($K225,O$4,1,1,\"3 - Savings Analysis\"))","v":0},{"$f":"INDIRECT(ADDRESS($K225,P$4,1,1,\"3 - Savings Analysis\"))","v":0},{"$f":"INDIRECT(ADDRESS($K225,Q$4,1,1,\"3 - Savings Analysis\"))","v":0},{"$f":"INDIRECT(ADDRESS($K225,R$4,1,1,\"3 - Savings Analysis\"))","v":0},{"$f":"INDIRECT(ADDRESS($K225,S$4,1,1,\"3 - Savings Analysis\"))","v":0},{"$f":"INDIRECT(ADDRESS($K225,T$4,1,1,\"3 - Savings Analysis\"))","v":0}]
["","","","","","","","","",null,235,{"$f":"INDIRECT(ADDRESS($K226,L$4,1,1,\"3 - Savings Analysis\"))","v":0},{"$f":"INDIRECT(ADDRESS($K226,M$4,1,1,\"3 - Savings Analysis\"))","v":0},{"$f":"INDIRECT(ADDRESS($K226,N$4,1,1,\"3 - Savings Analysis\"))","v":0},{"$f":"INDIRECT(ADDRESS($K226,O$4,1,1,\"3 - Savings Analysis\"))","v":0},{"$f":"INDIRECT(ADDRESS($K226,P$4,1,1,\"3 - Savings Analysis\"))","v":0},{"$f":"INDIRECT(ADDRESS($K226,Q$4,1,1,\"3 - Savings Analysis\"))","v":0},{"$f":"INDIRECT(ADDRESS($K226,R$4,1,1,\"3 - Savings Analysis\"))","v":0},{"$f":"INDIRECT(ADDRESS($K226,S$4,1,1,\"3 - Savings Analysis\"))","v":0},{"$f":"INDIRECT(ADDRESS($K226,T$4,1,1,\"3 - Savings Analysis\"))","v":0}]
["","","","","","","","","",null,236,{"$f":"INDIRECT(ADDRESS($K227,L$4,1,1,\"3 - Savings Analysis\"))","v":0},{"$f":"INDIRECT(ADDRESS($K227,M$4,1,1,\"3 - Savings Analysis\"))","v":0},{"$f":"INDIRECT(ADDRESS($K227,N$4,1,1,\"3 - Savings Analysis\"))","v":0},{"$f":"INDIRECT(ADDRESS($K227,O$4,1,1,\"3 - Savings Analysis\"))","v":0},{"$f":"INDIRECT(ADDRESS($K227,P$4,1,1,\"3 - Savings Analysis\"))","v":0},{"$f":"INDIRECT(ADDRESS($K227,Q$4,1,1,\"3 - Savings Analysis\"))","v":0},{"$f":"INDIRECT(ADDRESS($K227,R$4,1,1,\"3 - Savings Analysis\"))","v":0},{"$f":"INDIRECT(ADDRESS($K227,S$4,1,1,\"3 - Savings Analysis\"))","v":0},{"$f":"INDIRECT(ADDRESS($K227,T$4,1,1,\"3 - Savings Analysis\"))","v":0}]
["","","","","","","","","",null,237,{"$f":"INDIRECT(ADDRESS($K228,L$4,1,1,\"3 - Savings Analysis\"))","v":0},{"$f":"INDIRECT(ADDRESS($K228,M$4,1,1,\"3 - Savings Analysis\"))","v":0},{"$f":"INDIRECT(ADDRESS($K228,N$4,1,1,\"3 - Savings Analysis\"))","v":0},{"$f":"INDIRECT(ADDRESS($K228,O$4,1,1,\"3 - Savings Analysis\"))","v":0},{"$f":"INDIRECT(ADDRESS($K228,P$4,1,1,\"3 - Savings Analysis\"))","v":0},{"$f":"INDIRECT(ADDRESS($K228,Q$4,1,1,\"3 - Savings Analysis\"))","v":0},{"$f":"INDIRECT(ADDRESS($K228,R$4,1,1,\"3 - Savings Analysis\"))","v":0},{"$f":"INDIRECT(ADDRESS($K228,S$4,1,1,\"3 - Savings Analysis\"))","v":0},{"$f":"INDIRECT(ADDRESS($K228,T$4,1,1,\"3 - Savings Analysis\"))","v":0}]
["","","","","","","","","",null,238,{"$f":"INDIRECT(ADDRESS($K229,L$4,1,1,\"3 - Savings Analysis\"))","v":0},{"$f":"INDIRECT(ADDRESS($K229,M$4,1,1,\"3 - Savings Analysis\"))","v":0},{"$f":"INDIRECT(ADDRESS($K229,N$4,1,1,\"3 - Savings Analysis\"))","v":0},{"$f":"INDIRECT(ADDRESS($K229,O$4,1,1,\"3 - Savings Analysis\"))","v":0},{"$f":"INDIRECT(ADDRESS($K229,P$4,1,1,\"3 - Savings Analysis\"))","v":0},{"$f":"INDIRECT(ADDRESS($K229,Q$4,1,1,\"3 - Savings Analysis\"))","v":0},{"$f":"INDIRECT(ADDRESS($K229,R$4,1,1,\"3 - Savings Analysis\"))","v":0},{"$f":"INDIRECT(ADDRESS($K229,S$4,1,1,\"3 - Savings Analysis\"))","v":0},{"$f":"INDIRECT(ADDRESS($K229,T$4,1,1,\"3 - Savings Analysis\"))","v":0}]
["","","","","","","","","",null,239,{"$f":"INDIRECT(ADDRESS($K230,L$4,1,1,\"3 - Savings Analysis\"))","v":0},{"$f":"INDIRECT(ADDRESS($K230,M$4,1,1,\"3 - Savings Analysis\"))","v":0},{"$f":"INDIRECT(ADDRESS($K230,N$4,1,1,\"3 - Savings Analysis\"))","v":0},{"$f":"INDIRECT(ADDRESS($K230,O$4,1,1,\"3 - Savings Analysis\"))","v":0},{"$f":"INDIRECT(ADDRESS($K230,P$4,1,1,\"3 - Savings Analysis\"))","v":0},{"$f":"INDIRECT(ADDRESS($K230,Q$4,1,1,\"3 - Savings Analysis\"))","v":0},{"$f":"INDIRECT(ADDRESS($K230,R$4,1,1,\"3 - Savings Analysis\"))","v":0},{"$f":"INDIRECT(ADDRESS($K230,S$4,1,1,\"3 - Savings Analysis\"))","v":0},{"$f":"INDIRECT(ADDRESS($K230,T$4,1,1,\"3 - Savings Analysis\"))","v":0}]
["","","","","","","","","",null,240,{"$f":"INDIRECT(ADDRESS($K231,L$4,1,1,\"3 - Savings Analysis\"))","v":0},{"$f":"INDIRECT(ADDRESS($K231,M$4,1,1,\"3 - Savings Analysis\"))","v":0},{"$f":"INDIRECT(ADDRESS($K231,N$4,1,1,\"3 - Savings Analysis\"))","v":0},{"$f":"INDIRECT(ADDRESS($K231,O$4,1,1,\"3 - Savings Analysis\"))","v":0},{"$f":"INDIRECT(ADDRESS($K231,P$4,1,1,\"3 - Savings Analysis\"))","v":0},{"$f":"INDIRECT(ADDRESS($K231,Q$4,1,1,\"3 - Savings Analysis\"))","v":0},{"$f":"INDIRECT(ADDRESS($K231,R$4,1,1,\"3 - Savings Analysis\"))","v":0},{"$f":"INDIRECT(ADDRESS($K231,S$4,1,1,\"3 - Savings Analysis\"))","v":0},{"$f":"INDIRECT(ADDRESS($K231,T$4,1,1,\"3 - Savings Analysis\"))","v":0}]
["","","","","","","","","",null,241,{"$f":"INDIRECT(ADDRESS($K232,L$4,1,1,\"3 - Savings Analysis\"))","v":0},{"$f":"INDIRECT(ADDRESS($K232,M$4,1,1,\"3 - Savings Analysis\"))","v":0},{"$f":"INDIRECT(ADDRESS($K232,N$4,1,1,\"3 - Savings Analysis\"))","v":0},{"$f":"INDIRECT(ADDRESS($K232,O$4,1,1,\"3 - Savings Analysis\"))","v":0},{"$f":"INDIRECT(ADDRESS($K232,P$4,1,1,\"3 - Savings Analysis\"))","v":0},{"$f":"INDIRECT(ADDRESS($K232,Q$4,1,1,\"3 - Savings Analysis\"))","v":0},{"$f":"INDIRECT(ADDRESS($K232,R$4,1,1,\"3 - Savings Analysis\"))","v":0},{"$f":"INDIRECT(ADDRESS($K232,S$4,1,1,\"3 - Savings Analysis\"))","v":0},{"$f":"INDIRECT(ADDRESS($K232,T$4,1,1,\"3 - Savings Analysis\"))","v":0}]
["","","","","","","","","",null,242,{"$f":"INDIRECT(ADDRESS($K233,L$4,1,1,\"3 - Savings Analysis\"))","v":0},{"$f":"INDIRECT(ADDRESS($K233,M$4,1,1,\"3 - Savings Analysis\"))","v":0},{"$f":"INDIRECT(ADDRESS($K233,N$4,1,1,\"3 - Savings Analysis\"))","v":0},{"$f":"INDIRECT(ADDRESS($K233,O$4,1,1,\"3 - Savings Analysis\"))","v":0},{"$f":"INDIRECT(ADDRESS($K233,P$4,1,1,\"3 - Savings Analysis\"))","v":0},{"$f":"INDIRECT(ADDRESS($K233,Q$4,1,1,\"3 - Savings Analysis\"))","v":0},{"$f":"INDIRECT(ADDRESS($K233,R$4,1,1,\"3 - Savings Analysis\"))","v":0},{"$f":"INDIRECT(ADDRESS($K233,S$4,1,1,\"3 - Savings Analysis\"))","v":0},{"$f":"INDIRECT(ADDRESS($K233,T$4,1,1,\"3 - Savings Analysis\"))","v":0}]
["","","","","","","","","",null,243,{"$f":"INDIRECT(ADDRESS($K234,L$4,1,1,\"3 - Savings Analysis\"))","v":0},{"$f":"INDIRECT(ADDRESS($K234,M$4,1,1,\"3 - Savings Analysis\"))","v":0},{"$f":"INDIRECT(ADDRESS($K234,N$4,1,1,\"3 - Savings Analysis\"))","v":0},{"$f":"INDIRECT(ADDRESS($K234,O$4,1,1,\"3 - Savings Analysis\"))","v":0},{"$f":"INDIRECT(ADDRESS($K234,P$4,1,1,\"3 - Savings Analysis\"))","v":0},{"$f":"INDIRECT(ADDRESS($K234,Q$4,1,1,\"3 - Savings Analysis\"))","v":0},{"$f":"INDIRECT(ADDRESS($K234,R$4,1,1,\"3 - Savings Analysis\"))","v":0},{"$f":"INDIRECT(ADDRESS($K234,S$4,1,1,\"3 - Savings Analysis\"))","v":0},{"$f":"INDIRECT(ADDRESS($K234,T$4,1,1,\"3 - Savings Analysis\"))","v":0}]
["","","","","","","","","",null,244,{"$f":"INDIRECT(ADDRESS($K235,L$4,1,1,\"3 - Savings Analysis\"))","v":0},{"$f":"INDIRECT(ADDRESS($K235,M$4,1,1,\"3 - Savings Analysis\"))","v":0},{"$f":"INDIRECT(ADDRESS($K235,N$4,1,1,\"3 - Savings Analysis\"))","v":0},{"$f":"INDIRECT(ADDRESS($K235,O$4,1,1,\"3 - Savings Analysis\"))","v":0},{"$f":"INDIRECT(ADDRESS($K235,P$4,1,1,\"3 - Savings Analysis\"))","v":0},{"$f":"INDIRECT(ADDRESS($K235,Q$4,1,1,\"3 - Savings Analysis\"))","v":0},{"$f":"INDIRECT(ADDRESS($K235,R$4,1,1,\"3 - Savings Analysis\"))","v":0},{"$f":"INDIRECT(ADDRESS($K235,S$4,1,1,\"3 - Savings Analysis\"))","v":0},{"$f":"INDIRECT(ADDRESS($K235,T$4,1,1,\"3 - Savings Analysis\"))","v":0}]
["","","","","","","","","",null,245,{"$f":"INDIRECT(ADDRESS($K236,L$4,1,1,\"3 - Savings Analysis\"))","v":0},{"$f":"INDIRECT(ADDRESS($K236,M$4,1,1,\"3 - Savings Analysis\"))","v":0},{"$f":"INDIRECT(ADDRESS($K236,N$4,1,1,\"3 - Savings Analysis\"))","v":0},{"$f":"INDIRECT(ADDRESS($K236,O$4,1,1,\"3 - Savings Analysis\"))","v":0},{"$f":"INDIRECT(ADDRESS($K236,P$4,1,1,\"3 - Savings Analysis\"))","v":0},{"$f":"INDIRECT(ADDRESS($K236,Q$4,1,1,\"3 - Savings Analysis\"))","v":0},{"$f":"INDIRECT(ADDRESS($K236,R$4,1,1,\"3 - Savings Analysis\"))","v":0},{"$f":"INDIRECT(ADDRESS($K236,S$4,1,1,\"3 - Savings Analysis\"))","v":0},{"$f":"INDIRECT(ADDRESS($K236,T$4,1,1,\"3 - Savings Analysis\"))","v":0}]
["","","","","","","","","",null,246,{"$f":"INDIRECT(ADDRESS($K237,L$4,1,1,\"3 - Savings Analysis\"))","v":0},{"$f":"INDIRECT(ADDRESS($K237,M$4,1,1,\"3 - Savings Analysis\"))","v":0},{"$f":"INDIRECT(ADDRESS($K237,N$4,1,1,\"3 - Savings Analysis\"))","v":0},{"$f":"INDIRECT(ADDRESS($K237,O$4,1,1,\"3 - Savings Analysis\"))","v":0},{"$f":"INDIRECT(ADDRESS($K237,P$4,1,1,\"3 - Savings Analysis\"))","v":0},{"$f":"INDIRECT(ADDRESS($K237,Q$4,1,1,\"3 - Savings Analysis\"))","v":0},{"$f":"INDIRECT(ADDRESS($K237,R$4,1,1,\"3 - Savings Analysis\"))","v":0},{"$f":"INDIRECT(ADDRESS($K237,S$4,1,1,\"3 - Savings Analysis\"))","v":0},{"$f":"INDIRECT(ADDRESS($K237,T$4,1,1,\"3 - Savings Analysis\"))","v":0}]
["","","","","","","","","",null,247,{"$f":"INDIRECT(ADDRESS($K238,L$4,1,1,\"3 - Savings Analysis\"))","v":0},{"$f":"INDIRECT(ADDRESS($K238,M$4,1,1,\"3 - Savings Analysis\"))","v":0},{"$f":"INDIRECT(ADDRESS($K238,N$4,1,1,\"3 - Savings Analysis\"))","v":0},{"$f":"INDIRECT(ADDRESS($K238,O$4,1,1,\"3 - Savings Analysis\"))","v":0},{"$f":"INDIRECT(ADDRESS($K238,P$4,1,1,\"3 - Savings Analysis\"))","v":0},{"$f":"INDIRECT(ADDRESS($K238,Q$4,1,1,\"3 - Savings Analysis\"))","v":0},{"$f":"INDIRECT(ADDRESS($K238,R$4,1,1,\"3 - Savings Analysis\"))","v":0},{"$f":"INDIRECT(ADDRESS($K238,S$4,1,1,\"3 - Savings Analysis\"))","v":0},{"$f":"INDIRECT(ADDRESS($K238,T$4,1,1,\"3 - Savings Analysis\"))","v":0}]
["","","","","","","","","",null,248,{"$f":"INDIRECT(ADDRESS($K239,L$4,1,1,\"3 - Savings Analysis\"))","v":0},{"$f":"INDIRECT(ADDRESS($K239,M$4,1,1,\"3 - Savings Analysis\"))","v":0},{"$f":"INDIRECT(ADDRESS($K239,N$4,1,1,\"3 - Savings Analysis\"))","v":0},{"$f":"INDIRECT(ADDRESS($K239,O$4,1,1,\"3 - Savings Analysis\"))","v":0},{"$f":"INDIRECT(ADDRESS($K239,P$4,1,1,\"3 - Savings Analysis\"))","v":0},{"$f":"INDIRECT(ADDRESS($K239,Q$4,1,1,\"3 - Savings Analysis\"))","v":0},{"$f":"INDIRECT(ADDRESS($K239,R$4,1,1,\"3 - Savings Analysis\"))","v":0},{"$f":"INDIRECT(ADDRESS($K239,S$4,1,1,\"3 - Savings Analysis\"))","v":0},{"$f":"INDIRECT(ADDRESS($K239,T$4,1,1,\"3 - Savings Analysis\"))","v":0}]
["","","","","","","","","",null,249,{"$f":"INDIRECT(ADDRESS($K240,L$4,1,1,\"3 - Savings Analysis\"))","v":0},{"$f":"INDIRECT(ADDRESS($K240,M$4,1,1,\"3 - Savings Analysis\"))","v":0},{"$f":"INDIRECT(ADDRESS($K240,N$4,1,1,\"3 - Savings Analysis\"))","v":0},{"$f":"INDIRECT(ADDRESS($K240,O$4,1,1,\"3 - Savings Analysis\"))","v":0},{"$f":"INDIRECT(ADDRESS($K240,P$4,1,1,\"3 - Savings Analysis\"))","v":0},{"$f":"INDIRECT(ADDRESS($K240,Q$4,1,1,\"3 - Savings Analysis\"))","v":0},{"$f":"INDIRECT(ADDRESS($K240,R$4,1,1,\"3 - Savings Analysis\"))","v":0},{"$f":"INDIRECT(ADDRESS($K240,S$4,1,1,\"3 - Savings Analysis\"))","v":0},{"$f":"INDIRECT(ADDRESS($K240,T$4,1,1,\"3 - Savings Analysis\"))","v":0}]
["","","","","","","","","",null,250,{"$f":"INDIRECT(ADDRESS($K241,L$4,1,1,\"3 - Savings Analysis\"))","v":0},{"$f":"INDIRECT(ADDRESS($K241,M$4,1,1,\"3 - Savings Analysis\"))","v":0},{"$f":"INDIRECT(ADDRESS($K241,N$4,1,1,\"3 - Savings Analysis\"))","v":0},{"$f":"INDIRECT(ADDRESS($K241,O$4,1,1,\"3 - Savings Analysis\"))","v":0},{"$f":"INDIRECT(ADDRESS($K241,P$4,1,1,\"3 - Savings Analysis\"))","v":0},{"$f":"INDIRECT(ADDRESS($K241,Q$4,1,1,\"3 - Savings Analysis\"))","v":0},{"$f":"INDIRECT(ADDRESS($K241,R$4,1,1,\"3 - Savings Analysis\"))","v":0},{"$f":"INDIRECT(ADDRESS($K241,S$4,1,1,\"3 - Savings Analysis\"))","v":0},{"$f":"INDIRECT(ADDRESS($K241,T$4,1,1,\"3 - Savings Analysis\"))","v":0}]
["","","","","","","","","",null,251,{"$f":"INDIRECT(ADDRESS($K242,L$4,1,1,\"3 - Savings Analysis\"))","v":0},{"$f":"INDIRECT(ADDRESS($K242,M$4,1,1,\"3 - Savings Analysis\"))","v":0},{"$f":"INDIRECT(ADDRESS($K242,N$4,1,1,\"3 - Savings Analysis\"))","v":0},{"$f":"INDIRECT(ADDRESS($K242,O$4,1,1,\"3 - Savings Analysis\"))","v":0},{"$f":"INDIRECT(ADDRESS($K242,P$4,1,1,\"3 - Savings Analysis\"))","v":0},{"$f":"INDIRECT(ADDRESS($K242,Q$4,1,1,\"3 - Savings Analysis\"))","v":0},{"$f":"INDIRECT(ADDRESS($K242,R$4,1,1,\"3 - Savings Analysis\"))","v":0},{"$f":"INDIRECT(ADDRESS($K242,S$4,1,1,\"3 - Savings Analysis\"))","v":0},{"$f":"INDIRECT(ADDRESS($K242,T$4,1,1,\"3 - Savings Analysis\"))","v":0}]
["","","","","","","","","",null,252,{"$f":"INDIRECT(ADDRESS($K243,L$4,1,1,\"3 - Savings Analysis\"))","v":0},{"$f":"INDIRECT(ADDRESS($K243,M$4,1,1,\"3 - Savings Analysis\"))","v":0},{"$f":"INDIRECT(ADDRESS($K243,N$4,1,1,\"3 - Savings Analysis\"))","v":0},{"$f":"INDIRECT(ADDRESS($K243,O$4,1,1,\"3 - Savings Analysis\"))","v":0},{"$f":"INDIRECT(ADDRESS($K243,P$4,1,1,\"3 - Savings Analysis\"))","v":0},{"$f":"INDIRECT(ADDRESS($K243,Q$4,1,1,\"3 - Savings Analysis\"))","v":0},{"$f":"INDIRECT(ADDRESS($K243,R$4,1,1,\"3 - Savings Analysis\"))","v":0},{"$f":"INDIRECT(ADDRESS($K243,S$4,1,1,\"3 - Savings Analysis\"))","v":0},{"$f":"INDIRECT(ADDRESS($K243,T$4,1,1,\"3 - Savings Analysis\"))","v":0}]
["","","","","","","","","",null,253,{"$f":"INDIRECT(ADDRESS($K244,L$4,1,1,\"3 - Savings Analysis\"))","v":0},{"$f":"INDIRECT(ADDRESS($K244,M$4,1,1,\"3 - Savings Analysis\"))","v":0},{"$f":"INDIRECT(ADDRESS($K244,N$4,1,1,\"3 - Savings Analysis\"))","v":0},{"$f":"INDIRECT(ADDRESS($K244,O$4,1,1,\"3 - Savings Analysis\"))","v":0},{"$f":"INDIRECT(ADDRESS($K244,P$4,1,1,\"3 - Savings Analysis\"))","v":0},{"$f":"INDIRECT(ADDRESS($K244,Q$4,1,1,\"3 - Savings Analysis\"))","v":0},{"$f":"INDIRECT(ADDRESS($K244,R$4,1,1,\"3 - Savings Analysis\"))","v":0},{"$f":"INDIRECT(ADDRESS($K244,S$4,1,1,\"3 - Savings Analysis\"))","v":0},{"$f":"INDIRECT(ADDRESS($K244,T$4,1,1,\"3 - Savings Analysis\"))","v":0}]
["","","","","","","","","",null,254,{"$f":"INDIRECT(ADDRESS($K245,L$4,1,1,\"3 - Savings Analysis\"))","v":0},{"$f":"INDIRECT(ADDRESS($K245,M$4,1,1,\"3 - Savings Analysis\"))","v":0},{"$f":"INDIRECT(ADDRESS($K245,N$4,1,1,\"3 - Savings Analysis\"))","v":0},{"$f":"INDIRECT(ADDRESS($K245,O$4,1,1,\"3 - Savings Analysis\"))","v":0},{"$f":"INDIRECT(ADDRESS($K245,P$4,1,1,\"3 - Savings Analysis\"))","v":0},{"$f":"INDIRECT(ADDRESS($K245,Q$4,1,1,\"3 - Savings Analysis\"))","v":0},{"$f":"INDIRECT(ADDRESS($K245,R$4,1,1,\"3 - Savings Analysis\"))","v":0},{"$f":"INDIRECT(ADDRESS($K245,S$4,1,1,\"3 - Savings Analysis\"))","v":0},{"$f":"INDIRECT(ADDRESS($K245,T$4,1,1,\"3 - Savings Analysis\"))","v":0}]
["","","","","","","","","",null,255,{"$f":"INDIRECT(ADDRESS($K246,L$4,1,1,\"3 - Savings Analysis\"))","v":0},{"$f":"INDIRECT(ADDRESS($K246,M$4,1,1,\"3 - Savings Analysis\"))","v":0},{"$f":"INDIRECT(ADDRESS($K246,N$4,1,1,\"3 - Savings Analysis\"))","v":0},{"$f":"INDIRECT(ADDRESS($K246,O$4,1,1,\"3 - Savings Analysis\"))","v":0},{"$f":"INDIRECT(ADDRESS($K246,P$4,1,1,\"3 - Savings Analysis\"))","v":0},{"$f":"INDIRECT(ADDRESS($K246,Q$4,1,1,\"3 - Savings Analysis\"))","v":0},{"$f":"INDIRECT(ADDRESS($K246,R$4,1,1,\"3 - Savings Analysis\"))","v":0},{"$f":"INDIRECT(ADDRESS($K246,S$4,1,1,\"3 - Savings Analysis\"))","v":0},{"$f":"INDIRECT(ADDRESS($K246,T$4,1,1,\"3 - Savings Analysis\"))","v":0}]
["","","","","","","","","",null,256,{"$f":"INDIRECT(ADDRESS($K247,L$4,1,1,\"3 - Savings Analysis\"))","v":0},{"$f":"INDIRECT(ADDRESS($K247,M$4,1,1,\"3 - Savings Analysis\"))","v":0},{"$f":"INDIRECT(ADDRESS($K247,N$4,1,1,\"3 - Savings Analysis\"))","v":0},{"$f":"INDIRECT(ADDRESS($K247,O$4,1,1,\"3 - Savings Analysis\"))","v":0},{"$f":"INDIRECT(ADDRESS($K247,P$4,1,1,\"3 - Savings Analysis\"))","v":0},{"$f":"INDIRECT(ADDRESS($K247,Q$4,1,1,\"3 - Savings Analysis\"))","v":0},{"$f":"INDIRECT(ADDRESS($K247,R$4,1,1,\"3 - Savings Analysis\"))","v":0},{"$f":"INDIRECT(ADDRESS($K247,S$4,1,1,\"3 - Savings Analysis\"))","v":0},{"$f":"INDIRECT(ADDRESS($K247,T$4,1,1,\"3 - Savings Analysis\"))","v":0}]
["","","","","","","","","",null,257,{"$f":"INDIRECT(ADDRESS($K248,L$4,1,1,\"3 - Savings Analysis\"))","v":0},{"$f":"INDIRECT(ADDRESS($K248,M$4,1,1,\"3 - Savings Analysis\"))","v":0},{"$f":"INDIRECT(ADDRESS($K248,N$4,1,1,\"3 - Savings Analysis\"))","v":0},{"$f":"INDIRECT(ADDRESS($K248,O$4,1,1,\"3 - Savings Analysis\"))","v":0},{"$f":"INDIRECT(ADDRESS($K248,P$4,1,1,\"3 - Savings Analysis\"))","v":0},{"$f":"INDIRECT(ADDRESS($K248,Q$4,1,1,\"3 - Savings Analysis\"))","v":0},{"$f":"INDIRECT(ADDRESS($K248,R$4,1,1,\"3 - Savings Analysis\"))","v":0},{"$f":"INDIRECT(ADDRESS($K248,S$4,1,1,\"3 - Savings Analysis\"))","v":0},{"$f":"INDIRECT(ADDRESS($K248,T$4,1,1,\"3 - Savings Analysis\"))","v":0}]
["","","","","","","","","",null,258,{"$f":"INDIRECT(ADDRESS($K249,L$4,1,1,\"3 - Savings Analysis\"))","v":0},{"$f":"INDIRECT(ADDRESS($K249,M$4,1,1,\"3 - Savings Analysis\"))","v":0},{"$f":"INDIRECT(ADDRESS($K249,N$4,1,1,\"3 - Savings Analysis\"))","v":0},{"$f":"INDIRECT(ADDRESS($K249,O$4,1,1,\"3 - Savings Analysis\"))","v":0},{"$f":"INDIRECT(ADDRESS($K249,P$4,1,1,\"3 - Savings Analysis\"))","v":0},{"$f":"INDIRECT(ADDRESS($K249,Q$4,1,1,\"3 - Savings Analysis\"))","v":0},{"$f":"INDIRECT(ADDRESS($K249,R$4,1,1,\"3 - Savings Analysis\"))","v":0},{"$f":"INDIRECT(ADDRESS($K249,S$4,1,1,\"3 - Savings Analysis\"))","v":0},{"$f":"INDIRECT(ADDRESS($K249,T$4,1,1,\"3 - Savings Analysis\"))","v":0}]
["","","","","","","","","",null,259,{"$f":"INDIRECT(ADDRESS($K250,L$4,1,1,\"3 - Savings Analysis\"))","v":0},{"$f":"INDIRECT(ADDRESS($K250,M$4,1,1,\"3 - Savings Analysis\"))","v":0},{"$f":"INDIRECT(ADDRESS($K250,N$4,1,1,\"3 - Savings Analysis\"))","v":0},{"$f":"INDIRECT(ADDRESS($K250,O$4,1,1,\"3 - Savings Analysis\"))","v":0},{"$f":"INDIRECT(ADDRESS($K250,P$4,1,1,\"3 - Savings Analysis\"))","v":0},{"$f":"INDIRECT(ADDRESS($K250,Q$4,1,1,\"3 - Savings Analysis\"))","v":0},{"$f":"INDIRECT(ADDRESS($K250,R$4,1,1,\"3 - Savings Analysis\"))","v":0},{"$f":"INDIRECT(ADDRESS($K250,S$4,1,1,\"3 - Savings Analysis\"))","v":0},{"$f":"INDIRECT(ADDRESS($K250,T$4,1,1,\"3 - Savings Analysis\"))","v":0}]
["","","","","","","","","",null,260,{"$f":"INDIRECT(ADDRESS($K251,L$4,1,1,\"3 - Savings Analysis\"))","v":0},{"$f":"INDIRECT(ADDRESS($K251,M$4,1,1,\"3 - Savings Analysis\"))","v":0},{"$f":"INDIRECT(ADDRESS($K251,N$4,1,1,\"3 - Savings Analysis\"))","v":0},{"$f":"INDIRECT(ADDRESS($K251,O$4,1,1,\"3 - Savings Analysis\"))","v":0},{"$f":"INDIRECT(ADDRESS($K251,P$4,1,1,\"3 - Savings Analysis\"))","v":0},{"$f":"INDIRECT(ADDRESS($K251,Q$4,1,1,\"3 - Savings Analysis\"))","v":0},{"$f":"INDIRECT(ADDRESS($K251,R$4,1,1,\"3 - Savings Analysis\"))","v":0},{"$f":"INDIRECT(ADDRESS($K251,S$4,1,1,\"3 - Savings Analysis\"))","v":0},{"$f":"INDIRECT(ADDRESS($K251,T$4,1,1,\"3 - Savings Analysis\"))","v":0}]
["","","","","","","","","",null,261,{"$f":"INDIRECT(ADDRESS($K252,L$4,1,1,\"3 - Savings Analysis\"))","v":0},{"$f":"INDIRECT(ADDRESS($K252,M$4,1,1,\"3 - Savings Analysis\"))","v":0},{"$f":"INDIRECT(ADDRESS($K252,N$4,1,1,\"3 - Savings Analysis\"))","v":0},{"$f":"INDIRECT(ADDRESS($K252,O$4,1,1,\"3 - Savings Analysis\"))","v":0},{"$f":"INDIRECT(ADDRESS($K252,P$4,1,1,\"3 - Savings Analysis\"))","v":0},{"$f":"INDIRECT(ADDRESS($K252,Q$4,1,1,\"3 - Savings Analysis\"))","v":0},{"$f":"INDIRECT(ADDRESS($K252,R$4,1,1,\"3 - Savings Analysis\"))","v":0},{"$f":"INDIRECT(ADDRESS($K252,S$4,1,1,\"3 - Savings Analysis\"))","v":0},{"$f":"INDIRECT(ADDRESS($K252,T$4,1,1,\"3 - Savings Analysis\"))","v":0}]
["","","","","","","","","",null,262,{"$f":"INDIRECT(ADDRESS($K253,L$4,1,1,\"3 - Savings Analysis\"))","v":0},{"$f":"INDIRECT(ADDRESS($K253,M$4,1,1,\"3 - Savings Analysis\"))","v":0},{"$f":"INDIRECT(ADDRESS($K253,N$4,1,1,\"3 - Savings Analysis\"))","v":0},{"$f":"INDIRECT(ADDRESS($K253,O$4,1,1,\"3 - Savings Analysis\"))","v":0},{"$f":"INDIRECT(ADDRESS($K253,P$4,1,1,\"3 - Savings Analysis\"))","v":0},{"$f":"INDIRECT(ADDRESS($K253,Q$4,1,1,\"3 - Savings Analysis\"))","v":0},{"$f":"INDIRECT(ADDRESS($K253,R$4,1,1,\"3 - Savings Analysis\"))","v":0},{"$f":"INDIRECT(ADDRESS($K253,S$4,1,1,\"3 - Savings Analysis\"))","v":0},{"$f":"INDIRECT(ADDRESS($K253,T$4,1,1,\"3 - Savings Analysis\"))","v":0}]
["","","","","","","","","",null,263,{"$f":"INDIRECT(ADDRESS($K254,L$4,1,1,\"3 - Savings Analysis\"))","v":0},{"$f":"INDIRECT(ADDRESS($K254,M$4,1,1,\"3 - Savings Analysis\"))","v":0},{"$f":"INDIRECT(ADDRESS($K254,N$4,1,1,\"3 - Savings Analysis\"))","v":0},{"$f":"INDIRECT(ADDRESS($K254,O$4,1,1,\"3 - Savings Analysis\"))","v":0},{"$f":"INDIRECT(ADDRESS($K254,P$4,1,1,\"3 - Savings Analysis\"))","v":0},{"$f":"INDIRECT(ADDRESS($K254,Q$4,1,1,\"3 - Savings Analysis\"))","v":0},{"$f":"INDIRECT(ADDRESS($K254,R$4,1,1,\"3 - Savings Analysis\"))","v":0},{"$f":"INDIRECT(ADDRESS($K254,S$4,1,1,\"3 - Savings Analysis\"))","v":0},{"$f":"INDIRECT(ADDRESS($K254,T$4,1,1,\"3 - Savings Analysis\"))","v":0}]
["","","","","","","","","",null,264,{"$f":"INDIRECT(ADDRESS($K255,L$4,1,1,\"3 - Savings Analysis\"))","v":0},{"$f":"INDIRECT(ADDRESS($K255,M$4,1,1,\"3 - Savings Analysis\"))","v":0},{"$f":"INDIRECT(ADDRESS($K255,N$4,1,1,\"3 - Savings Analysis\"))","v":0},{"$f":"INDIRECT(ADDRESS($K255,O$4,1,1,\"3 - Savings Analysis\"))","v":0},{"$f":"INDIRECT(ADDRESS($K255,P$4,1,1,\"3 - Savings Analysis\"))","v":0},{"$f":"INDIRECT(ADDRESS($K255,Q$4,1,1,\"3 - Savings Analysis\"))","v":0},{"$f":"INDIRECT(ADDRESS($K255,R$4,1,1,\"3 - Savings Analysis\"))","v":0},{"$f":"INDIRECT(ADDRESS($K255,S$4,1,1,\"3 - Savings Analysis\"))","v":0},{"$f":"INDIRECT(ADDRESS($K255,T$4,1,1,\"3 - Savings Analysis\"))","v":0}]
["","","","","","","","","",null,265,{"$f":"INDIRECT(ADDRESS($K256,L$4,1,1,\"3 - Savings Analysis\"))","v":0},{"$f":"INDIRECT(ADDRESS($K256,M$4,1,1,\"3 - Savings Analysis\"))","v":0},{"$f":"INDIRECT(ADDRESS($K256,N$4,1,1,\"3 - Savings Analysis\"))","v":0},{"$f":"INDIRECT(ADDRESS($K256,O$4,1,1,\"3 - Savings Analysis\"))","v":0},{"$f":"INDIRECT(ADDRESS($K256,P$4,1,1,\"3 - Savings Analysis\"))","v":0},{"$f":"INDIRECT(ADDRESS($K256,Q$4,1,1,\"3 - Savings Analysis\"))","v":0},{"$f":"INDIRECT(ADDRESS($K256,R$4,1,1,\"3 - Savings Analysis\"))","v":0},{"$f":"INDIRECT(ADDRESS($K256,S$4,1,1,\"3 - Savings Analysis\"))","v":0},{"$f":"INDIRECT(ADDRESS($K256,T$4,1,1,\"3 - Savings Analysis\"))","v":0}]
["","","","","","","","","",null,266,{"$f":"INDIRECT(ADDRESS($K257,L$4,1,1,\"3 - Savings Analysis\"))","v":0},{"$f":"INDIRECT(ADDRESS($K257,M$4,1,1,\"3 - Savings Analysis\"))","v":0},{"$f":"INDIRECT(ADDRESS($K257,N$4,1,1,\"3 - Savings Analysis\"))","v":0},{"$f":"INDIRECT(ADDRESS($K257,O$4,1,1,\"3 - Savings Analysis\"))","v":0},{"$f":"INDIRECT(ADDRESS($K257,P$4,1,1,\"3 - Savings Analysis\"))","v":0},{"$f":"INDIRECT(ADDRESS($K257,Q$4,1,1,\"3 - Savings Analysis\"))","v":0},{"$f":"INDIRECT(ADDRESS($K257,R$4,1,1,\"3 - Savings Analysis\"))","v":0},{"$f":"INDIRECT(ADDRESS($K257,S$4,1,1,\"3 - Savings Analysis\"))","v":0},{"$f":"INDIRECT(ADDRESS($K257,T$4,1,1,\"3 - Savings Analysis\"))","v":0}]
["","","","","","","","","",null,267,{"$f":"INDIRECT(ADDRESS($K258,L$4,1,1,\"3 - Savings Analysis\"))","v":0},{"$f":"INDIRECT(ADDRESS($K258,M$4,1,1,\"3 - Savings Analysis\"))","v":0},{"$f":"INDIRECT(ADDRESS($K258,N$4,1,1,\"3 - Savings Analysis\"))","v":0},{"$f":"INDIRECT(ADDRESS($K258,O$4,1,1,\"3 - Savings Analysis\"))","v":0},{"$f":"INDIRECT(ADDRESS($K258,P$4,1,1,\"3 - Savings Analysis\"))","v":0},{"$f":"INDIRECT(ADDRESS($K258,Q$4,1,1,\"3 - Savings Analysis\"))","v":0},{"$f":"INDIRECT(ADDRESS($K258,R$4,1,1,\"3 - Savings Analysis\"))","v":0},{"$f":"INDIRECT(ADDRESS($K258,S$4,1,1,\"3 - Savings Analysis\"))","v":0},{"$f":"INDIRECT(ADDRESS($K258,T$4,1,1,\"3 - Savings Analysis\"))","v":0}]
["","","","","","","","","",null,268,{"$f":"INDIRECT(ADDRESS($K259,L$4,1,1,\"3 - Savings Analysis\"))","v":0},{"$f":"INDIRECT(ADDRESS($K259,M$4,1,1,\"3 - Savings Analysis\"))","v":0},{"$f":"INDIRECT(ADDRESS($K259,N$4,1,1,\"3 - Savings Analysis\"))","v":0},{"$f":"INDIRECT(ADDRESS($K259,O$4,1,1,\"3 - Savings Analysis\"))","v":0},{"$f":"INDIRECT(ADDRESS($K259,P$4,1,1,\"3 - Savings Analysis\"))","v":0},{"$f":"INDIRECT(ADDRESS($K259,Q$4,1,1,\"3 - Savings Analysis\"))","v":0},{"$f":"INDIRECT(ADDRESS($K259,R$4,1,1,\"3 - Savings Analysis\"))","v":0},{"$f":"INDIRECT(ADDRESS($K259,S$4,1,1,\"3 - Savings Analysis\"))","v":0},{"$f":"INDIRECT(ADDRESS($K259,T$4,1,1,\"3 - Savings Analysis\"))","v":0}]
["","","","","","","","","",null,269,{"$f":"INDIRECT(ADDRESS($K260,L$4,1,1,\"3 - Savings Analysis\"))","v":0},{"$f":"INDIRECT(ADDRESS($K260,M$4,1,1,\"3 - Savings Analysis\"))","v":0},{"$f":"INDIRECT(ADDRESS($K260,N$4,1,1,\"3 - Savings Analysis\"))","v":0},{"$f":"INDIRECT(ADDRESS($K260,O$4,1,1,\"3 - Savings Analysis\"))","v":0},{"$f":"INDIRECT(ADDRESS($K260,P$4,1,1,\"3 - Savings Analysis\"))","v":0},{"$f":"INDIRECT(ADDRESS($K260,Q$4,1,1,\"3 - Savings Analysis\"))","v":0},{"$f":"INDIRECT(ADDRESS($K260,R$4,1,1,\"3 - Savings Analysis\"))","v":0},{"$f":"INDIRECT(ADDRESS($K260,S$4,1,1,\"3 - Savings Analysis\"))","v":0},{"$f":"INDIRECT(ADDRESS($K260,T$4,1,1,\"3 - Savings Analysis\"))","v":0}]
["","","","","","","","","",null,270,{"$f":"INDIRECT(ADDRESS($K261,L$4,1,1,\"3 - Savings Analysis\"))","v":0},{"$f":"INDIRECT(ADDRESS($K261,M$4,1,1,\"3 - Savings Analysis\"))","v":0},{"$f":"INDIRECT(ADDRESS($K261,N$4,1,1,\"3 - Savings Analysis\"))","v":0},{"$f":"INDIRECT(ADDRESS($K261,O$4,1,1,\"3 - Savings Analysis\"))","v":0},{"$f":"INDIRECT(ADDRESS($K261,P$4,1,1,\"3 - Savings Analysis\"))","v":0},{"$f":"INDIRECT(ADDRESS($K261,Q$4,1,1,\"3 - Savings Analysis\"))","v":0},{"$f":"INDIRECT(ADDRESS($K261,R$4,1,1,\"3 - Savings Analysis\"))","v":0},{"$f":"INDIRECT(ADDRESS($K261,S$4,1,1,\"3 - Savings Analysis\"))","v":0},{"$f":"INDIRECT(ADDRESS($K261,T$4,1,1,\"3 - Savings Analysis\"))","v":0}]
["","","","","","","","","",null,271,{"$f":"INDIRECT(ADDRESS($K262,L$4,1,1,\"3 - Savings Analysis\"))","v":0},{"$f":"INDIRECT(ADDRESS($K262,M$4,1,1,\"3 - Savings Analysis\"))","v":0},{"$f":"INDIRECT(ADDRESS($K262,N$4,1,1,\"3 - Savings Analysis\"))","v":0},{"$f":"INDIRECT(ADDRESS($K262,O$4,1,1,\"3 - Savings Analysis\"))","v":0},{"$f":"INDIRECT(ADDRESS($K262,P$4,1,1,\"3 - Savings Analysis\"))","v":0},{"$f":"INDIRECT(ADDRESS($K262,Q$4,1,1,\"3 - Savings Analysis\"))","v":0},{"$f":"INDIRECT(ADDRESS($K262,R$4,1,1,\"3 - Savings Analysis\"))","v":0},{"$f":"INDIRECT(ADDRESS($K262,S$4,1,1,\"3 - Savings Analysis\"))","v":0},{"$f":"INDIRECT(ADDRESS($K262,T$4,1,1,\"3 - Savings Analysis\"))","v":0}]
["","","","","","","","","",null,272,{"$f":"INDIRECT(ADDRESS($K263,L$4,1,1,\"3 - Savings Analysis\"))","v":0},{"$f":"INDIRECT(ADDRESS($K263,M$4,1,1,\"3 - Savings Analysis\"))","v":0},{"$f":"INDIRECT(ADDRESS($K263,N$4,1,1,\"3 - Savings Analysis\"))","v":0},{"$f":"INDIRECT(ADDRESS($K263,O$4,1,1,\"3 - Savings Analysis\"))","v":0},{"$f":"INDIRECT(ADDRESS($K263,P$4,1,1,\"3 - Savings Analysis\"))","v":0},{"$f":"INDIRECT(ADDRESS($K263,Q$4,1,1,\"3 - Savings Analysis\"))","v":0},{"$f":"INDIRECT(ADDRESS($K263,R$4,1,1,\"3 - Savings Analysis\"))","v":0},{"$f":"INDIRECT(ADDRESS($K263,S$4,1,1,\"3 - Savings Analysis\"))","v":0},{"$f":"INDIRECT(ADDRESS($K263,T$4,1,1,\"3 - Savings Analysis\"))","v":0}]
["","","","","","","","","",null,273,{"$f":"INDIRECT(ADDRESS($K264,L$4,1,1,\"3 - Savings Analysis\"))","v":0},{"$f":"INDIRECT(ADDRESS($K264,M$4,1,1,\"3 - Savings Analysis\"))","v":0},{"$f":"INDIRECT(ADDRESS($K264,N$4,1,1,\"3 - Savings Analysis\"))","v":0},{"$f":"INDIRECT(ADDRESS($K264,O$4,1,1,\"3 - Savings Analysis\"))","v":0},{"$f":"INDIRECT(ADDRESS($K264,P$4,1,1,\"3 - Savings Analysis\"))","v":0},{"$f":"INDIRECT(ADDRESS($K264,Q$4,1,1,\"3 - Savings Analysis\"))","v":0},{"$f":"INDIRECT(ADDRESS($K264,R$4,1,1,\"3 - Savings Analysis\"))","v":0},{"$f":"INDIRECT(ADDRESS($K264,S$4,1,1,\"3 - Savings Analysis\"))","v":0},{"$f":"INDIRECT(ADDRESS($K264,T$4,1,1,\"3 - Savings Analysis\"))","v":0}]
["","","","","","","","","",null,{"$f":"K264+1","v":274},{"$f":"INDIRECT(ADDRESS($K265,L$4,1,1,\"3 - Savings Analysis\"))","v":0},{"$f":"INDIRECT(ADDRESS($K265,M$4,1,1,\"3 - Savings Analysis\"))","v":0},{"$f":"INDIRECT(ADDRESS($K265,N$4,1,1,\"3 - Savings Analysis\"))","v":0},{"$f":"INDIRECT(ADDRESS($K265,O$4,1,1,\"3 - Savings Analysis\"))","v":0},{"$f":"INDIRECT(ADDRESS($K265,P$4,1,1,\"3 - Savings Analysis\"))","v":0},{"$f":"INDIRECT(ADDRESS($K265,Q$4,1,1,\"3 - Savings Analysis\"))","v":0},{"$f":"INDIRECT(ADDRESS($K265,R$4,1,1,\"3 - Savings Analysis\"))","v":0},{"$f":"INDIRECT(ADDRESS($K265,S$4,1,1,\"3 - Savings Analysis\"))","v":0},{"$f":"INDIRECT(ADDRESS($K265,T$4,1,1,\"3 - Savings Analysis\"))","v":0}]
["","","","","","","","","",null,275,{"$f":"INDIRECT(ADDRESS($K266,L$4,1,1,\"3 - Savings Analysis\"))","v":0},{"$f":"INDIRECT(ADDRESS($K266,M$4,1,1,\"3 - Savings Analysis\"))","v":0},{"$f":"INDIRECT(ADDRESS($K266,N$4,1,1,\"3 - Savings Analysis\"))","v":0},{"$f":"INDIRECT(ADDRESS($K266,O$4,1,1,\"3 - Savings Analysis\"))","v":0},{"$f":"INDIRECT(ADDRESS($K266,P$4,1,1,\"3 - Savings Analysis\"))","v":0},{"$f":"INDIRECT(ADDRESS($K266,Q$4,1,1,\"3 - Savings Analysis\"))","v":0},{"$f":"INDIRECT(ADDRESS($K266,R$4,1,1,\"3 - Savings Analysis\"))","v":0},{"$f":"INDIRECT(ADDRESS($K266,S$4,1,1,\"3 - Savings Analysis\"))","v":0},{"$f":"INDIRECT(ADDRESS($K266,T$4,1,1,\"3 - Savings Analysis\"))","v":0}]
["","","","","","","","","",null,276,{"$f":"INDIRECT(ADDRESS($K267,L$4,1,1,\"3 - Savings Analysis\"))","v":0},{"$f":"INDIRECT(ADDRESS($K267,M$4,1,1,\"3 - Savings Analysis\"))","v":0},{"$f":"INDIRECT(ADDRESS($K267,N$4,1,1,\"3 - Savings Analysis\"))","v":0},{"$f":"INDIRECT(ADDRESS($K267,O$4,1,1,\"3 - Savings Analysis\"))","v":0},{"$f":"INDIRECT(ADDRESS($K267,P$4,1,1,\"3 - Savings Analysis\"))","v":0},{"$f":"INDIRECT(ADDRESS($K267,Q$4,1,1,\"3 - Savings Analysis\"))","v":0},{"$f":"INDIRECT(ADDRESS($K267,R$4,1,1,\"3 - Savings Analysis\"))","v":0},{"$f":"INDIRECT(ADDRESS($K267,S$4,1,1,\"3 - Savings Analysis\"))","v":0},{"$f":"INDIRECT(ADDRESS($K267,T$4,1,1,\"3 - Savings Analysis\"))","v":0}]
["","","","","","","","","",null,277,{"$f":"INDIRECT(ADDRESS($K268,L$4,1,1,\"3 - Savings Analysis\"))","v":0},{"$f":"INDIRECT(ADDRESS($K268,M$4,1,1,\"3 - Savings Analysis\"))","v":0},{"$f":"INDIRECT(ADDRESS($K268,N$4,1,1,\"3 - Savings Analysis\"))","v":0},{"$f":"INDIRECT(ADDRESS($K268,O$4,1,1,\"3 - Savings Analysis\"))","v":0},{"$f":"INDIRECT(ADDRESS($K268,P$4,1,1,\"3 - Savings Analysis\"))","v":0},{"$f":"INDIRECT(ADDRESS($K268,Q$4,1,1,\"3 - Savings Analysis\"))","v":0},{"$f":"INDIRECT(ADDRESS($K268,R$4,1,1,\"3 - Savings Analysis\"))","v":0},{"$f":"INDIRECT(ADDRESS($K268,S$4,1,1,\"3 - Savings Analysis\"))","v":0},{"$f":"INDIRECT(ADDRESS($K268,T$4,1,1,\"3 - Savings Analysis\"))","v":0}]
[{"$f":"IF($K269<=$M$2,L269,\"\")","v":""},{"$f":"IF($K269<=$M$2,IF($A269=\"Total\",\"\",M269),\"\")","v":""},{"$f":"IF($K269<=$M$2,IF($A269=\"Total\",\"\",N269),\"\")","v":""},{"$f":"IF($K269<=$M$2,O269,\"\")","v":""},{"$f":"IF($K269<=$M$2,P269,\"\")","v":""},{"$f":"IF($K269<=$M$2,IF($A269=\"Total\",\"\",Q269),\"\")","v":""},{"$f":"IF($K269<=$M$2,IF($A269=\"Total\",\"\",R269),\"\")","v":""},{"$f":"IF($K269<=$M$2,IF($A269=\"Total\",\"\",IF($T269=0,\"\",S269)),\"\")","v":""},{"$f":"IF($K269<=$M$2,IF($A269=\"Total\",\"\",IF($T269=0,\"\",T269)),\"\")","v":""},null,278,{"$f":"INDIRECT(ADDRESS($K269,L$4,1,1,\"3 - Savings Analysis\"))","v":0},{"$f":"INDIRECT(ADDRESS($K269,M$4,1,1,\"3 - Savings Analysis\"))","v":0},{"$f":"INDIRECT(ADDRESS($K269,N$4,1,1,\"3 - Savings Analysis\"))","v":0},{"$f":"INDIRECT(ADDRESS($K269,O$4,1,1,\"3 - Savings Analysis\"))","v":0},{"$f":"INDIRECT(ADDRESS($K269,P$4,1,1,\"3 - Savings Analysis\"))","v":0},{"$f":"INDIRECT(ADDRESS($K269,Q$4,1,1,\"3 - Savings Analysis\"))","v":0},{"$f":"INDIRECT(ADDRESS($K269,R$4,1,1,\"3 - Savings Analysis\"))","v":0},{"$f":"INDIRECT(ADDRESS($K269,S$4,1,1,\"3 - Savings Analysis\"))","v":0},{"$f":"INDIRECT(ADDRESS($K269,T$4,1,1,\"3 - Savings Analysis\"))","v":0}]
["","","","","","","","","",null,279,{"$f":"INDIRECT(ADDRESS($K270,L$4,1,1,\"3 - Savings Analysis\"))","v":0},{"$f":"INDIRECT(ADDRESS($K270,M$4,1,1,\"3 - Savings Analysis\"))","v":0},{"$f":"INDIRECT(ADDRESS($K270,N$4,1,1,\"3 - Savings Analysis\"))","v":0},{"$f":"INDIRECT(ADDRESS($K270,O$4,1,1,\"3 - Savings Analysis\"))","v":0},{"$f":"INDIRECT(ADDRESS($K270,P$4,1,1,\"3 - Savings Analysis\"))","v":0},{"$f":"INDIRECT(ADDRESS($K270,Q$4,1,1,\"3 - Savings Analysis\"))","v":0},{"$f":"INDIRECT(ADDRESS($K270,R$4,1,1,\"3 - Savings Analysis\"))","v":0},{"$f":"INDIRECT(ADDRESS($K270,S$4,1,1,\"3 - Savings Analysis\"))","v":0},{"$f":"INDIRECT(ADDRESS($K270,T$4,1,1,\"3 - Savings Analysis\"))","v":0}]
["","","","","","","","","",null,280,{"$f":"INDIRECT(ADDRESS($K271,L$4,1,1,\"3 - Savings Analysis\"))","v":0},{"$f":"INDIRECT(ADDRESS($K271,M$4,1,1,\"3 - Savings Analysis\"))","v":0},{"$f":"INDIRECT(ADDRESS($K271,N$4,1,1,\"3 - Savings Analysis\"))","v":0},{"$f":"INDIRECT(ADDRESS($K271,O$4,1,1,\"3 - Savings Analysis\"))","v":0},{"$f":"INDIRECT(ADDRESS($K271,P$4,1,1,\"3 - Savings Analysis\"))","v":0},{"$f":"INDIRECT(ADDRESS($K271,Q$4,1,1,\"3 - Savings Analysis\"))","v":0},{"$f":"INDIRECT(ADDRESS($K271,R$4,1,1,\"3 - Savings Analysis\"))","v":0},{"$f":"INDIRECT(ADDRESS($K271,S$4,1,1,\"3 - Savings Analysis\"))","v":0},{"$f":"INDIRECT(ADDRESS($K271,T$4,1,1,\"3 - Savings Analysis\"))","v":0}]
["","","","","","","","","",null,281,{"$f":"INDIRECT(ADDRESS($K272,L$4,1,1,\"3 - Savings Analysis\"))","v":0},{"$f":"INDIRECT(ADDRESS($K272,M$4,1,1,\"3 - Savings Analysis\"))","v":0},{"$f":"INDIRECT(ADDRESS($K272,N$4,1,1,\"3 - Savings Analysis\"))","v":0},{"$f":"INDIRECT(ADDRESS($K272,O$4,1,1,\"3 - Savings Analysis\"))","v":0},{"$f":"INDIRECT(ADDRESS($K272,P$4,1,1,\"3 - Savings Analysis\"))","v":0},{"$f":"INDIRECT(ADDRESS($K272,Q$4,1,1,\"3 - Savings Analysis\"))","v":0},{"$f":"INDIRECT(ADDRESS($K272,R$4,1,1,\"3 - Savings Analysis\"))","v":0},{"$f":"INDIRECT(ADDRESS($K272,S$4,1,1,\"3 - Savings Analysis\"))","v":0},{"$f":"INDIRECT(ADDRESS($K272,T$4,1,1,\"3 - Savings Analysis\"))","v":0}]
["","","","","","","","","",null,282,{"$f":"INDIRECT(ADDRESS($K273,L$4,1,1,\"3 - Savings Analysis\"))","v":0},{"$f":"INDIRECT(ADDRESS($K273,M$4,1,1,\"3 - Savings Analysis\"))","v":0},{"$f":"INDIRECT(ADDRESS($K273,N$4,1,1,\"3 - Savings Analysis\"))","v":0},{"$f":"INDIRECT(ADDRESS($K273,O$4,1,1,\"3 - Savings Analysis\"))","v":0},{"$f":"INDIRECT(ADDRESS($K273,P$4,1,1,\"3 - Savings Analysis\"))","v":0},{"$f":"INDIRECT(ADDRESS($K273,Q$4,1,1,\"3 - Savings Analysis\"))","v":0},{"$f":"INDIRECT(ADDRESS($K273,R$4,1,1,\"3 - Savings Analysis\"))","v":0},{"$f":"INDIRECT(ADDRESS($K273,S$4,1,1,\"3 - Savings Analysis\"))","v":0},{"$f":"INDIRECT(ADDRESS($K273,T$4,1,1,\"3 - Savings Analysis\"))","v":0}]
["","","","","","","","","",null,283,{"$f":"INDIRECT(ADDRESS($K274,L$4,1,1,\"3 - Savings Analysis\"))","v":0},{"$f":"INDIRECT(ADDRESS($K274,M$4,1,1,\"3 - Savings Analysis\"))","v":0},{"$f":"INDIRECT(ADDRESS($K274,N$4,1,1,\"3 - Savings Analysis\"))","v":0},{"$f":"INDIRECT(ADDRESS($K274,O$4,1,1,\"3 - Savings Analysis\"))","v":0},{"$f":"INDIRECT(ADDRESS($K274,P$4,1,1,\"3 - Savings Analysis\"))","v":0},{"$f":"INDIRECT(ADDRESS($K274,Q$4,1,1,\"3 - Savings Analysis\"))","v":0},{"$f":"INDIRECT(ADDRESS($K274,R$4,1,1,\"3 - Savings Analysis\"))","v":0},{"$f":"INDIRECT(ADDRESS($K274,S$4,1,1,\"3 - Savings Analysis\"))","v":0},{"$f":"INDIRECT(ADDRESS($K274,T$4,1,1,\"3 - Savings Analysis\"))","v":0}]
["","","","","","","","","",null,284,{"$f":"INDIRECT(ADDRESS($K275,L$4,1,1,\"3 - Savings Analysis\"))","v":0},{"$f":"INDIRECT(ADDRESS($K275,M$4,1,1,\"3 - Savings Analysis\"))","v":0},{"$f":"INDIRECT(ADDRESS($K275,N$4,1,1,\"3 - Savings Analysis\"))","v":0},{"$f":"INDIRECT(ADDRESS($K275,O$4,1,1,\"3 - Savings Analysis\"))","v":0},{"$f":"INDIRECT(ADDRESS($K275,P$4,1,1,\"3 - Savings Analysis\"))","v":0},{"$f":"INDIRECT(ADDRESS($K275,Q$4,1,1,\"3 - Savings Analysis\"))","v":0},{"$f":"INDIRECT(ADDRESS($K275,R$4,1,1,\"3 - Savings Analysis\"))","v":0},{"$f":"INDIRECT(ADDRESS($K275,S$4,1,1,\"3 - Savings Analysis\"))","v":0},{"$f":"INDIRECT(ADDRESS($K275,T$4,1,1,\"3 - Savings Analysis\"))","v":0}]
["","","","","","","","","",null,285,{"$f":"INDIRECT(ADDRESS($K276,L$4,1,1,\"3 - Savings Analysis\"))","v":0},{"$f":"INDIRECT(ADDRESS($K276,M$4,1,1,\"3 - Savings Analysis\"))","v":0},{"$f":"INDIRECT(ADDRESS($K276,N$4,1,1,\"3 - Savings Analysis\"))","v":0},{"$f":"INDIRECT(ADDRESS($K276,O$4,1,1,\"3 - Savings Analysis\"))","v":0},{"$f":"INDIRECT(ADDRESS($K276,P$4,1,1,\"3 - Savings Analysis\"))","v":0},{"$f":"INDIRECT(ADDRESS($K276,Q$4,1,1,\"3 - Savings Analysis\"))","v":0},{"$f":"INDIRECT(ADDRESS($K276,R$4,1,1,\"3 - Savings Analysis\"))","v":0},{"$f":"INDIRECT(ADDRESS($K276,S$4,1,1,\"3 - Savings Analysis\"))","v":0},{"$f":"INDIRECT(ADDRESS($K276,T$4,1,1,\"3 - Savings Analysis\"))","v":0}]
["","","","","","","","","",null,286,{"$f":"INDIRECT(ADDRESS($K277,L$4,1,1,\"3 - Savings Analysis\"))","v":0},{"$f":"INDIRECT(ADDRESS($K277,M$4,1,1,\"3 - Savings Analysis\"))","v":0},{"$f":"INDIRECT(ADDRESS($K277,N$4,1,1,\"3 - Savings Analysis\"))","v":0},{"$f":"INDIRECT(ADDRESS($K277,O$4,1,1,\"3 - Savings Analysis\"))","v":0},{"$f":"INDIRECT(ADDRESS($K277,P$4,1,1,\"3 - Savings Analysis\"))","v":0},{"$f":"INDIRECT(ADDRESS($K277,Q$4,1,1,\"3 - Savings Analysis\"))","v":0},{"$f":"INDIRECT(ADDRESS($K277,R$4,1,1,\"3 - Savings Analysis\"))","v":0},{"$f":"INDIRECT(ADDRESS($K277,S$4,1,1,\"3 - Savings Analysis\"))","v":0},{"$f":"INDIRECT(ADDRESS($K277,T$4,1,1,\"3 - Savings Analysis\"))","v":0}]
["","","","","","","","","",null,287,{"$f":"INDIRECT(ADDRESS($K278,L$4,1,1,\"3 - Savings Analysis\"))","v":0},{"$f":"INDIRECT(ADDRESS($K278,M$4,1,1,\"3 - Savings Analysis\"))","v":0},{"$f":"INDIRECT(ADDRESS($K278,N$4,1,1,\"3 - Savings Analysis\"))","v":0},{"$f":"INDIRECT(ADDRESS($K278,O$4,1,1,\"3 - Savings Analysis\"))","v":0},{"$f":"INDIRECT(ADDRESS($K278,P$4,1,1,\"3 - Savings Analysis\"))","v":0},{"$f":"INDIRECT(ADDRESS($K278,Q$4,1,1,\"3 - Savings Analysis\"))","v":0},{"$f":"INDIRECT(ADDRESS($K278,R$4,1,1,\"3 - Savings Analysis\"))","v":0},{"$f":"INDIRECT(ADDRESS($K278,S$4,1,1,\"3 - Savings Analysis\"))","v":0},{"$f":"INDIRECT(ADDRESS($K278,T$4,1,1,\"3 - Savings Analysis\"))","v":0}]
["","","","","","","","","",null,288,{"$f":"INDIRECT(ADDRESS($K279,L$4,1,1,\"3 - Savings Analysis\"))","v":0},{"$f":"INDIRECT(ADDRESS($K279,M$4,1,1,\"3 - Savings Analysis\"))","v":0},{"$f":"INDIRECT(ADDRESS($K279,N$4,1,1,\"3 - Savings Analysis\"))","v":0},{"$f":"INDIRECT(ADDRESS($K279,O$4,1,1,\"3 - Savings Analysis\"))","v":0},{"$f":"INDIRECT(ADDRESS($K279,P$4,1,1,\"3 - Savings Analysis\"))","v":0},{"$f":"INDIRECT(ADDRESS($K279,Q$4,1,1,\"3 - Savings Analysis\"))","v":0},{"$f":"INDIRECT(ADDRESS($K279,R$4,1,1,\"3 - Savings Analysis\"))","v":0},{"$f":"INDIRECT(ADDRESS($K279,S$4,1,1,\"3 - Savings Analysis\"))","v":0},{"$f":"INDIRECT(ADDRESS($K279,T$4,1,1,\"3 - Savings Analysis\"))","v":0}]
["","","","","","","","","",null,289,{"$f":"INDIRECT(ADDRESS($K280,L$4,1,1,\"3 - Savings Analysis\"))","v":0},{"$f":"INDIRECT(ADDRESS($K280,M$4,1,1,\"3 - Savings Analysis\"))","v":0},{"$f":"INDIRECT(ADDRESS($K280,N$4,1,1,\"3 - Savings Analysis\"))","v":0},{"$f":"INDIRECT(ADDRESS($K280,O$4,1,1,\"3 - Savings Analysis\"))","v":0},{"$f":"INDIRECT(ADDRESS($K280,P$4,1,1,\"3 - Savings Analysis\"))","v":0},{"$f":"INDIRECT(ADDRESS($K280,Q$4,1,1,\"3 - Savings Analysis\"))","v":0},{"$f":"INDIRECT(ADDRESS($K280,R$4,1,1,\"3 - Savings Analysis\"))","v":0},{"$f":"INDIRECT(ADDRESS($K280,S$4,1,1,\"3 - Savings Analysis\"))","v":0},{"$f":"INDIRECT(ADDRESS($K280,T$4,1,1,\"3 - Savings Analysis\"))","v":0}]
["","","","","","","","","",null,290,{"$f":"INDIRECT(ADDRESS($K281,L$4,1,1,\"3 - Savings Analysis\"))","v":0},{"$f":"INDIRECT(ADDRESS($K281,M$4,1,1,\"3 - Savings Analysis\"))","v":0},{"$f":"INDIRECT(ADDRESS($K281,N$4,1,1,\"3 - Savings Analysis\"))","v":0},{"$f":"INDIRECT(ADDRESS($K281,O$4,1,1,\"3 - Savings Analysis\"))","v":0},{"$f":"INDIRECT(ADDRESS($K281,P$4,1,1,\"3 - Savings Analysis\"))","v":0},{"$f":"INDIRECT(ADDRESS($K281,Q$4,1,1,\"3 - Savings Analysis\"))","v":0},{"$f":"INDIRECT(ADDRESS($K281,R$4,1,1,\"3 - Savings Analysis\"))","v":0},{"$f":"INDIRECT(ADDRESS($K281,S$4,1,1,\"3 - Savings Analysis\"))","v":0},{"$f":"INDIRECT(ADDRESS($K281,T$4,1,1,\"3 - Savings Analysis\"))","v":0}]
["","","","","","","","","",null,291,{"$f":"INDIRECT(ADDRESS($K282,L$4,1,1,\"3 - Savings Analysis\"))","v":0},{"$f":"INDIRECT(ADDRESS($K282,M$4,1,1,\"3 - Savings Analysis\"))","v":0},{"$f":"INDIRECT(ADDRESS($K282,N$4,1,1,\"3 - Savings Analysis\"))","v":0},{"$f":"INDIRECT(ADDRESS($K282,O$4,1,1,\"3 - Savings Analysis\"))","v":0},{"$f":"INDIRECT(ADDRESS($K282,P$4,1,1,\"3 - Savings Analysis\"))","v":0},{"$f":"INDIRECT(ADDRESS($K282,Q$4,1,1,\"3 - Savings Analysis\"))","v":0},{"$f":"INDIRECT(ADDRESS($K282,R$4,1,1,\"3 - Savings Analysis\"))","v":0},{"$f":"INDIRECT(ADDRESS($K282,S$4,1,1,\"3 - Savings Analysis\"))","v":0},{"$f":"INDIRECT(ADDRESS($K282,T$4,1,1,\"3 - Savings Analysis\"))","v":0}]
["","","","","","","","","",null,292,{"$f":"INDIRECT(ADDRESS($K283,L$4,1,1,\"3 - Savings Analysis\"))","v":0},{"$f":"INDIRECT(ADDRESS($K283,M$4,1,1,\"3 - Savings Analysis\"))","v":0},{"$f":"INDIRECT(ADDRESS($K283,N$4,1,1,\"3 - Savings Analysis\"))","v":0},{"$f":"INDIRECT(ADDRESS($K283,O$4,1,1,\"3 - Savings Analysis\"))","v":0},{"$f":"INDIRECT(ADDRESS($K283,P$4,1,1,\"3 - Savings Analysis\"))","v":0},{"$f":"INDIRECT(ADDRESS($K283,Q$4,1,1,\"3 - Savings Analysis\"))","v":0},{"$f":"INDIRECT(ADDRESS($K283,R$4,1,1,\"3 - Savings Analysis\"))","v":0},{"$f":"INDIRECT(ADDRESS($K283,S$4,1,1,\"3 - Savings Analysis\"))","v":0},{"$f":"INDIRECT(ADDRESS($K283,T$4,1,1,\"3 - Savings Analysis\"))","v":0}]
["","","","","","","","","",null,293,{"$f":"INDIRECT(ADDRESS($K284,L$4,1,1,\"3 - Savings Analysis\"))","v":0},{"$f":"INDIRECT(ADDRESS($K284,M$4,1,1,\"3 - Savings Analysis\"))","v":0},{"$f":"INDIRECT(ADDRESS($K284,N$4,1,1,\"3 - Savings Analysis\"))","v":0},{"$f":"INDIRECT(ADDRESS($K284,O$4,1,1,\"3 - Savings Analysis\"))","v":0},{"$f":"INDIRECT(ADDRESS($K284,P$4,1,1,\"3 - Savings Analysis\"))","v":0},{"$f":"INDIRECT(ADDRESS($K284,Q$4,1,1,\"3 - Savings Analysis\"))","v":0},{"$f":"INDIRECT(ADDRESS($K284,R$4,1,1,\"3 - Savings Analysis\"))","v":0},{"$f":"INDIRECT(ADDRESS($K284,S$4,1,1,\"3 - Savings Analysis\"))","v":0},{"$f":"INDIRECT(ADDRESS($K284,T$4,1,1,\"3 - Savings Analysis\"))","v":0}]
["","","","","","","","","",null,294,{"$f":"INDIRECT(ADDRESS($K285,L$4,1,1,\"3 - Savings Analysis\"))","v":0},{"$f":"INDIRECT(ADDRESS($K285,M$4,1,1,\"3 - Savings Analysis\"))","v":0},{"$f":"INDIRECT(ADDRESS($K285,N$4,1,1,\"3 - Savings Analysis\"))","v":0},{"$f":"INDIRECT(ADDRESS($K285,O$4,1,1,\"3 - Savings Analysis\"))","v":0},{"$f":"INDIRECT(ADDRESS($K285,P$4,1,1,\"3 - Savings Analysis\"))","v":0},{"$f":"INDIRECT(ADDRESS($K285,Q$4,1,1,\"3 - Savings Analysis\"))","v":0},{"$f":"INDIRECT(ADDRESS($K285,R$4,1,1,\"3 - Savings Analysis\"))","v":0},{"$f":"INDIRECT(ADDRESS($K285,S$4,1,1,\"3 - Savings Analysis\"))","v":0},{"$f":"INDIRECT(ADDRESS($K285,T$4,1,1,\"3 - Savings Analysis\"))","v":0}]
["","","","","","","","","",null,295,{"$f":"INDIRECT(ADDRESS($K286,L$4,1,1,\"3 - Savings Analysis\"))","v":0},{"$f":"INDIRECT(ADDRESS($K286,M$4,1,1,\"3 - Savings Analysis\"))","v":0},{"$f":"INDIRECT(ADDRESS($K286,N$4,1,1,\"3 - Savings Analysis\"))","v":0},{"$f":"INDIRECT(ADDRESS($K286,O$4,1,1,\"3 - Savings Analysis\"))","v":0},{"$f":"INDIRECT(ADDRESS($K286,P$4,1,1,\"3 - Savings Analysis\"))","v":0},{"$f":"INDIRECT(ADDRESS($K286,Q$4,1,1,\"3 - Savings Analysis\"))","v":0},{"$f":"INDIRECT(ADDRESS($K286,R$4,1,1,\"3 - Savings Analysis\"))","v":0},{"$f":"INDIRECT(ADDRESS($K286,S$4,1,1,\"3 - Savings Analysis\"))","v":0},{"$f":"INDIRECT(ADDRESS($K286,T$4,1,1,\"3 - Savings Analysis\"))","v":0}]
["","","","","","","","","",null,296,{"$f":"INDIRECT(ADDRESS($K287,L$4,1,1,\"3 - Savings Analysis\"))","v":0},{"$f":"INDIRECT(ADDRESS($K287,M$4,1,1,\"3 - Savings Analysis\"))","v":0},{"$f":"INDIRECT(ADDRESS($K287,N$4,1,1,\"3 - Savings Analysis\"))","v":0},{"$f":"INDIRECT(ADDRESS($K287,O$4,1,1,\"3 - Savings Analysis\"))","v":0},{"$f":"INDIRECT(ADDRESS($K287,P$4,1,1,\"3 - Savings Analysis\"))","v":0},{"$f":"INDIRECT(ADDRESS($K287,Q$4,1,1,\"3 - Savings Analysis\"))","v":0},{"$f":"INDIRECT(ADDRESS($K287,R$4,1,1,\"3 - Savings Analysis\"))","v":0},{"$f":"INDIRECT(ADDRESS($K287,S$4,1,1,\"3 - Savings Analysis\"))","v":0},{"$f":"INDIRECT(ADDRESS($K287,T$4,1,1,\"3 - Savings Analysis\"))","v":0}]
["","","","","","","","","",null,297,{"$f":"INDIRECT(ADDRESS($K288,L$4,1,1,\"3 - Savings Analysis\"))","v":0},{"$f":"INDIRECT(ADDRESS($K288,M$4,1,1,\"3 - Savings Analysis\"))","v":0},{"$f":"INDIRECT(ADDRESS($K288,N$4,1,1,\"3 - Savings Analysis\"))","v":0},{"$f":"INDIRECT(ADDRESS($K288,O$4,1,1,\"3 - Savings Analysis\"))","v":0},{"$f":"INDIRECT(ADDRESS($K288,P$4,1,1,\"3 - Savings Analysis\"))","v":0},{"$f":"INDIRECT(ADDRESS($K288,Q$4,1,1,\"3 - Savings Analysis\"))","v":0},{"$f":"INDIRECT(ADDRESS($K288,R$4,1,1,\"3 - Savings Analysis\"))","v":0},{"$f":"INDIRECT(ADDRESS($K288,S$4,1,1,\"3 - Savings Analysis\"))","v":0},{"$f":"INDIRECT(ADDRESS($K288,T$4,1,1,\"3 - Savings Analysis\"))","v":0}]
["","","","","","","","","",null,298,{"$f":"INDIRECT(ADDRESS($K289,L$4,1,1,\"3 - Savings Analysis\"))","v":0},{"$f":"INDIRECT(ADDRESS($K289,M$4,1,1,\"3 - Savings Analysis\"))","v":0},{"$f":"INDIRECT(ADDRESS($K289,N$4,1,1,\"3 - Savings Analysis\"))","v":0},{"$f":"INDIRECT(ADDRESS($K289,O$4,1,1,\"3 - Savings Analysis\"))","v":0},{"$f":"INDIRECT(ADDRESS($K289,P$4,1,1,\"3 - Savings Analysis\"))","v":0},{"$f":"INDIRECT(ADDRESS($K289,Q$4,1,1,\"3 - Savings Analysis\"))","v":0},{"$f":"INDIRECT(ADDRESS($K289,R$4,1,1,\"3 - Savings Analysis\"))","v":0},{"$f":"INDIRECT(ADDRESS($K289,S$4,1,1,\"3 - Savings Analysis\"))","v":0},{"$f":"INDIRECT(ADDRESS($K289,T$4,1,1,\"3 - Savings Analysis\"))","v":0}]
["","","","","","","","","",null,299,{"$f":"INDIRECT(ADDRESS($K290,L$4,1,1,\"3 - Savings Analysis\"))","v":0},{"$f":"INDIRECT(ADDRESS($K290,M$4,1,1,\"3 - Savings Analysis\"))","v":0},{"$f":"INDIRECT(ADDRESS($K290,N$4,1,1,\"3 - Savings Analysis\"))","v":0},{"$f":"INDIRECT(ADDRESS($K290,O$4,1,1,\"3 - Savings Analysis\"))","v":0},{"$f":"INDIRECT(ADDRESS($K290,P$4,1,1,\"3 - Savings Analysis\"))","v":0},{"$f":"INDIRECT(ADDRESS($K290,Q$4,1,1,\"3 - Savings Analysis\"))","v":0},{"$f":"INDIRECT(ADDRESS($K290,R$4,1,1,\"3 - Savings Analysis\"))","v":0},{"$f":"INDIRECT(ADDRESS($K290,S$4,1,1,\"3 - Savings Analysis\"))","v":0},{"$f":"INDIRECT(ADDRESS($K290,T$4,1,1,\"3 - Savings Analysis\"))","v":0}]
["","","","","","","","","",null,300,{"$f":"INDIRECT(ADDRESS($K291,L$4,1,1,\"3 - Savings Analysis\"))","v":0},{"$f":"INDIRECT(ADDRESS($K291,M$4,1,1,\"3 - Savings Analysis\"))","v":0},{"$f":"INDIRECT(ADDRESS($K291,N$4,1,1,\"3 - Savings Analysis\"))","v":0},{"$f":"INDIRECT(ADDRESS($K291,O$4,1,1,\"3 - Savings Analysis\"))","v":0},{"$f":"INDIRECT(ADDRESS($K291,P$4,1,1,\"3 - Savings Analysis\"))","v":0},{"$f":"INDIRECT(ADDRESS($K291,Q$4,1,1,\"3 - Savings Analysis\"))","v":0},{"$f":"INDIRECT(ADDRESS($K291,R$4,1,1,\"3 - Savings Analysis\"))","v":0},{"$f":"INDIRECT(ADDRESS($K291,S$4,1,1,\"3 - Savings Analysis\"))","v":0},{"$f":"INDIRECT(ADDRESS($K291,T$4,1,1,\"3 - Savings Analysis\"))","v":0}]
["","","","","","","","","",null,301,{"$f":"INDIRECT(ADDRESS($K292,L$4,1,1,\"3 - Savings Analysis\"))","v":0},{"$f":"INDIRECT(ADDRESS($K292,M$4,1,1,\"3 - Savings Analysis\"))","v":0},{"$f":"INDIRECT(ADDRESS($K292,N$4,1,1,\"3 - Savings Analysis\"))","v":0},{"$f":"INDIRECT(ADDRESS($K292,O$4,1,1,\"3 - Savings Analysis\"))","v":0},{"$f":"INDIRECT(ADDRESS($K292,P$4,1,1,\"3 - Savings Analysis\"))","v":0},{"$f":"INDIRECT(ADDRESS($K292,Q$4,1,1,\"3 - Savings Analysis\"))","v":0},{"$f":"INDIRECT(ADDRESS($K292,R$4,1,1,\"3 - Savings Analysis\"))","v":0},{"$f":"INDIRECT(ADDRESS($K292,S$4,1,1,\"3 - Savings Analysis\"))","v":0},{"$f":"INDIRECT(ADDRESS($K292,T$4,1,1,\"3 - Savings Analysis\"))","v":0}]
["","","","","","","","","",null,302,{"$f":"INDIRECT(ADDRESS($K293,L$4,1,1,\"3 - Savings Analysis\"))","v":0},{"$f":"INDIRECT(ADDRESS($K293,M$4,1,1,\"3 - Savings Analysis\"))","v":0},{"$f":"INDIRECT(ADDRESS($K293,N$4,1,1,\"3 - Savings Analysis\"))","v":0},{"$f":"INDIRECT(ADDRESS($K293,O$4,1,1,\"3 - Savings Analysis\"))","v":0},{"$f":"INDIRECT(ADDRESS($K293,P$4,1,1,\"3 - Savings Analysis\"))","v":0},{"$f":"INDIRECT(ADDRESS($K293,Q$4,1,1,\"3 - Savings Analysis\"))","v":0},{"$f":"INDIRECT(ADDRESS($K293,R$4,1,1,\"3 - Savings Analysis\"))","v":0},{"$f":"INDIRECT(ADDRESS($K293,S$4,1,1,\"3 - Savings Analysis\"))","v":0},{"$f":"INDIRECT(ADDRESS($K293,T$4,1,1,\"3 - Savings Analysis\"))","v":0}]
["","","","","","","","","",null,303,{"$f":"INDIRECT(ADDRESS($K294,L$4,1,1,\"3 - Savings Analysis\"))","v":0},{"$f":"INDIRECT(ADDRESS($K294,M$4,1,1,\"3 - Savings Analysis\"))","v":0},{"$f":"INDIRECT(ADDRESS($K294,N$4,1,1,\"3 - Savings Analysis\"))","v":0},{"$f":"INDIRECT(ADDRESS($K294,O$4,1,1,\"3 - Savings Analysis\"))","v":0},{"$f":"INDIRECT(ADDRESS($K294,P$4,1,1,\"3 - Savings Analysis\"))","v":0},{"$f":"INDIRECT(ADDRESS($K294,Q$4,1,1,\"3 - Savings Analysis\"))","v":0},{"$f":"INDIRECT(ADDRESS($K294,R$4,1,1,\"3 - Savings Analysis\"))","v":0},{"$f":"INDIRECT(ADDRESS($K294,S$4,1,1,\"3 - Savings Analysis\"))","v":0},{"$f":"INDIRECT(ADDRESS($K294,T$4,1,1,\"3 - Savings Analysis\"))","v":0}]
["","","","","","","","","",null,304,{"$f":"INDIRECT(ADDRESS($K295,L$4,1,1,\"3 - Savings Analysis\"))","v":0},{"$f":"INDIRECT(ADDRESS($K295,M$4,1,1,\"3 - Savings Analysis\"))","v":0},{"$f":"INDIRECT(ADDRESS($K295,N$4,1,1,\"3 - Savings Analysis\"))","v":0},{"$f":"INDIRECT(ADDRESS($K295,O$4,1,1,\"3 - Savings Analysis\"))","v":0},{"$f":"INDIRECT(ADDRESS($K295,P$4,1,1,\"3 - Savings Analysis\"))","v":0},{"$f":"INDIRECT(ADDRESS($K295,Q$4,1,1,\"3 - Savings Analysis\"))","v":0},{"$f":"INDIRECT(ADDRESS($K295,R$4,1,1,\"3 - Savings Analysis\"))","v":0},{"$f":"INDIRECT(ADDRESS($K295,S$4,1,1,\"3 - Savings Analysis\"))","v":0},{"$f":"INDIRECT(ADDRESS($K295,T$4,1,1,\"3 - Savings Analysis\"))","v":0}]
["","","","","","","","","",null,305,{"$f":"INDIRECT(ADDRESS($K296,L$4,1,1,\"3 - Savings Analysis\"))","v":0},{"$f":"INDIRECT(ADDRESS($K296,M$4,1,1,\"3 - Savings Analysis\"))","v":0},{"$f":"INDIRECT(ADDRESS($K296,N$4,1,1,\"3 - Savings Analysis\"))","v":0},{"$f":"INDIRECT(ADDRESS($K296,O$4,1,1,\"3 - Savings Analysis\"))","v":0},{"$f":"INDIRECT(ADDRESS($K296,P$4,1,1,\"3 - Savings Analysis\"))","v":0},{"$f":"INDIRECT(ADDRESS($K296,Q$4,1,1,\"3 - Savings Analysis\"))","v":0},{"$f":"INDIRECT(ADDRESS($K296,R$4,1,1,\"3 - Savings Analysis\"))","v":0},{"$f":"INDIRECT(ADDRESS($K296,S$4,1,1,\"3 - Savings Analysis\"))","v":0},{"$f":"INDIRECT(ADDRESS($K296,T$4,1,1,\"3 - Savings Analysis\"))","v":0}]
["","","","","","","","","",null,306,{"$f":"INDIRECT(ADDRESS($K297,L$4,1,1,\"3 - Savings Analysis\"))","v":0},{"$f":"INDIRECT(ADDRESS($K297,M$4,1,1,\"3 - Savings Analysis\"))","v":0},{"$f":"INDIRECT(ADDRESS($K297,N$4,1,1,\"3 - Savings Analysis\"))","v":0},{"$f":"INDIRECT(ADDRESS($K297,O$4,1,1,\"3 - Savings Analysis\"))","v":0},{"$f":"INDIRECT(ADDRESS($K297,P$4,1,1,\"3 - Savings Analysis\"))","v":0},{"$f":"INDIRECT(ADDRESS($K297,Q$4,1,1,\"3 - Savings Analysis\"))","v":0},{"$f":"INDIRECT(ADDRESS($K297,R$4,1,1,\"3 - Savings Analysis\"))","v":0},{"$f":"INDIRECT(ADDRESS($K297,S$4,1,1,\"3 - Savings Analysis\"))","v":0},{"$f":"INDIRECT(ADDRESS($K297,T$4,1,1,\"3 - Savings Analysis\"))","v":0}]
["","","","","","","","","",null,307,{"$f":"INDIRECT(ADDRESS($K298,L$4,1,1,\"3 - Savings Analysis\"))","v":0},{"$f":"INDIRECT(ADDRESS($K298,M$4,1,1,\"3 - Savings Analysis\"))","v":0},{"$f":"INDIRECT(ADDRESS($K298,N$4,1,1,\"3 - Savings Analysis\"))","v":0},{"$f":"INDIRECT(ADDRESS($K298,O$4,1,1,\"3 - Savings Analysis\"))","v":0},{"$f":"INDIRECT(ADDRESS($K298,P$4,1,1,\"3 - Savings Analysis\"))","v":0},{"$f":"INDIRECT(ADDRESS($K298,Q$4,1,1,\"3 - Savings Analysis\"))","v":0},{"$f":"INDIRECT(ADDRESS($K298,R$4,1,1,\"3 - Savings Analysis\"))","v":0},{"$f":"INDIRECT(ADDRESS($K298,S$4,1,1,\"3 - Savings Analysis\"))","v":0},{"$f":"INDIRECT(ADDRESS($K298,T$4,1,1,\"3 - Savings Analysis\"))","v":0}]
["","","","","","","","","",null,308,{"$f":"INDIRECT(ADDRESS($K299,L$4,1,1,\"3 - Savings Analysis\"))","v":0},{"$f":"INDIRECT(ADDRESS($K299,M$4,1,1,\"3 - Savings Analysis\"))","v":0},{"$f":"INDIRECT(ADDRESS($K299,N$4,1,1,\"3 - Savings Analysis\"))","v":0},{"$f":"INDIRECT(ADDRESS($K299,O$4,1,1,\"3 - Savings Analysis\"))","v":0},{"$f":"INDIRECT(ADDRESS($K299,P$4,1,1,\"3 - Savings Analysis\"))","v":0},{"$f":"INDIRECT(ADDRESS($K299,Q$4,1,1,\"3 - Savings Analysis\"))","v":0},{"$f":"INDIRECT(ADDRESS($K299,R$4,1,1,\"3 - Savings Analysis\"))","v":0},{"$f":"INDIRECT(ADDRESS($K299,S$4,1,1,\"3 - Savings Analysis\"))","v":0},{"$f":"INDIRECT(ADDRESS($K299,T$4,1,1,\"3 - Savings Analysis\"))","v":0}]
["","","","","","","","","",null,309,{"$f":"INDIRECT(ADDRESS($K300,L$4,1,1,\"3 - Savings Analysis\"))","v":0},{"$f":"INDIRECT(ADDRESS($K300,M$4,1,1,\"3 - Savings Analysis\"))","v":0},{"$f":"INDIRECT(ADDRESS($K300,N$4,1,1,\"3 - Savings Analysis\"))","v":0},{"$f":"INDIRECT(ADDRESS($K300,O$4,1,1,\"3 - Savings Analysis\"))","v":0},{"$f":"INDIRECT(ADDRESS($K300,P$4,1,1,\"3 - Savings Analysis\"))","v":0},{"$f":"INDIRECT(ADDRESS($K300,Q$4,1,1,\"3 - Savings Analysis\"))","v":0},{"$f":"INDIRECT(ADDRESS($K300,R$4,1,1,\"3 - Savings Analysis\"))","v":0},{"$f":"INDIRECT(ADDRESS($K300,S$4,1,1,\"3 - Savings Analysis\"))","v":0},{"$f":"INDIRECT(ADDRESS($K300,T$4,1,1,\"3 - Savings Analysis\"))","v":0}]
["","","","","","","","","",null,310,{"$f":"INDIRECT(ADDRESS($K301,L$4,1,1,\"3 - Savings Analysis\"))","v":0},{"$f":"INDIRECT(ADDRESS($K301,M$4,1,1,\"3 - Savings Analysis\"))","v":0},{"$f":"INDIRECT(ADDRESS($K301,N$4,1,1,\"3 - Savings Analysis\"))","v":0},{"$f":"INDIRECT(ADDRESS($K301,O$4,1,1,\"3 - Savings Analysis\"))","v":0},{"$f":"INDIRECT(ADDRESS($K301,P$4,1,1,\"3 - Savings Analysis\"))","v":0},{"$f":"INDIRECT(ADDRESS($K301,Q$4,1,1,\"3 - Savings Analysis\"))","v":0},{"$f":"INDIRECT(ADDRESS($K301,R$4,1,1,\"3 - Savings Analysis\"))","v":0},{"$f":"INDIRECT(ADDRESS($K301,S$4,1,1,\"3 - Savings Analysis\"))","v":0},{"$f":"INDIRECT(ADDRESS($K301,T$4,1,1,\"3 - Savings Analysis\"))","v":0}]
["","","","","","","","","",null,311,{"$f":"INDIRECT(ADDRESS($K302,L$4,1,1,\"3 - Savings Analysis\"))","v":0},{"$f":"INDIRECT(ADDRESS($K302,M$4,1,1,\"3 - Savings Analysis\"))","v":0},{"$f":"INDIRECT(ADDRESS($K302,N$4,1,1,\"3 - Savings Analysis\"))","v":0},{"$f":"INDIRECT(ADDRESS($K302,O$4,1,1,\"3 - Savings Analysis\"))","v":0},{"$f":"INDIRECT(ADDRESS($K302,P$4,1,1,\"3 - Savings Analysis\"))","v":0},{"$f":"INDIRECT(ADDRESS($K302,Q$4,1,1,\"3 - Savings Analysis\"))","v":0},{"$f":"INDIRECT(ADDRESS($K302,R$4,1,1,\"3 - Savings Analysis\"))","v":0},{"$f":"INDIRECT(ADDRESS($K302,S$4,1,1,\"3 - Savings Analysis\"))","v":0},{"$f":"INDIRECT(ADDRESS($K302,T$4,1,1,\"3 - Savings Analysis\"))","v":0}]
["","","","","","","","","",null,312,{"$f":"INDIRECT(ADDRESS($K303,L$4,1,1,\"3 - Savings Analysis\"))","v":0},{"$f":"INDIRECT(ADDRESS($K303,M$4,1,1,\"3 - Savings Analysis\"))","v":0},{"$f":"INDIRECT(ADDRESS($K303,N$4,1,1,\"3 - Savings Analysis\"))","v":0},{"$f":"INDIRECT(ADDRESS($K303,O$4,1,1,\"3 - Savings Analysis\"))","v":0},{"$f":"INDIRECT(ADDRESS($K303,P$4,1,1,\"3 - Savings Analysis\"))","v":0},{"$f":"INDIRECT(ADDRESS($K303,Q$4,1,1,\"3 - Savings Analysis\"))","v":0},{"$f":"INDIRECT(ADDRESS($K303,R$4,1,1,\"3 - Savings Analysis\"))","v":0},{"$f":"INDIRECT(ADDRESS($K303,S$4,1,1,\"3 - Savings Analysis\"))","v":0},{"$f":"INDIRECT(ADDRESS($K303,T$4,1,1,\"3 - Savings Analysis\"))","v":0}]
["","","","","","","","","",null,313,{"$f":"INDIRECT(ADDRESS($K304,L$4,1,1,\"3 - Savings Analysis\"))","v":0},{"$f":"INDIRECT(ADDRESS($K304,M$4,1,1,\"3 - Savings Analysis\"))","v":0},{"$f":"INDIRECT(ADDRESS($K304,N$4,1,1,\"3 - Savings Analysis\"))","v":0},{"$f":"INDIRECT(ADDRESS($K304,O$4,1,1,\"3 - Savings Analysis\"))","v":0},{"$f":"INDIRECT(ADDRESS($K304,P$4,1,1,\"3 - Savings Analysis\"))","v":0},{"$f":"INDIRECT(ADDRESS($K304,Q$4,1,1,\"3 - Savings Analysis\"))","v":0},{"$f":"INDIRECT(ADDRESS($K304,R$4,1,1,\"3 - Savings Analysis\"))","v":0},{"$f":"INDIRECT(ADDRESS($K304,S$4,1,1,\"3 - Savings Analysis\"))","v":0},{"$f":"INDIRECT(ADDRESS($K304,T$4,1,1,\"3 - Savings Analysis\"))","v":0}]
["","","","","","","","","",null,314,{"$f":"INDIRECT(ADDRESS($K305,L$4,1,1,\"3 - Savings Analysis\"))","v":0},{"$f":"INDIRECT(ADDRESS($K305,M$4,1,1,\"3 - Savings Analysis\"))","v":0},{"$f":"INDIRECT(ADDRESS($K305,N$4,1,1,\"3 - Savings Analysis\"))","v":0},{"$f":"INDIRECT(ADDRESS($K305,O$4,1,1,\"3 - Savings Analysis\"))","v":0},{"$f":"INDIRECT(ADDRESS($K305,P$4,1,1,\"3 - Savings Analysis\"))","v":0},{"$f":"INDIRECT(ADDRESS($K305,Q$4,1,1,\"3 - Savings Analysis\"))","v":0},{"$f":"INDIRECT(ADDRESS($K305,R$4,1,1,\"3 - Savings Analysis\"))","v":0},{"$f":"INDIRECT(ADDRESS($K305,S$4,1,1,\"3 - Savings Analysis\"))","v":0},{"$f":"INDIRECT(ADDRESS($K305,T$4,1,1,\"3 - Savings Analysis\"))","v":0}]
["","","","","","","","","",null,315,{"$f":"INDIRECT(ADDRESS($K306,L$4,1,1,\"3 - Savings Analysis\"))","v":0},{"$f":"INDIRECT(ADDRESS($K306,M$4,1,1,\"3 - Savings Analysis\"))","v":0},{"$f":"INDIRECT(ADDRESS($K306,N$4,1,1,\"3 - Savings Analysis\"))","v":0},{"$f":"INDIRECT(ADDRESS($K306,O$4,1,1,\"3 - Savings Analysis\"))","v":0},{"$f":"INDIRECT(ADDRESS($K306,P$4,1,1,\"3 - Savings Analysis\"))","v":0},{"$f":"INDIRECT(ADDRESS($K306,Q$4,1,1,\"3 - Savings Analysis\"))","v":0},{"$f":"INDIRECT(ADDRESS($K306,R$4,1,1,\"3 - Savings Analysis\"))","v":0},{"$f":"INDIRECT(ADDRESS($K306,S$4,1,1,\"3 - Savings Analysis\"))","v":0},{"$f":"INDIRECT(ADDRESS($K306,T$4,1,1,\"3 - Savings Analysis\"))","v":0}]
["","","","","","","","","",null,316,{"$f":"INDIRECT(ADDRESS($K307,L$4,1,1,\"3 - Savings Analysis\"))","v":0},{"$f":"INDIRECT(ADDRESS($K307,M$4,1,1,\"3 - Savings Analysis\"))","v":0},{"$f":"INDIRECT(ADDRESS($K307,N$4,1,1,\"3 - Savings Analysis\"))","v":0},{"$f":"INDIRECT(ADDRESS($K307,O$4,1,1,\"3 - Savings Analysis\"))","v":0},{"$f":"INDIRECT(ADDRESS($K307,P$4,1,1,\"3 - Savings Analysis\"))","v":0},{"$f":"INDIRECT(ADDRESS($K307,Q$4,1,1,\"3 - Savings Analysis\"))","v":0},{"$f":"INDIRECT(ADDRESS($K307,R$4,1,1,\"3 - Savings Analysis\"))","v":0},{"$f":"INDIRECT(ADDRESS($K307,S$4,1,1,\"3 - Savings Analysis\"))","v":0},{"$f":"INDIRECT(ADDRESS($K307,T$4,1,1,\"3 - Savings Analysis\"))","v":0}]
["","","","","","","","","",null,317,{"$f":"INDIRECT(ADDRESS($K308,L$4,1,1,\"3 - Savings Analysis\"))","v":0},{"$f":"INDIRECT(ADDRESS($K308,M$4,1,1,\"3 - Savings Analysis\"))","v":0},{"$f":"INDIRECT(ADDRESS($K308,N$4,1,1,\"3 - Savings Analysis\"))","v":0},{"$f":"INDIRECT(ADDRESS($K308,O$4,1,1,\"3 - Savings Analysis\"))","v":0},{"$f":"INDIRECT(ADDRESS($K308,P$4,1,1,\"3 - Savings Analysis\"))","v":0},{"$f":"INDIRECT(ADDRESS($K308,Q$4,1,1,\"3 - Savings Analysis\"))","v":0},{"$f":"INDIRECT(ADDRESS($K308,R$4,1,1,\"3 - Savings Analysis\"))","v":0},{"$f":"INDIRECT(ADDRESS($K308,S$4,1,1,\"3 - Savings Analysis\"))","v":0},{"$f":"INDIRECT(ADDRESS($K308,T$4,1,1,\"3 - Savings Analysis\"))","v":0}]
["","","","","","","","","",null,318,{"$f":"INDIRECT(ADDRESS($K309,L$4,1,1,\"3 - Savings Analysis\"))","v":0},{"$f":"INDIRECT(ADDRESS($K309,M$4,1,1,\"3 - Savings Analysis\"))","v":0},{"$f":"INDIRECT(ADDRESS($K309,N$4,1,1,\"3 - Savings Analysis\"))","v":0},{"$f":"INDIRECT(ADDRESS($K309,O$4,1,1,\"3 - Savings Analysis\"))","v":0},{"$f":"INDIRECT(ADDRESS($K309,P$4,1,1,\"3 - Savings Analysis\"))","v":0},{"$f":"INDIRECT(ADDRESS($K309,Q$4,1,1,\"3 - Savings Analysis\"))","v":0},{"$f":"INDIRECT(ADDRESS($K309,R$4,1,1,\"3 - Savings Analysis\"))","v":0},{"$f":"INDIRECT(ADDRESS($K309,S$4,1,1,\"3 - Savings Analysis\"))","v":0},{"$f":"INDIRECT(ADDRESS($K309,T$4,1,1,\"3 - Savings Analysis\"))","v":0}]
["","","","","","","","","",null,319,{"$f":"INDIRECT(ADDRESS($K310,L$4,1,1,\"3 - Savings Analysis\"))","v":0},{"$f":"INDIRECT(ADDRESS($K310,M$4,1,1,\"3 - Savings Analysis\"))","v":0},{"$f":"INDIRECT(ADDRESS($K310,N$4,1,1,\"3 - Savings Analysis\"))","v":0},{"$f":"INDIRECT(ADDRESS($K310,O$4,1,1,\"3 - Savings Analysis\"))","v":0},{"$f":"INDIRECT(ADDRESS($K310,P$4,1,1,\"3 - Savings Analysis\"))","v":0},{"$f":"INDIRECT(ADDRESS($K310,Q$4,1,1,\"3 - Savings Analysis\"))","v":0},{"$f":"INDIRECT(ADDRESS($K310,R$4,1,1,\"3 - Savings Analysis\"))","v":0},{"$f":"INDIRECT(ADDRESS($K310,S$4,1,1,\"3 - Savings Analysis\"))","v":0},{"$f":"INDIRECT(ADDRESS($K310,T$4,1,1,\"3 - Savings Analysis\"))","v":0}]
["","","","","","","","","",null,320,{"$f":"INDIRECT(ADDRESS($K311,L$4,1,1,\"3 - Savings Analysis\"))","v":0},{"$f":"INDIRECT(ADDRESS($K311,M$4,1,1,\"3 - Savings Analysis\"))","v":0},{"$f":"INDIRECT(ADDRESS($K311,N$4,1,1,\"3 - Savings Analysis\"))","v":0},{"$f":"INDIRECT(ADDRESS($K311,O$4,1,1,\"3 - Savings Analysis\"))","v":0},{"$f":"INDIRECT(ADDRESS($K311,P$4,1,1,\"3 - Savings Analysis\"))","v":0},{"$f":"INDIRECT(ADDRESS($K311,Q$4,1,1,\"3 - Savings Analysis\"))","v":0},{"$f":"INDIRECT(ADDRESS($K311,R$4,1,1,\"3 - Savings Analysis\"))","v":0},{"$f":"INDIRECT(ADDRESS($K311,S$4,1,1,\"3 - Savings Analysis\"))","v":0},{"$f":"INDIRECT(ADDRESS($K311,T$4,1,1,\"3 - Savings Analysis\"))","v":0}]
["","","","","","","","","",null,321,{"$f":"INDIRECT(ADDRESS($K312,L$4,1,1,\"3 - Savings Analysis\"))","v":0},{"$f":"INDIRECT(ADDRESS($K312,M$4,1,1,\"3 - Savings Analysis\"))","v":0},{"$f":"INDIRECT(ADDRESS($K312,N$4,1,1,\"3 - Savings Analysis\"))","v":0},{"$f":"INDIRECT(ADDRESS($K312,O$4,1,1,\"3 - Savings Analysis\"))","v":0},{"$f":"INDIRECT(ADDRESS($K312,P$4,1,1,\"3 - Savings Analysis\"))","v":0},{"$f":"INDIRECT(ADDRESS($K312,Q$4,1,1,\"3 - Savings Analysis\"))","v":0},{"$f":"INDIRECT(ADDRESS($K312,R$4,1,1,\"3 - Savings Analysis\"))","v":0},{"$f":"INDIRECT(ADDRESS($K312,S$4,1,1,\"3 - Savings Analysis\"))","v":0},{"$f":"INDIRECT(ADDRESS($K312,T$4,1,1,\"3 - Savings Analysis\"))","v":0}]
["","","","","","","","","",null,322,{"$f":"INDIRECT(ADDRESS($K313,L$4,1,1,\"3 - Savings Analysis\"))","v":0},{"$f":"INDIRECT(ADDRESS($K313,M$4,1,1,\"3 - Savings Analysis\"))","v":0},{"$f":"INDIRECT(ADDRESS($K313,N$4,1,1,\"3 - Savings Analysis\"))","v":0},{"$f":"INDIRECT(ADDRESS($K313,O$4,1,1,\"3 - Savings Analysis\"))","v":0},{"$f":"INDIRECT(ADDRESS($K313,P$4,1,1,\"3 - Savings Analysis\"))","v":0},{"$f":"INDIRECT(ADDRESS($K313,Q$4,1,1,\"3 - Savings Analysis\"))","v":0},{"$f":"INDIRECT(ADDRESS($K313,R$4,1,1,\"3 - Savings Analysis\"))","v":0},{"$f":"INDIRECT(ADDRESS($K313,S$4,1,1,\"3 - Savings Analysis\"))","v":0},{"$f":"INDIRECT(ADDRESS($K313,T$4,1,1,\"3 - Savings Analysis\"))","v":0}]
["","","","","","","","","",null,323,{"$f":"INDIRECT(ADDRESS($K314,L$4,1,1,\"3 - Savings Analysis\"))","v":0},{"$f":"INDIRECT(ADDRESS($K314,M$4,1,1,\"3 - Savings Analysis\"))","v":0},{"$f":"INDIRECT(ADDRESS($K314,N$4,1,1,\"3 - Savings Analysis\"))","v":0},{"$f":"INDIRECT(ADDRESS($K314,O$4,1,1,\"3 - Savings Analysis\"))","v":0},{"$f":"INDIRECT(ADDRESS($K314,P$4,1,1,\"3 - Savings Analysis\"))","v":0},{"$f":"INDIRECT(ADDRESS($K314,Q$4,1,1,\"3 - Savings Analysis\"))","v":0},{"$f":"INDIRECT(ADDRESS($K314,R$4,1,1,\"3 - Savings Analysis\"))","v":0},{"$f":"INDIRECT(ADDRESS($K314,S$4,1,1,\"3 - Savings Analysis\"))","v":0},{"$f":"INDIRECT(ADDRESS($K314,T$4,1,1,\"3 - Savings Analysis\"))","v":0}]
["","","","","","","","","",null,324,{"$f":"INDIRECT(ADDRESS($K315,L$4,1,1,\"3 - Savings Analysis\"))","v":0},{"$f":"INDIRECT(ADDRESS($K315,M$4,1,1,\"3 - Savings Analysis\"))","v":0},{"$f":"INDIRECT(ADDRESS($K315,N$4,1,1,\"3 - Savings Analysis\"))","v":0},{"$f":"INDIRECT(ADDRESS($K315,O$4,1,1,\"3 - Savings Analysis\"))","v":0},{"$f":"INDIRECT(ADDRESS($K315,P$4,1,1,\"3 - Savings Analysis\"))","v":0},{"$f":"INDIRECT(ADDRESS($K315,Q$4,1,1,\"3 - Savings Analysis\"))","v":0},{"$f":"INDIRECT(ADDRESS($K315,R$4,1,1,\"3 - Savings Analysis\"))","v":0},{"$f":"INDIRECT(ADDRESS($K315,S$4,1,1,\"3 - Savings Analysis\"))","v":0},{"$f":"INDIRECT(ADDRESS($K315,T$4,1,1,\"3 - Savings Analysis\"))","v":0}]
["","","","","","","","","",null,325,{"$f":"INDIRECT(ADDRESS($K316,L$4,1,1,\"3 - Savings Analysis\"))","v":0},{"$f":"INDIRECT(ADDRESS($K316,M$4,1,1,\"3 - Savings Analysis\"))","v":0},{"$f":"INDIRECT(ADDRESS($K316,N$4,1,1,\"3 - Savings Analysis\"))","v":0},{"$f":"INDIRECT(ADDRESS($K316,O$4,1,1,\"3 - Savings Analysis\"))","v":0},{"$f":"INDIRECT(ADDRESS($K316,P$4,1,1,\"3 - Savings Analysis\"))","v":0},{"$f":"INDIRECT(ADDRESS($K316,Q$4,1,1,\"3 - Savings Analysis\"))","v":0},{"$f":"INDIRECT(ADDRESS($K316,R$4,1,1,\"3 - Savings Analysis\"))","v":0},{"$f":"INDIRECT(ADDRESS($K316,S$4,1,1,\"3 - Savings Analysis\"))","v":0},{"$f":"INDIRECT(ADDRESS($K316,T$4,1,1,\"3 - Savings Analysis\"))","v":0}]
["","","","","","","","","",null,326,{"$f":"INDIRECT(ADDRESS($K317,L$4,1,1,\"3 - Savings Analysis\"))","v":0},{"$f":"INDIRECT(ADDRESS($K317,M$4,1,1,\"3 - Savings Analysis\"))","v":0},{"$f":"INDIRECT(ADDRESS($K317,N$4,1,1,\"3 - Savings Analysis\"))","v":0},{"$f":"INDIRECT(ADDRESS($K317,O$4,1,1,\"3 - Savings Analysis\"))","v":0},{"$f":"INDIRECT(ADDRESS($K317,P$4,1,1,\"3 - Savings Analysis\"))","v":0},{"$f":"INDIRECT(ADDRESS($K317,Q$4,1,1,\"3 - Savings Analysis\"))","v":0},{"$f":"INDIRECT(ADDRESS($K317,R$4,1,1,\"3 - Savings Analysis\"))","v":0},{"$f":"INDIRECT(ADDRESS($K317,S$4,1,1,\"3 - Savings Analysis\"))","v":0},{"$f":"INDIRECT(ADDRESS($K317,T$4,1,1,\"3 - Savings Analysis\"))","v":0}]
["","","","","","","","","",null,327,{"$f":"INDIRECT(ADDRESS($K318,L$4,1,1,\"3 - Savings Analysis\"))","v":0},{"$f":"INDIRECT(ADDRESS($K318,M$4,1,1,\"3 - Savings Analysis\"))","v":0},{"$f":"INDIRECT(ADDRESS($K318,N$4,1,1,\"3 - Savings Analysis\"))","v":0},{"$f":"INDIRECT(ADDRESS($K318,O$4,1,1,\"3 - Savings Analysis\"))","v":0},{"$f":"INDIRECT(ADDRESS($K318,P$4,1,1,\"3 - Savings Analysis\"))","v":0},{"$f":"INDIRECT(ADDRESS($K318,Q$4,1,1,\"3 - Savings Analysis\"))","v":0},{"$f":"INDIRECT(ADDRESS($K318,R$4,1,1,\"3 - Savings Analysis\"))","v":0},{"$f":"INDIRECT(ADDRESS($K318,S$4,1,1,\"3 - Savings Analysis\"))","v":0},{"$f":"INDIRECT(ADDRESS($K318,T$4,1,1,\"3 - Savings Analysis\"))","v":0}]
["","","","","","","","","",null,328,{"$f":"INDIRECT(ADDRESS($K319,L$4,1,1,\"3 - Savings Analysis\"))","v":0},{"$f":"INDIRECT(ADDRESS($K319,M$4,1,1,\"3 - Savings Analysis\"))","v":0},{"$f":"INDIRECT(ADDRESS($K319,N$4,1,1,\"3 - Savings Analysis\"))","v":0},{"$f":"INDIRECT(ADDRESS($K319,O$4,1,1,\"3 - Savings Analysis\"))","v":0},{"$f":"INDIRECT(ADDRESS($K319,P$4,1,1,\"3 - Savings Analysis\"))","v":0},{"$f":"INDIRECT(ADDRESS($K319,Q$4,1,1,\"3 - Savings Analysis\"))","v":0},{"$f":"INDIRECT(ADDRESS($K319,R$4,1,1,\"3 - Savings Analysis\"))","v":0},{"$f":"INDIRECT(ADDRESS($K319,S$4,1,1,\"3 - Savings Analysis\"))","v":0},{"$f":"INDIRECT(ADDRESS($K319,T$4,1,1,\"3 - Savings Analysis\"))","v":0}]
["","","","","","","","","",null,329,{"$f":"INDIRECT(ADDRESS($K320,L$4,1,1,\"3 - Savings Analysis\"))","v":0},{"$f":"INDIRECT(ADDRESS($K320,M$4,1,1,\"3 - Savings Analysis\"))","v":0},{"$f":"INDIRECT(ADDRESS($K320,N$4,1,1,\"3 - Savings Analysis\"))","v":0},{"$f":"INDIRECT(ADDRESS($K320,O$4,1,1,\"3 - Savings Analysis\"))","v":0},{"$f":"INDIRECT(ADDRESS($K320,P$4,1,1,\"3 - Savings Analysis\"))","v":0},{"$f":"INDIRECT(ADDRESS($K320,Q$4,1,1,\"3 - Savings Analysis\"))","v":0},{"$f":"INDIRECT(ADDRESS($K320,R$4,1,1,\"3 - Savings Analysis\"))","v":0},{"$f":"INDIRECT(ADDRESS($K320,S$4,1,1,\"3 - Savings Analysis\"))","v":0},{"$f":"INDIRECT(ADDRESS($K320,T$4,1,1,\"3 - Savings Analysis\"))","v":0}]
["","","","","","","","","",null,330,{"$f":"INDIRECT(ADDRESS($K321,L$4,1,1,\"3 - Savings Analysis\"))","v":0},{"$f":"INDIRECT(ADDRESS($K321,M$4,1,1,\"3 - Savings Analysis\"))","v":0},{"$f":"INDIRECT(ADDRESS($K321,N$4,1,1,\"3 - Savings Analysis\"))","v":0},{"$f":"INDIRECT(ADDRESS($K321,O$4,1,1,\"3 - Savings Analysis\"))","v":0},{"$f":"INDIRECT(ADDRESS($K321,P$4,1,1,\"3 - Savings Analysis\"))","v":0},{"$f":"INDIRECT(ADDRESS($K321,Q$4,1,1,\"3 - Savings Analysis\"))","v":0},{"$f":"INDIRECT(ADDRESS($K321,R$4,1,1,\"3 - Savings Analysis\"))","v":0},{"$f":"INDIRECT(ADDRESS($K321,S$4,1,1,\"3 - Savings Analysis\"))","v":0},{"$f":"INDIRECT(ADDRESS($K321,T$4,1,1,\"3 - Savings Analysis\"))","v":0}]
["","","","","","","","","",null,331,{"$f":"INDIRECT(ADDRESS($K322,L$4,1,1,\"3 - Savings Analysis\"))","v":0},{"$f":"INDIRECT(ADDRESS($K322,M$4,1,1,\"3 - Savings Analysis\"))","v":0},{"$f":"INDIRECT(ADDRESS($K322,N$4,1,1,\"3 - Savings Analysis\"))","v":0},{"$f":"INDIRECT(ADDRESS($K322,O$4,1,1,\"3 - Savings Analysis\"))","v":0},{"$f":"INDIRECT(ADDRESS($K322,P$4,1,1,\"3 - Savings Analysis\"))","v":0},{"$f":"INDIRECT(ADDRESS($K322,Q$4,1,1,\"3 - Savings Analysis\"))","v":0},{"$f":"INDIRECT(ADDRESS($K322,R$4,1,1,\"3 - Savings Analysis\"))","v":0},{"$f":"INDIRECT(ADDRESS($K322,S$4,1,1,\"3 - Savings Analysis\"))","v":0},{"$f":"INDIRECT(ADDRESS($K322,T$4,1,1,\"3 - Savings Analysis\"))","v":0}]
["","","","","","","","","",null,332,{"$f":"INDIRECT(ADDRESS($K323,L$4,1,1,\"3 - Savings Analysis\"))","v":0},{"$f":"INDIRECT(ADDRESS($K323,M$4,1,1,\"3 - Savings Analysis\"))","v":0},{"$f":"INDIRECT(ADDRESS($K323,N$4,1,1,\"3 - Savings Analysis\"))","v":0},{"$f":"INDIRECT(ADDRESS($K323,O$4,1,1,\"3 - Savings Analysis\"))","v":0},{"$f":"INDIRECT(ADDRESS($K323,P$4,1,1,\"3 - Savings Analysis\"))","v":0},{"$f":"INDIRECT(ADDRESS($K323,Q$4,1,1,\"3 - Savings Analysis\"))","v":0},{"$f":"INDIRECT(ADDRESS($K323,R$4,1,1,\"3 - Savings Analysis\"))","v":0},{"$f":"INDIRECT(ADDRESS($K323,S$4,1,1,\"3 - Savings Analysis\"))","v":0},{"$f":"INDIRECT(ADDRESS($K323,T$4,1,1,\"3 - Savings Analysis\"))","v":0}]
["","","","","","","","","",null,333,{"$f":"INDIRECT(ADDRESS($K324,L$4,1,1,\"3 - Savings Analysis\"))","v":0},{"$f":"INDIRECT(ADDRESS($K324,M$4,1,1,\"3 - Savings Analysis\"))","v":0},{"$f":"INDIRECT(ADDRESS($K324,N$4,1,1,\"3 - Savings Analysis\"))","v":0},{"$f":"INDIRECT(ADDRESS($K324,O$4,1,1,\"3 - Savings Analysis\"))","v":0},{"$f":"INDIRECT(ADDRESS($K324,P$4,1,1,\"3 - Savings Analysis\"))","v":0},{"$f":"INDIRECT(ADDRESS($K324,Q$4,1,1,\"3 - Savings Analysis\"))","v":0},{"$f":"INDIRECT(ADDRESS($K324,R$4,1,1,\"3 - Savings Analysis\"))","v":0},{"$f":"INDIRECT(ADDRESS($K324,S$4,1,1,\"3 - Savings Analysis\"))","v":0},{"$f":"INDIRECT(ADDRESS($K324,T$4,1,1,\"3 - Savings Analysis\"))","v":0}]
["","","","","","","","","",null,334,{"$f":"INDIRECT(ADDRESS($K325,L$4,1,1,\"3 - Savings Analysis\"))","v":0},{"$f":"INDIRECT(ADDRESS($K325,M$4,1,1,\"3 - Savings Analysis\"))","v":0},{"$f":"INDIRECT(ADDRESS($K325,N$4,1,1,\"3 - Savings Analysis\"))","v":0},{"$f":"INDIRECT(ADDRESS($K325,O$4,1,1,\"3 - Savings Analysis\"))","v":0},{"$f":"INDIRECT(ADDRESS($K325,P$4,1,1,\"3 - Savings Analysis\"))","v":0},{"$f":"INDIRECT(ADDRESS($K325,Q$4,1,1,\"3 - Savings Analysis\"))","v":0},{"$f":"INDIRECT(ADDRESS($K325,R$4,1,1,\"3 - Savings Analysis\"))","v":0},{"$f":"INDIRECT(ADDRESS($K325,S$4,1,1,\"3 - Savings Analysis\"))","v":0},{"$f":"INDIRECT(ADDRESS($K325,T$4,1,1,\"3 - Savings Analysis\"))","v":0}]
["","","","","","","","","",null,335,{"$f":"INDIRECT(ADDRESS($K326,L$4,1,1,\"3 - Savings Analysis\"))","v":0},{"$f":"INDIRECT(ADDRESS($K326,M$4,1,1,\"3 - Savings Analysis\"))","v":0},{"$f":"INDIRECT(ADDRESS($K326,N$4,1,1,\"3 - Savings Analysis\"))","v":0},{"$f":"INDIRECT(ADDRESS($K326,O$4,1,1,\"3 - Savings Analysis\"))","v":0},{"$f":"INDIRECT(ADDRESS($K326,P$4,1,1,\"3 - Savings Analysis\"))","v":0},{"$f":"INDIRECT(ADDRESS($K326,Q$4,1,1,\"3 - Savings Analysis\"))","v":0},{"$f":"INDIRECT(ADDRESS($K326,R$4,1,1,\"3 - Savings Analysis\"))","v":0},{"$f":"INDIRECT(ADDRESS($K326,S$4,1,1,\"3 - Savings Analysis\"))","v":0},{"$f":"INDIRECT(ADDRESS($K326,T$4,1,1,\"3 - Savings Analysis\"))","v":0}]
["","","","","","","","","",null,336,{"$f":"INDIRECT(ADDRESS($K327,L$4,1,1,\"3 - Savings Analysis\"))","v":0},{"$f":"INDIRECT(ADDRESS($K327,M$4,1,1,\"3 - Savings Analysis\"))","v":0},{"$f":"INDIRECT(ADDRESS($K327,N$4,1,1,\"3 - Savings Analysis\"))","v":0},{"$f":"INDIRECT(ADDRESS($K327,O$4,1,1,\"3 - Savings Analysis\"))","v":0},{"$f":"INDIRECT(ADDRESS($K327,P$4,1,1,\"3 - Savings Analysis\"))","v":0},{"$f":"INDIRECT(ADDRESS($K327,Q$4,1,1,\"3 - Savings Analysis\"))","v":0},{"$f":"INDIRECT(ADDRESS($K327,R$4,1,1,\"3 - Savings Analysis\"))","v":0},{"$f":"INDIRECT(ADDRESS($K327,S$4,1,1,\"3 - Savings Analysis\"))","v":0},{"$f":"INDIRECT(ADDRESS($K327,T$4,1,1,\"3 - Savings Analysis\"))","v":0}]
["","","","","","","","","",null,337,{"$f":"INDIRECT(ADDRESS($K328,L$4,1,1,\"3 - Savings Analysis\"))","v":0},{"$f":"INDIRECT(ADDRESS($K328,M$4,1,1,\"3 - Savings Analysis\"))","v":0},{"$f":"INDIRECT(ADDRESS($K328,N$4,1,1,\"3 - Savings Analysis\"))","v":0},{"$f":"INDIRECT(ADDRESS($K328,O$4,1,1,\"3 - Savings Analysis\"))","v":0},{"$f":"INDIRECT(ADDRESS($K328,P$4,1,1,\"3 - Savings Analysis\"))","v":0},{"$f":"INDIRECT(ADDRESS($K328,Q$4,1,1,\"3 - Savings Analysis\"))","v":0},{"$f":"INDIRECT(ADDRESS($K328,R$4,1,1,\"3 - Savings Analysis\"))","v":0},{"$f":"INDIRECT(ADDRESS($K328,S$4,1,1,\"3 - Savings Analysis\"))","v":0},{"$f":"INDIRECT(ADDRESS($K328,T$4,1,1,\"3 - Savings Analysis\"))","v":0}]
["","","","","","","","","",null,{"$f":"K328+1","v":338},{"$f":"INDIRECT(ADDRESS($K329,L$4,1,1,\"3 - Savings Analysis\"))","v":0},{"$f":"INDIRECT(ADDRESS($K329,M$4,1,1,\"3 - Savings Analysis\"))","v":0},{"$f":"INDIRECT(ADDRESS($K329,N$4,1,1,\"3 - Savings Analysis\"))","v":0},{"$f":"INDIRECT(ADDRESS($K329,O$4,1,1,\"3 - Savings Analysis\"))","v":0},{"$f":"INDIRECT(ADDRESS($K329,P$4,1,1,\"3 - Savings Analysis\"))","v":0},{"$f":"INDIRECT(ADDRESS($K329,Q$4,1,1,\"3 - Savings Analysis\"))","v":0},{"$f":"INDIRECT(ADDRESS($K329,R$4,1,1,\"3 - Savings Analysis\"))","v":0},{"$f":"INDIRECT(ADDRESS($K329,S$4,1,1,\"3 - Savings Analysis\"))","v":0},{"$f":"INDIRECT(ADDRESS($K329,T$4,1,1,\"3 - Savings Analysis\"))","v":0}]
["","","","","","","","","",null,339,{"$f":"INDIRECT(ADDRESS($K330,L$4,1,1,\"3 - Savings Analysis\"))","v":0},{"$f":"INDIRECT(ADDRESS($K330,M$4,1,1,\"3 - Savings Analysis\"))","v":0},{"$f":"INDIRECT(ADDRESS($K330,N$4,1,1,\"3 - Savings Analysis\"))","v":0},{"$f":"INDIRECT(ADDRESS($K330,O$4,1,1,\"3 - Savings Analysis\"))","v":0},{"$f":"INDIRECT(ADDRESS($K330,P$4,1,1,\"3 - Savings Analysis\"))","v":0},{"$f":"INDIRECT(ADDRESS($K330,Q$4,1,1,\"3 - Savings Analysis\"))","v":0},{"$f":"INDIRECT(ADDRESS($K330,R$4,1,1,\"3 - Savings Analysis\"))","v":0},{"$f":"INDIRECT(ADDRESS($K330,S$4,1,1,\"3 - Savings Analysis\"))","v":0},{"$f":"INDIRECT(ADDRESS($K330,T$4,1,1,\"3 - Savings Analysis\"))","v":0}]
["","","","","","","","","",null,340,{"$f":"INDIRECT(ADDRESS($K331,L$4,1,1,\"3 - Savings Analysis\"))","v":0},{"$f":"INDIRECT(ADDRESS($K331,M$4,1,1,\"3 - Savings Analysis\"))","v":0},{"$f":"INDIRECT(ADDRESS($K331,N$4,1,1,\"3 - Savings Analysis\"))","v":0},{"$f":"INDIRECT(ADDRESS($K331,O$4,1,1,\"3 - Savings Analysis\"))","v":0},{"$f":"INDIRECT(ADDRESS($K331,P$4,1,1,\"3 - Savings Analysis\"))","v":0},{"$f":"INDIRECT(ADDRESS($K331,Q$4,1,1,\"3 - Savings Analysis\"))","v":0},{"$f":"INDIRECT(ADDRESS($K331,R$4,1,1,\"3 - Savings Analysis\"))","v":0},{"$f":"INDIRECT(ADDRESS($K331,S$4,1,1,\"3 - Savings Analysis\"))","v":0},{"$f":"INDIRECT(ADDRESS($K331,T$4,1,1,\"3 - Savings Analysis\"))","v":0}]
["","","","","","","","","",null,341,{"$f":"INDIRECT(ADDRESS($K332,L$4,1,1,\"3 - Savings Analysis\"))","v":0},{"$f":"INDIRECT(ADDRESS($K332,M$4,1,1,\"3 - Savings Analysis\"))","v":0},{"$f":"INDIRECT(ADDRESS($K332,N$4,1,1,\"3 - Savings Analysis\"))","v":0},{"$f":"INDIRECT(ADDRESS($K332,O$4,1,1,\"3 - Savings Analysis\"))","v":0},{"$f":"INDIRECT(ADDRESS($K332,P$4,1,1,\"3 - Savings Analysis\"))","v":0},{"$f":"INDIRECT(ADDRESS($K332,Q$4,1,1,\"3 - Savings Analysis\"))","v":0},{"$f":"INDIRECT(ADDRESS($K332,R$4,1,1,\"3 - Savings Analysis\"))","v":0},{"$f":"INDIRECT(ADDRESS($K332,S$4,1,1,\"3 - Savings Analysis\"))","v":0},{"$f":"INDIRECT(ADDRESS($K332,T$4,1,1,\"3 - Savings Analysis\"))","v":0}]
[{"$f":"IF($K333<=$M$2,L333,\"\")","v":""},{"$f":"IF($K333<=$M$2,IF($A333=\"Total\",\"\",M333),\"\")","v":""},{"$f":"IF($K333<=$M$2,IF($A333=\"Total\",\"\",N333),\"\")","v":""},{"$f":"IF($K333<=$M$2,O333,\"\")","v":""},{"$f":"IF($K333<=$M$2,P333,\"\")","v":""},{"$f":"IF($K333<=$M$2,IF($A333=\"Total\",\"\",Q333),\"\")","v":""},{"$f":"IF($K333<=$M$2,IF($A333=\"Total\",\"\",R333),\"\")","v":""},{"$f":"IF($K333<=$M$2,IF($A333=\"Total\",\"\",IF($T333=0,\"\",S333)),\"\")","v":""},{"$f":"IF($K333<=$M$2,IF($A333=\"Total\",\"\",IF($T333=0,\"\",T333)),\"\")","v":""},null,342,{"$f":"INDIRECT(ADDRESS($K333,L$4,1,1,\"3 - Savings Analysis\"))","v":0},{"$f":"INDIRECT(ADDRESS($K333,M$4,1,1,\"3 - Savings Analysis\"))","v":0},{"$f":"INDIRECT(ADDRESS($K333,N$4,1,1,\"3 - Savings Analysis\"))","v":0},{"$f":"INDIRECT(ADDRESS($K333,O$4,1,1,\"3 - Savings Analysis\"))","v":0},{"$f":"INDIRECT(ADDRESS($K333,P$4,1,1,\"3 - Savings Analysis\"))","v":0},{"$f":"INDIRECT(ADDRESS($K333,Q$4,1,1,\"3 - Savings Analysis\"))","v":0},{"$f":"INDIRECT(ADDRESS($K333,R$4,1,1,\"3 - Savings Analysis\"))","v":0},{"$f":"INDIRECT(ADDRESS($K333,S$4,1,1,\"3 - Savings Analysis\"))","v":0},{"$f":"INDIRECT(ADDRESS($K333,T$4,1,1,\"3 - Savings Analysis\"))","v":0}]
["","","","","","","","","",null,343,{"$f":"INDIRECT(ADDRESS($K334,L$4,1,1,\"3 - Savings Analysis\"))","v":0},{"$f":"INDIRECT(ADDRESS($K334,M$4,1,1,\"3 - Savings Analysis\"))","v":0},{"$f":"INDIRECT(ADDRESS($K334,N$4,1,1,\"3 - Savings Analysis\"))","v":0},{"$f":"INDIRECT(ADDRESS($K334,O$4,1,1,\"3 - Savings Analysis\"))","v":0},{"$f":"INDIRECT(ADDRESS($K334,P$4,1,1,\"3 - Savings Analysis\"))","v":0},{"$f":"INDIRECT(ADDRESS($K334,Q$4,1,1,\"3 - Savings Analysis\"))","v":0},{"$f":"INDIRECT(ADDRESS($K334,R$4,1,1,\"3 - Savings Analysis\"))","v":0},{"$f":"INDIRECT(ADDRESS($K334,S$4,1,1,\"3 - Savings Analysis\"))","v":0},{"$f":"INDIRECT(ADDRESS($K334,T$4,1,1,\"3 - Savings Analysis\"))","v":0}]
["","","","","","","","","",null,344,{"$f":"INDIRECT(ADDRESS($K335,L$4,1,1,\"3 - Savings Analysis\"))","v":0},{"$f":"INDIRECT(ADDRESS($K335,M$4,1,1,\"3 - Savings Analysis\"))","v":0},{"$f":"INDIRECT(ADDRESS($K335,N$4,1,1,\"3 - Savings Analysis\"))","v":0},{"$f":"INDIRECT(ADDRESS($K335,O$4,1,1,\"3 - Savings Analysis\"))","v":0},{"$f":"INDIRECT(ADDRESS($K335,P$4,1,1,\"3 - Savings Analysis\"))","v":0},{"$f":"INDIRECT(ADDRESS($K335,Q$4,1,1,\"3 - Savings Analysis\"))","v":0},{"$f":"INDIRECT(ADDRESS($K335,R$4,1,1,\"3 - Savings Analysis\"))","v":0},{"$f":"INDIRECT(ADDRESS($K335,S$4,1,1,\"3 - Savings Analysis\"))","v":0},{"$f":"INDIRECT(ADDRESS($K335,T$4,1,1,\"3 - Savings Analysis\"))","v":0}]
["","","","","","","","","",null,345,{"$f":"INDIRECT(ADDRESS($K336,L$4,1,1,\"3 - Savings Analysis\"))","v":0},{"$f":"INDIRECT(ADDRESS($K336,M$4,1,1,\"3 - Savings Analysis\"))","v":0},{"$f":"INDIRECT(ADDRESS($K336,N$4,1,1,\"3 - Savings Analysis\"))","v":0},{"$f":"INDIRECT(ADDRESS($K336,O$4,1,1,\"3 - Savings Analysis\"))","v":0},{"$f":"INDIRECT(ADDRESS($K336,P$4,1,1,\"3 - Savings Analysis\"))","v":0},{"$f":"INDIRECT(ADDRESS($K336,Q$4,1,1,\"3 - Savings Analysis\"))","v":0},{"$f":"INDIRECT(ADDRESS($K336,R$4,1,1,\"3 - Savings Analysis\"))","v":0},{"$f":"INDIRECT(ADDRESS($K336,S$4,1,1,\"3 - Savings Analysis\"))","v":0},{"$f":"INDIRECT(ADDRESS($K336,T$4,1,1,\"3 - Savings Analysis\"))","v":0}]
["","","","","","","","","",null,346,{"$f":"INDIRECT(ADDRESS($K337,L$4,1,1,\"3 - Savings Analysis\"))","v":0},{"$f":"INDIRECT(ADDRESS($K337,M$4,1,1,\"3 - Savings Analysis\"))","v":0},{"$f":"INDIRECT(ADDRESS($K337,N$4,1,1,\"3 - Savings Analysis\"))","v":0},{"$f":"INDIRECT(ADDRESS($K337,O$4,1,1,\"3 - Savings Analysis\"))","v":0},{"$f":"INDIRECT(ADDRESS($K337,P$4,1,1,\"3 - Savings Analysis\"))","v":0},{"$f":"INDIRECT(ADDRESS($K337,Q$4,1,1,\"3 - Savings Analysis\"))","v":0},{"$f":"INDIRECT(ADDRESS($K337,R$4,1,1,\"3 - Savings Analysis\"))","v":0},{"$f":"INDIRECT(ADDRESS($K337,S$4,1,1,\"3 - Savings Analysis\"))","v":0},{"$f":"INDIRECT(ADDRESS($K337,T$4,1,1,\"3 - Savings Analysis\"))","v":0}]
["","","","","","","","","",null,347,{"$f":"INDIRECT(ADDRESS($K338,L$4,1,1,\"3 - Savings Analysis\"))","v":0},{"$f":"INDIRECT(ADDRESS($K338,M$4,1,1,\"3 - Savings Analysis\"))","v":0},{"$f":"INDIRECT(ADDRESS($K338,N$4,1,1,\"3 - Savings Analysis\"))","v":0},{"$f":"INDIRECT(ADDRESS($K338,O$4,1,1,\"3 - Savings Analysis\"))","v":0},{"$f":"INDIRECT(ADDRESS($K338,P$4,1,1,\"3 - Savings Analysis\"))","v":0},{"$f":"INDIRECT(ADDRESS($K338,Q$4,1,1,\"3 - Savings Analysis\"))","v":0},{"$f":"INDIRECT(ADDRESS($K338,R$4,1,1,\"3 - Savings Analysis\"))","v":0},{"$f":"INDIRECT(ADDRESS($K338,S$4,1,1,\"3 - Savings Analysis\"))","v":0},{"$f":"INDIRECT(ADDRESS($K338,T$4,1,1,\"3 - Savings Analysis\"))","v":0}]
["","","","","","","","","",null,348,{"$f":"INDIRECT(ADDRESS($K339,L$4,1,1,\"3 - Savings Analysis\"))","v":0},{"$f":"INDIRECT(ADDRESS($K339,M$4,1,1,\"3 - Savings Analysis\"))","v":0},{"$f":"INDIRECT(ADDRESS($K339,N$4,1,1,\"3 - Savings Analysis\"))","v":0},{"$f":"INDIRECT(ADDRESS($K339,O$4,1,1,\"3 - Savings Analysis\"))","v":0},{"$f":"INDIRECT(ADDRESS($K339,P$4,1,1,\"3 - Savings Analysis\"))","v":0},{"$f":"INDIRECT(ADDRESS($K339,Q$4,1,1,\"3 - Savings Analysis\"))","v":0},{"$f":"INDIRECT(ADDRESS($K339,R$4,1,1,\"3 - Savings Analysis\"))","v":0},{"$f":"INDIRECT(ADDRESS($K339,S$4,1,1,\"3 - Savings Analysis\"))","v":0},{"$f":"INDIRECT(ADDRESS($K339,T$4,1,1,\"3 - Savings Analysis\"))","v":0}]
["","","","","","","","","",null,349,{"$f":"INDIRECT(ADDRESS($K340,L$4,1,1,\"3 - Savings Analysis\"))","v":0},{"$f":"INDIRECT(ADDRESS($K340,M$4,1,1,\"3 - Savings Analysis\"))","v":0},{"$f":"INDIRECT(ADDRESS($K340,N$4,1,1,\"3 - Savings Analysis\"))","v":0},{"$f":"INDIRECT(ADDRESS($K340,O$4,1,1,\"3 - Savings Analysis\"))","v":0},{"$f":"INDIRECT(ADDRESS($K340,P$4,1,1,\"3 - Savings Analysis\"))","v":0},{"$f":"INDIRECT(ADDRESS($K340,Q$4,1,1,\"3 - Savings Analysis\"))","v":0},{"$f":"INDIRECT(ADDRESS($K340,R$4,1,1,\"3 - Savings Analysis\"))","v":0},{"$f":"INDIRECT(ADDRESS($K340,S$4,1,1,\"3 - Savings Analysis\"))","v":0},{"$f":"INDIRECT(ADDRESS($K340,T$4,1,1,\"3 - Savings Analysis\"))","v":0}]
["","","","","","","","","",null,350,{"$f":"INDIRECT(ADDRESS($K341,L$4,1,1,\"3 - Savings Analysis\"))","v":0},{"$f":"INDIRECT(ADDRESS($K341,M$4,1,1,\"3 - Savings Analysis\"))","v":0},{"$f":"INDIRECT(ADDRESS($K341,N$4,1,1,\"3 - Savings Analysis\"))","v":0},{"$f":"INDIRECT(ADDRESS($K341,O$4,1,1,\"3 - Savings Analysis\"))","v":0},{"$f":"INDIRECT(ADDRESS($K341,P$4,1,1,\"3 - Savings Analysis\"))","v":0},{"$f":"INDIRECT(ADDRESS($K341,Q$4,1,1,\"3 - Savings Analysis\"))","v":0},{"$f":"INDIRECT(ADDRESS($K341,R$4,1,1,\"3 - Savings Analysis\"))","v":0},{"$f":"INDIRECT(ADDRESS($K341,S$4,1,1,\"3 - Savings Analysis\"))","v":0},{"$f":"INDIRECT(ADDRESS($K341,T$4,1,1,\"3 - Savings Analysis\"))","v":0}]
["","","","","","","","","",null,351,{"$f":"INDIRECT(ADDRESS($K342,L$4,1,1,\"3 - Savings Analysis\"))","v":0},{"$f":"INDIRECT(ADDRESS($K342,M$4,1,1,\"3 - Savings Analysis\"))","v":0},{"$f":"INDIRECT(ADDRESS($K342,N$4,1,1,\"3 - Savings Analysis\"))","v":0},{"$f":"INDIRECT(ADDRESS($K342,O$4,1,1,\"3 - Savings Analysis\"))","v":0},{"$f":"INDIRECT(ADDRESS($K342,P$4,1,1,\"3 - Savings Analysis\"))","v":0},{"$f":"INDIRECT(ADDRESS($K342,Q$4,1,1,\"3 - Savings Analysis\"))","v":0},{"$f":"INDIRECT(ADDRESS($K342,R$4,1,1,\"3 - Savings Analysis\"))","v":0},{"$f":"INDIRECT(ADDRESS($K342,S$4,1,1,\"3 - Savings Analysis\"))","v":0},{"$f":"INDIRECT(ADDRESS($K342,T$4,1,1,\"3 - Savings Analysis\"))","v":0}]
["","","","","","","","","",null,352,{"$f":"INDIRECT(ADDRESS($K343,L$4,1,1,\"3 - Savings Analysis\"))","v":0},{"$f":"INDIRECT(ADDRESS($K343,M$4,1,1,\"3 - Savings Analysis\"))","v":0},{"$f":"INDIRECT(ADDRESS($K343,N$4,1,1,\"3 - Savings Analysis\"))","v":0},{"$f":"INDIRECT(ADDRESS($K343,O$4,1,1,\"3 - Savings Analysis\"))","v":0},{"$f":"INDIRECT(ADDRESS($K343,P$4,1,1,\"3 - Savings Analysis\"))","v":0},{"$f":"INDIRECT(ADDRESS($K343,Q$4,1,1,\"3 - Savings Analysis\"))","v":0},{"$f":"INDIRECT(ADDRESS($K343,R$4,1,1,\"3 - Savings Analysis\"))","v":0},{"$f":"INDIRECT(ADDRESS($K343,S$4,1,1,\"3 - Savings Analysis\"))","v":0},{"$f":"INDIRECT(ADDRESS($K343,T$4,1,1,\"3 - Savings Analysis\"))","v":0}]
["","","","","","","","","",null,353,{"$f":"INDIRECT(ADDRESS($K344,L$4,1,1,\"3 - Savings Analysis\"))","v":0},{"$f":"INDIRECT(ADDRESS($K344,M$4,1,1,\"3 - Savings Analysis\"))","v":0},{"$f":"INDIRECT(ADDRESS($K344,N$4,1,1,\"3 - Savings Analysis\"))","v":0},{"$f":"INDIRECT(ADDRESS($K344,O$4,1,1,\"3 - Savings Analysis\"))","v":0},{"$f":"INDIRECT(ADDRESS($K344,P$4,1,1,\"3 - Savings Analysis\"))","v":0},{"$f":"INDIRECT(ADDRESS($K344,Q$4,1,1,\"3 - Savings Analysis\"))","v":0},{"$f":"INDIRECT(ADDRESS($K344,R$4,1,1,\"3 - Savings Analysis\"))","v":0},{"$f":"INDIRECT(ADDRESS($K344,S$4,1,1,\"3 - Savings Analysis\"))","v":0},{"$f":"INDIRECT(ADDRESS($K344,T$4,1,1,\"3 - Savings Analysis\"))","v":0}]
["","","","","","","","","",null,354,{"$f":"INDIRECT(ADDRESS($K345,L$4,1,1,\"3 - Savings Analysis\"))","v":0},{"$f":"INDIRECT(ADDRESS($K345,M$4,1,1,\"3 - Savings Analysis\"))","v":0},{"$f":"INDIRECT(ADDRESS($K345,N$4,1,1,\"3 - Savings Analysis\"))","v":0},{"$f":"INDIRECT(ADDRESS($K345,O$4,1,1,\"3 - Savings Analysis\"))","v":0},{"$f":"INDIRECT(ADDRESS($K345,P$4,1,1,\"3 - Savings Analysis\"))","v":0},{"$f":"INDIRECT(ADDRESS($K345,Q$4,1,1,\"3 - Savings Analysis\"))","v":0},{"$f":"INDIRECT(ADDRESS($K345,R$4,1,1,\"3 - Savings Analysis\"))","v":0},{"$f":"INDIRECT(ADDRESS($K345,S$4,1,1,\"3 - Savings Analysis\"))","v":0},{"$f":"INDIRECT(ADDRESS($K345,T$4,1,1,\"3 - Savings Analysis\"))","v":0}]
["","","","","","","","","",null,355,{"$f":"INDIRECT(ADDRESS($K346,L$4,1,1,\"3 - Savings Analysis\"))","v":0},{"$f":"INDIRECT(ADDRESS($K346,M$4,1,1,\"3 - Savings Analysis\"))","v":0},{"$f":"INDIRECT(ADDRESS($K346,N$4,1,1,\"3 - Savings Analysis\"))","v":0},{"$f":"INDIRECT(ADDRESS($K346,O$4,1,1,\"3 - Savings Analysis\"))","v":0},{"$f":"INDIRECT(ADDRESS($K346,P$4,1,1,\"3 - Savings Analysis\"))","v":0},{"$f":"INDIRECT(ADDRESS($K346,Q$4,1,1,\"3 - Savings Analysis\"))","v":0},{"$f":"INDIRECT(ADDRESS($K346,R$4,1,1,\"3 - Savings Analysis\"))","v":0},{"$f":"INDIRECT(ADDRESS($K346,S$4,1,1,\"3 - Savings Analysis\"))","v":0},{"$f":"INDIRECT(ADDRESS($K346,T$4,1,1,\"3 - Savings Analysis\"))","v":0}]
["","","","","","","","","",null,356,{"$f":"INDIRECT(ADDRESS($K347,L$4,1,1,\"3 - Savings Analysis\"))","v":0},{"$f":"INDIRECT(ADDRESS($K347,M$4,1,1,\"3 - Savings Analysis\"))","v":0},{"$f":"INDIRECT(ADDRESS($K347,N$4,1,1,\"3 - Savings Analysis\"))","v":0},{"$f":"INDIRECT(ADDRESS($K347,O$4,1,1,\"3 - Savings Analysis\"))","v":0},{"$f":"INDIRECT(ADDRESS($K347,P$4,1,1,\"3 - Savings Analysis\"))","v":0},{"$f":"INDIRECT(ADDRESS($K347,Q$4,1,1,\"3 - Savings Analysis\"))","v":0},{"$f":"INDIRECT(ADDRESS($K347,R$4,1,1,\"3 - Savings Analysis\"))","v":0},{"$f":"INDIRECT(ADDRESS($K347,S$4,1,1,\"3 - Savings Analysis\"))","v":0},{"$f":"INDIRECT(ADDRESS($K347,T$4,1,1,\"3 - Savings Analysis\"))","v":0}]
["","","","","","","","","",null,357,{"$f":"INDIRECT(ADDRESS($K348,L$4,1,1,\"3 - Savings Analysis\"))","v":0},{"$f":"INDIRECT(ADDRESS($K348,M$4,1,1,\"3 - Savings Analysis\"))","v":0},{"$f":"INDIRECT(ADDRESS($K348,N$4,1,1,\"3 - Savings Analysis\"))","v":0},{"$f":"INDIRECT(ADDRESS($K348,O$4,1,1,\"3 - Savings Analysis\"))","v":0},{"$f":"INDIRECT(ADDRESS($K348,P$4,1,1,\"3 - Savings Analysis\"))","v":0},{"$f":"INDIRECT(ADDRESS($K348,Q$4,1,1,\"3 - Savings Analysis\"))","v":0},{"$f":"INDIRECT(ADDRESS($K348,R$4,1,1,\"3 - Savings Analysis\"))","v":0},{"$f":"INDIRECT(ADDRESS($K348,S$4,1,1,\"3 - Savings Analysis\"))","v":0},{"$f":"INDIRECT(ADDRESS($K348,T$4,1,1,\"3 - Savings Analysis\"))","v":0}]
["","","","","","","","","",null,358,{"$f":"INDIRECT(ADDRESS($K349,L$4,1,1,\"3 - Savings Analysis\"))","v":0},{"$f":"INDIRECT(ADDRESS($K349,M$4,1,1,\"3 - Savings Analysis\"))","v":0},{"$f":"INDIRECT(ADDRESS($K349,N$4,1,1,\"3 - Savings Analysis\"))","v":0},{"$f":"INDIRECT(ADDRESS($K349,O$4,1,1,\"3 - Savings Analysis\"))","v":0},{"$f":"INDIRECT(ADDRESS($K349,P$4,1,1,\"3 - Savings Analysis\"))","v":0},{"$f":"INDIRECT(ADDRESS($K349,Q$4,1,1,\"3 - Savings Analysis\"))","v":0},{"$f":"INDIRECT(ADDRESS($K349,R$4,1,1,\"3 - Savings Analysis\"))","v":0},{"$f":"INDIRECT(ADDRESS($K349,S$4,1,1,\"3 - Savings Analysis\"))","v":0},{"$f":"INDIRECT(ADDRESS($K349,T$4,1,1,\"3 - Savings Analysis\"))","v":0}]
["","","","","","","","","",null,359,{"$f":"INDIRECT(ADDRESS($K350,L$4,1,1,\"3 - Savings Analysis\"))","v":0},{"$f":"INDIRECT(ADDRESS($K350,M$4,1,1,\"3 - Savings Analysis\"))","v":0},{"$f":"INDIRECT(ADDRESS($K350,N$4,1,1,\"3 - Savings Analysis\"))","v":0},{"$f":"INDIRECT(ADDRESS($K350,O$4,1,1,\"3 - Savings Analysis\"))","v":0},{"$f":"INDIRECT(ADDRESS($K350,P$4,1,1,\"3 - Savings Analysis\"))","v":0},{"$f":"INDIRECT(ADDRESS($K350,Q$4,1,1,\"3 - Savings Analysis\"))","v":0},{"$f":"INDIRECT(ADDRESS($K350,R$4,1,1,\"3 - Savings Analysis\"))","v":0},{"$f":"INDIRECT(ADDRESS($K350,S$4,1,1,\"3 - Savings Analysis\"))","v":0},{"$f":"INDIRECT(ADDRESS($K350,T$4,1,1,\"3 - Savings Analysis\"))","v":0}]
["","","","","","","","","",null,360,{"$f":"INDIRECT(ADDRESS($K351,L$4,1,1,\"3 - Savings Analysis\"))","v":0},{"$f":"INDIRECT(ADDRESS($K351,M$4,1,1,\"3 - Savings Analysis\"))","v":0},{"$f":"INDIRECT(ADDRESS($K351,N$4,1,1,\"3 - Savings Analysis\"))","v":0},{"$f":"INDIRECT(ADDRESS($K351,O$4,1,1,\"3 - Savings Analysis\"))","v":0},{"$f":"INDIRECT(ADDRESS($K351,P$4,1,1,\"3 - Savings Analysis\"))","v":0},{"$f":"INDIRECT(ADDRESS($K351,Q$4,1,1,\"3 - Savings Analysis\"))","v":0},{"$f":"INDIRECT(ADDRESS($K351,R$4,1,1,\"3 - Savings Analysis\"))","v":0},{"$f":"INDIRECT(ADDRESS($K351,S$4,1,1,\"3 - Savings Analysis\"))","v":0},{"$f":"INDIRECT(ADDRESS($K351,T$4,1,1,\"3 - Savings Analysis\"))","v":0}]
["","","","","","","","","",null,361,{"$f":"INDIRECT(ADDRESS($K352,L$4,1,1,\"3 - Savings Analysis\"))","v":0},{"$f":"INDIRECT(ADDRESS($K352,M$4,1,1,\"3 - Savings Analysis\"))","v":0},{"$f":"INDIRECT(ADDRESS($K352,N$4,1,1,\"3 - Savings Analysis\"))","v":0},{"$f":"INDIRECT(ADDRESS($K352,O$4,1,1,\"3 - Savings Analysis\"))","v":0},{"$f":"INDIRECT(ADDRESS($K352,P$4,1,1,\"3 - Savings Analysis\"))","v":0},{"$f":"INDIRECT(ADDRESS($K352,Q$4,1,1,\"3 - Savings Analysis\"))","v":0},{"$f":"INDIRECT(ADDRESS($K352,R$4,1,1,\"3 - Savings Analysis\"))","v":0},{"$f":"INDIRECT(ADDRESS($K352,S$4,1,1,\"3 - Savings Analysis\"))","v":0},{"$f":"INDIRECT(ADDRESS($K352,T$4,1,1,\"3 - Savings Analysis\"))","v":0}]
["","","","","","","","","",null,362,{"$f":"INDIRECT(ADDRESS($K353,L$4,1,1,\"3 - Savings Analysis\"))","v":0},{"$f":"INDIRECT(ADDRESS($K353,M$4,1,1,\"3 - Savings Analysis\"))","v":0},{"$f":"INDIRECT(ADDRESS($K353,N$4,1,1,\"3 - Savings Analysis\"))","v":0},{"$f":"INDIRECT(ADDRESS($K353,O$4,1,1,\"3 - Savings Analysis\"))","v":0},{"$f":"INDIRECT(ADDRESS($K353,P$4,1,1,\"3 - Savings Analysis\"))","v":0},{"$f":"INDIRECT(ADDRESS($K353,Q$4,1,1,\"3 - Savings Analysis\"))","v":0},{"$f":"INDIRECT(ADDRESS($K353,R$4,1,1,\"3 - Savings Analysis\"))","v":0},{"$f":"INDIRECT(ADDRESS($K353,S$4,1,1,\"3 - Savings Analysis\"))","v":0},{"$f":"INDIRECT(ADDRESS($K353,T$4,1,1,\"3 - Savings Analysis\"))","v":0}]
["","","","","","","","","",null,363,{"$f":"INDIRECT(ADDRESS($K354,L$4,1,1,\"3 - Savings Analysis\"))","v":0},{"$f":"INDIRECT(ADDRESS($K354,M$4,1,1,\"3 - Savings Analysis\"))","v":0},{"$f":"INDIRECT(ADDRESS($K354,N$4,1,1,\"3 - Savings Analysis\"))","v":0},{"$f":"INDIRECT(ADDRESS($K354,O$4,1,1,\"3 - Savings Analysis\"))","v":0},{"$f":"INDIRECT(ADDRESS($K354,P$4,1,1,\"3 - Savings Analysis\"))","v":0},{"$f":"INDIRECT(ADDRESS($K354,Q$4,1,1,\"3 - Savings Analysis\"))","v":0},{"$f":"INDIRECT(ADDRESS($K354,R$4,1,1,\"3 - Savings Analysis\"))","v":0},{"$f":"INDIRECT(ADDRESS($K354,S$4,1,1,\"3 - Savings Analysis\"))","v":0},{"$f":"INDIRECT(ADDRESS($K354,T$4,1,1,\"3 - Savings Analysis\"))","v":0}]
["","","","","","","","","",null,364,{"$f":"INDIRECT(ADDRESS($K355,L$4,1,1,\"3 - Savings Analysis\"))","v":0},{"$f":"INDIRECT(ADDRESS($K355,M$4,1,1,\"3 - Savings Analysis\"))","v":0},{"$f":"INDIRECT(ADDRESS($K355,N$4,1,1,\"3 - Savings Analysis\"))","v":0},{"$f":"INDIRECT(ADDRESS($K355,O$4,1,1,\"3 - Savings Analysis\"))","v":0},{"$f":"INDIRECT(ADDRESS($K355,P$4,1,1,\"3 - Savings Analysis\"))","v":0},{"$f":"INDIRECT(ADDRESS($K355,Q$4,1,1,\"3 - Savings Analysis\"))","v":0},{"$f":"INDIRECT(ADDRESS($K355,R$4,1,1,\"3 - Savings Analysis\"))","v":0},{"$f":"INDIRECT(ADDRESS($K355,S$4,1,1,\"3 - Savings Analysis\"))","v":0},{"$f":"INDIRECT(ADDRESS($K355,T$4,1,1,\"3 - Savings Analysis\"))","v":0}]
["","","","","","","","","",null,365,{"$f":"INDIRECT(ADDRESS($K356,L$4,1,1,\"3 - Savings Analysis\"))","v":0},{"$f":"INDIRECT(ADDRESS($K356,M$4,1,1,\"3 - Savings Analysis\"))","v":0},{"$f":"INDIRECT(ADDRESS($K356,N$4,1,1,\"3 - Savings Analysis\"))","v":0},{"$f":"INDIRECT(ADDRESS($K356,O$4,1,1,\"3 - Savings Analysis\"))","v":0},{"$f":"INDIRECT(ADDRESS($K356,P$4,1,1,\"3 - Savings Analysis\"))","v":0},{"$f":"INDIRECT(ADDRESS($K356,Q$4,1,1,\"3 - Savings Analysis\"))","v":0},{"$f":"INDIRECT(ADDRESS($K356,R$4,1,1,\"3 - Savings Analysis\"))","v":0},{"$f":"INDIRECT(ADDRESS($K356,S$4,1,1,\"3 - Savings Analysis\"))","v":0},{"$f":"INDIRECT(ADDRESS($K356,T$4,1,1,\"3 - Savings Analysis\"))","v":0}]
["","","","","","","","","",null,366,{"$f":"INDIRECT(ADDRESS($K357,L$4,1,1,\"3 - Savings Analysis\"))","v":0},{"$f":"INDIRECT(ADDRESS($K357,M$4,1,1,\"3 - Savings Analysis\"))","v":0},{"$f":"INDIRECT(ADDRESS($K357,N$4,1,1,\"3 - Savings Analysis\"))","v":0},{"$f":"INDIRECT(ADDRESS($K357,O$4,1,1,\"3 - Savings Analysis\"))","v":0},{"$f":"INDIRECT(ADDRESS($K357,P$4,1,1,\"3 - Savings Analysis\"))","v":0},{"$f":"INDIRECT(ADDRESS($K357,Q$4,1,1,\"3 - Savings Analysis\"))","v":0},{"$f":"INDIRECT(ADDRESS($K357,R$4,1,1,\"3 - Savings Analysis\"))","v":0},{"$f":"INDIRECT(ADDRESS($K357,S$4,1,1,\"3 - Savings Analysis\"))","v":0},{"$f":"INDIRECT(ADDRESS($K357,T$4,1,1,\"3 - Savings Analysis\"))","v":0}]
["","","","","","","","","",null,367,{"$f":"INDIRECT(ADDRESS($K358,L$4,1,1,\"3 - Savings Analysis\"))","v":0},{"$f":"INDIRECT(ADDRESS($K358,M$4,1,1,\"3 - Savings Analysis\"))","v":0},{"$f":"INDIRECT(ADDRESS($K358,N$4,1,1,\"3 - Savings Analysis\"))","v":0},{"$f":"INDIRECT(ADDRESS($K358,O$4,1,1,\"3 - Savings Analysis\"))","v":0},{"$f":"INDIRECT(ADDRESS($K358,P$4,1,1,\"3 - Savings Analysis\"))","v":0},{"$f":"INDIRECT(ADDRESS($K358,Q$4,1,1,\"3 - Savings Analysis\"))","v":0},{"$f":"INDIRECT(ADDRESS($K358,R$4,1,1,\"3 - Savings Analysis\"))","v":0},{"$f":"INDIRECT(ADDRESS($K358,S$4,1,1,\"3 - Savings Analysis\"))","v":0},{"$f":"INDIRECT(ADDRESS($K358,T$4,1,1,\"3 - Savings Analysis\"))","v":0}]
["","","","","","","","","",null,368,{"$f":"INDIRECT(ADDRESS($K359,L$4,1,1,\"3 - Savings Analysis\"))","v":0},{"$f":"INDIRECT(ADDRESS($K359,M$4,1,1,\"3 - Savings Analysis\"))","v":0},{"$f":"INDIRECT(ADDRESS($K359,N$4,1,1,\"3 - Savings Analysis\"))","v":0},{"$f":"INDIRECT(ADDRESS($K359,O$4,1,1,\"3 - Savings Analysis\"))","v":0},{"$f":"INDIRECT(ADDRESS($K359,P$4,1,1,\"3 - Savings Analysis\"))","v":0},{"$f":"INDIRECT(ADDRESS($K359,Q$4,1,1,\"3 - Savings Analysis\"))","v":0},{"$f":"INDIRECT(ADDRESS($K359,R$4,1,1,\"3 - Savings Analysis\"))","v":0},{"$f":"INDIRECT(ADDRESS($K359,S$4,1,1,\"3 - Savings Analysis\"))","v":0},{"$f":"INDIRECT(ADDRESS($K359,T$4,1,1,\"3 - Savings Analysis\"))","v":0}]
["","","","","","","","","",null,369,{"$f":"INDIRECT(ADDRESS($K360,L$4,1,1,\"3 - Savings Analysis\"))","v":0},{"$f":"INDIRECT(ADDRESS($K360,M$4,1,1,\"3 - Savings Analysis\"))","v":0},{"$f":"INDIRECT(ADDRESS($K360,N$4,1,1,\"3 - Savings Analysis\"))","v":0},{"$f":"INDIRECT(ADDRESS($K360,O$4,1,1,\"3 - Savings Analysis\"))","v":0},{"$f":"INDIRECT(ADDRESS($K360,P$4,1,1,\"3 - Savings Analysis\"))","v":0},{"$f":"INDIRECT(ADDRESS($K360,Q$4,1,1,\"3 - Savings Analysis\"))","v":0},{"$f":"INDIRECT(ADDRESS($K360,R$4,1,1,\"3 - Savings Analysis\"))","v":0},{"$f":"INDIRECT(ADDRESS($K360,S$4,1,1,\"3 - Savings Analysis\"))","v":0},{"$f":"INDIRECT(ADDRESS($K360,T$4,1,1,\"3 - Savings Analysis\"))","v":0}]
["","","","","","","","","",null,370,{"$f":"INDIRECT(ADDRESS($K361,L$4,1,1,\"3 - Savings Analysis\"))","v":0},{"$f":"INDIRECT(ADDRESS($K361,M$4,1,1,\"3 - Savings Analysis\"))","v":0},{"$f":"INDIRECT(ADDRESS($K361,N$4,1,1,\"3 - Savings Analysis\"))","v":0},{"$f":"INDIRECT(ADDRESS($K361,O$4,1,1,\"3 - Savings Analysis\"))","v":0},{"$f":"INDIRECT(ADDRESS($K361,P$4,1,1,\"3 - Savings Analysis\"))","v":0},{"$f":"INDIRECT(ADDRESS($K361,Q$4,1,1,\"3 - Savings Analysis\"))","v":0},{"$f":"INDIRECT(ADDRESS($K361,R$4,1,1,\"3 - Savings Analysis\"))","v":0},{"$f":"INDIRECT(ADDRESS($K361,S$4,1,1,\"3 - Savings Analysis\"))","v":0},{"$f":"INDIRECT(ADDRESS($K361,T$4,1,1,\"3 - Savings Analysis\"))","v":0}]
["","","","","","","","","",null,371,{"$f":"INDIRECT(ADDRESS($K362,L$4,1,1,\"3 - Savings Analysis\"))","v":0},{"$f":"INDIRECT(ADDRESS($K362,M$4,1,1,\"3 - Savings Analysis\"))","v":0},{"$f":"INDIRECT(ADDRESS($K362,N$4,1,1,\"3 - Savings Analysis\"))","v":0},{"$f":"INDIRECT(ADDRESS($K362,O$4,1,1,\"3 - Savings Analysis\"))","v":0},{"$f":"INDIRECT(ADDRESS($K362,P$4,1,1,\"3 - Savings Analysis\"))","v":0},{"$f":"INDIRECT(ADDRESS($K362,Q$4,1,1,\"3 - Savings Analysis\"))","v":0},{"$f":"INDIRECT(ADDRESS($K362,R$4,1,1,\"3 - Savings Analysis\"))","v":0},{"$f":"INDIRECT(ADDRESS($K362,S$4,1,1,\"3 - Savings Analysis\"))","v":0},{"$f":"INDIRECT(ADDRESS($K362,T$4,1,1,\"3 - Savings Analysis\"))","v":0}]
["","","","","","","","","",null,372,{"$f":"INDIRECT(ADDRESS($K363,L$4,1,1,\"3 - Savings Analysis\"))","v":0},{"$f":"INDIRECT(ADDRESS($K363,M$4,1,1,\"3 - Savings Analysis\"))","v":0},{"$f":"INDIRECT(ADDRESS($K363,N$4,1,1,\"3 - Savings Analysis\"))","v":0},{"$f":"INDIRECT(ADDRESS($K363,O$4,1,1,\"3 - Savings Analysis\"))","v":0},{"$f":"INDIRECT(ADDRESS($K363,P$4,1,1,\"3 - Savings Analysis\"))","v":0},{"$f":"INDIRECT(ADDRESS($K363,Q$4,1,1,\"3 - Savings Analysis\"))","v":0},{"$f":"INDIRECT(ADDRESS($K363,R$4,1,1,\"3 - Savings Analysis\"))","v":0},{"$f":"INDIRECT(ADDRESS($K363,S$4,1,1,\"3 - Savings Analysis\"))","v":0},{"$f":"INDIRECT(ADDRESS($K363,T$4,1,1,\"3 - Savings Analysis\"))","v":0}]
["","","","","","","","","",null,373,{"$f":"INDIRECT(ADDRESS($K364,L$4,1,1,\"3 - Savings Analysis\"))","v":0},{"$f":"INDIRECT(ADDRESS($K364,M$4,1,1,\"3 - Savings Analysis\"))","v":0},{"$f":"INDIRECT(ADDRESS($K364,N$4,1,1,\"3 - Savings Analysis\"))","v":0},{"$f":"INDIRECT(ADDRESS($K364,O$4,1,1,\"3 - Savings Analysis\"))","v":0},{"$f":"INDIRECT(ADDRESS($K364,P$4,1,1,\"3 - Savings Analysis\"))","v":0},{"$f":"INDIRECT(ADDRESS($K364,Q$4,1,1,\"3 - Savings Analysis\"))","v":0},{"$f":"INDIRECT(ADDRESS($K364,R$4,1,1,\"3 - Savings Analysis\"))","v":0},{"$f":"INDIRECT(ADDRESS($K364,S$4,1,1,\"3 - Savings Analysis\"))","v":0},{"$f":"INDIRECT(ADDRESS($K364,T$4,1,1,\"3 - Savings Analysis\"))","v":0}]
["","","","","","","","","",null,374,{"$f":"INDIRECT(ADDRESS($K365,L$4,1,1,\"3 - Savings Analysis\"))","v":0},{"$f":"INDIRECT(ADDRESS($K365,M$4,1,1,\"3 - Savings Analysis\"))","v":0},{"$f":"INDIRECT(ADDRESS($K365,N$4,1,1,\"3 - Savings Analysis\"))","v":0},{"$f":"INDIRECT(ADDRESS($K365,O$4,1,1,\"3 - Savings Analysis\"))","v":0},{"$f":"INDIRECT(ADDRESS($K365,P$4,1,1,\"3 - Savings Analysis\"))","v":0},{"$f":"INDIRECT(ADDRESS($K365,Q$4,1,1,\"3 - Savings Analysis\"))","v":0},{"$f":"INDIRECT(ADDRESS($K365,R$4,1,1,\"3 - Savings Analysis\"))","v":0},{"$f":"INDIRECT(ADDRESS($K365,S$4,1,1,\"3 - Savings Analysis\"))","v":0},{"$f":"INDIRECT(ADDRESS($K365,T$4,1,1,\"3 - Savings Analysis\"))","v":0}]
["","","","","","","","","",null,375,{"$f":"INDIRECT(ADDRESS($K366,L$4,1,1,\"3 - Savings Analysis\"))","v":0},{"$f":"INDIRECT(ADDRESS($K366,M$4,1,1,\"3 - Savings Analysis\"))","v":0},{"$f":"INDIRECT(ADDRESS($K366,N$4,1,1,\"3 - Savings Analysis\"))","v":0},{"$f":"INDIRECT(ADDRESS($K366,O$4,1,1,\"3 - Savings Analysis\"))","v":0},{"$f":"INDIRECT(ADDRESS($K366,P$4,1,1,\"3 - Savings Analysis\"))","v":0},{"$f":"INDIRECT(ADDRESS($K366,Q$4,1,1,\"3 - Savings Analysis\"))","v":0},{"$f":"INDIRECT(ADDRESS($K366,R$4,1,1,\"3 - Savings Analysis\"))","v":0},{"$f":"INDIRECT(ADDRESS($K366,S$4,1,1,\"3 - Savings Analysis\"))","v":0},{"$f":"INDIRECT(ADDRESS($K366,T$4,1,1,\"3 - Savings Analysis\"))","v":0}]
["","","","","","","","","",null,376,{"$f":"INDIRECT(ADDRESS($K367,L$4,1,1,\"3 - Savings Analysis\"))","v":0},{"$f":"INDIRECT(ADDRESS($K367,M$4,1,1,\"3 - Savings Analysis\"))","v":0},{"$f":"INDIRECT(ADDRESS($K367,N$4,1,1,\"3 - Savings Analysis\"))","v":0},{"$f":"INDIRECT(ADDRESS($K367,O$4,1,1,\"3 - Savings Analysis\"))","v":0},{"$f":"INDIRECT(ADDRESS($K367,P$4,1,1,\"3 - Savings Analysis\"))","v":0},{"$f":"INDIRECT(ADDRESS($K367,Q$4,1,1,\"3 - Savings Analysis\"))","v":0},{"$f":"INDIRECT(ADDRESS($K367,R$4,1,1,\"3 - Savings Analysis\"))","v":0},{"$f":"INDIRECT(ADDRESS($K367,S$4,1,1,\"3 - Savings Analysis\"))","v":0},{"$f":"INDIRECT(ADDRESS($K367,T$4,1,1,\"3 - Savings Analysis\"))","v":0}]
["","","","","","","","","",null,377,{"$f":"INDIRECT(ADDRESS($K368,L$4,1,1,\"3 - Savings Analysis\"))","v":0},{"$f":"INDIRECT(ADDRESS($K368,M$4,1,1,\"3 - Savings Analysis\"))","v":0},{"$f":"INDIRECT(ADDRESS($K368,N$4,1,1,\"3 - Savings Analysis\"))","v":0},{"$f":"INDIRECT(ADDRESS($K368,O$4,1,1,\"3 - Savings Analysis\"))","v":0},{"$f":"INDIRECT(ADDRESS($K368,P$4,1,1,\"3 - Savings Analysis\"))","v":0},{"$f":"INDIRECT(ADDRESS($K368,Q$4,1,1,\"3 - Savings Analysis\"))","v":0},{"$f":"INDIRECT(ADDRESS($K368,R$4,1,1,\"3 - Savings Analysis\"))","v":0},{"$f":"INDIRECT(ADDRESS($K368,S$4,1,1,\"3 - Savings Analysis\"))","v":0},{"$f":"INDIRECT(ADDRESS($K368,T$4,1,1,\"3 - Savings Analysis\"))","v":0}]
["","","","","","","","","",null,378,{"$f":"INDIRECT(ADDRESS($K369,L$4,1,1,\"3 - Savings Analysis\"))","v":0},{"$f":"INDIRECT(ADDRESS($K369,M$4,1,1,\"3 - Savings Analysis\"))","v":0},{"$f":"INDIRECT(ADDRESS($K369,N$4,1,1,\"3 - Savings Analysis\"))","v":0},{"$f":"INDIRECT(ADDRESS($K369,O$4,1,1,\"3 - Savings Analysis\"))","v":0},{"$f":"INDIRECT(ADDRESS($K369,P$4,1,1,\"3 - Savings Analysis\"))","v":0},{"$f":"INDIRECT(ADDRESS($K369,Q$4,1,1,\"3 - Savings Analysis\"))","v":0},{"$f":"INDIRECT(ADDRESS($K369,R$4,1,1,\"3 - Savings Analysis\"))","v":0},{"$f":"INDIRECT(ADDRESS($K369,S$4,1,1,\"3 - Savings Analysis\"))","v":0},{"$f":"INDIRECT(ADDRESS($K369,T$4,1,1,\"3 - Savings Analysis\"))","v":0}]
["","","","","","","","","",null,379,{"$f":"INDIRECT(ADDRESS($K370,L$4,1,1,\"3 - Savings Analysis\"))","v":0},{"$f":"INDIRECT(ADDRESS($K370,M$4,1,1,\"3 - Savings Analysis\"))","v":0},{"$f":"INDIRECT(ADDRESS($K370,N$4,1,1,\"3 - Savings Analysis\"))","v":0},{"$f":"INDIRECT(ADDRESS($K370,O$4,1,1,\"3 - Savings Analysis\"))","v":0},{"$f":"INDIRECT(ADDRESS($K370,P$4,1,1,\"3 - Savings Analysis\"))","v":0},{"$f":"INDIRECT(ADDRESS($K370,Q$4,1,1,\"3 - Savings Analysis\"))","v":0},{"$f":"INDIRECT(ADDRESS($K370,R$4,1,1,\"3 - Savings Analysis\"))","v":0},{"$f":"INDIRECT(ADDRESS($K370,S$4,1,1,\"3 - Savings Analysis\"))","v":0},{"$f":"INDIRECT(ADDRESS($K370,T$4,1,1,\"3 - Savings Analysis\"))","v":0}]
["","","","","","","","","",null,380,{"$f":"INDIRECT(ADDRESS($K371,L$4,1,1,\"3 - Savings Analysis\"))","v":0},{"$f":"INDIRECT(ADDRESS($K371,M$4,1,1,\"3 - Savings Analysis\"))","v":0},{"$f":"INDIRECT(ADDRESS($K371,N$4,1,1,\"3 - Savings Analysis\"))","v":0},{"$f":"INDIRECT(ADDRESS($K371,O$4,1,1,\"3 - Savings Analysis\"))","v":0},{"$f":"INDIRECT(ADDRESS($K371,P$4,1,1,\"3 - Savings Analysis\"))","v":0},{"$f":"INDIRECT(ADDRESS($K371,Q$4,1,1,\"3 - Savings Analysis\"))","v":0},{"$f":"INDIRECT(ADDRESS($K371,R$4,1,1,\"3 - Savings Analysis\"))","v":0},{"$f":"INDIRECT(ADDRESS($K371,S$4,1,1,\"3 - Savings Analysis\"))","v":0},{"$f":"INDIRECT(ADDRESS($K371,T$4,1,1,\"3 - Savings Analysis\"))","v":0}]
["","","","","","","","","",null,381,{"$f":"INDIRECT(ADDRESS($K372,L$4,1,1,\"3 - Savings Analysis\"))","v":0},{"$f":"INDIRECT(ADDRESS($K372,M$4,1,1,\"3 - Savings Analysis\"))","v":0},{"$f":"INDIRECT(ADDRESS($K372,N$4,1,1,\"3 - Savings Analysis\"))","v":0},{"$f":"INDIRECT(ADDRESS($K372,O$4,1,1,\"3 - Savings Analysis\"))","v":0},{"$f":"INDIRECT(ADDRESS($K372,P$4,1,1,\"3 - Savings Analysis\"))","v":0},{"$f":"INDIRECT(ADDRESS($K372,Q$4,1,1,\"3 - Savings Analysis\"))","v":0},{"$f":"INDIRECT(ADDRESS($K372,R$4,1,1,\"3 - Savings Analysis\"))","v":0},{"$f":"INDIRECT(ADDRESS($K372,S$4,1,1,\"3 - Savings Analysis\"))","v":0},{"$f":"INDIRECT(ADDRESS($K372,T$4,1,1,\"3 - Savings Analysis\"))","v":0}]
["","","","","","","","","",null,382,{"$f":"INDIRECT(ADDRESS($K373,L$4,1,1,\"3 - Savings Analysis\"))","v":0},{"$f":"INDIRECT(ADDRESS($K373,M$4,1,1,\"3 - Savings Analysis\"))","v":0},{"$f":"INDIRECT(ADDRESS($K373,N$4,1,1,\"3 - Savings Analysis\"))","v":0},{"$f":"INDIRECT(ADDRESS($K373,O$4,1,1,\"3 - Savings Analysis\"))","v":0},{"$f":"INDIRECT(ADDRESS($K373,P$4,1,1,\"3 - Savings Analysis\"))","v":0},{"$f":"INDIRECT(ADDRESS($K373,Q$4,1,1,\"3 - Savings Analysis\"))","v":0},{"$f":"INDIRECT(ADDRESS($K373,R$4,1,1,\"3 - Savings Analysis\"))","v":0},{"$f":"INDIRECT(ADDRESS($K373,S$4,1,1,\"3 - Savings Analysis\"))","v":0},{"$f":"INDIRECT(ADDRESS($K373,T$4,1,1,\"3 - Savings Analysis\"))","v":0}]
["","","","","","","","","",null,383,{"$f":"INDIRECT(ADDRESS($K374,L$4,1,1,\"3 - Savings Analysis\"))","v":0},{"$f":"INDIRECT(ADDRESS($K374,M$4,1,1,\"3 - Savings Analysis\"))","v":0},{"$f":"INDIRECT(ADDRESS($K374,N$4,1,1,\"3 - Savings Analysis\"))","v":0},{"$f":"INDIRECT(ADDRESS($K374,O$4,1,1,\"3 - Savings Analysis\"))","v":0},{"$f":"INDIRECT(ADDRESS($K374,P$4,1,1,\"3 - Savings Analysis\"))","v":0},{"$f":"INDIRECT(ADDRESS($K374,Q$4,1,1,\"3 - Savings Analysis\"))","v":0},{"$f":"INDIRECT(ADDRESS($K374,R$4,1,1,\"3 - Savings Analysis\"))","v":0},{"$f":"INDIRECT(ADDRESS($K374,S$4,1,1,\"3 - Savings Analysis\"))","v":0},{"$f":"INDIRECT(ADDRESS($K374,T$4,1,1,\"3 - Savings Analysis\"))","v":0}]
["","","","","","","","","",null,384,{"$f":"INDIRECT(ADDRESS($K375,L$4,1,1,\"3 - Savings Analysis\"))","v":0},{"$f":"INDIRECT(ADDRESS($K375,M$4,1,1,\"3 - Savings Analysis\"))","v":0},{"$f":"INDIRECT(ADDRESS($K375,N$4,1,1,\"3 - Savings Analysis\"))","v":0},{"$f":"INDIRECT(ADDRESS($K375,O$4,1,1,\"3 - Savings Analysis\"))","v":0},{"$f":"INDIRECT(ADDRESS($K375,P$4,1,1,\"3 - Savings Analysis\"))","v":0},{"$f":"INDIRECT(ADDRESS($K375,Q$4,1,1,\"3 - Savings Analysis\"))","v":0},{"$f":"INDIRECT(ADDRESS($K375,R$4,1,1,\"3 - Savings Analysis\"))","v":0},{"$f":"INDIRECT(ADDRESS($K375,S$4,1,1,\"3 - Savings Analysis\"))","v":0},{"$f":"INDIRECT(ADDRESS($K375,T$4,1,1,\"3 - Savings Analysis\"))","v":0}]
["","","","","","","","","",null,385,{"$f":"INDIRECT(ADDRESS($K376,L$4,1,1,\"3 - Savings Analysis\"))","v":0},{"$f":"INDIRECT(ADDRESS($K376,M$4,1,1,\"3 - Savings Analysis\"))","v":0},{"$f":"INDIRECT(ADDRESS($K376,N$4,1,1,\"3 - Savings Analysis\"))","v":0},{"$f":"INDIRECT(ADDRESS($K376,O$4,1,1,\"3 - Savings Analysis\"))","v":0},{"$f":"INDIRECT(ADDRESS($K376,P$4,1,1,\"3 - Savings Analysis\"))","v":0},{"$f":"INDIRECT(ADDRESS($K376,Q$4,1,1,\"3 - Savings Analysis\"))","v":0},{"$f":"INDIRECT(ADDRESS($K376,R$4,1,1,\"3 - Savings Analysis\"))","v":0},{"$f":"INDIRECT(ADDRESS($K376,S$4,1,1,\"3 - Savings Analysis\"))","v":0},{"$f":"INDIRECT(ADDRESS($K376,T$4,1,1,\"3 - Savings Analysis\"))","v":0}]
["","","","","","","","","",null,386,{"$f":"INDIRECT(ADDRESS($K377,L$4,1,1,\"3 - Savings Analysis\"))","v":0},{"$f":"INDIRECT(ADDRESS($K377,M$4,1,1,\"3 - Savings Analysis\"))","v":0},{"$f":"INDIRECT(ADDRESS($K377,N$4,1,1,\"3 - Savings Analysis\"))","v":0},{"$f":"INDIRECT(ADDRESS($K377,O$4,1,1,\"3 - Savings Analysis\"))","v":0},{"$f":"INDIRECT(ADDRESS($K377,P$4,1,1,\"3 - Savings Analysis\"))","v":0},{"$f":"INDIRECT(ADDRESS($K377,Q$4,1,1,\"3 - Savings Analysis\"))","v":0},{"$f":"INDIRECT(ADDRESS($K377,R$4,1,1,\"3 - Savings Analysis\"))","v":0},{"$f":"INDIRECT(ADDRESS($K377,S$4,1,1,\"3 - Savings Analysis\"))","v":0},{"$f":"INDIRECT(ADDRESS($K377,T$4,1,1,\"3 - Savings Analysis\"))","v":0}]
["","","","","","","","","",null,387,{"$f":"INDIRECT(ADDRESS($K378,L$4,1,1,\"3 - Savings Analysis\"))","v":0},{"$f":"INDIRECT(ADDRESS($K378,M$4,1,1,\"3 - Savings Analysis\"))","v":0},{"$f":"INDIRECT(ADDRESS($K378,N$4,1,1,\"3 - Savings Analysis\"))","v":0},{"$f":"INDIRECT(ADDRESS($K378,O$4,1,1,\"3 - Savings Analysis\"))","v":0},{"$f":"INDIRECT(ADDRESS($K378,P$4,1,1,\"3 - Savings Analysis\"))","v":0},{"$f":"INDIRECT(ADDRESS($K378,Q$4,1,1,\"3 - Savings Analysis\"))","v":0},{"$f":"INDIRECT(ADDRESS($K378,R$4,1,1,\"3 - Savings Analysis\"))","v":0},{"$f":"INDIRECT(ADDRESS($K378,S$4,1,1,\"3 - Savings Analysis\"))","v":0},{"$f":"INDIRECT(ADDRESS($K378,T$4,1,1,\"3 - Savings Analysis\"))","v":0}]
["","","","","","","","","",null,388,{"$f":"INDIRECT(ADDRESS($K379,L$4,1,1,\"3 - Savings Analysis\"))","v":0},{"$f":"INDIRECT(ADDRESS($K379,M$4,1,1,\"3 - Savings Analysis\"))","v":0},{"$f":"INDIRECT(ADDRESS($K379,N$4,1,1,\"3 - Savings Analysis\"))","v":0},{"$f":"INDIRECT(ADDRESS($K379,O$4,1,1,\"3 - Savings Analysis\"))","v":0},{"$f":"INDIRECT(ADDRESS($K379,P$4,1,1,\"3 - Savings Analysis\"))","v":0},{"$f":"INDIRECT(ADDRESS($K379,Q$4,1,1,\"3 - Savings Analysis\"))","v":0},{"$f":"INDIRECT(ADDRESS($K379,R$4,1,1,\"3 - Savings Analysis\"))","v":0},{"$f":"INDIRECT(ADDRESS($K379,S$4,1,1,\"3 - Savings Analysis\"))","v":0},{"$f":"INDIRECT(ADDRESS($K379,T$4,1,1,\"3 - Savings Analysis\"))","v":0}]
["","","","","","","","","",null,389,{"$f":"INDIRECT(ADDRESS($K380,L$4,1,1,\"3 - Savings Analysis\"))","v":0},{"$f":"INDIRECT(ADDRESS($K380,M$4,1,1,\"3 - Savings Analysis\"))","v":0},{"$f":"INDIRECT(ADDRESS($K380,N$4,1,1,\"3 - Savings Analysis\"))","v":0},{"$f":"INDIRECT(ADDRESS($K380,O$4,1,1,\"3 - Savings Analysis\"))","v":0},{"$f":"INDIRECT(ADDRESS($K380,P$4,1,1,\"3 - Savings Analysis\"))","v":0},{"$f":"INDIRECT(ADDRESS($K380,Q$4,1,1,\"3 - Savings Analysis\"))","v":0},{"$f":"INDIRECT(ADDRESS($K380,R$4,1,1,\"3 - Savings Analysis\"))","v":0},{"$f":"INDIRECT(ADDRESS($K380,S$4,1,1,\"3 - Savings Analysis\"))","v":0},{"$f":"INDIRECT(ADDRESS($K380,T$4,1,1,\"3 - Savings Analysis\"))","v":0}]
["","","","","","","","","",null,390,{"$f":"INDIRECT(ADDRESS($K381,L$4,1,1,\"3 - Savings Analysis\"))","v":0},{"$f":"INDIRECT(ADDRESS($K381,M$4,1,1,\"3 - Savings Analysis\"))","v":0},{"$f":"INDIRECT(ADDRESS($K381,N$4,1,1,\"3 - Savings Analysis\"))","v":0},{"$f":"INDIRECT(ADDRESS($K381,O$4,1,1,\"3 - Savings Analysis\"))","v":0},{"$f":"INDIRECT(ADDRESS($K381,P$4,1,1,\"3 - Savings Analysis\"))","v":0},{"$f":"INDIRECT(ADDRESS($K381,Q$4,1,1,\"3 - Savings Analysis\"))","v":0},{"$f":"INDIRECT(ADDRESS($K381,R$4,1,1,\"3 - Savings Analysis\"))","v":0},{"$f":"INDIRECT(ADDRESS($K381,S$4,1,1,\"3 - Savings Analysis\"))","v":0},{"$f":"INDIRECT(ADDRESS($K381,T$4,1,1,\"3 - Savings Analysis\"))","v":0}]
["","","","","","","","","",null,391,{"$f":"INDIRECT(ADDRESS($K382,L$4,1,1,\"3 - Savings Analysis\"))","v":0},{"$f":"INDIRECT(ADDRESS($K382,M$4,1,1,\"3 - Savings Analysis\"))","v":0},{"$f":"INDIRECT(ADDRESS($K382,N$4,1,1,\"3 - Savings Analysis\"))","v":0},{"$f":"INDIRECT(ADDRESS($K382,O$4,1,1,\"3 - Savings Analysis\"))","v":0},{"$f":"INDIRECT(ADDRESS($K382,P$4,1,1,\"3 - Savings Analysis\"))","v":0},{"$f":"INDIRECT(ADDRESS($K382,Q$4,1,1,\"3 - Savings Analysis\"))","v":0},{"$f":"INDIRECT(ADDRESS($K382,R$4,1,1,\"3 - Savings Analysis\"))","v":0},{"$f":"INDIRECT(ADDRESS($K382,S$4,1,1,\"3 - Savings Analysis\"))","v":0},{"$f":"INDIRECT(ADDRESS($K382,T$4,1,1,\"3 - Savings Analysis\"))","v":0}]
["","","","","","","","","",null,392,{"$f":"INDIRECT(ADDRESS($K383,L$4,1,1,\"3 - Savings Analysis\"))","v":0},{"$f":"INDIRECT(ADDRESS($K383,M$4,1,1,\"3 - Savings Analysis\"))","v":0},{"$f":"INDIRECT(ADDRESS($K383,N$4,1,1,\"3 - Savings Analysis\"))","v":0},{"$f":"INDIRECT(ADDRESS($K383,O$4,1,1,\"3 - Savings Analysis\"))","v":0},{"$f":"INDIRECT(ADDRESS($K383,P$4,1,1,\"3 - Savings Analysis\"))","v":0},{"$f":"INDIRECT(ADDRESS($K383,Q$4,1,1,\"3 - Savings Analysis\"))","v":0},{"$f":"INDIRECT(ADDRESS($K383,R$4,1,1,\"3 - Savings Analysis\"))","v":0},{"$f":"INDIRECT(ADDRESS($K383,S$4,1,1,\"3 - Savings Analysis\"))","v":0},{"$f":"INDIRECT(ADDRESS($K383,T$4,1,1,\"3 - Savings Analysis\"))","v":0}]
["","","","","","","","","",null,393,{"$f":"INDIRECT(ADDRESS($K384,L$4,1,1,\"3 - Savings Analysis\"))","v":0},{"$f":"INDIRECT(ADDRESS($K384,M$4,1,1,\"3 - Savings Analysis\"))","v":0},{"$f":"INDIRECT(ADDRESS($K384,N$4,1,1,\"3 - Savings Analysis\"))","v":0},{"$f":"INDIRECT(ADDRESS($K384,O$4,1,1,\"3 - Savings Analysis\"))","v":0},{"$f":"INDIRECT(ADDRESS($K384,P$4,1,1,\"3 - Savings Analysis\"))","v":0},{"$f":"INDIRECT(ADDRESS($K384,Q$4,1,1,\"3 - Savings Analysis\"))","v":0},{"$f":"INDIRECT(ADDRESS($K384,R$4,1,1,\"3 - Savings Analysis\"))","v":0},{"$f":"INDIRECT(ADDRESS($K384,S$4,1,1,\"3 - Savings Analysis\"))","v":0},{"$f":"INDIRECT(ADDRESS($K384,T$4,1,1,\"3 - Savings Analysis\"))","v":0}]
["","","","","","","","","",null,394,{"$f":"INDIRECT(ADDRESS($K385,L$4,1,1,\"3 - Savings Analysis\"))","v":0},{"$f":"INDIRECT(ADDRESS($K385,M$4,1,1,\"3 - Savings Analysis\"))","v":0},{"$f":"INDIRECT(ADDRESS($K385,N$4,1,1,\"3 - Savings Analysis\"))","v":0},{"$f":"INDIRECT(ADDRESS($K385,O$4,1,1,\"3 - Savings Analysis\"))","v":0},{"$f":"INDIRECT(ADDRESS($K385,P$4,1,1,\"3 - Savings Analysis\"))","v":0},{"$f":"INDIRECT(ADDRESS($K385,Q$4,1,1,\"3 - Savings Analysis\"))","v":0},{"$f":"INDIRECT(ADDRESS($K385,R$4,1,1,\"3 - Savings Analysis\"))","v":0},{"$f":"INDIRECT(ADDRESS($K385,S$4,1,1,\"3 - Savings Analysis\"))","v":0},{"$f":"INDIRECT(ADDRESS($K385,T$4,1,1,\"3 - Savings Analysis\"))","v":0}]
["","","","","","","","","",null,395,{"$f":"INDIRECT(ADDRESS($K386,L$4,1,1,\"3 - Savings Analysis\"))","v":0},{"$f":"INDIRECT(ADDRESS($K386,M$4,1,1,\"3 - Savings Analysis\"))","v":0},{"$f":"INDIRECT(ADDRESS($K386,N$4,1,1,\"3 - Savings Analysis\"))","v":0},{"$f":"INDIRECT(ADDRESS($K386,O$4,1,1,\"3 - Savings Analysis\"))","v":0},{"$f":"INDIRECT(ADDRESS($K386,P$4,1,1,\"3 - Savings Analysis\"))","v":0},{"$f":"INDIRECT(ADDRESS($K386,Q$4,1,1,\"3 - Savings Analysis\"))","v":0},{"$f":"INDIRECT(ADDRESS($K386,R$4,1,1,\"3 - Savings Analysis\"))","v":0},{"$f":"INDIRECT(ADDRESS($K386,S$4,1,1,\"3 - Savings Analysis\"))","v":0},{"$f":"INDIRECT(ADDRESS($K386,T$4,1,1,\"3 - Savings Analysis\"))","v":0}]
["","","","","","","","","",null,396,{"$f":"INDIRECT(ADDRESS($K387,L$4,1,1,\"3 - Savings Analysis\"))","v":0},{"$f":"INDIRECT(ADDRESS($K387,M$4,1,1,\"3 - Savings Analysis\"))","v":0},{"$f":"INDIRECT(ADDRESS($K387,N$4,1,1,\"3 - Savings Analysis\"))","v":0},{"$f":"INDIRECT(ADDRESS($K387,O$4,1,1,\"3 - Savings Analysis\"))","v":0},{"$f":"INDIRECT(ADDRESS($K387,P$4,1,1,\"3 - Savings Analysis\"))","v":0},{"$f":"INDIRECT(ADDRESS($K387,Q$4,1,1,\"3 - Savings Analysis\"))","v":0},{"$f":"INDIRECT(ADDRESS($K387,R$4,1,1,\"3 - Savings Analysis\"))","v":0},{"$f":"INDIRECT(ADDRESS($K387,S$4,1,1,\"3 - Savings Analysis\"))","v":0},{"$f":"INDIRECT(ADDRESS($K387,T$4,1,1,\"3 - Savings Analysis\"))","v":0}]
["","","","","","","","","",null,397,{"$f":"INDIRECT(ADDRESS($K388,L$4,1,1,\"3 - Savings Analysis\"))","v":0},{"$f":"INDIRECT(ADDRESS($K388,M$4,1,1,\"3 - Savings Analysis\"))","v":0},{"$f":"INDIRECT(ADDRESS($K388,N$4,1,1,\"3 - Savings Analysis\"))","v":0},{"$f":"INDIRECT(ADDRESS($K388,O$4,1,1,\"3 - Savings Analysis\"))","v":0},{"$f":"INDIRECT(ADDRESS($K388,P$4,1,1,\"3 - Savings Analysis\"))","v":0},{"$f":"INDIRECT(ADDRESS($K388,Q$4,1,1,\"3 - Savings Analysis\"))","v":0},{"$f":"INDIRECT(ADDRESS($K388,R$4,1,1,\"3 - Savings Analysis\"))","v":0},{"$f":"INDIRECT(ADDRESS($K388,S$4,1,1,\"3 - Savings Analysis\"))","v":0},{"$f":"INDIRECT(ADDRESS($K388,T$4,1,1,\"3 - Savings Analysis\"))","v":0}]
["","","","","","","","","",null,398,{"$f":"INDIRECT(ADDRESS($K389,L$4,1,1,\"3 - Savings Analysis\"))","v":0},{"$f":"INDIRECT(ADDRESS($K389,M$4,1,1,\"3 - Savings Analysis\"))","v":0},{"$f":"INDIRECT(ADDRESS($K389,N$4,1,1,\"3 - Savings Analysis\"))","v":0},{"$f":"INDIRECT(ADDRESS($K389,O$4,1,1,\"3 - Savings Analysis\"))","v":0},{"$f":"INDIRECT(ADDRESS($K389,P$4,1,1,\"3 - Savings Analysis\"))","v":0},{"$f":"INDIRECT(ADDRESS($K389,Q$4,1,1,\"3 - Savings Analysis\"))","v":0},{"$f":"INDIRECT(ADDRESS($K389,R$4,1,1,\"3 - Savings Analysis\"))","v":0},{"$f":"INDIRECT(ADDRESS($K389,S$4,1,1,\"3 - Savings Analysis\"))","v":0},{"$f":"INDIRECT(ADDRESS($K389,T$4,1,1,\"3 - Savings Analysis\"))","v":0}]
["","","","","","","","","",null,399,{"$f":"INDIRECT(ADDRESS($K390,L$4,1,1,\"3 - Savings Analysis\"))","v":0},{"$f":"INDIRECT(ADDRESS($K390,M$4,1,1,\"3 - Savings Analysis\"))","v":0},{"$f":"INDIRECT(ADDRESS($K390,N$4,1,1,\"3 - Savings Analysis\"))","v":0},{"$f":"INDIRECT(ADDRESS($K390,O$4,1,1,\"3 - Savings Analysis\"))","v":0},{"$f":"INDIRECT(ADDRESS($K390,P$4,1,1,\"3 - Savings Analysis\"))","v":0},{"$f":"INDIRECT(ADDRESS($K390,Q$4,1,1,\"3 - Savings Analysis\"))","v":0},{"$f":"INDIRECT(ADDRESS($K390,R$4,1,1,\"3 - Savings Analysis\"))","v":0},{"$f":"INDIRECT(ADDRESS($K390,S$4,1,1,\"3 - Savings Analysis\"))","v":0},{"$f":"INDIRECT(ADDRESS($K390,T$4,1,1,\"3 - Savings Analysis\"))","v":0}]
["","","","","","","","","",null,400,{"$f":"INDIRECT(ADDRESS($K391,L$4,1,1,\"3 - Savings Analysis\"))","v":0},{"$f":"INDIRECT(ADDRESS($K391,M$4,1,1,\"3 - Savings Analysis\"))","v":0},{"$f":"INDIRECT(ADDRESS($K391,N$4,1,1,\"3 - Savings Analysis\"))","v":0},{"$f":"INDIRECT(ADDRESS($K391,O$4,1,1,\"3 - Savings Analysis\"))","v":0},{"$f":"INDIRECT(ADDRESS($K391,P$4,1,1,\"3 - Savings Analysis\"))","v":0},{"$f":"INDIRECT(ADDRESS($K391,Q$4,1,1,\"3 - Savings Analysis\"))","v":0},{"$f":"INDIRECT(ADDRESS($K391,R$4,1,1,\"3 - Savings Analysis\"))","v":0},{"$f":"INDIRECT(ADDRESS($K391,S$4,1,1,\"3 - Savings Analysis\"))","v":0},{"$f":"INDIRECT(ADDRESS($K391,T$4,1,1,\"3 - Savings Analysis\"))","v":0}]
["","","","","","","","","",null,401,{"$f":"INDIRECT(ADDRESS($K392,L$4,1,1,\"3 - Savings Analysis\"))","v":0},{"$f":"INDIRECT(ADDRESS($K392,M$4,1,1,\"3 - Savings Analysis\"))","v":0},{"$f":"INDIRECT(ADDRESS($K392,N$4,1,1,\"3 - Savings Analysis\"))","v":0},{"$f":"INDIRECT(ADDRESS($K392,O$4,1,1,\"3 - Savings Analysis\"))","v":0},{"$f":"INDIRECT(ADDRESS($K392,P$4,1,1,\"3 - Savings Analysis\"))","v":0},{"$f":"INDIRECT(ADDRESS($K392,Q$4,1,1,\"3 - Savings Analysis\"))","v":0},{"$f":"INDIRECT(ADDRESS($K392,R$4,1,1,\"3 - Savings Analysis\"))","v":0},{"$f":"INDIRECT(ADDRESS($K392,S$4,1,1,\"3 - Savings Analysis\"))","v":0},{"$f":"INDIRECT(ADDRESS($K392,T$4,1,1,\"3 - Savings Analysis\"))","v":0}]
["","","","","","","","","",null,{"$f":"K392+1","v":402},{"$f":"INDIRECT(ADDRESS($K393,L$4,1,1,\"3 - Savings Analysis\"))","v":0},{"$f":"INDIRECT(ADDRESS($K393,M$4,1,1,\"3 - Savings Analysis\"))","v":0},{"$f":"INDIRECT(ADDRESS($K393,N$4,1,1,\"3 - Savings Analysis\"))","v":0},{"$f":"INDIRECT(ADDRESS($K393,O$4,1,1,\"3 - Savings Analysis\"))","v":0},{"$f":"INDIRECT(ADDRESS($K393,P$4,1,1,\"3 - Savings Analysis\"))","v":0},{"$f":"INDIRECT(ADDRESS($K393,Q$4,1,1,\"3 - Savings Analysis\"))","v":0},{"$f":"INDIRECT(ADDRESS($K393,R$4,1,1,\"3 - Savings Analysis\"))","v":0},{"$f":"INDIRECT(ADDRESS($K393,S$4,1,1,\"3 - Savings Analysis\"))","v":0},{"$f":"INDIRECT(ADDRESS($K393,T$4,1,1,\"3 - Savings Analysis\"))","v":0}]
["","","","","","","","","",null,403,{"$f":"INDIRECT(ADDRESS($K394,L$4,1,1,\"3 - Savings Analysis\"))","v":0},{"$f":"INDIRECT(ADDRESS($K394,M$4,1,1,\"3 - Savings Analysis\"))","v":0},{"$f":"INDIRECT(ADDRESS($K394,N$4,1,1,\"3 - Savings Analysis\"))","v":0},{"$f":"INDIRECT(ADDRESS($K394,O$4,1,1,\"3 - Savings Analysis\"))","v":0},{"$f":"INDIRECT(ADDRESS($K394,P$4,1,1,\"3 - Savings Analysis\"))","v":0},{"$f":"INDIRECT(ADDRESS($K394,Q$4,1,1,\"3 - Savings Analysis\"))","v":0},{"$f":"INDIRECT(ADDRESS($K394,R$4,1,1,\"3 - Savings Analysis\"))","v":0},{"$f":"INDIRECT(ADDRESS($K394,S$4,1,1,\"3 - Savings Analysis\"))","v":0},{"$f":"INDIRECT(ADDRESS($K394,T$4,1,1,\"3 - Savings Analysis\"))","v":0}]
["","","","","","","","","",null,404,{"$f":"INDIRECT(ADDRESS($K395,L$4,1,1,\"3 - Savings Analysis\"))","v":0},{"$f":"INDIRECT(ADDRESS($K395,M$4,1,1,\"3 - Savings Analysis\"))","v":0},{"$f":"INDIRECT(ADDRESS($K395,N$4,1,1,\"3 - Savings Analysis\"))","v":0},{"$f":"INDIRECT(ADDRESS($K395,O$4,1,1,\"3 - Savings Analysis\"))","v":0},{"$f":"INDIRECT(ADDRESS($K395,P$4,1,1,\"3 - Savings Analysis\"))","v":0},{"$f":"INDIRECT(ADDRESS($K395,Q$4,1,1,\"3 - Savings Analysis\"))","v":0},{"$f":"INDIRECT(ADDRESS($K395,R$4,1,1,\"3 - Savings Analysis\"))","v":0},{"$f":"INDIRECT(ADDRESS($K395,S$4,1,1,\"3 - Savings Analysis\"))","v":0},{"$f":"INDIRECT(ADDRESS($K395,T$4,1,1,\"3 - Savings Analysis\"))","v":0}]
["","","","","","","","","",null,405,{"$f":"INDIRECT(ADDRESS($K396,L$4,1,1,\"3 - Savings Analysis\"))","v":0},{"$f":"INDIRECT(ADDRESS($K396,M$4,1,1,\"3 - Savings Analysis\"))","v":0},{"$f":"INDIRECT(ADDRESS($K396,N$4,1,1,\"3 - Savings Analysis\"))","v":0},{"$f":"INDIRECT(ADDRESS($K396,O$4,1,1,\"3 - Savings Analysis\"))","v":0},{"$f":"INDIRECT(ADDRESS($K396,P$4,1,1,\"3 - Savings Analysis\"))","v":0},{"$f":"INDIRECT(ADDRESS($K396,Q$4,1,1,\"3 - Savings Analysis\"))","v":0},{"$f":"INDIRECT(ADDRESS($K396,R$4,1,1,\"3 - Savings Analysis\"))","v":0},{"$f":"INDIRECT(ADDRESS($K396,S$4,1,1,\"3 - Savings Analysis\"))","v":0},{"$f":"INDIRECT(ADDRESS($K396,T$4,1,1,\"3 - Savings Analysis\"))","v":0}]
[{"$f":"IF($K397<=$M$2,L397,\"\")","v":""},{"$f":"IF($K397<=$M$2,IF($A397=\"Total\",\"\",M397),\"\")","v":""},{"$f":"IF($K397<=$M$2,IF($A397=\"Total\",\"\",N397),\"\")","v":""},{"$f":"IF($K397<=$M$2,O397,\"\")","v":""},{"$f":"IF($K397<=$M$2,P397,\"\")","v":""},{"$f":"IF($K397<=$M$2,IF($A397=\"Total\",\"\",Q397),\"\")","v":""},{"$f":"IF($K397<=$M$2,IF($A397=\"Total\",\"\",R397),\"\")","v":""},{"$f":"IF($K397<=$M$2,IF($A397=\"Total\",\"\",IF($T397=0,\"\",S397)),\"\")","v":""},{"$f":"IF($K397<=$M$2,IF($A397=\"Total\",\"\",IF($T397=0,\"\",T397)),\"\")","v":""},null,406,{"$f":"INDIRECT(ADDRESS($K397,L$4,1,1,\"3 - Savings Analysis\"))","v":0},{"$f":"INDIRECT(ADDRESS($K397,M$4,1,1,\"3 - Savings Analysis\"))","v":0},{"$f":"INDIRECT(ADDRESS($K397,N$4,1,1,\"3 - Savings Analysis\"))","v":0},{"$f":"INDIRECT(ADDRESS($K397,O$4,1,1,\"3 - Savings Analysis\"))","v":0},{"$f":"INDIRECT(ADDRESS($K397,P$4,1,1,\"3 - Savings Analysis\"))","v":0},{"$f":"INDIRECT(ADDRESS($K397,Q$4,1,1,\"3 - Savings Analysis\"))","v":0},{"$f":"INDIRECT(ADDRESS($K397,R$4,1,1,\"3 - Savings Analysis\"))","v":0},{"$f":"INDIRECT(ADDRESS($K397,S$4,1,1,\"3 - Savings Analysis\"))","v":0},{"$f":"INDIRECT(ADDRESS($K397,T$4,1,1,\"3 - Savings Analysis\"))","v":0}]
["","","","","","","","","",null,407,{"$f":"INDIRECT(ADDRESS($K398,L$4,1,1,\"3 - Savings Analysis\"))","v":0},{"$f":"INDIRECT(ADDRESS($K398,M$4,1,1,\"3 - Savings Analysis\"))","v":0},{"$f":"INDIRECT(ADDRESS($K398,N$4,1,1,\"3 - Savings Analysis\"))","v":0},{"$f":"INDIRECT(ADDRESS($K398,O$4,1,1,\"3 - Savings Analysis\"))","v":0},{"$f":"INDIRECT(ADDRESS($K398,P$4,1,1,\"3 - Savings Analysis\"))","v":0},{"$f":"INDIRECT(ADDRESS($K398,Q$4,1,1,\"3 - Savings Analysis\"))","v":0},{"$f":"INDIRECT(ADDRESS($K398,R$4,1,1,\"3 - Savings Analysis\"))","v":0},{"$f":"INDIRECT(ADDRESS($K398,S$4,1,1,\"3 - Savings Analysis\"))","v":0},{"$f":"INDIRECT(ADDRESS($K398,T$4,1,1,\"3 - Savings Analysis\"))","v":0}]
["","","","","","","","","",null,408,{"$f":"INDIRECT(ADDRESS($K399,L$4,1,1,\"3 - Savings Analysis\"))","v":0},{"$f":"INDIRECT(ADDRESS($K399,M$4,1,1,\"3 - Savings Analysis\"))","v":0},{"$f":"INDIRECT(ADDRESS($K399,N$4,1,1,\"3 - Savings Analysis\"))","v":0},{"$f":"INDIRECT(ADDRESS($K399,O$4,1,1,\"3 - Savings Analysis\"))","v":0},{"$f":"INDIRECT(ADDRESS($K399,P$4,1,1,\"3 - Savings Analysis\"))","v":0},{"$f":"INDIRECT(ADDRESS($K399,Q$4,1,1,\"3 - Savings Analysis\"))","v":0},{"$f":"INDIRECT(ADDRESS($K399,R$4,1,1,\"3 - Savings Analysis\"))","v":0},{"$f":"INDIRECT(ADDRESS($K399,S$4,1,1,\"3 - Savings Analysis\"))","v":0},{"$f":"INDIRECT(ADDRESS($K399,T$4,1,1,\"3 - Savings Analysis\"))","v":0}]
["","","","","","","","","",null,409,{"$f":"INDIRECT(ADDRESS($K400,L$4,1,1,\"3 - Savings Analysis\"))","v":0},{"$f":"INDIRECT(ADDRESS($K400,M$4,1,1,\"3 - Savings Analysis\"))","v":0},{"$f":"INDIRECT(ADDRESS($K400,N$4,1,1,\"3 - Savings Analysis\"))","v":0},{"$f":"INDIRECT(ADDRESS($K400,O$4,1,1,\"3 - Savings Analysis\"))","v":0},{"$f":"INDIRECT(ADDRESS($K400,P$4,1,1,\"3 - Savings Analysis\"))","v":0},{"$f":"INDIRECT(ADDRESS($K400,Q$4,1,1,\"3 - Savings Analysis\"))","v":0},{"$f":"INDIRECT(ADDRESS($K400,R$4,1,1,\"3 - Savings Analysis\"))","v":0},{"$f":"INDIRECT(ADDRESS($K400,S$4,1,1,\"3 - Savings Analysis\"))","v":0},{"$f":"INDIRECT(ADDRESS($K400,T$4,1,1,\"3 - Savings Analysis\"))","v":0}]
["","","","","","","","","",null,410,{"$f":"INDIRECT(ADDRESS($K401,L$4,1,1,\"3 - Savings Analysis\"))","v":0},{"$f":"INDIRECT(ADDRESS($K401,M$4,1,1,\"3 - Savings Analysis\"))","v":0},{"$f":"INDIRECT(ADDRESS($K401,N$4,1,1,\"3 - Savings Analysis\"))","v":0},{"$f":"INDIRECT(ADDRESS($K401,O$4,1,1,\"3 - Savings Analysis\"))","v":0},{"$f":"INDIRECT(ADDRESS($K401,P$4,1,1,\"3 - Savings Analysis\"))","v":0},{"$f":"INDIRECT(ADDRESS($K401,Q$4,1,1,\"3 - Savings Analysis\"))","v":0},{"$f":"INDIRECT(ADDRESS($K401,R$4,1,1,\"3 - Savings Analysis\"))","v":0},{"$f":"INDIRECT(ADDRESS($K401,S$4,1,1,\"3 - Savings Analysis\"))","v":0},{"$f":"INDIRECT(ADDRESS($K401,T$4,1,1,\"3 - Savings Analysis\"))","v":0}]
["","","","","","","","","",null,411,{"$f":"INDIRECT(ADDRESS($K402,L$4,1,1,\"3 - Savings Analysis\"))","v":0},{"$f":"INDIRECT(ADDRESS($K402,M$4,1,1,\"3 - Savings Analysis\"))","v":0},{"$f":"INDIRECT(ADDRESS($K402,N$4,1,1,\"3 - Savings Analysis\"))","v":0},{"$f":"INDIRECT(ADDRESS($K402,O$4,1,1,\"3 - Savings Analysis\"))","v":0},{"$f":"INDIRECT(ADDRESS($K402,P$4,1,1,\"3 - Savings Analysis\"))","v":0},{"$f":"INDIRECT(ADDRESS($K402,Q$4,1,1,\"3 - Savings Analysis\"))","v":0},{"$f":"INDIRECT(ADDRESS($K402,R$4,1,1,\"3 - Savings Analysis\"))","v":0},{"$f":"INDIRECT(ADDRESS($K402,S$4,1,1,\"3 - Savings Analysis\"))","v":0},{"$f":"INDIRECT(ADDRESS($K402,T$4,1,1,\"3 - Savings Analysis\"))","v":0}]
["","","","","","","","","",null,412,{"$f":"INDIRECT(ADDRESS($K403,L$4,1,1,\"3 - Savings Analysis\"))","v":0},{"$f":"INDIRECT(ADDRESS($K403,M$4,1,1,\"3 - Savings Analysis\"))","v":0},{"$f":"INDIRECT(ADDRESS($K403,N$4,1,1,\"3 - Savings Analysis\"))","v":0},{"$f":"INDIRECT(ADDRESS($K403,O$4,1,1,\"3 - Savings Analysis\"))","v":0},{"$f":"INDIRECT(ADDRESS($K403,P$4,1,1,\"3 - Savings Analysis\"))","v":0},{"$f":"INDIRECT(ADDRESS($K403,Q$4,1,1,\"3 - Savings Analysis\"))","v":0},{"$f":"INDIRECT(ADDRESS($K403,R$4,1,1,\"3 - Savings Analysis\"))","v":0},{"$f":"INDIRECT(ADDRESS($K403,S$4,1,1,\"3 - Savings Analysis\"))","v":0},{"$f":"INDIRECT(ADDRESS($K403,T$4,1,1,\"3 - Savings Analysis\"))","v":0}]
["","","","","","","","","",null,413,{"$f":"INDIRECT(ADDRESS($K404,L$4,1,1,\"3 - Savings Analysis\"))","v":0},{"$f":"INDIRECT(ADDRESS($K404,M$4,1,1,\"3 - Savings Analysis\"))","v":0},{"$f":"INDIRECT(ADDRESS($K404,N$4,1,1,\"3 - Savings Analysis\"))","v":0},{"$f":"INDIRECT(ADDRESS($K404,O$4,1,1,\"3 - Savings Analysis\"))","v":0},{"$f":"INDIRECT(ADDRESS($K404,P$4,1,1,\"3 - Savings Analysis\"))","v":0},{"$f":"INDIRECT(ADDRESS($K404,Q$4,1,1,\"3 - Savings Analysis\"))","v":0},{"$f":"INDIRECT(ADDRESS($K404,R$4,1,1,\"3 - Savings Analysis\"))","v":0},{"$f":"INDIRECT(ADDRESS($K404,S$4,1,1,\"3 - Savings Analysis\"))","v":0},{"$f":"INDIRECT(ADDRESS($K404,T$4,1,1,\"3 - Savings Analysis\"))","v":0}]
["","","","","","","","","",null,414,{"$f":"INDIRECT(ADDRESS($K405,L$4,1,1,\"3 - Savings Analysis\"))","v":0},{"$f":"INDIRECT(ADDRESS($K405,M$4,1,1,\"3 - Savings Analysis\"))","v":0},{"$f":"INDIRECT(ADDRESS($K405,N$4,1,1,\"3 - Savings Analysis\"))","v":0},{"$f":"INDIRECT(ADDRESS($K405,O$4,1,1,\"3 - Savings Analysis\"))","v":0},{"$f":"INDIRECT(ADDRESS($K405,P$4,1,1,\"3 - Savings Analysis\"))","v":0},{"$f":"INDIRECT(ADDRESS($K405,Q$4,1,1,\"3 - Savings Analysis\"))","v":0},{"$f":"INDIRECT(ADDRESS($K405,R$4,1,1,\"3 - Savings Analysis\"))","v":0},{"$f":"INDIRECT(ADDRESS($K405,S$4,1,1,\"3 - Savings Analysis\"))","v":0},{"$f":"INDIRECT(ADDRESS($K405,T$4,1,1,\"3 - Savings Analysis\"))","v":0}]
["","","","","","","","","",null,415,{"$f":"INDIRECT(ADDRESS($K406,L$4,1,1,\"3 - Savings Analysis\"))","v":0},{"$f":"INDIRECT(ADDRESS($K406,M$4,1,1,\"3 - Savings Analysis\"))","v":0},{"$f":"INDIRECT(ADDRESS($K406,N$4,1,1,\"3 - Savings Analysis\"))","v":0},{"$f":"INDIRECT(ADDRESS($K406,O$4,1,1,\"3 - Savings Analysis\"))","v":0},{"$f":"INDIRECT(ADDRESS($K406,P$4,1,1,\"3 - Savings Analysis\"))","v":0},{"$f":"INDIRECT(ADDRESS($K406,Q$4,1,1,\"3 - Savings Analysis\"))","v":0},{"$f":"INDIRECT(ADDRESS($K406,R$4,1,1,\"3 - Savings Analysis\"))","v":0},{"$f":"INDIRECT(ADDRESS($K406,S$4,1,1,\"3 - Savings Analysis\"))","v":0},{"$f":"INDIRECT(ADDRESS($K406,T$4,1,1,\"3 - Savings Analysis\"))","v":0}]
["","","","","","","","","",null,416,{"$f":"INDIRECT(ADDRESS($K407,L$4,1,1,\"3 - Savings Analysis\"))","v":0},{"$f":"INDIRECT(ADDRESS($K407,M$4,1,1,\"3 - Savings Analysis\"))","v":0},{"$f":"INDIRECT(ADDRESS($K407,N$4,1,1,\"3 - Savings Analysis\"))","v":0},{"$f":"INDIRECT(ADDRESS($K407,O$4,1,1,\"3 - Savings Analysis\"))","v":0},{"$f":"INDIRECT(ADDRESS($K407,P$4,1,1,\"3 - Savings Analysis\"))","v":0},{"$f":"INDIRECT(ADDRESS($K407,Q$4,1,1,\"3 - Savings Analysis\"))","v":0},{"$f":"INDIRECT(ADDRESS($K407,R$4,1,1,\"3 - Savings Analysis\"))","v":0},{"$f":"INDIRECT(ADDRESS($K407,S$4,1,1,\"3 - Savings Analysis\"))","v":0},{"$f":"INDIRECT(ADDRESS($K407,T$4,1,1,\"3 - Savings Analysis\"))","v":0}]
["","","","","","","","","",null,417,{"$f":"INDIRECT(ADDRESS($K408,L$4,1,1,\"3 - Savings Analysis\"))","v":0},{"$f":"INDIRECT(ADDRESS($K408,M$4,1,1,\"3 - Savings Analysis\"))","v":0},{"$f":"INDIRECT(ADDRESS($K408,N$4,1,1,\"3 - Savings Analysis\"))","v":0},{"$f":"INDIRECT(ADDRESS($K408,O$4,1,1,\"3 - Savings Analysis\"))","v":0},{"$f":"INDIRECT(ADDRESS($K408,P$4,1,1,\"3 - Savings Analysis\"))","v":0},{"$f":"INDIRECT(ADDRESS($K408,Q$4,1,1,\"3 - Savings Analysis\"))","v":0},{"$f":"INDIRECT(ADDRESS($K408,R$4,1,1,\"3 - Savings Analysis\"))","v":0},{"$f":"INDIRECT(ADDRESS($K408,S$4,1,1,\"3 - Savings Analysis\"))","v":0},{"$f":"INDIRECT(ADDRESS($K408,T$4,1,1,\"3 - Savings Analysis\"))","v":0}]
["","","","","","","","","",null,418,{"$f":"INDIRECT(ADDRESS($K409,L$4,1,1,\"3 - Savings Analysis\"))","v":0},{"$f":"INDIRECT(ADDRESS($K409,M$4,1,1,\"3 - Savings Analysis\"))","v":0},{"$f":"INDIRECT(ADDRESS($K409,N$4,1,1,\"3 - Savings Analysis\"))","v":0},{"$f":"INDIRECT(ADDRESS($K409,O$4,1,1,\"3 - Savings Analysis\"))","v":0},{"$f":"INDIRECT(ADDRESS($K409,P$4,1,1,\"3 - Savings Analysis\"))","v":0},{"$f":"INDIRECT(ADDRESS($K409,Q$4,1,1,\"3 - Savings Analysis\"))","v":0},{"$f":"INDIRECT(ADDRESS($K409,R$4,1,1,\"3 - Savings Analysis\"))","v":0},{"$f":"INDIRECT(ADDRESS($K409,S$4,1,1,\"3 - Savings Analysis\"))","v":0},{"$f":"INDIRECT(ADDRESS($K409,T$4,1,1,\"3 - Savings Analysis\"))","v":0}]
["","","","","","","","","",null,419,{"$f":"INDIRECT(ADDRESS($K410,L$4,1,1,\"3 - Savings Analysis\"))","v":0},{"$f":"INDIRECT(ADDRESS($K410,M$4,1,1,\"3 - Savings Analysis\"))","v":0},{"$f":"INDIRECT(ADDRESS($K410,N$4,1,1,\"3 - Savings Analysis\"))","v":0},{"$f":"INDIRECT(ADDRESS($K410,O$4,1,1,\"3 - Savings Analysis\"))","v":0},{"$f":"INDIRECT(ADDRESS($K410,P$4,1,1,\"3 - Savings Analysis\"))","v":0},{"$f":"INDIRECT(ADDRESS($K410,Q$4,1,1,\"3 - Savings Analysis\"))","v":0},{"$f":"INDIRECT(ADDRESS($K410,R$4,1,1,\"3 - Savings Analysis\"))","v":0},{"$f":"INDIRECT(ADDRESS($K410,S$4,1,1,\"3 - Savings Analysis\"))","v":0},{"$f":"INDIRECT(ADDRESS($K410,T$4,1,1,\"3 - Savings Analysis\"))","v":0}]
["","","","","","","","","",null,420,{"$f":"INDIRECT(ADDRESS($K411,L$4,1,1,\"3 - Savings Analysis\"))","v":0},{"$f":"INDIRECT(ADDRESS($K411,M$4,1,1,\"3 - Savings Analysis\"))","v":0},{"$f":"INDIRECT(ADDRESS($K411,N$4,1,1,\"3 - Savings Analysis\"))","v":0},{"$f":"INDIRECT(ADDRESS($K411,O$4,1,1,\"3 - Savings Analysis\"))","v":0},{"$f":"INDIRECT(ADDRESS($K411,P$4,1,1,\"3 - Savings Analysis\"))","v":0},{"$f":"INDIRECT(ADDRESS($K411,Q$4,1,1,\"3 - Savings Analysis\"))","v":0},{"$f":"INDIRECT(ADDRESS($K411,R$4,1,1,\"3 - Savings Analysis\"))","v":0},{"$f":"INDIRECT(ADDRESS($K411,S$4,1,1,\"3 - Savings Analysis\"))","v":0},{"$f":"INDIRECT(ADDRESS($K411,T$4,1,1,\"3 - Savings Analysis\"))","v":0}]
["","","","","","","","","",null,421,{"$f":"INDIRECT(ADDRESS($K412,L$4,1,1,\"3 - Savings Analysis\"))","v":0},{"$f":"INDIRECT(ADDRESS($K412,M$4,1,1,\"3 - Savings Analysis\"))","v":0},{"$f":"INDIRECT(ADDRESS($K412,N$4,1,1,\"3 - Savings Analysis\"))","v":0},{"$f":"INDIRECT(ADDRESS($K412,O$4,1,1,\"3 - Savings Analysis\"))","v":0},{"$f":"INDIRECT(ADDRESS($K412,P$4,1,1,\"3 - Savings Analysis\"))","v":0},{"$f":"INDIRECT(ADDRESS($K412,Q$4,1,1,\"3 - Savings Analysis\"))","v":0},{"$f":"INDIRECT(ADDRESS($K412,R$4,1,1,\"3 - Savings Analysis\"))","v":0},{"$f":"INDIRECT(ADDRESS($K412,S$4,1,1,\"3 - Savings Analysis\"))","v":0},{"$f":"INDIRECT(ADDRESS($K412,T$4,1,1,\"3 - Savings Analysis\"))","v":0}]
["","","","","","","","","",null,422,{"$f":"INDIRECT(ADDRESS($K413,L$4,1,1,\"3 - Savings Analysis\"))","v":0},{"$f":"INDIRECT(ADDRESS($K413,M$4,1,1,\"3 - Savings Analysis\"))","v":0},{"$f":"INDIRECT(ADDRESS($K413,N$4,1,1,\"3 - Savings Analysis\"))","v":0},{"$f":"INDIRECT(ADDRESS($K413,O$4,1,1,\"3 - Savings Analysis\"))","v":0},{"$f":"INDIRECT(ADDRESS($K413,P$4,1,1,\"3 - Savings Analysis\"))","v":0},{"$f":"INDIRECT(ADDRESS($K413,Q$4,1,1,\"3 - Savings Analysis\"))","v":0},{"$f":"INDIRECT(ADDRESS($K413,R$4,1,1,\"3 - Savings Analysis\"))","v":0},{"$f":"INDIRECT(ADDRESS($K413,S$4,1,1,\"3 - Savings Analysis\"))","v":0},{"$f":"INDIRECT(ADDRESS($K413,T$4,1,1,\"3 - Savings Analysis\"))","v":0}]
["","","","","","","","","",null,423,{"$f":"INDIRECT(ADDRESS($K414,L$4,1,1,\"3 - Savings Analysis\"))","v":0},{"$f":"INDIRECT(ADDRESS($K414,M$4,1,1,\"3 - Savings Analysis\"))","v":0},{"$f":"INDIRECT(ADDRESS($K414,N$4,1,1,\"3 - Savings Analysis\"))","v":0},{"$f":"INDIRECT(ADDRESS($K414,O$4,1,1,\"3 - Savings Analysis\"))","v":0},{"$f":"INDIRECT(ADDRESS($K414,P$4,1,1,\"3 - Savings Analysis\"))","v":0},{"$f":"INDIRECT(ADDRESS($K414,Q$4,1,1,\"3 - Savings Analysis\"))","v":0},{"$f":"INDIRECT(ADDRESS($K414,R$4,1,1,\"3 - Savings Analysis\"))","v":0},{"$f":"INDIRECT(ADDRESS($K414,S$4,1,1,\"3 - Savings Analysis\"))","v":0},{"$f":"INDIRECT(ADDRESS($K414,T$4,1,1,\"3 - Savings Analysis\"))","v":0}]
["","","","","","","","","",null,424,{"$f":"INDIRECT(ADDRESS($K415,L$4,1,1,\"3 - Savings Analysis\"))","v":0},{"$f":"INDIRECT(ADDRESS($K415,M$4,1,1,\"3 - Savings Analysis\"))","v":0},{"$f":"INDIRECT(ADDRESS($K415,N$4,1,1,\"3 - Savings Analysis\"))","v":0},{"$f":"INDIRECT(ADDRESS($K415,O$4,1,1,\"3 - Savings Analysis\"))","v":0},{"$f":"INDIRECT(ADDRESS($K415,P$4,1,1,\"3 - Savings Analysis\"))","v":0},{"$f":"INDIRECT(ADDRESS($K415,Q$4,1,1,\"3 - Savings Analysis\"))","v":0},{"$f":"INDIRECT(ADDRESS($K415,R$4,1,1,\"3 - Savings Analysis\"))","v":0},{"$f":"INDIRECT(ADDRESS($K415,S$4,1,1,\"3 - Savings Analysis\"))","v":0},{"$f":"INDIRECT(ADDRESS($K415,T$4,1,1,\"3 - Savings Analysis\"))","v":0}]
["","","","","","","","","",null,425,{"$f":"INDIRECT(ADDRESS($K416,L$4,1,1,\"3 - Savings Analysis\"))","v":0},{"$f":"INDIRECT(ADDRESS($K416,M$4,1,1,\"3 - Savings Analysis\"))","v":0},{"$f":"INDIRECT(ADDRESS($K416,N$4,1,1,\"3 - Savings Analysis\"))","v":0},{"$f":"INDIRECT(ADDRESS($K416,O$4,1,1,\"3 - Savings Analysis\"))","v":0},{"$f":"INDIRECT(ADDRESS($K416,P$4,1,1,\"3 - Savings Analysis\"))","v":0},{"$f":"INDIRECT(ADDRESS($K416,Q$4,1,1,\"3 - Savings Analysis\"))","v":0},{"$f":"INDIRECT(ADDRESS($K416,R$4,1,1,\"3 - Savings Analysis\"))","v":0},{"$f":"INDIRECT(ADDRESS($K416,S$4,1,1,\"3 - Savings Analysis\"))","v":0},{"$f":"INDIRECT(ADDRESS($K416,T$4,1,1,\"3 - Savings Analysis\"))","v":0}]
["","","","","","","","","",null,426,{"$f":"INDIRECT(ADDRESS($K417,L$4,1,1,\"3 - Savings Analysis\"))","v":0},{"$f":"INDIRECT(ADDRESS($K417,M$4,1,1,\"3 - Savings Analysis\"))","v":0},{"$f":"INDIRECT(ADDRESS($K417,N$4,1,1,\"3 - Savings Analysis\"))","v":0},{"$f":"INDIRECT(ADDRESS($K417,O$4,1,1,\"3 - Savings Analysis\"))","v":0},{"$f":"INDIRECT(ADDRESS($K417,P$4,1,1,\"3 - Savings Analysis\"))","v":0},{"$f":"INDIRECT(ADDRESS($K417,Q$4,1,1,\"3 - Savings Analysis\"))","v":0},{"$f":"INDIRECT(ADDRESS($K417,R$4,1,1,\"3 - Savings Analysis\"))","v":0},{"$f":"INDIRECT(ADDRESS($K417,S$4,1,1,\"3 - Savings Analysis\"))","v":0},{"$f":"INDIRECT(ADDRESS($K417,T$4,1,1,\"3 - Savings Analysis\"))","v":0}]
["","","","","","","","","",null,427,{"$f":"INDIRECT(ADDRESS($K418,L$4,1,1,\"3 - Savings Analysis\"))","v":0},{"$f":"INDIRECT(ADDRESS($K418,M$4,1,1,\"3 - Savings Analysis\"))","v":0},{"$f":"INDIRECT(ADDRESS($K418,N$4,1,1,\"3 - Savings Analysis\"))","v":0},{"$f":"INDIRECT(ADDRESS($K418,O$4,1,1,\"3 - Savings Analysis\"))","v":0},{"$f":"INDIRECT(ADDRESS($K418,P$4,1,1,\"3 - Savings Analysis\"))","v":0},{"$f":"INDIRECT(ADDRESS($K418,Q$4,1,1,\"3 - Savings Analysis\"))","v":0},{"$f":"INDIRECT(ADDRESS($K418,R$4,1,1,\"3 - Savings Analysis\"))","v":0},{"$f":"INDIRECT(ADDRESS($K418,S$4,1,1,\"3 - Savings Analysis\"))","v":0},{"$f":"INDIRECT(ADDRESS($K418,T$4,1,1,\"3 - Savings Analysis\"))","v":0}]
["","","","","","","","","",null,428,{"$f":"INDIRECT(ADDRESS($K419,L$4,1,1,\"3 - Savings Analysis\"))","v":0},{"$f":"INDIRECT(ADDRESS($K419,M$4,1,1,\"3 - Savings Analysis\"))","v":0},{"$f":"INDIRECT(ADDRESS($K419,N$4,1,1,\"3 - Savings Analysis\"))","v":0},{"$f":"INDIRECT(ADDRESS($K419,O$4,1,1,\"3 - Savings Analysis\"))","v":0},{"$f":"INDIRECT(ADDRESS($K419,P$4,1,1,\"3 - Savings Analysis\"))","v":0},{"$f":"INDIRECT(ADDRESS($K419,Q$4,1,1,\"3 - Savings Analysis\"))","v":0},{"$f":"INDIRECT(ADDRESS($K419,R$4,1,1,\"3 - Savings Analysis\"))","v":0},{"$f":"INDIRECT(ADDRESS($K419,S$4,1,1,\"3 - Savings Analysis\"))","v":0},{"$f":"INDIRECT(ADDRESS($K419,T$4,1,1,\"3 - Savings Analysis\"))","v":0}]
["","","","","","","","","",null,429,{"$f":"INDIRECT(ADDRESS($K420,L$4,1,1,\"3 - Savings Analysis\"))","v":0},{"$f":"INDIRECT(ADDRESS($K420,M$4,1,1,\"3 - Savings Analysis\"))","v":0},{"$f":"INDIRECT(ADDRESS($K420,N$4,1,1,\"3 - Savings Analysis\"))","v":0},{"$f":"INDIRECT(ADDRESS($K420,O$4,1,1,\"3 - Savings Analysis\"))","v":0},{"$f":"INDIRECT(ADDRESS($K420,P$4,1,1,\"3 - Savings Analysis\"))","v":0},{"$f":"INDIRECT(ADDRESS($K420,Q$4,1,1,\"3 - Savings Analysis\"))","v":0},{"$f":"INDIRECT(ADDRESS($K420,R$4,1,1,\"3 - Savings Analysis\"))","v":0},{"$f":"INDIRECT(ADDRESS($K420,S$4,1,1,\"3 - Savings Analysis\"))","v":0},{"$f":"INDIRECT(ADDRESS($K420,T$4,1,1,\"3 - Savings Analysis\"))","v":0}]
["","","","","","","","","",null,430,{"$f":"INDIRECT(ADDRESS($K421,L$4,1,1,\"3 - Savings Analysis\"))","v":0},{"$f":"INDIRECT(ADDRESS($K421,M$4,1,1,\"3 - Savings Analysis\"))","v":0},{"$f":"INDIRECT(ADDRESS($K421,N$4,1,1,\"3 - Savings Analysis\"))","v":0},{"$f":"INDIRECT(ADDRESS($K421,O$4,1,1,\"3 - Savings Analysis\"))","v":0},{"$f":"INDIRECT(ADDRESS($K421,P$4,1,1,\"3 - Savings Analysis\"))","v":0},{"$f":"INDIRECT(ADDRESS($K421,Q$4,1,1,\"3 - Savings Analysis\"))","v":0},{"$f":"INDIRECT(ADDRESS($K421,R$4,1,1,\"3 - Savings Analysis\"))","v":0},{"$f":"INDIRECT(ADDRESS($K421,S$4,1,1,\"3 - Savings Analysis\"))","v":0},{"$f":"INDIRECT(ADDRESS($K421,T$4,1,1,\"3 - Savings Analysis\"))","v":0}]
["","","","","","","","","",null,431,{"$f":"INDIRECT(ADDRESS($K422,L$4,1,1,\"3 - Savings Analysis\"))","v":0},{"$f":"INDIRECT(ADDRESS($K422,M$4,1,1,\"3 - Savings Analysis\"))","v":0},{"$f":"INDIRECT(ADDRESS($K422,N$4,1,1,\"3 - Savings Analysis\"))","v":0},{"$f":"INDIRECT(ADDRESS($K422,O$4,1,1,\"3 - Savings Analysis\"))","v":0},{"$f":"INDIRECT(ADDRESS($K422,P$4,1,1,\"3 - Savings Analysis\"))","v":0},{"$f":"INDIRECT(ADDRESS($K422,Q$4,1,1,\"3 - Savings Analysis\"))","v":0},{"$f":"INDIRECT(ADDRESS($K422,R$4,1,1,\"3 - Savings Analysis\"))","v":0},{"$f":"INDIRECT(ADDRESS($K422,S$4,1,1,\"3 - Savings Analysis\"))","v":0},{"$f":"INDIRECT(ADDRESS($K422,T$4,1,1,\"3 - Savings Analysis\"))","v":0}]
["","","","","","","","","",null,432,{"$f":"INDIRECT(ADDRESS($K423,L$4,1,1,\"3 - Savings Analysis\"))","v":0},{"$f":"INDIRECT(ADDRESS($K423,M$4,1,1,\"3 - Savings Analysis\"))","v":0},{"$f":"INDIRECT(ADDRESS($K423,N$4,1,1,\"3 - Savings Analysis\"))","v":0},{"$f":"INDIRECT(ADDRESS($K423,O$4,1,1,\"3 - Savings Analysis\"))","v":0},{"$f":"INDIRECT(ADDRESS($K423,P$4,1,1,\"3 - Savings Analysis\"))","v":0},{"$f":"INDIRECT(ADDRESS($K423,Q$4,1,1,\"3 - Savings Analysis\"))","v":0},{"$f":"INDIRECT(ADDRESS($K423,R$4,1,1,\"3 - Savings Analysis\"))","v":0},{"$f":"INDIRECT(ADDRESS($K423,S$4,1,1,\"3 - Savings Analysis\"))","v":0},{"$f":"INDIRECT(ADDRESS($K423,T$4,1,1,\"3 - Savings Analysis\"))","v":0}]
["","","","","","","","","",null,433,{"$f":"INDIRECT(ADDRESS($K424,L$4,1,1,\"3 - Savings Analysis\"))","v":0},{"$f":"INDIRECT(ADDRESS($K424,M$4,1,1,\"3 - Savings Analysis\"))","v":0},{"$f":"INDIRECT(ADDRESS($K424,N$4,1,1,\"3 - Savings Analysis\"))","v":0},{"$f":"INDIRECT(ADDRESS($K424,O$4,1,1,\"3 - Savings Analysis\"))","v":0},{"$f":"INDIRECT(ADDRESS($K424,P$4,1,1,\"3 - Savings Analysis\"))","v":0},{"$f":"INDIRECT(ADDRESS($K424,Q$4,1,1,\"3 - Savings Analysis\"))","v":0},{"$f":"INDIRECT(ADDRESS($K424,R$4,1,1,\"3 - Savings Analysis\"))","v":0},{"$f":"INDIRECT(ADDRESS($K424,S$4,1,1,\"3 - Savings Analysis\"))","v":0},{"$f":"INDIRECT(ADDRESS($K424,T$4,1,1,\"3 - Savings Analysis\"))","v":0}]
["","","","","","","","","",null,434,{"$f":"INDIRECT(ADDRESS($K425,L$4,1,1,\"3 - Savings Analysis\"))","v":0},{"$f":"INDIRECT(ADDRESS($K425,M$4,1,1,\"3 - Savings Analysis\"))","v":0},{"$f":"INDIRECT(ADDRESS($K425,N$4,1,1,\"3 - Savings Analysis\"))","v":0},{"$f":"INDIRECT(ADDRESS($K425,O$4,1,1,\"3 - Savings Analysis\"))","v":0},{"$f":"INDIRECT(ADDRESS($K425,P$4,1,1,\"3 - Savings Analysis\"))","v":0},{"$f":"INDIRECT(ADDRESS($K425,Q$4,1,1,\"3 - Savings Analysis\"))","v":0},{"$f":"INDIRECT(ADDRESS($K425,R$4,1,1,\"3 - Savings Analysis\"))","v":0},{"$f":"INDIRECT(ADDRESS($K425,S$4,1,1,\"3 - Savings Analysis\"))","v":0},{"$f":"INDIRECT(ADDRESS($K425,T$4,1,1,\"3 - Savings Analysis\"))","v":0}]
["","","","","","","","","",null,435,{"$f":"INDIRECT(ADDRESS($K426,L$4,1,1,\"3 - Savings Analysis\"))","v":0},{"$f":"INDIRECT(ADDRESS($K426,M$4,1,1,\"3 - Savings Analysis\"))","v":0},{"$f":"INDIRECT(ADDRESS($K426,N$4,1,1,\"3 - Savings Analysis\"))","v":0},{"$f":"INDIRECT(ADDRESS($K426,O$4,1,1,\"3 - Savings Analysis\"))","v":0},{"$f":"INDIRECT(ADDRESS($K426,P$4,1,1,\"3 - Savings Analysis\"))","v":0},{"$f":"INDIRECT(ADDRESS($K426,Q$4,1,1,\"3 - Savings Analysis\"))","v":0},{"$f":"INDIRECT(ADDRESS($K426,R$4,1,1,\"3 - Savings Analysis\"))","v":0},{"$f":"INDIRECT(ADDRESS($K426,S$4,1,1,\"3 - Savings Analysis\"))","v":0},{"$f":"INDIRECT(ADDRESS($K426,T$4,1,1,\"3 - Savings Analysis\"))","v":0}]
["","","","","","","","","",null,436,{"$f":"INDIRECT(ADDRESS($K427,L$4,1,1,\"3 - Savings Analysis\"))","v":0},{"$f":"INDIRECT(ADDRESS($K427,M$4,1,1,\"3 - Savings Analysis\"))","v":0},{"$f":"INDIRECT(ADDRESS($K427,N$4,1,1,\"3 - Savings Analysis\"))","v":0},{"$f":"INDIRECT(ADDRESS($K427,O$4,1,1,\"3 - Savings Analysis\"))","v":0},{"$f":"INDIRECT(ADDRESS($K427,P$4,1,1,\"3 - Savings Analysis\"))","v":0},{"$f":"INDIRECT(ADDRESS($K427,Q$4,1,1,\"3 - Savings Analysis\"))","v":0},{"$f":"INDIRECT(ADDRESS($K427,R$4,1,1,\"3 - Savings Analysis\"))","v":0},{"$f":"INDIRECT(ADDRESS($K427,S$4,1,1,\"3 - Savings Analysis\"))","v":0},{"$f":"INDIRECT(ADDRESS($K427,T$4,1,1,\"3 - Savings Analysis\"))","v":0}]
["","","","","","","","","",null,437,{"$f":"INDIRECT(ADDRESS($K428,L$4,1,1,\"3 - Savings Analysis\"))","v":0},{"$f":"INDIRECT(ADDRESS($K428,M$4,1,1,\"3 - Savings Analysis\"))","v":0},{"$f":"INDIRECT(ADDRESS($K428,N$4,1,1,\"3 - Savings Analysis\"))","v":0},{"$f":"INDIRECT(ADDRESS($K428,O$4,1,1,\"3 - Savings Analysis\"))","v":0},{"$f":"INDIRECT(ADDRESS($K428,P$4,1,1,\"3 - Savings Analysis\"))","v":0},{"$f":"INDIRECT(ADDRESS($K428,Q$4,1,1,\"3 - Savings Analysis\"))","v":0},{"$f":"INDIRECT(ADDRESS($K428,R$4,1,1,\"3 - Savings Analysis\"))","v":0},{"$f":"INDIRECT(ADDRESS($K428,S$4,1,1,\"3 - Savings Analysis\"))","v":0},{"$f":"INDIRECT(ADDRESS($K428,T$4,1,1,\"3 - Savings Analysis\"))","v":0}]
["","","","","","","","","",null,438,{"$f":"INDIRECT(ADDRESS($K429,L$4,1,1,\"3 - Savings Analysis\"))","v":0},{"$f":"INDIRECT(ADDRESS($K429,M$4,1,1,\"3 - Savings Analysis\"))","v":0},{"$f":"INDIRECT(ADDRESS($K429,N$4,1,1,\"3 - Savings Analysis\"))","v":0},{"$f":"INDIRECT(ADDRESS($K429,O$4,1,1,\"3 - Savings Analysis\"))","v":0},{"$f":"INDIRECT(ADDRESS($K429,P$4,1,1,\"3 - Savings Analysis\"))","v":0},{"$f":"INDIRECT(ADDRESS($K429,Q$4,1,1,\"3 - Savings Analysis\"))","v":0},{"$f":"INDIRECT(ADDRESS($K429,R$4,1,1,\"3 - Savings Analysis\"))","v":0},{"$f":"INDIRECT(ADDRESS($K429,S$4,1,1,\"3 - Savings Analysis\"))","v":0},{"$f":"INDIRECT(ADDRESS($K429,T$4,1,1,\"3 - Savings Analysis\"))","v":0}]
["","","","","","","","","",null,439,{"$f":"INDIRECT(ADDRESS($K430,L$4,1,1,\"3 - Savings Analysis\"))","v":0},{"$f":"INDIRECT(ADDRESS($K430,M$4,1,1,\"3 - Savings Analysis\"))","v":0},{"$f":"INDIRECT(ADDRESS($K430,N$4,1,1,\"3 - Savings Analysis\"))","v":0},{"$f":"INDIRECT(ADDRESS($K430,O$4,1,1,\"3 - Savings Analysis\"))","v":0},{"$f":"INDIRECT(ADDRESS($K430,P$4,1,1,\"3 - Savings Analysis\"))","v":0},{"$f":"INDIRECT(ADDRESS($K430,Q$4,1,1,\"3 - Savings Analysis\"))","v":0},{"$f":"INDIRECT(ADDRESS($K430,R$4,1,1,\"3 - Savings Analysis\"))","v":0},{"$f":"INDIRECT(ADDRESS($K430,S$4,1,1,\"3 - Savings Analysis\"))","v":0},{"$f":"INDIRECT(ADDRESS($K430,T$4,1,1,\"3 - Savings Analysis\"))","v":0}]
["","","","","","","","","",null,440,{"$f":"INDIRECT(ADDRESS($K431,L$4,1,1,\"3 - Savings Analysis\"))","v":0},{"$f":"INDIRECT(ADDRESS($K431,M$4,1,1,\"3 - Savings Analysis\"))","v":0},{"$f":"INDIRECT(ADDRESS($K431,N$4,1,1,\"3 - Savings Analysis\"))","v":0},{"$f":"INDIRECT(ADDRESS($K431,O$4,1,1,\"3 - Savings Analysis\"))","v":0},{"$f":"INDIRECT(ADDRESS($K431,P$4,1,1,\"3 - Savings Analysis\"))","v":0},{"$f":"INDIRECT(ADDRESS($K431,Q$4,1,1,\"3 - Savings Analysis\"))","v":0},{"$f":"INDIRECT(ADDRESS($K431,R$4,1,1,\"3 - Savings Analysis\"))","v":0},{"$f":"INDIRECT(ADDRESS($K431,S$4,1,1,\"3 - Savings Analysis\"))","v":0},{"$f":"INDIRECT(ADDRESS($K431,T$4,1,1,\"3 - Savings Analysis\"))","v":0}]
["","","","","","","","","",null,441,{"$f":"INDIRECT(ADDRESS($K432,L$4,1,1,\"3 - Savings Analysis\"))","v":0},{"$f":"INDIRECT(ADDRESS($K432,M$4,1,1,\"3 - Savings Analysis\"))","v":0},{"$f":"INDIRECT(ADDRESS($K432,N$4,1,1,\"3 - Savings Analysis\"))","v":0},{"$f":"INDIRECT(ADDRESS($K432,O$4,1,1,\"3 - Savings Analysis\"))","v":0},{"$f":"INDIRECT(ADDRESS($K432,P$4,1,1,\"3 - Savings Analysis\"))","v":0},{"$f":"INDIRECT(ADDRESS($K432,Q$4,1,1,\"3 - Savings Analysis\"))","v":0},{"$f":"INDIRECT(ADDRESS($K432,R$4,1,1,\"3 - Savings Analysis\"))","v":0},{"$f":"INDIRECT(ADDRESS($K432,S$4,1,1,\"3 - Savings Analysis\"))","v":0},{"$f":"INDIRECT(ADDRESS($K432,T$4,1,1,\"3 - Savings Analysis\"))","v":0}]
["","","","","","","","","",null,442,{"$f":"INDIRECT(ADDRESS($K433,L$4,1,1,\"3 - Savings Analysis\"))","v":0},{"$f":"INDIRECT(ADDRESS($K433,M$4,1,1,\"3 - Savings Analysis\"))","v":0},{"$f":"INDIRECT(ADDRESS($K433,N$4,1,1,\"3 - Savings Analysis\"))","v":0},{"$f":"INDIRECT(ADDRESS($K433,O$4,1,1,\"3 - Savings Analysis\"))","v":0},{"$f":"INDIRECT(ADDRESS($K433,P$4,1,1,\"3 - Savings Analysis\"))","v":0},{"$f":"INDIRECT(ADDRESS($K433,Q$4,1,1,\"3 - Savings Analysis\"))","v":0},{"$f":"INDIRECT(ADDRESS($K433,R$4,1,1,\"3 - Savings Analysis\"))","v":0},{"$f":"INDIRECT(ADDRESS($K433,S$4,1,1,\"3 - Savings Analysis\"))","v":0},{"$f":"INDIRECT(ADDRESS($K433,T$4,1,1,\"3 - Savings Analysis\"))","v":0}]
["","","","","","","","","",null,443,{"$f":"INDIRECT(ADDRESS($K434,L$4,1,1,\"3 - Savings Analysis\"))","v":0},{"$f":"INDIRECT(ADDRESS($K434,M$4,1,1,\"3 - Savings Analysis\"))","v":0},{"$f":"INDIRECT(ADDRESS($K434,N$4,1,1,\"3 - Savings Analysis\"))","v":0},{"$f":"INDIRECT(ADDRESS($K434,O$4,1,1,\"3 - Savings Analysis\"))","v":0},{"$f":"INDIRECT(ADDRESS($K434,P$4,1,1,\"3 - Savings Analysis\"))","v":0},{"$f":"INDIRECT(ADDRESS($K434,Q$4,1,1,\"3 - Savings Analysis\"))","v":0},{"$f":"INDIRECT(ADDRESS($K434,R$4,1,1,\"3 - Savings Analysis\"))","v":0},{"$f":"INDIRECT(ADDRESS($K434,S$4,1,1,\"3 - Savings Analysis\"))","v":0},{"$f":"INDIRECT(ADDRESS($K434,T$4,1,1,\"3 - Savings Analysis\"))","v":0}]
["","","","","","","","","",null,444,{"$f":"INDIRECT(ADDRESS($K435,L$4,1,1,\"3 - Savings Analysis\"))","v":0},{"$f":"INDIRECT(ADDRESS($K435,M$4,1,1,\"3 - Savings Analysis\"))","v":0},{"$f":"INDIRECT(ADDRESS($K435,N$4,1,1,\"3 - Savings Analysis\"))","v":0},{"$f":"INDIRECT(ADDRESS($K435,O$4,1,1,\"3 - Savings Analysis\"))","v":0},{"$f":"INDIRECT(ADDRESS($K435,P$4,1,1,\"3 - Savings Analysis\"))","v":0},{"$f":"INDIRECT(ADDRESS($K435,Q$4,1,1,\"3 - Savings Analysis\"))","v":0},{"$f":"INDIRECT(ADDRESS($K435,R$4,1,1,\"3 - Savings Analysis\"))","v":0},{"$f":"INDIRECT(ADDRESS($K435,S$4,1,1,\"3 - Savings Analysis\"))","v":0},{"$f":"INDIRECT(ADDRESS($K435,T$4,1,1,\"3 - Savings Analysis\"))","v":0}]
["","","","","","","","","",null,445,{"$f":"INDIRECT(ADDRESS($K436,L$4,1,1,\"3 - Savings Analysis\"))","v":0},{"$f":"INDIRECT(ADDRESS($K436,M$4,1,1,\"3 - Savings Analysis\"))","v":0},{"$f":"INDIRECT(ADDRESS($K436,N$4,1,1,\"3 - Savings Analysis\"))","v":0},{"$f":"INDIRECT(ADDRESS($K436,O$4,1,1,\"3 - Savings Analysis\"))","v":0},{"$f":"INDIRECT(ADDRESS($K436,P$4,1,1,\"3 - Savings Analysis\"))","v":0},{"$f":"INDIRECT(ADDRESS($K436,Q$4,1,1,\"3 - Savings Analysis\"))","v":0},{"$f":"INDIRECT(ADDRESS($K436,R$4,1,1,\"3 - Savings Analysis\"))","v":0},{"$f":"INDIRECT(ADDRESS($K436,S$4,1,1,\"3 - Savings Analysis\"))","v":0},{"$f":"INDIRECT(ADDRESS($K436,T$4,1,1,\"3 - Savings Analysis\"))","v":0}]
["","","","","","","","","",null,446,{"$f":"INDIRECT(ADDRESS($K437,L$4,1,1,\"3 - Savings Analysis\"))","v":0},{"$f":"INDIRECT(ADDRESS($K437,M$4,1,1,\"3 - Savings Analysis\"))","v":0},{"$f":"INDIRECT(ADDRESS($K437,N$4,1,1,\"3 - Savings Analysis\"))","v":0},{"$f":"INDIRECT(ADDRESS($K437,O$4,1,1,\"3 - Savings Analysis\"))","v":0},{"$f":"INDIRECT(ADDRESS($K437,P$4,1,1,\"3 - Savings Analysis\"))","v":0},{"$f":"INDIRECT(ADDRESS($K437,Q$4,1,1,\"3 - Savings Analysis\"))","v":0},{"$f":"INDIRECT(ADDRESS($K437,R$4,1,1,\"3 - Savings Analysis\"))","v":0},{"$f":"INDIRECT(ADDRESS($K437,S$4,1,1,\"3 - Savings Analysis\"))","v":0},{"$f":"INDIRECT(ADDRESS($K437,T$4,1,1,\"3 - Savings Analysis\"))","v":0}]
["","","","","","","","","",null,447,{"$f":"INDIRECT(ADDRESS($K438,L$4,1,1,\"3 - Savings Analysis\"))","v":0},{"$f":"INDIRECT(ADDRESS($K438,M$4,1,1,\"3 - Savings Analysis\"))","v":0},{"$f":"INDIRECT(ADDRESS($K438,N$4,1,1,\"3 - Savings Analysis\"))","v":0},{"$f":"INDIRECT(ADDRESS($K438,O$4,1,1,\"3 - Savings Analysis\"))","v":0},{"$f":"INDIRECT(ADDRESS($K438,P$4,1,1,\"3 - Savings Analysis\"))","v":0},{"$f":"INDIRECT(ADDRESS($K438,Q$4,1,1,\"3 - Savings Analysis\"))","v":0},{"$f":"INDIRECT(ADDRESS($K438,R$4,1,1,\"3 - Savings Analysis\"))","v":0},{"$f":"INDIRECT(ADDRESS($K438,S$4,1,1,\"3 - Savings Analysis\"))","v":0},{"$f":"INDIRECT(ADDRESS($K438,T$4,1,1,\"3 - Savings Analysis\"))","v":0}]
["","","","","","","","","",null,448,{"$f":"INDIRECT(ADDRESS($K439,L$4,1,1,\"3 - Savings Analysis\"))","v":0},{"$f":"INDIRECT(ADDRESS($K439,M$4,1,1,\"3 - Savings Analysis\"))","v":0},{"$f":"INDIRECT(ADDRESS($K439,N$4,1,1,\"3 - Savings Analysis\"))","v":0},{"$f":"INDIRECT(ADDRESS($K439,O$4,1,1,\"3 - Savings Analysis\"))","v":0},{"$f":"INDIRECT(ADDRESS($K439,P$4,1,1,\"3 - Savings Analysis\"))","v":0},{"$f":"INDIRECT(ADDRESS($K439,Q$4,1,1,\"3 - Savings Analysis\"))","v":0},{"$f":"INDIRECT(ADDRESS($K439,R$4,1,1,\"3 - Savings Analysis\"))","v":0},{"$f":"INDIRECT(ADDRESS($K439,S$4,1,1,\"3 - Savings Analysis\"))","v":0},{"$f":"INDIRECT(ADDRESS($K439,T$4,1,1,\"3 - Savings Analysis\"))","v":0}]
["","","","","","","","","",null,449,{"$f":"INDIRECT(ADDRESS($K440,L$4,1,1,\"3 - Savings Analysis\"))","v":0},{"$f":"INDIRECT(ADDRESS($K440,M$4,1,1,\"3 - Savings Analysis\"))","v":0},{"$f":"INDIRECT(ADDRESS($K440,N$4,1,1,\"3 - Savings Analysis\"))","v":0},{"$f":"INDIRECT(ADDRESS($K440,O$4,1,1,\"3 - Savings Analysis\"))","v":0},{"$f":"INDIRECT(ADDRESS($K440,P$4,1,1,\"3 - Savings Analysis\"))","v":0},{"$f":"INDIRECT(ADDRESS($K440,Q$4,1,1,\"3 - Savings Analysis\"))","v":0},{"$f":"INDIRECT(ADDRESS($K440,R$4,1,1,\"3 - Savings Analysis\"))","v":0},{"$f":"INDIRECT(ADDRESS($K440,S$4,1,1,\"3 - Savings Analysis\"))","v":0},{"$f":"INDIRECT(ADDRESS($K440,T$4,1,1,\"3 - Savings Analysis\"))","v":0}]
["","","","","","","","","",null,450,{"$f":"INDIRECT(ADDRESS($K441,L$4,1,1,\"3 - Savings Analysis\"))","v":0},{"$f":"INDIRECT(ADDRESS($K441,M$4,1,1,\"3 - Savings Analysis\"))","v":0},{"$f":"INDIRECT(ADDRESS($K441,N$4,1,1,\"3 - Savings Analysis\"))","v":0},{"$f":"INDIRECT(ADDRESS($K441,O$4,1,1,\"3 - Savings Analysis\"))","v":0},{"$f":"INDIRECT(ADDRESS($K441,P$4,1,1,\"3 - Savings Analysis\"))","v":0},{"$f":"INDIRECT(ADDRESS($K441,Q$4,1,1,\"3 - Savings Analysis\"))","v":0},{"$f":"INDIRECT(ADDRESS($K441,R$4,1,1,\"3 - Savings Analysis\"))","v":0},{"$f":"INDIRECT(ADDRESS($K441,S$4,1,1,\"3 - Savings Analysis\"))","v":0},{"$f":"INDIRECT(ADDRESS($K441,T$4,1,1,\"3 - Savings Analysis\"))","v":0}]
["","","","","","","","","",null,451,{"$f":"INDIRECT(ADDRESS($K442,L$4,1,1,\"3 - Savings Analysis\"))","v":0},{"$f":"INDIRECT(ADDRESS($K442,M$4,1,1,\"3 - Savings Analysis\"))","v":0},{"$f":"INDIRECT(ADDRESS($K442,N$4,1,1,\"3 - Savings Analysis\"))","v":0},{"$f":"INDIRECT(ADDRESS($K442,O$4,1,1,\"3 - Savings Analysis\"))","v":0},{"$f":"INDIRECT(ADDRESS($K442,P$4,1,1,\"3 - Savings Analysis\"))","v":0},{"$f":"INDIRECT(ADDRESS($K442,Q$4,1,1,\"3 - Savings Analysis\"))","v":0},{"$f":"INDIRECT(ADDRESS($K442,R$4,1,1,\"3 - Savings Analysis\"))","v":0},{"$f":"INDIRECT(ADDRESS($K442,S$4,1,1,\"3 - Savings Analysis\"))","v":0},{"$f":"INDIRECT(ADDRESS($K442,T$4,1,1,\"3 - Savings Analysis\"))","v":0}]
["","","","","","","","","",null,452,{"$f":"INDIRECT(ADDRESS($K443,L$4,1,1,\"3 - Savings Analysis\"))","v":0},{"$f":"INDIRECT(ADDRESS($K443,M$4,1,1,\"3 - Savings Analysis\"))","v":0},{"$f":"INDIRECT(ADDRESS($K443,N$4,1,1,\"3 - Savings Analysis\"))","v":0},{"$f":"INDIRECT(ADDRESS($K443,O$4,1,1,\"3 - Savings Analysis\"))","v":0},{"$f":"INDIRECT(ADDRESS($K443,P$4,1,1,\"3 - Savings Analysis\"))","v":0},{"$f":"INDIRECT(ADDRESS($K443,Q$4,1,1,\"3 - Savings Analysis\"))","v":0},{"$f":"INDIRECT(ADDRESS($K443,R$4,1,1,\"3 - Savings Analysis\"))","v":0},{"$f":"INDIRECT(ADDRESS($K443,S$4,1,1,\"3 - Savings Analysis\"))","v":0},{"$f":"INDIRECT(ADDRESS($K443,T$4,1,1,\"3 - Savings Analysis\"))","v":0}]
["","","","","","","","","",null,453,{"$f":"INDIRECT(ADDRESS($K444,L$4,1,1,\"3 - Savings Analysis\"))","v":0},{"$f":"INDIRECT(ADDRESS($K444,M$4,1,1,\"3 - Savings Analysis\"))","v":0},{"$f":"INDIRECT(ADDRESS($K444,N$4,1,1,\"3 - Savings Analysis\"))","v":0},{"$f":"INDIRECT(ADDRESS($K444,O$4,1,1,\"3 - Savings Analysis\"))","v":0},{"$f":"INDIRECT(ADDRESS($K444,P$4,1,1,\"3 - Savings Analysis\"))","v":0},{"$f":"INDIRECT(ADDRESS($K444,Q$4,1,1,\"3 - Savings Analysis\"))","v":0},{"$f":"INDIRECT(ADDRESS($K444,R$4,1,1,\"3 - Savings Analysis\"))","v":0},{"$f":"INDIRECT(ADDRESS($K444,S$4,1,1,\"3 - Savings Analysis\"))","v":0},{"$f":"INDIRECT(ADDRESS($K444,T$4,1,1,\"3 - Savings Analysis\"))","v":0}]
["","","","","","","","","",null,454,{"$f":"INDIRECT(ADDRESS($K445,L$4,1,1,\"3 - Savings Analysis\"))","v":0},{"$f":"INDIRECT(ADDRESS($K445,M$4,1,1,\"3 - Savings Analysis\"))","v":0},{"$f":"INDIRECT(ADDRESS($K445,N$4,1,1,\"3 - Savings Analysis\"))","v":0},{"$f":"INDIRECT(ADDRESS($K445,O$4,1,1,\"3 - Savings Analysis\"))","v":0},{"$f":"INDIRECT(ADDRESS($K445,P$4,1,1,\"3 - Savings Analysis\"))","v":0},{"$f":"INDIRECT(ADDRESS($K445,Q$4,1,1,\"3 - Savings Analysis\"))","v":0},{"$f":"INDIRECT(ADDRESS($K445,R$4,1,1,\"3 - Savings Analysis\"))","v":0},{"$f":"INDIRECT(ADDRESS($K445,S$4,1,1,\"3 - Savings Analysis\"))","v":0},{"$f":"INDIRECT(ADDRESS($K445,T$4,1,1,\"3 - Savings Analysis\"))","v":0}]
["","","","","","","","","",null,455,{"$f":"INDIRECT(ADDRESS($K446,L$4,1,1,\"3 - Savings Analysis\"))","v":0},{"$f":"INDIRECT(ADDRESS($K446,M$4,1,1,\"3 - Savings Analysis\"))","v":0},{"$f":"INDIRECT(ADDRESS($K446,N$4,1,1,\"3 - Savings Analysis\"))","v":0},{"$f":"INDIRECT(ADDRESS($K446,O$4,1,1,\"3 - Savings Analysis\"))","v":0},{"$f":"INDIRECT(ADDRESS($K446,P$4,1,1,\"3 - Savings Analysis\"))","v":0},{"$f":"INDIRECT(ADDRESS($K446,Q$4,1,1,\"3 - Savings Analysis\"))","v":0},{"$f":"INDIRECT(ADDRESS($K446,R$4,1,1,\"3 - Savings Analysis\"))","v":0},{"$f":"INDIRECT(ADDRESS($K446,S$4,1,1,\"3 - Savings Analysis\"))","v":0},{"$f":"INDIRECT(ADDRESS($K446,T$4,1,1,\"3 - Savings Analysis\"))","v":0}]
["","","","","","","","","",null,456,{"$f":"INDIRECT(ADDRESS($K447,L$4,1,1,\"3 - Savings Analysis\"))","v":0},{"$f":"INDIRECT(ADDRESS($K447,M$4,1,1,\"3 - Savings Analysis\"))","v":0},{"$f":"INDIRECT(ADDRESS($K447,N$4,1,1,\"3 - Savings Analysis\"))","v":0},{"$f":"INDIRECT(ADDRESS($K447,O$4,1,1,\"3 - Savings Analysis\"))","v":0},{"$f":"INDIRECT(ADDRESS($K447,P$4,1,1,\"3 - Savings Analysis\"))","v":0},{"$f":"INDIRECT(ADDRESS($K447,Q$4,1,1,\"3 - Savings Analysis\"))","v":0},{"$f":"INDIRECT(ADDRESS($K447,R$4,1,1,\"3 - Savings Analysis\"))","v":0},{"$f":"INDIRECT(ADDRESS($K447,S$4,1,1,\"3 - Savings Analysis\"))","v":0},{"$f":"INDIRECT(ADDRESS($K447,T$4,1,1,\"3 - Savings Analysis\"))","v":0}]
["","","","","","","","","",null,457,{"$f":"INDIRECT(ADDRESS($K448,L$4,1,1,\"3 - Savings Analysis\"))","v":0},{"$f":"INDIRECT(ADDRESS($K448,M$4,1,1,\"3 - Savings Analysis\"))","v":0},{"$f":"INDIRECT(ADDRESS($K448,N$4,1,1,\"3 - Savings Analysis\"))","v":0},{"$f":"INDIRECT(ADDRESS($K448,O$4,1,1,\"3 - Savings Analysis\"))","v":0},{"$f":"INDIRECT(ADDRESS($K448,P$4,1,1,\"3 - Savings Analysis\"))","v":0},{"$f":"INDIRECT(ADDRESS($K448,Q$4,1,1,\"3 - Savings Analysis\"))","v":0},{"$f":"INDIRECT(ADDRESS($K448,R$4,1,1,\"3 - Savings Analysis\"))","v":0},{"$f":"INDIRECT(ADDRESS($K448,S$4,1,1,\"3 - Savings Analysis\"))","v":0},{"$f":"INDIRECT(ADDRESS($K448,T$4,1,1,\"3 - Savings Analysis\"))","v":0}]
["","","","","","","","","",null,458,{"$f":"INDIRECT(ADDRESS($K449,L$4,1,1,\"3 - Savings Analysis\"))","v":0},{"$f":"INDIRECT(ADDRESS($K449,M$4,1,1,\"3 - Savings Analysis\"))","v":0},{"$f":"INDIRECT(ADDRESS($K449,N$4,1,1,\"3 - Savings Analysis\"))","v":0},{"$f":"INDIRECT(ADDRESS($K449,O$4,1,1,\"3 - Savings Analysis\"))","v":0},{"$f":"INDIRECT(ADDRESS($K449,P$4,1,1,\"3 - Savings Analysis\"))","v":0},{"$f":"INDIRECT(ADDRESS($K449,Q$4,1,1,\"3 - Savings Analysis\"))","v":0},{"$f":"INDIRECT(ADDRESS($K449,R$4,1,1,\"3 - Savings Analysis\"))","v":0},{"$f":"INDIRECT(ADDRESS($K449,S$4,1,1,\"3 - Savings Analysis\"))","v":0},{"$f":"INDIRECT(ADDRESS($K449,T$4,1,1,\"3 - Savings Analysis\"))","v":0}]
["","","","","","","","","",null,459,{"$f":"INDIRECT(ADDRESS($K450,L$4,1,1,\"3 - Savings Analysis\"))","v":0},{"$f":"INDIRECT(ADDRESS($K450,M$4,1,1,\"3 - Savings Analysis\"))","v":0},{"$f":"INDIRECT(ADDRESS($K450,N$4,1,1,\"3 - Savings Analysis\"))","v":0},{"$f":"INDIRECT(ADDRESS($K450,O$4,1,1,\"3 - Savings Analysis\"))","v":0},{"$f":"INDIRECT(ADDRESS($K450,P$4,1,1,\"3 - Savings Analysis\"))","v":0},{"$f":"INDIRECT(ADDRESS($K450,Q$4,1,1,\"3 - Savings Analysis\"))","v":0},{"$f":"INDIRECT(ADDRESS($K450,R$4,1,1,\"3 - Savings Analysis\"))","v":0},{"$f":"INDIRECT(ADDRESS($K450,S$4,1,1,\"3 - Savings Analysis\"))","v":0},{"$f":"INDIRECT(ADDRESS($K450,T$4,1,1,\"3 - Savings Analysis\"))","v":0}]
["","","","","","","","","",null,460,{"$f":"INDIRECT(ADDRESS($K451,L$4,1,1,\"3 - Savings Analysis\"))","v":0},{"$f":"INDIRECT(ADDRESS($K451,M$4,1,1,\"3 - Savings Analysis\"))","v":0},{"$f":"INDIRECT(ADDRESS($K451,N$4,1,1,\"3 - Savings Analysis\"))","v":0},{"$f":"INDIRECT(ADDRESS($K451,O$4,1,1,\"3 - Savings Analysis\"))","v":0},{"$f":"INDIRECT(ADDRESS($K451,P$4,1,1,\"3 - Savings Analysis\"))","v":0},{"$f":"INDIRECT(ADDRESS($K451,Q$4,1,1,\"3 - Savings Analysis\"))","v":0},{"$f":"INDIRECT(ADDRESS($K451,R$4,1,1,\"3 - Savings Analysis\"))","v":0},{"$f":"INDIRECT(ADDRESS($K451,S$4,1,1,\"3 - Savings Analysis\"))","v":0},{"$f":"INDIRECT(ADDRESS($K451,T$4,1,1,\"3 - Savings Analysis\"))","v":0}]
["","","","","","","","","",null,461,{"$f":"INDIRECT(ADDRESS($K452,L$4,1,1,\"3 - Savings Analysis\"))","v":0},{"$f":"INDIRECT(ADDRESS($K452,M$4,1,1,\"3 - Savings Analysis\"))","v":0},{"$f":"INDIRECT(ADDRESS($K452,N$4,1,1,\"3 - Savings Analysis\"))","v":0},{"$f":"INDIRECT(ADDRESS($K452,O$4,1,1,\"3 - Savings Analysis\"))","v":0},{"$f":"INDIRECT(ADDRESS($K452,P$4,1,1,\"3 - Savings Analysis\"))","v":0},{"$f":"INDIRECT(ADDRESS($K452,Q$4,1,1,\"3 - Savings Analysis\"))","v":0},{"$f":"INDIRECT(ADDRESS($K452,R$4,1,1,\"3 - Savings Analysis\"))","v":0},{"$f":"INDIRECT(ADDRESS($K452,S$4,1,1,\"3 - Savings Analysis\"))","v":0},{"$f":"INDIRECT(ADDRESS($K452,T$4,1,1,\"3 - Savings Analysis\"))","v":0}]
["","","","","","","","","",null,462,{"$f":"INDIRECT(ADDRESS($K453,L$4,1,1,\"3 - Savings Analysis\"))","v":0},{"$f":"INDIRECT(ADDRESS($K453,M$4,1,1,\"3 - Savings Analysis\"))","v":0},{"$f":"INDIRECT(ADDRESS($K453,N$4,1,1,\"3 - Savings Analysis\"))","v":0},{"$f":"INDIRECT(ADDRESS($K453,O$4,1,1,\"3 - Savings Analysis\"))","v":0},{"$f":"INDIRECT(ADDRESS($K453,P$4,1,1,\"3 - Savings Analysis\"))","v":0},{"$f":"INDIRECT(ADDRESS($K453,Q$4,1,1,\"3 - Savings Analysis\"))","v":0},{"$f":"INDIRECT(ADDRESS($K453,R$4,1,1,\"3 - Savings Analysis\"))","v":0},{"$f":"INDIRECT(ADDRESS($K453,S$4,1,1,\"3 - Savings Analysis\"))","v":0},{"$f":"INDIRECT(ADDRESS($K453,T$4,1,1,\"3 - Savings Analysis\"))","v":0}]
["","","","","","","","","",null,463,{"$f":"INDIRECT(ADDRESS($K454,L$4,1,1,\"3 - Savings Analysis\"))","v":0},{"$f":"INDIRECT(ADDRESS($K454,M$4,1,1,\"3 - Savings Analysis\"))","v":0},{"$f":"INDIRECT(ADDRESS($K454,N$4,1,1,\"3 - Savings Analysis\"))","v":0},{"$f":"INDIRECT(ADDRESS($K454,O$4,1,1,\"3 - Savings Analysis\"))","v":0},{"$f":"INDIRECT(ADDRESS($K454,P$4,1,1,\"3 - Savings Analysis\"))","v":0},{"$f":"INDIRECT(ADDRESS($K454,Q$4,1,1,\"3 - Savings Analysis\"))","v":0},{"$f":"INDIRECT(ADDRESS($K454,R$4,1,1,\"3 - Savings Analysis\"))","v":0},{"$f":"INDIRECT(ADDRESS($K454,S$4,1,1,\"3 - Savings Analysis\"))","v":0},{"$f":"INDIRECT(ADDRESS($K454,T$4,1,1,\"3 - Savings Analysis\"))","v":0}]
["","","","","","","","","",null,464,{"$f":"INDIRECT(ADDRESS($K455,L$4,1,1,\"3 - Savings Analysis\"))","v":0},{"$f":"INDIRECT(ADDRESS($K455,M$4,1,1,\"3 - Savings Analysis\"))","v":0},{"$f":"INDIRECT(ADDRESS($K455,N$4,1,1,\"3 - Savings Analysis\"))","v":0},{"$f":"INDIRECT(ADDRESS($K455,O$4,1,1,\"3 - Savings Analysis\"))","v":0},{"$f":"INDIRECT(ADDRESS($K455,P$4,1,1,\"3 - Savings Analysis\"))","v":0},{"$f":"INDIRECT(ADDRESS($K455,Q$4,1,1,\"3 - Savings Analysis\"))","v":0},{"$f":"INDIRECT(ADDRESS($K455,R$4,1,1,\"3 - Savings Analysis\"))","v":0},{"$f":"INDIRECT(ADDRESS($K455,S$4,1,1,\"3 - Savings Analysis\"))","v":0},{"$f":"INDIRECT(ADDRESS($K455,T$4,1,1,\"3 - Savings Analysis\"))","v":0}]
["","","","","","","","","",null,465,{"$f":"INDIRECT(ADDRESS($K456,L$4,1,1,\"3 - Savings Analysis\"))","v":0},{"$f":"INDIRECT(ADDRESS($K456,M$4,1,1,\"3 - Savings Analysis\"))","v":0},{"$f":"INDIRECT(ADDRESS($K456,N$4,1,1,\"3 - Savings Analysis\"))","v":0},{"$f":"INDIRECT(ADDRESS($K456,O$4,1,1,\"3 - Savings Analysis\"))","v":0},{"$f":"INDIRECT(ADDRESS($K456,P$4,1,1,\"3 - Savings Analysis\"))","v":0},{"$f":"INDIRECT(ADDRESS($K456,Q$4,1,1,\"3 - Savings Analysis\"))","v":0},{"$f":"INDIRECT(ADDRESS($K456,R$4,1,1,\"3 - Savings Analysis\"))","v":0},{"$f":"INDIRECT(ADDRESS($K456,S$4,1,1,\"3 - Savings Analysis\"))","v":0},{"$f":"INDIRECT(ADDRESS($K456,T$4,1,1,\"3 - Savings Analysis\"))","v":0}]
["","","","","","","","","",null,{"$f":"K456+1","v":466},{"$f":"INDIRECT(ADDRESS($K457,L$4,1,1,\"3 - Savings Analysis\"))","v":0},{"$f":"INDIRECT(ADDRESS($K457,M$4,1,1,\"3 - Savings Analysis\"))","v":0},{"$f":"INDIRECT(ADDRESS($K457,N$4,1,1,\"3 - Savings Analysis\"))","v":0},{"$f":"INDIRECT(ADDRESS($K457,O$4,1,1,\"3 - Savings Analysis\"))","v":0},{"$f":"INDIRECT(ADDRESS($K457,P$4,1,1,\"3 - Savings Analysis\"))","v":0},{"$f":"INDIRECT(ADDRESS($K457,Q$4,1,1,\"3 - Savings Analysis\"))","v":0},{"$f":"INDIRECT(ADDRESS($K457,R$4,1,1,\"3 - Savings Analysis\"))","v":0},{"$f":"INDIRECT(ADDRESS($K457,S$4,1,1,\"3 - Savings Analysis\"))","v":0},{"$f":"INDIRECT(ADDRESS($K457,T$4,1,1,\"3 - Savings Analysis\"))","v":0}]
["","","","","","","","","",null,467,{"$f":"INDIRECT(ADDRESS($K458,L$4,1,1,\"3 - Savings Analysis\"))","v":0},{"$f":"INDIRECT(ADDRESS($K458,M$4,1,1,\"3 - Savings Analysis\"))","v":0},{"$f":"INDIRECT(ADDRESS($K458,N$4,1,1,\"3 - Savings Analysis\"))","v":0},{"$f":"INDIRECT(ADDRESS($K458,O$4,1,1,\"3 - Savings Analysis\"))","v":0},{"$f":"INDIRECT(ADDRESS($K458,P$4,1,1,\"3 - Savings Analysis\"))","v":0},{"$f":"INDIRECT(ADDRESS($K458,Q$4,1,1,\"3 - Savings Analysis\"))","v":0},{"$f":"INDIRECT(ADDRESS($K458,R$4,1,1,\"3 - Savings Analysis\"))","v":0},{"$f":"INDIRECT(ADDRESS($K458,S$4,1,1,\"3 - Savings Analysis\"))","v":0},{"$f":"INDIRECT(ADDRESS($K458,T$4,1,1,\"3 - Savings Analysis\"))","v":0}]
["","","","","","","","","",null,468,{"$f":"INDIRECT(ADDRESS($K459,L$4,1,1,\"3 - Savings Analysis\"))","v":0},{"$f":"INDIRECT(ADDRESS($K459,M$4,1,1,\"3 - Savings Analysis\"))","v":0},{"$f":"INDIRECT(ADDRESS($K459,N$4,1,1,\"3 - Savings Analysis\"))","v":0},{"$f":"INDIRECT(ADDRESS($K459,O$4,1,1,\"3 - Savings Analysis\"))","v":0},{"$f":"INDIRECT(ADDRESS($K459,P$4,1,1,\"3 - Savings Analysis\"))","v":0},{"$f":"INDIRECT(ADDRESS($K459,Q$4,1,1,\"3 - Savings Analysis\"))","v":0},{"$f":"INDIRECT(ADDRESS($K459,R$4,1,1,\"3 - Savings Analysis\"))","v":0},{"$f":"INDIRECT(ADDRESS($K459,S$4,1,1,\"3 - Savings Analysis\"))","v":0},{"$f":"INDIRECT(ADDRESS($K459,T$4,1,1,\"3 - Savings Analysis\"))","v":0}]
["","","","","","","","","",null,469,{"$f":"INDIRECT(ADDRESS($K460,L$4,1,1,\"3 - Savings Analysis\"))","v":0},{"$f":"INDIRECT(ADDRESS($K460,M$4,1,1,\"3 - Savings Analysis\"))","v":0},{"$f":"INDIRECT(ADDRESS($K460,N$4,1,1,\"3 - Savings Analysis\"))","v":0},{"$f":"INDIRECT(ADDRESS($K460,O$4,1,1,\"3 - Savings Analysis\"))","v":0},{"$f":"INDIRECT(ADDRESS($K460,P$4,1,1,\"3 - Savings Analysis\"))","v":0},{"$f":"INDIRECT(ADDRESS($K460,Q$4,1,1,\"3 - Savings Analysis\"))","v":0},{"$f":"INDIRECT(ADDRESS($K460,R$4,1,1,\"3 - Savings Analysis\"))","v":0},{"$f":"INDIRECT(ADDRESS($K460,S$4,1,1,\"3 - Savings Analysis\"))","v":0},{"$f":"INDIRECT(ADDRESS($K460,T$4,1,1,\"3 - Savings Analysis\"))","v":0}]
[{"$f":"IF($K461<=$M$2,L461,\"\")","v":""},{"$f":"IF($K461<=$M$2,IF($A461=\"Total\",\"\",M461),\"\")","v":""},{"$f":"IF($K461<=$M$2,IF($A461=\"Total\",\"\",N461),\"\")","v":""},{"$f":"IF($K461<=$M$2,O461,\"\")","v":""},{"$f":"IF($K461<=$M$2,P461,\"\")","v":""},{"$f":"IF($K461<=$M$2,IF($A461=\"Total\",\"\",Q461),\"\")","v":""},{"$f":"IF($K461<=$M$2,IF($A461=\"Total\",\"\",R461),\"\")","v":""},{"$f":"IF($K461<=$M$2,IF($A461=\"Total\",\"\",IF($T461=0,\"\",S461)),\"\")","v":""},{"$f":"IF($K461<=$M$2,IF($A461=\"Total\",\"\",IF($T461=0,\"\",T461)),\"\")","v":""},null,470,{"$f":"INDIRECT(ADDRESS($K461,L$4,1,1,\"3 - Savings Analysis\"))","v":0},{"$f":"INDIRECT(ADDRESS($K461,M$4,1,1,\"3 - Savings Analysis\"))","v":0},{"$f":"INDIRECT(ADDRESS($K461,N$4,1,1,\"3 - Savings Analysis\"))","v":0},{"$f":"INDIRECT(ADDRESS($K461,O$4,1,1,\"3 - Savings Analysis\"))","v":0},{"$f":"INDIRECT(ADDRESS($K461,P$4,1,1,\"3 - Savings Analysis\"))","v":0},{"$f":"INDIRECT(ADDRESS($K461,Q$4,1,1,\"3 - Savings Analysis\"))","v":0},{"$f":"INDIRECT(ADDRESS($K461,R$4,1,1,\"3 - Savings Analysis\"))","v":0},{"$f":"INDIRECT(ADDRESS($K461,S$4,1,1,\"3 - Savings Analysis\"))","v":0},{"$f":"INDIRECT(ADDRESS($K461,T$4,1,1,\"3 - Savings Analysis\"))","v":0}]
["","","","","","","","","",null,471,{"$f":"INDIRECT(ADDRESS($K462,L$4,1,1,\"3 - Savings Analysis\"))","v":0},{"$f":"INDIRECT(ADDRESS($K462,M$4,1,1,\"3 - Savings Analysis\"))","v":0},{"$f":"INDIRECT(ADDRESS($K462,N$4,1,1,\"3 - Savings Analysis\"))","v":0},{"$f":"INDIRECT(ADDRESS($K462,O$4,1,1,\"3 - Savings Analysis\"))","v":0},{"$f":"INDIRECT(ADDRESS($K462,P$4,1,1,\"3 - Savings Analysis\"))","v":0},{"$f":"INDIRECT(ADDRESS($K462,Q$4,1,1,\"3 - Savings Analysis\"))","v":0},{"$f":"INDIRECT(ADDRESS($K462,R$4,1,1,\"3 - Savings Analysis\"))","v":0},{"$f":"INDIRECT(ADDRESS($K462,S$4,1,1,\"3 - Savings Analysis\"))","v":0},{"$f":"INDIRECT(ADDRESS($K462,T$4,1,1,\"3 - Savings Analysis\"))","v":0}]
["","","","","","","","","",null,472,{"$f":"INDIRECT(ADDRESS($K463,L$4,1,1,\"3 - Savings Analysis\"))","v":0},{"$f":"INDIRECT(ADDRESS($K463,M$4,1,1,\"3 - Savings Analysis\"))","v":0},{"$f":"INDIRECT(ADDRESS($K463,N$4,1,1,\"3 - Savings Analysis\"))","v":0},{"$f":"INDIRECT(ADDRESS($K463,O$4,1,1,\"3 - Savings Analysis\"))","v":0},{"$f":"INDIRECT(ADDRESS($K463,P$4,1,1,\"3 - Savings Analysis\"))","v":0},{"$f":"INDIRECT(ADDRESS($K463,Q$4,1,1,\"3 - Savings Analysis\"))","v":0},{"$f":"INDIRECT(ADDRESS($K463,R$4,1,1,\"3 - Savings Analysis\"))","v":0},{"$f":"INDIRECT(ADDRESS($K463,S$4,1,1,\"3 - Savings Analysis\"))","v":0},{"$f":"INDIRECT(ADDRESS($K463,T$4,1,1,\"3 - Savings Analysis\"))","v":0}]
["","","","","","","","","",null,473,{"$f":"INDIRECT(ADDRESS($K464,L$4,1,1,\"3 - Savings Analysis\"))","v":0},{"$f":"INDIRECT(ADDRESS($K464,M$4,1,1,\"3 - Savings Analysis\"))","v":0},{"$f":"INDIRECT(ADDRESS($K464,N$4,1,1,\"3 - Savings Analysis\"))","v":0},{"$f":"INDIRECT(ADDRESS($K464,O$4,1,1,\"3 - Savings Analysis\"))","v":0},{"$f":"INDIRECT(ADDRESS($K464,P$4,1,1,\"3 - Savings Analysis\"))","v":0},{"$f":"INDIRECT(ADDRESS($K464,Q$4,1,1,\"3 - Savings Analysis\"))","v":0},{"$f":"INDIRECT(ADDRESS($K464,R$4,1,1,\"3 - Savings Analysis\"))","v":0},{"$f":"INDIRECT(ADDRESS($K464,S$4,1,1,\"3 - Savings Analysis\"))","v":0},{"$f":"INDIRECT(ADDRESS($K464,T$4,1,1,\"3 - Savings Analysis\"))","v":0}]
["","","","","","","","","",null,474,{"$f":"INDIRECT(ADDRESS($K465,L$4,1,1,\"3 - Savings Analysis\"))","v":0},{"$f":"INDIRECT(ADDRESS($K465,M$4,1,1,\"3 - Savings Analysis\"))","v":0},{"$f":"INDIRECT(ADDRESS($K465,N$4,1,1,\"3 - Savings Analysis\"))","v":0},{"$f":"INDIRECT(ADDRESS($K465,O$4,1,1,\"3 - Savings Analysis\"))","v":0},{"$f":"INDIRECT(ADDRESS($K465,P$4,1,1,\"3 - Savings Analysis\"))","v":0},{"$f":"INDIRECT(ADDRESS($K465,Q$4,1,1,\"3 - Savings Analysis\"))","v":0},{"$f":"INDIRECT(ADDRESS($K465,R$4,1,1,\"3 - Savings Analysis\"))","v":0},{"$f":"INDIRECT(ADDRESS($K465,S$4,1,1,\"3 - Savings Analysis\"))","v":0},{"$f":"INDIRECT(ADDRESS($K465,T$4,1,1,\"3 - Savings Analysis\"))","v":0}]
["","","","","","","","","",null,475,{"$f":"INDIRECT(ADDRESS($K466,L$4,1,1,\"3 - Savings Analysis\"))","v":0},{"$f":"INDIRECT(ADDRESS($K466,M$4,1,1,\"3 - Savings Analysis\"))","v":0},{"$f":"INDIRECT(ADDRESS($K466,N$4,1,1,\"3 - Savings Analysis\"))","v":0},{"$f":"INDIRECT(ADDRESS($K466,O$4,1,1,\"3 - Savings Analysis\"))","v":0},{"$f":"INDIRECT(ADDRESS($K466,P$4,1,1,\"3 - Savings Analysis\"))","v":0},{"$f":"INDIRECT(ADDRESS($K466,Q$4,1,1,\"3 - Savings Analysis\"))","v":0},{"$f":"INDIRECT(ADDRESS($K466,R$4,1,1,\"3 - Savings Analysis\"))","v":0},{"$f":"INDIRECT(ADDRESS($K466,S$4,1,1,\"3 - Savings Analysis\"))","v":0},{"$f":"INDIRECT(ADDRESS($K466,T$4,1,1,\"3 - Savings Analysis\"))","v":0}]
["","","","","","","","","",null,476,{"$f":"INDIRECT(ADDRESS($K467,L$4,1,1,\"3 - Savings Analysis\"))","v":0},{"$f":"INDIRECT(ADDRESS($K467,M$4,1,1,\"3 - Savings Analysis\"))","v":0},{"$f":"INDIRECT(ADDRESS($K467,N$4,1,1,\"3 - Savings Analysis\"))","v":0},{"$f":"INDIRECT(ADDRESS($K467,O$4,1,1,\"3 - Savings Analysis\"))","v":0},{"$f":"INDIRECT(ADDRESS($K467,P$4,1,1,\"3 - Savings Analysis\"))","v":0},{"$f":"INDIRECT(ADDRESS($K467,Q$4,1,1,\"3 - Savings Analysis\"))","v":0},{"$f":"INDIRECT(ADDRESS($K467,R$4,1,1,\"3 - Savings Analysis\"))","v":0},{"$f":"INDIRECT(ADDRESS($K467,S$4,1,1,\"3 - Savings Analysis\"))","v":0},{"$f":"INDIRECT(ADDRESS($K467,T$4,1,1,\"3 - Savings Analysis\"))","v":0}]
["","","","","","","","","",null,477,{"$f":"INDIRECT(ADDRESS($K468,L$4,1,1,\"3 - Savings Analysis\"))","v":0},{"$f":"INDIRECT(ADDRESS($K468,M$4,1,1,\"3 - Savings Analysis\"))","v":0},{"$f":"INDIRECT(ADDRESS($K468,N$4,1,1,\"3 - Savings Analysis\"))","v":0},{"$f":"INDIRECT(ADDRESS($K468,O$4,1,1,\"3 - Savings Analysis\"))","v":0},{"$f":"INDIRECT(ADDRESS($K468,P$4,1,1,\"3 - Savings Analysis\"))","v":0},{"$f":"INDIRECT(ADDRESS($K468,Q$4,1,1,\"3 - Savings Analysis\"))","v":0},{"$f":"INDIRECT(ADDRESS($K468,R$4,1,1,\"3 - Savings Analysis\"))","v":0},{"$f":"INDIRECT(ADDRESS($K468,S$4,1,1,\"3 - Savings Analysis\"))","v":0},{"$f":"INDIRECT(ADDRESS($K468,T$4,1,1,\"3 - Savings Analysis\"))","v":0}]
["","","","","","","","","",null,478,{"$f":"INDIRECT(ADDRESS($K469,L$4,1,1,\"3 - Savings Analysis\"))","v":0},{"$f":"INDIRECT(ADDRESS($K469,M$4,1,1,\"3 - Savings Analysis\"))","v":0},{"$f":"INDIRECT(ADDRESS($K469,N$4,1,1,\"3 - Savings Analysis\"))","v":0},{"$f":"INDIRECT(ADDRESS($K469,O$4,1,1,\"3 - Savings Analysis\"))","v":0},{"$f":"INDIRECT(ADDRESS($K469,P$4,1,1,\"3 - Savings Analysis\"))","v":0},{"$f":"INDIRECT(ADDRESS($K469,Q$4,1,1,\"3 - Savings Analysis\"))","v":0},{"$f":"INDIRECT(ADDRESS($K469,R$4,1,1,\"3 - Savings Analysis\"))","v":0},{"$f":"INDIRECT(ADDRESS($K469,S$4,1,1,\"3 - Savings Analysis\"))","v":0},{"$f":"INDIRECT(ADDRESS($K469,T$4,1,1,\"3 - Savings Analysis\"))","v":0}]
["","","","","","","","","",null,479,{"$f":"INDIRECT(ADDRESS($K470,L$4,1,1,\"3 - Savings Analysis\"))","v":0},{"$f":"INDIRECT(ADDRESS($K470,M$4,1,1,\"3 - Savings Analysis\"))","v":0},{"$f":"INDIRECT(ADDRESS($K470,N$4,1,1,\"3 - Savings Analysis\"))","v":0},{"$f":"INDIRECT(ADDRESS($K470,O$4,1,1,\"3 - Savings Analysis\"))","v":0},{"$f":"INDIRECT(ADDRESS($K470,P$4,1,1,\"3 - Savings Analysis\"))","v":0},{"$f":"INDIRECT(ADDRESS($K470,Q$4,1,1,\"3 - Savings Analysis\"))","v":0},{"$f":"INDIRECT(ADDRESS($K470,R$4,1,1,\"3 - Savings Analysis\"))","v":0},{"$f":"INDIRECT(ADDRESS($K470,S$4,1,1,\"3 - Savings Analysis\"))","v":0},{"$f":"INDIRECT(ADDRESS($K470,T$4,1,1,\"3 - Savings Analysis\"))","v":0}]
["","","","","","","","","",null,480,{"$f":"INDIRECT(ADDRESS($K471,L$4,1,1,\"3 - Savings Analysis\"))","v":0},{"$f":"INDIRECT(ADDRESS($K471,M$4,1,1,\"3 - Savings Analysis\"))","v":0},{"$f":"INDIRECT(ADDRESS($K471,N$4,1,1,\"3 - Savings Analysis\"))","v":0},{"$f":"INDIRECT(ADDRESS($K471,O$4,1,1,\"3 - Savings Analysis\"))","v":0},{"$f":"INDIRECT(ADDRESS($K471,P$4,1,1,\"3 - Savings Analysis\"))","v":0},{"$f":"INDIRECT(ADDRESS($K471,Q$4,1,1,\"3 - Savings Analysis\"))","v":0},{"$f":"INDIRECT(ADDRESS($K471,R$4,1,1,\"3 - Savings Analysis\"))","v":0},{"$f":"INDIRECT(ADDRESS($K471,S$4,1,1,\"3 - Savings Analysis\"))","v":0},{"$f":"INDIRECT(ADDRESS($K471,T$4,1,1,\"3 - Savings Analysis\"))","v":0}]
["","","","","","","","","",null,481,{"$f":"INDIRECT(ADDRESS($K472,L$4,1,1,\"3 - Savings Analysis\"))","v":0},{"$f":"INDIRECT(ADDRESS($K472,M$4,1,1,\"3 - Savings Analysis\"))","v":0},{"$f":"INDIRECT(ADDRESS($K472,N$4,1,1,\"3 - Savings Analysis\"))","v":0},{"$f":"INDIRECT(ADDRESS($K472,O$4,1,1,\"3 - Savings Analysis\"))","v":0},{"$f":"INDIRECT(ADDRESS($K472,P$4,1,1,\"3 - Savings Analysis\"))","v":0},{"$f":"INDIRECT(ADDRESS($K472,Q$4,1,1,\"3 - Savings Analysis\"))","v":0},{"$f":"INDIRECT(ADDRESS($K472,R$4,1,1,\"3 - Savings Analysis\"))","v":0},{"$f":"INDIRECT(ADDRESS($K472,S$4,1,1,\"3 - Savings Analysis\"))","v":0},{"$f":"INDIRECT(ADDRESS($K472,T$4,1,1,\"3 - Savings Analysis\"))","v":0}]
["","","","","","","","","",null,482,{"$f":"INDIRECT(ADDRESS($K473,L$4,1,1,\"3 - Savings Analysis\"))","v":0},{"$f":"INDIRECT(ADDRESS($K473,M$4,1,1,\"3 - Savings Analysis\"))","v":0},{"$f":"INDIRECT(ADDRESS($K473,N$4,1,1,\"3 - Savings Analysis\"))","v":0},{"$f":"INDIRECT(ADDRESS($K473,O$4,1,1,\"3 - Savings Analysis\"))","v":0},{"$f":"INDIRECT(ADDRESS($K473,P$4,1,1,\"3 - Savings Analysis\"))","v":0},{"$f":"INDIRECT(ADDRESS($K473,Q$4,1,1,\"3 - Savings Analysis\"))","v":0},{"$f":"INDIRECT(ADDRESS($K473,R$4,1,1,\"3 - Savings Analysis\"))","v":0},{"$f":"INDIRECT(ADDRESS($K473,S$4,1,1,\"3 - Savings Analysis\"))","v":0},{"$f":"INDIRECT(ADDRESS($K473,T$4,1,1,\"3 - Savings Analysis\"))","v":0}]
["","","","","","","","","",null,483,{"$f":"INDIRECT(ADDRESS($K474,L$4,1,1,\"3 - Savings Analysis\"))","v":0},{"$f":"INDIRECT(ADDRESS($K474,M$4,1,1,\"3 - Savings Analysis\"))","v":0},{"$f":"INDIRECT(ADDRESS($K474,N$4,1,1,\"3 - Savings Analysis\"))","v":0},{"$f":"INDIRECT(ADDRESS($K474,O$4,1,1,\"3 - Savings Analysis\"))","v":0},{"$f":"INDIRECT(ADDRESS($K474,P$4,1,1,\"3 - Savings Analysis\"))","v":0},{"$f":"INDIRECT(ADDRESS($K474,Q$4,1,1,\"3 - Savings Analysis\"))","v":0},{"$f":"INDIRECT(ADDRESS($K474,R$4,1,1,\"3 - Savings Analysis\"))","v":0},{"$f":"INDIRECT(ADDRESS($K474,S$4,1,1,\"3 - Savings Analysis\"))","v":0},{"$f":"INDIRECT(ADDRESS($K474,T$4,1,1,\"3 - Savings Analysis\"))","v":0}]
["","","","","","","","","",null,484,{"$f":"INDIRECT(ADDRESS($K475,L$4,1,1,\"3 - Savings Analysis\"))","v":0},{"$f":"INDIRECT(ADDRESS($K475,M$4,1,1,\"3 - Savings Analysis\"))","v":0},{"$f":"INDIRECT(ADDRESS($K475,N$4,1,1,\"3 - Savings Analysis\"))","v":0},{"$f":"INDIRECT(ADDRESS($K475,O$4,1,1,\"3 - Savings Analysis\"))","v":0},{"$f":"INDIRECT(ADDRESS($K475,P$4,1,1,\"3 - Savings Analysis\"))","v":0},{"$f":"INDIRECT(ADDRESS($K475,Q$4,1,1,\"3 - Savings Analysis\"))","v":0},{"$f":"INDIRECT(ADDRESS($K475,R$4,1,1,\"3 - Savings Analysis\"))","v":0},{"$f":"INDIRECT(ADDRESS($K475,S$4,1,1,\"3 - Savings Analysis\"))","v":0},{"$f":"INDIRECT(ADDRESS($K475,T$4,1,1,\"3 - Savings Analysis\"))","v":0}]
["","","","","","","","","",null,485,{"$f":"INDIRECT(ADDRESS($K476,L$4,1,1,\"3 - Savings Analysis\"))","v":0},{"$f":"INDIRECT(ADDRESS($K476,M$4,1,1,\"3 - Savings Analysis\"))","v":0},{"$f":"INDIRECT(ADDRESS($K476,N$4,1,1,\"3 - Savings Analysis\"))","v":0},{"$f":"INDIRECT(ADDRESS($K476,O$4,1,1,\"3 - Savings Analysis\"))","v":0},{"$f":"INDIRECT(ADDRESS($K476,P$4,1,1,\"3 - Savings Analysis\"))","v":0},{"$f":"INDIRECT(ADDRESS($K476,Q$4,1,1,\"3 - Savings Analysis\"))","v":0},{"$f":"INDIRECT(ADDRESS($K476,R$4,1,1,\"3 - Savings Analysis\"))","v":0},{"$f":"INDIRECT(ADDRESS($K476,S$4,1,1,\"3 - Savings Analysis\"))","v":0},{"$f":"INDIRECT(ADDRESS($K476,T$4,1,1,\"3 - Savings Analysis\"))","v":0}]
["","","","","","","","","",null,486,{"$f":"INDIRECT(ADDRESS($K477,L$4,1,1,\"3 - Savings Analysis\"))","v":0},{"$f":"INDIRECT(ADDRESS($K477,M$4,1,1,\"3 - Savings Analysis\"))","v":0},{"$f":"INDIRECT(ADDRESS($K477,N$4,1,1,\"3 - Savings Analysis\"))","v":0},{"$f":"INDIRECT(ADDRESS($K477,O$4,1,1,\"3 - Savings Analysis\"))","v":0},{"$f":"INDIRECT(ADDRESS($K477,P$4,1,1,\"3 - Savings Analysis\"))","v":0},{"$f":"INDIRECT(ADDRESS($K477,Q$4,1,1,\"3 - Savings Analysis\"))","v":0},{"$f":"INDIRECT(ADDRESS($K477,R$4,1,1,\"3 - Savings Analysis\"))","v":0},{"$f":"INDIRECT(ADDRESS($K477,S$4,1,1,\"3 - Savings Analysis\"))","v":0},{"$f":"INDIRECT(ADDRESS($K477,T$4,1,1,\"3 - Savings Analysis\"))","v":0}]
["","","","","","","","","",null,487,{"$f":"INDIRECT(ADDRESS($K478,L$4,1,1,\"3 - Savings Analysis\"))","v":0},{"$f":"INDIRECT(ADDRESS($K478,M$4,1,1,\"3 - Savings Analysis\"))","v":0},{"$f":"INDIRECT(ADDRESS($K478,N$4,1,1,\"3 - Savings Analysis\"))","v":0},{"$f":"INDIRECT(ADDRESS($K478,O$4,1,1,\"3 - Savings Analysis\"))","v":0},{"$f":"INDIRECT(ADDRESS($K478,P$4,1,1,\"3 - Savings Analysis\"))","v":0},{"$f":"INDIRECT(ADDRESS($K478,Q$4,1,1,\"3 - Savings Analysis\"))","v":0},{"$f":"INDIRECT(ADDRESS($K478,R$4,1,1,\"3 - Savings Analysis\"))","v":0},{"$f":"INDIRECT(ADDRESS($K478,S$4,1,1,\"3 - Savings Analysis\"))","v":0},{"$f":"INDIRECT(ADDRESS($K478,T$4,1,1,\"3 - Savings Analysis\"))","v":0}]
["","","","","","","","","",null,488,{"$f":"INDIRECT(ADDRESS($K479,L$4,1,1,\"3 - Savings Analysis\"))","v":0},{"$f":"INDIRECT(ADDRESS($K479,M$4,1,1,\"3 - Savings Analysis\"))","v":0},{"$f":"INDIRECT(ADDRESS($K479,N$4,1,1,\"3 - Savings Analysis\"))","v":0},{"$f":"INDIRECT(ADDRESS($K479,O$4,1,1,\"3 - Savings Analysis\"))","v":0},{"$f":"INDIRECT(ADDRESS($K479,P$4,1,1,\"3 - Savings Analysis\"))","v":0},{"$f":"INDIRECT(ADDRESS($K479,Q$4,1,1,\"3 - Savings Analysis\"))","v":0},{"$f":"INDIRECT(ADDRESS($K479,R$4,1,1,\"3 - Savings Analysis\"))","v":0},{"$f":"INDIRECT(ADDRESS($K479,S$4,1,1,\"3 - Savings Analysis\"))","v":0},{"$f":"INDIRECT(ADDRESS($K479,T$4,1,1,\"3 - Savings Analysis\"))","v":0}]
["","","","","","","","","",null,489,{"$f":"INDIRECT(ADDRESS($K480,L$4,1,1,\"3 - Savings Analysis\"))","v":0},{"$f":"INDIRECT(ADDRESS($K480,M$4,1,1,\"3 - Savings Analysis\"))","v":0},{"$f":"INDIRECT(ADDRESS($K480,N$4,1,1,\"3 - Savings Analysis\"))","v":0},{"$f":"INDIRECT(ADDRESS($K480,O$4,1,1,\"3 - Savings Analysis\"))","v":0},{"$f":"INDIRECT(ADDRESS($K480,P$4,1,1,\"3 - Savings Analysis\"))","v":0},{"$f":"INDIRECT(ADDRESS($K480,Q$4,1,1,\"3 - Savings Analysis\"))","v":0},{"$f":"INDIRECT(ADDRESS($K480,R$4,1,1,\"3 - Savings Analysis\"))","v":0},{"$f":"INDIRECT(ADDRESS($K480,S$4,1,1,\"3 - Savings Analysis\"))","v":0},{"$f":"INDIRECT(ADDRESS($K480,T$4,1,1,\"3 - Savings Analysis\"))","v":0}]
["","","","","","","","","",null,490,{"$f":"INDIRECT(ADDRESS($K481,L$4,1,1,\"3 - Savings Analysis\"))","v":0},{"$f":"INDIRECT(ADDRESS($K481,M$4,1,1,\"3 - Savings Analysis\"))","v":0},{"$f":"INDIRECT(ADDRESS($K481,N$4,1,1,\"3 - Savings Analysis\"))","v":0},{"$f":"INDIRECT(ADDRESS($K481,O$4,1,1,\"3 - Savings Analysis\"))","v":0},{"$f":"INDIRECT(ADDRESS($K481,P$4,1,1,\"3 - Savings Analysis\"))","v":0},{"$f":"INDIRECT(ADDRESS($K481,Q$4,1,1,\"3 - Savings Analysis\"))","v":0},{"$f":"INDIRECT(ADDRESS($K481,R$4,1,1,\"3 - Savings Analysis\"))","v":0},{"$f":"INDIRECT(ADDRESS($K481,S$4,1,1,\"3 - Savings Analysis\"))","v":0},{"$f":"INDIRECT(ADDRESS($K481,T$4,1,1,\"3 - Savings Analysis\"))","v":0}]
["","","","","","","","","",null,491,{"$f":"INDIRECT(ADDRESS($K482,L$4,1,1,\"3 - Savings Analysis\"))","v":0},{"$f":"INDIRECT(ADDRESS($K482,M$4,1,1,\"3 - Savings Analysis\"))","v":0},{"$f":"INDIRECT(ADDRESS($K482,N$4,1,1,\"3 - Savings Analysis\"))","v":0},{"$f":"INDIRECT(ADDRESS($K482,O$4,1,1,\"3 - Savings Analysis\"))","v":0},{"$f":"INDIRECT(ADDRESS($K482,P$4,1,1,\"3 - Savings Analysis\"))","v":0},{"$f":"INDIRECT(ADDRESS($K482,Q$4,1,1,\"3 - Savings Analysis\"))","v":0},{"$f":"INDIRECT(ADDRESS($K482,R$4,1,1,\"3 - Savings Analysis\"))","v":0},{"$f":"INDIRECT(ADDRESS($K482,S$4,1,1,\"3 - Savings Analysis\"))","v":0},{"$f":"INDIRECT(ADDRESS($K482,T$4,1,1,\"3 - Savings Analysis\"))","v":0}]
["","","","","","","","","",null,492,{"$f":"INDIRECT(ADDRESS($K483,L$4,1,1,\"3 - Savings Analysis\"))","v":0},{"$f":"INDIRECT(ADDRESS($K483,M$4,1,1,\"3 - Savings Analysis\"))","v":0},{"$f":"INDIRECT(ADDRESS($K483,N$4,1,1,\"3 - Savings Analysis\"))","v":0},{"$f":"INDIRECT(ADDRESS($K483,O$4,1,1,\"3 - Savings Analysis\"))","v":0},{"$f":"INDIRECT(ADDRESS($K483,P$4,1,1,\"3 - Savings Analysis\"))","v":0},{"$f":"INDIRECT(ADDRESS($K483,Q$4,1,1,\"3 - Savings Analysis\"))","v":0},{"$f":"INDIRECT(ADDRESS($K483,R$4,1,1,\"3 - Savings Analysis\"))","v":0},{"$f":"INDIRECT(ADDRESS($K483,S$4,1,1,\"3 - Savings Analysis\"))","v":0},{"$f":"INDIRECT(ADDRESS($K483,T$4,1,1,\"3 - Savings Analysis\"))","v":0}]
["","","","","","","","","",null,493,{"$f":"INDIRECT(ADDRESS($K484,L$4,1,1,\"3 - Savings Analysis\"))","v":0},{"$f":"INDIRECT(ADDRESS($K484,M$4,1,1,\"3 - Savings Analysis\"))","v":0},{"$f":"INDIRECT(ADDRESS($K484,N$4,1,1,\"3 - Savings Analysis\"))","v":0},{"$f":"INDIRECT(ADDRESS($K484,O$4,1,1,\"3 - Savings Analysis\"))","v":0},{"$f":"INDIRECT(ADDRESS($K484,P$4,1,1,\"3 - Savings Analysis\"))","v":0},{"$f":"INDIRECT(ADDRESS($K484,Q$4,1,1,\"3 - Savings Analysis\"))","v":0},{"$f":"INDIRECT(ADDRESS($K484,R$4,1,1,\"3 - Savings Analysis\"))","v":0},{"$f":"INDIRECT(ADDRESS($K484,S$4,1,1,\"3 - Savings Analysis\"))","v":0},{"$f":"INDIRECT(ADDRESS($K484,T$4,1,1,\"3 - Savings Analysis\"))","v":0}]
["","","","","","","","","",null,494,{"$f":"INDIRECT(ADDRESS($K485,L$4,1,1,\"3 - Savings Analysis\"))","v":0},{"$f":"INDIRECT(ADDRESS($K485,M$4,1,1,\"3 - Savings Analysis\"))","v":0},{"$f":"INDIRECT(ADDRESS($K485,N$4,1,1,\"3 - Savings Analysis\"))","v":0},{"$f":"INDIRECT(ADDRESS($K485,O$4,1,1,\"3 - Savings Analysis\"))","v":0},{"$f":"INDIRECT(ADDRESS($K485,P$4,1,1,\"3 - Savings Analysis\"))","v":0},{"$f":"INDIRECT(ADDRESS($K485,Q$4,1,1,\"3 - Savings Analysis\"))","v":0},{"$f":"INDIRECT(ADDRESS($K485,R$4,1,1,\"3 - Savings Analysis\"))","v":0},{"$f":"INDIRECT(ADDRESS($K485,S$4,1,1,\"3 - Savings Analysis\"))","v":0},{"$f":"INDIRECT(ADDRESS($K485,T$4,1,1,\"3 - Savings Analysis\"))","v":0}]
["","","","","","","","","",null,495,{"$f":"INDIRECT(ADDRESS($K486,L$4,1,1,\"3 - Savings Analysis\"))","v":0},{"$f":"INDIRECT(ADDRESS($K486,M$4,1,1,\"3 - Savings Analysis\"))","v":0},{"$f":"INDIRECT(ADDRESS($K486,N$4,1,1,\"3 - Savings Analysis\"))","v":0},{"$f":"INDIRECT(ADDRESS($K486,O$4,1,1,\"3 - Savings Analysis\"))","v":0},{"$f":"INDIRECT(ADDRESS($K486,P$4,1,1,\"3 - Savings Analysis\"))","v":0},{"$f":"INDIRECT(ADDRESS($K486,Q$4,1,1,\"3 - Savings Analysis\"))","v":0},{"$f":"INDIRECT(ADDRESS($K486,R$4,1,1,\"3 - Savings Analysis\"))","v":0},{"$f":"INDIRECT(ADDRESS($K486,S$4,1,1,\"3 - Savings Analysis\"))","v":0},{"$f":"INDIRECT(ADDRESS($K486,T$4,1,1,\"3 - Savings Analysis\"))","v":0}]
["","","","","","","","","",null,496,{"$f":"INDIRECT(ADDRESS($K487,L$4,1,1,\"3 - Savings Analysis\"))","v":0},{"$f":"INDIRECT(ADDRESS($K487,M$4,1,1,\"3 - Savings Analysis\"))","v":0},{"$f":"INDIRECT(ADDRESS($K487,N$4,1,1,\"3 - Savings Analysis\"))","v":0},{"$f":"INDIRECT(ADDRESS($K487,O$4,1,1,\"3 - Savings Analysis\"))","v":0},{"$f":"INDIRECT(ADDRESS($K487,P$4,1,1,\"3 - Savings Analysis\"))","v":0},{"$f":"INDIRECT(ADDRESS($K487,Q$4,1,1,\"3 - Savings Analysis\"))","v":0},{"$f":"INDIRECT(ADDRESS($K487,R$4,1,1,\"3 - Savings Analysis\"))","v":0},{"$f":"INDIRECT(ADDRESS($K487,S$4,1,1,\"3 - Savings Analysis\"))","v":0},{"$f":"INDIRECT(ADDRESS($K487,T$4,1,1,\"3 - Savings Analysis\"))","v":0}]
["","","","","","","","","",null,497,{"$f":"INDIRECT(ADDRESS($K488,L$4,1,1,\"3 - Savings Analysis\"))","v":0},{"$f":"INDIRECT(ADDRESS($K488,M$4,1,1,\"3 - Savings Analysis\"))","v":0},{"$f":"INDIRECT(ADDRESS($K488,N$4,1,1,\"3 - Savings Analysis\"))","v":0},{"$f":"INDIRECT(ADDRESS($K488,O$4,1,1,\"3 - Savings Analysis\"))","v":0},{"$f":"INDIRECT(ADDRESS($K488,P$4,1,1,\"3 - Savings Analysis\"))","v":0},{"$f":"INDIRECT(ADDRESS($K488,Q$4,1,1,\"3 - Savings Analysis\"))","v":0},{"$f":"INDIRECT(ADDRESS($K488,R$4,1,1,\"3 - Savings Analysis\"))","v":0},{"$f":"INDIRECT(ADDRESS($K488,S$4,1,1,\"3 - Savings Analysis\"))","v":0},{"$f":"INDIRECT(ADDRESS($K488,T$4,1,1,\"3 - Savings Analysis\"))","v":0}]
["","","","","","","","","",null,498,{"$f":"INDIRECT(ADDRESS($K489,L$4,1,1,\"3 - Savings Analysis\"))","v":0},{"$f":"INDIRECT(ADDRESS($K489,M$4,1,1,\"3 - Savings Analysis\"))","v":0},{"$f":"INDIRECT(ADDRESS($K489,N$4,1,1,\"3 - Savings Analysis\"))","v":0},{"$f":"INDIRECT(ADDRESS($K489,O$4,1,1,\"3 - Savings Analysis\"))","v":0},{"$f":"INDIRECT(ADDRESS($K489,P$4,1,1,\"3 - Savings Analysis\"))","v":0},{"$f":"INDIRECT(ADDRESS($K489,Q$4,1,1,\"3 - Savings Analysis\"))","v":0},{"$f":"INDIRECT(ADDRESS($K489,R$4,1,1,\"3 - Savings Analysis\"))","v":0},{"$f":"INDIRECT(ADDRESS($K489,S$4,1,1,\"3 - Savings Analysis\"))","v":0},{"$f":"INDIRECT(ADDRESS($K489,T$4,1,1,\"3 - Savings Analysis\"))","v":0}]
["","","","","","","","","",null,499,{"$f":"INDIRECT(ADDRESS($K490,L$4,1,1,\"3 - Savings Analysis\"))","v":0},{"$f":"INDIRECT(ADDRESS($K490,M$4,1,1,\"3 - Savings Analysis\"))","v":0},{"$f":"INDIRECT(ADDRESS($K490,N$4,1,1,\"3 - Savings Analysis\"))","v":0},{"$f":"INDIRECT(ADDRESS($K490,O$4,1,1,\"3 - Savings Analysis\"))","v":0},{"$f":"INDIRECT(ADDRESS($K490,P$4,1,1,\"3 - Savings Analysis\"))","v":0},{"$f":"INDIRECT(ADDRESS($K490,Q$4,1,1,\"3 - Savings Analysis\"))","v":0},{"$f":"INDIRECT(ADDRESS($K490,R$4,1,1,\"3 - Savings Analysis\"))","v":0},{"$f":"INDIRECT(ADDRESS($K490,S$4,1,1,\"3 - Savings Analysis\"))","v":0},{"$f":"INDIRECT(ADDRESS($K490,T$4,1,1,\"3 - Savings Analysis\"))","v":0}]
["","","","","","","","","",null,500,{"$f":"INDIRECT(ADDRESS($K491,L$4,1,1,\"3 - Savings Analysis\"))","v":0},{"$f":"INDIRECT(ADDRESS($K491,M$4,1,1,\"3 - Savings Analysis\"))","v":0},{"$f":"INDIRECT(ADDRESS($K491,N$4,1,1,\"3 - Savings Analysis\"))","v":0},{"$f":"INDIRECT(ADDRESS($K491,O$4,1,1,\"3 - Savings Analysis\"))","v":0},{"$f":"INDIRECT(ADDRESS($K491,P$4,1,1,\"3 - Savings Analysis\"))","v":0},{"$f":"INDIRECT(ADDRESS($K491,Q$4,1,1,\"3 - Savings Analysis\"))","v":0},{"$f":"INDIRECT(ADDRESS($K491,R$4,1,1,\"3 - Savings Analysis\"))","v":0},{"$f":"INDIRECT(ADDRESS($K491,S$4,1,1,\"3 - Savings Analysis\"))","v":0},{"$f":"INDIRECT(ADDRESS($K491,T$4,1,1,\"3 - Savings Analysis\"))","v":0}]
["","","","","","","","","",null,501,{"$f":"INDIRECT(ADDRESS($K492,L$4,1,1,\"3 - Savings Analysis\"))","v":0},{"$f":"INDIRECT(ADDRESS($K492,M$4,1,1,\"3 - Savings Analysis\"))","v":0},{"$f":"INDIRECT(ADDRESS($K492,N$4,1,1,\"3 - Savings Analysis\"))","v":0},{"$f":"INDIRECT(ADDRESS($K492,O$4,1,1,\"3 - Savings Analysis\"))","v":0},{"$f":"INDIRECT(ADDRESS($K492,P$4,1,1,\"3 - Savings Analysis\"))","v":0},{"$f":"INDIRECT(ADDRESS($K492,Q$4,1,1,\"3 - Savings Analysis\"))","v":0},{"$f":"INDIRECT(ADDRESS($K492,R$4,1,1,\"3 - Savings Analysis\"))","v":0},{"$f":"INDIRECT(ADDRESS($K492,S$4,1,1,\"3 - Savings Analysis\"))","v":0},{"$f":"INDIRECT(ADDRESS($K492,T$4,1,1,\"3 - Savings Analysis\"))","v":0}]
["","","","","","","","","",null,502,{"$f":"INDIRECT(ADDRESS($K493,L$4,1,1,\"3 - Savings Analysis\"))","v":0},{"$f":"INDIRECT(ADDRESS($K493,M$4,1,1,\"3 - Savings Analysis\"))","v":0},{"$f":"INDIRECT(ADDRESS($K493,N$4,1,1,\"3 - Savings Analysis\"))","v":0},{"$f":"INDIRECT(ADDRESS($K493,O$4,1,1,\"3 - Savings Analysis\"))","v":0},{"$f":"INDIRECT(ADDRESS($K493,P$4,1,1,\"3 - Savings Analysis\"))","v":0},{"$f":"INDIRECT(ADDRESS($K493,Q$4,1,1,\"3 - Savings Analysis\"))","v":0},{"$f":"INDIRECT(ADDRESS($K493,R$4,1,1,\"3 - Savings Analysis\"))","v":0},{"$f":"INDIRECT(ADDRESS($K493,S$4,1,1,\"3 - Savings Analysis\"))","v":0},{"$f":"INDIRECT(ADDRESS($K493,T$4,1,1,\"3 - Savings Analysis\"))","v":0}]
["","","","","","","","","",null,503,{"$f":"INDIRECT(ADDRESS($K494,L$4,1,1,\"3 - Savings Analysis\"))","v":0},{"$f":"INDIRECT(ADDRESS($K494,M$4,1,1,\"3 - Savings Analysis\"))","v":0},{"$f":"INDIRECT(ADDRESS($K494,N$4,1,1,\"3 - Savings Analysis\"))","v":0},{"$f":"INDIRECT(ADDRESS($K494,O$4,1,1,\"3 - Savings Analysis\"))","v":0},{"$f":"INDIRECT(ADDRESS($K494,P$4,1,1,\"3 - Savings Analysis\"))","v":0},{"$f":"INDIRECT(ADDRESS($K494,Q$4,1,1,\"3 - Savings Analysis\"))","v":0},{"$f":"INDIRECT(ADDRESS($K494,R$4,1,1,\"3 - Savings Analysis\"))","v":0},{"$f":"INDIRECT(ADDRESS($K494,S$4,1,1,\"3 - Savings Analysis\"))","v":0},{"$f":"INDIRECT(ADDRESS($K494,T$4,1,1,\"3 - Savings Analysis\"))","v":0}]
["","","","","","","","","",null,504,{"$f":"INDIRECT(ADDRESS($K495,L$4,1,1,\"3 - Savings Analysis\"))","v":0},{"$f":"INDIRECT(ADDRESS($K495,M$4,1,1,\"3 - Savings Analysis\"))","v":0},{"$f":"INDIRECT(ADDRESS($K495,N$4,1,1,\"3 - Savings Analysis\"))","v":0},{"$f":"INDIRECT(ADDRESS($K495,O$4,1,1,\"3 - Savings Analysis\"))","v":0},{"$f":"INDIRECT(ADDRESS($K495,P$4,1,1,\"3 - Savings Analysis\"))","v":0},{"$f":"INDIRECT(ADDRESS($K495,Q$4,1,1,\"3 - Savings Analysis\"))","v":0},{"$f":"INDIRECT(ADDRESS($K495,R$4,1,1,\"3 - Savings Analysis\"))","v":0},{"$f":"INDIRECT(ADDRESS($K495,S$4,1,1,\"3 - Savings Analysis\"))","v":0},{"$f":"INDIRECT(ADDRESS($K495,T$4,1,1,\"3 - Savings Analysis\"))","v":0}]
["","","","","","","","","",null,505,{"$f":"INDIRECT(ADDRESS($K496,L$4,1,1,\"3 - Savings Analysis\"))","v":0},{"$f":"INDIRECT(ADDRESS($K496,M$4,1,1,\"3 - Savings Analysis\"))","v":0},{"$f":"INDIRECT(ADDRESS($K496,N$4,1,1,\"3 - Savings Analysis\"))","v":0},{"$f":"INDIRECT(ADDRESS($K496,O$4,1,1,\"3 - Savings Analysis\"))","v":0},{"$f":"INDIRECT(ADDRESS($K496,P$4,1,1,\"3 - Savings Analysis\"))","v":0},{"$f":"INDIRECT(ADDRESS($K496,Q$4,1,1,\"3 - Savings Analysis\"))","v":0},{"$f":"INDIRECT(ADDRESS($K496,R$4,1,1,\"3 - Savings Analysis\"))","v":0},{"$f":"INDIRECT(ADDRESS($K496,S$4,1,1,\"3 - Savings Analysis\"))","v":0},{"$f":"INDIRECT(ADDRESS($K496,T$4,1,1,\"3 - Savings Analysis\"))","v":0}]
["","","","","","","","","",null,506,{"$f":"INDIRECT(ADDRESS($K497,L$4,1,1,\"3 - Savings Analysis\"))","v":0},{"$f":"INDIRECT(ADDRESS($K497,M$4,1,1,\"3 - Savings Analysis\"))","v":0},{"$f":"INDIRECT(ADDRESS($K497,N$4,1,1,\"3 - Savings Analysis\"))","v":0},{"$f":"INDIRECT(ADDRESS($K497,O$4,1,1,\"3 - Savings Analysis\"))","v":0},{"$f":"INDIRECT(ADDRESS($K497,P$4,1,1,\"3 - Savings Analysis\"))","v":0},{"$f":"INDIRECT(ADDRESS($K497,Q$4,1,1,\"3 - Savings Analysis\"))","v":0},{"$f":"INDIRECT(ADDRESS($K497,R$4,1,1,\"3 - Savings Analysis\"))","v":0},{"$f":"INDIRECT(ADDRESS($K497,S$4,1,1,\"3 - Savings Analysis\"))","v":0},{"$f":"INDIRECT(ADDRESS($K497,T$4,1,1,\"3 - Savings Analysis\"))","v":0}]
["","","","","","","","","",null,507,{"$f":"INDIRECT(ADDRESS($K498,L$4,1,1,\"3 - Savings Analysis\"))","v":0},{"$f":"INDIRECT(ADDRESS($K498,M$4,1,1,\"3 - Savings Analysis\"))","v":0},{"$f":"INDIRECT(ADDRESS($K498,N$4,1,1,\"3 - Savings Analysis\"))","v":0},{"$f":"INDIRECT(ADDRESS($K498,O$4,1,1,\"3 - Savings Analysis\"))","v":0},{"$f":"INDIRECT(ADDRESS($K498,P$4,1,1,\"3 - Savings Analysis\"))","v":0},{"$f":"INDIRECT(ADDRESS($K498,Q$4,1,1,\"3 - Savings Analysis\"))","v":0},{"$f":"INDIRECT(ADDRESS($K498,R$4,1,1,\"3 - Savings Analysis\"))","v":0},{"$f":"INDIRECT(ADDRESS($K498,S$4,1,1,\"3 - Savings Analysis\"))","v":0},{"$f":"INDIRECT(ADDRESS($K498,T$4,1,1,\"3 - Savings Analysis\"))","v":0}]
["","","","","","","","","",null,508,{"$f":"INDIRECT(ADDRESS($K499,L$4,1,1,\"3 - Savings Analysis\"))","v":0},{"$f":"INDIRECT(ADDRESS($K499,M$4,1,1,\"3 - Savings Analysis\"))","v":0},{"$f":"INDIRECT(ADDRESS($K499,N$4,1,1,\"3 - Savings Analysis\"))","v":0},{"$f":"INDIRECT(ADDRESS($K499,O$4,1,1,\"3 - Savings Analysis\"))","v":0},{"$f":"INDIRECT(ADDRESS($K499,P$4,1,1,\"3 - Savings Analysis\"))","v":0},{"$f":"INDIRECT(ADDRESS($K499,Q$4,1,1,\"3 - Savings Analysis\"))","v":0},{"$f":"INDIRECT(ADDRESS($K499,R$4,1,1,\"3 - Savings Analysis\"))","v":0},{"$f":"INDIRECT(ADDRESS($K499,S$4,1,1,\"3 - Savings Analysis\"))","v":0},{"$f":"INDIRECT(ADDRESS($K499,T$4,1,1,\"3 - Savings Analysis\"))","v":0}]
["","","","","","","","","",null,509,{"$f":"INDIRECT(ADDRESS($K500,L$4,1,1,\"3 - Savings Analysis\"))","v":0},{"$f":"INDIRECT(ADDRESS($K500,M$4,1,1,\"3 - Savings Analysis\"))","v":0},{"$f":"INDIRECT(ADDRESS($K500,N$4,1,1,\"3 - Savings Analysis\"))","v":0},{"$f":"INDIRECT(ADDRESS($K500,O$4,1,1,\"3 - Savings Analysis\"))","v":0},{"$f":"INDIRECT(ADDRESS($K500,P$4,1,1,\"3 - Savings Analysis\"))","v":0},{"$f":"INDIRECT(ADDRESS($K500,Q$4,1,1,\"3 - Savings Analysis\"))","v":0},{"$f":"INDIRECT(ADDRESS($K500,R$4,1,1,\"3 - Savings Analysis\"))","v":0},{"$f":"INDIRECT(ADDRESS($K500,S$4,1,1,\"3 - Savings Analysis\"))","v":0},{"$f":"INDIRECT(ADDRESS($K500,T$4,1,1,\"3 - Savings Analysis\"))","v":0}]
["","","","","","","","","",null,510,{"$f":"INDIRECT(ADDRESS($K501,L$4,1,1,\"3 - Savings Analysis\"))","v":0},{"$f":"INDIRECT(ADDRESS($K501,M$4,1,1,\"3 - Savings Analysis\"))","v":0},{"$f":"INDIRECT(ADDRESS($K501,N$4,1,1,\"3 - Savings Analysis\"))","v":0},{"$f":"INDIRECT(ADDRESS($K501,O$4,1,1,\"3 - Savings Analysis\"))","v":0},{"$f":"INDIRECT(ADDRESS($K501,P$4,1,1,\"3 - Savings Analysis\"))","v":0},{"$f":"INDIRECT(ADDRESS($K501,Q$4,1,1,\"3 - Savings Analysis\"))","v":0},{"$f":"INDIRECT(ADDRESS($K501,R$4,1,1,\"3 - Savings Analysis\"))","v":0},{"$f":"INDIRECT(ADDRESS($K501,S$4,1,1,\"3 - Savings Analysis\"))","v":0},{"$f":"INDIRECT(ADDRESS($K501,T$4,1,1,\"3 - Savings Analysis\"))","v":0}]
["","","","","","","","","",null,511,{"$f":"INDIRECT(ADDRESS($K502,L$4,1,1,\"3 - Savings Analysis\"))","v":0},{"$f":"INDIRECT(ADDRESS($K502,M$4,1,1,\"3 - Savings Analysis\"))","v":0},{"$f":"INDIRECT(ADDRESS($K502,N$4,1,1,\"3 - Savings Analysis\"))","v":0},{"$f":"INDIRECT(ADDRESS($K502,O$4,1,1,\"3 - Savings Analysis\"))","v":0},{"$f":"INDIRECT(ADDRESS($K502,P$4,1,1,\"3 - Savings Analysis\"))","v":0},{"$f":"INDIRECT(ADDRESS($K502,Q$4,1,1,\"3 - Savings Analysis\"))","v":0},{"$f":"INDIRECT(ADDRESS($K502,R$4,1,1,\"3 - Savings Analysis\"))","v":0},{"$f":"INDIRECT(ADDRESS($K502,S$4,1,1,\"3 - Savings Analysis\"))","v":0},{"$f":"INDIRECT(ADDRESS($K502,T$4,1,1,\"3 - Savings Analysis\"))","v":0}]
["","","","","","","","","",null,512,{"$f":"INDIRECT(ADDRESS($K503,L$4,1,1,\"3 - Savings Analysis\"))","v":0},{"$f":"INDIRECT(ADDRESS($K503,M$4,1,1,\"3 - Savings Analysis\"))","v":0},{"$f":"INDIRECT(ADDRESS($K503,N$4,1,1,\"3 - Savings Analysis\"))","v":0},{"$f":"INDIRECT(ADDRESS($K503,O$4,1,1,\"3 - Savings Analysis\"))","v":0},{"$f":"INDIRECT(ADDRESS($K503,P$4,1,1,\"3 - Savings Analysis\"))","v":0},{"$f":"INDIRECT(ADDRESS($K503,Q$4,1,1,\"3 - Savings Analysis\"))","v":0},{"$f":"INDIRECT(ADDRESS($K503,R$4,1,1,\"3 - Savings Analysis\"))","v":0},{"$f":"INDIRECT(ADDRESS($K503,S$4,1,1,\"3 - Savings Analysis\"))","v":0},{"$f":"INDIRECT(ADDRESS($K503,T$4,1,1,\"3 - Savings Analysis\"))","v":0}]
["","","","","","","","","",null,513,{"$f":"INDIRECT(ADDRESS($K504,L$4,1,1,\"3 - Savings Analysis\"))","v":0},{"$f":"INDIRECT(ADDRESS($K504,M$4,1,1,\"3 - Savings Analysis\"))","v":0},{"$f":"INDIRECT(ADDRESS($K504,N$4,1,1,\"3 - Savings Analysis\"))","v":0},{"$f":"INDIRECT(ADDRESS($K504,O$4,1,1,\"3 - Savings Analysis\"))","v":0},{"$f":"INDIRECT(ADDRESS($K504,P$4,1,1,\"3 - Savings Analysis\"))","v":0},{"$f":"INDIRECT(ADDRESS($K504,Q$4,1,1,\"3 - Savings Analysis\"))","v":0},{"$f":"INDIRECT(ADDRESS($K504,R$4,1,1,\"3 - Savings Analysis\"))","v":0},{"$f":"INDIRECT(ADDRESS($K504,S$4,1,1,\"3 - Savings Analysis\"))","v":0},{"$f":"INDIRECT(ADDRESS($K504,T$4,1,1,\"3 - Savings Analysis\"))","v":0}]
["","","","","","","","","",null,514,{"$f":"INDIRECT(ADDRESS($K505,L$4,1,1,\"3 - Savings Analysis\"))","v":0},{"$f":"INDIRECT(ADDRESS($K505,M$4,1,1,\"3 - Savings Analysis\"))","v":0},{"$f":"INDIRECT(ADDRESS($K505,N$4,1,1,\"3 - Savings Analysis\"))","v":0},{"$f":"INDIRECT(ADDRESS($K505,O$4,1,1,\"3 - Savings Analysis\"))","v":0},{"$f":"INDIRECT(ADDRESS($K505,P$4,1,1,\"3 - Savings Analysis\"))","v":0},{"$f":"INDIRECT(ADDRESS($K505,Q$4,1,1,\"3 - Savings Analysis\"))","v":0},{"$f":"INDIRECT(ADDRESS($K505,R$4,1,1,\"3 - Savings Analysis\"))","v":0},{"$f":"INDIRECT(ADDRESS($K505,S$4,1,1,\"3 - Savings Analysis\"))","v":0},{"$f":"INDIRECT(ADDRESS($K505,T$4,1,1,\"3 - Savings Analysis\"))","v":0}]
["","","","","","","","","",null,515,{"$f":"INDIRECT(ADDRESS($K506,L$4,1,1,\"3 - Savings Analysis\"))","v":0},{"$f":"INDIRECT(ADDRESS($K506,M$4,1,1,\"3 - Savings Analysis\"))","v":0},{"$f":"INDIRECT(ADDRESS($K506,N$4,1,1,\"3 - Savings Analysis\"))","v":0},{"$f":"INDIRECT(ADDRESS($K506,O$4,1,1,\"3 - Savings Analysis\"))","v":0},{"$f":"INDIRECT(ADDRESS($K506,P$4,1,1,\"3 - Savings Analysis\"))","v":0},{"$f":"INDIRECT(ADDRESS($K506,Q$4,1,1,\"3 - Savings Analysis\"))","v":0},{"$f":"INDIRECT(ADDRESS($K506,R$4,1,1,\"3 - Savings Analysis\"))","v":0},{"$f":"INDIRECT(ADDRESS($K506,S$4,1,1,\"3 - Savings Analysis\"))","v":0},{"$f":"INDIRECT(ADDRESS($K506,T$4,1,1,\"3 - Savings Analysis\"))","v":0}]
["","","","","","","","","",null,516,{"$f":"INDIRECT(ADDRESS($K507,L$4,1,1,\"3 - Savings Analysis\"))","v":0},{"$f":"INDIRECT(ADDRESS($K507,M$4,1,1,\"3 - Savings Analysis\"))","v":0},{"$f":"INDIRECT(ADDRESS($K507,N$4,1,1,\"3 - Savings Analysis\"))","v":0},{"$f":"INDIRECT(ADDRESS($K507,O$4,1,1,\"3 - Savings Analysis\"))","v":0},{"$f":"INDIRECT(ADDRESS($K507,P$4,1,1,\"3 - Savings Analysis\"))","v":0},{"$f":"INDIRECT(ADDRESS($K507,Q$4,1,1,\"3 - Savings Analysis\"))","v":0},{"$f":"INDIRECT(ADDRESS($K507,R$4,1,1,\"3 - Savings Analysis\"))","v":0},{"$f":"INDIRECT(ADDRESS($K507,S$4,1,1,\"3 - Savings Analysis\"))","v":0},{"$f":"INDIRECT(ADDRESS($K507,T$4,1,1,\"3 - Savings Analysis\"))","v":0}]
["","","","","","","","","",null,517,{"$f":"INDIRECT(ADDRESS($K508,L$4,1,1,\"3 - Savings Analysis\"))","v":0},{"$f":"INDIRECT(ADDRESS($K508,M$4,1,1,\"3 - Savings Analysis\"))","v":0},{"$f":"INDIRECT(ADDRESS($K508,N$4,1,1,\"3 - Savings Analysis\"))","v":0},{"$f":"INDIRECT(ADDRESS($K508,O$4,1,1,\"3 - Savings Analysis\"))","v":0},{"$f":"INDIRECT(ADDRESS($K508,P$4,1,1,\"3 - Savings Analysis\"))","v":0},{"$f":"INDIRECT(ADDRESS($K508,Q$4,1,1,\"3 - Savings Analysis\"))","v":0},{"$f":"INDIRECT(ADDRESS($K508,R$4,1,1,\"3 - Savings Analysis\"))","v":0},{"$f":"INDIRECT(ADDRESS($K508,S$4,1,1,\"3 - Savings Analysis\"))","v":0},{"$f":"INDIRECT(ADDRESS($K508,T$4,1,1,\"3 - Savings Analysis\"))","v":0}]
["","","","","","","","","",null,518,{"$f":"INDIRECT(ADDRESS($K509,L$4,1,1,\"3 - Savings Analysis\"))","v":0},{"$f":"INDIRECT(ADDRESS($K509,M$4,1,1,\"3 - Savings Analysis\"))","v":0},{"$f":"INDIRECT(ADDRESS($K509,N$4,1,1,\"3 - Savings Analysis\"))","v":0},{"$f":"INDIRECT(ADDRESS($K509,O$4,1,1,\"3 - Savings Analysis\"))","v":0},{"$f":"INDIRECT(ADDRESS($K509,P$4,1,1,\"3 - Savings Analysis\"))","v":0},{"$f":"INDIRECT(ADDRESS($K509,Q$4,1,1,\"3 - Savings Analysis\"))","v":0},{"$f":"INDIRECT(ADDRESS($K509,R$4,1,1,\"3 - Savings Analysis\"))","v":0},{"$f":"INDIRECT(ADDRESS($K509,S$4,1,1,\"3 - Savings Analysis\"))","v":0},{"$f":"INDIRECT(ADDRESS($K509,T$4,1,1,\"3 - Savings Analysis\"))","v":0}]
["","","","","","","","","",null,519,{"$f":"INDIRECT(ADDRESS($K510,L$4,1,1,\"3 - Savings Analysis\"))","v":0},{"$f":"INDIRECT(ADDRESS($K510,M$4,1,1,\"3 - Savings Analysis\"))","v":0},{"$f":"INDIRECT(ADDRESS($K510,N$4,1,1,\"3 - Savings Analysis\"))","v":0},{"$f":"INDIRECT(ADDRESS($K510,O$4,1,1,\"3 - Savings Analysis\"))","v":0},{"$f":"INDIRECT(ADDRESS($K510,P$4,1,1,\"3 - Savings Analysis\"))","v":0},{"$f":"INDIRECT(ADDRESS($K510,Q$4,1,1,\"3 - Savings Analysis\"))","v":0},{"$f":"INDIRECT(ADDRESS($K510,R$4,1,1,\"3 - Savings Analysis\"))","v":0},{"$f":"INDIRECT(ADDRESS($K510,S$4,1,1,\"3 - Savings Analysis\"))","v":0},{"$f":"INDIRECT(ADDRESS($K510,T$4,1,1,\"3 - Savings Analysis\"))","v":0}]
["","","","","","","","","",null,520,{"$f":"INDIRECT(ADDRESS($K511,L$4,1,1,\"3 - Savings Analysis\"))","v":0},{"$f":"INDIRECT(ADDRESS($K511,M$4,1,1,\"3 - Savings Analysis\"))","v":0},{"$f":"INDIRECT(ADDRESS($K511,N$4,1,1,\"3 - Savings Analysis\"))","v":0},{"$f":"INDIRECT(ADDRESS($K511,O$4,1,1,\"3 - Savings Analysis\"))","v":0},{"$f":"INDIRECT(ADDRESS($K511,P$4,1,1,\"3 - Savings Analysis\"))","v":0},{"$f":"INDIRECT(ADDRESS($K511,Q$4,1,1,\"3 - Savings Analysis\"))","v":0},{"$f":"INDIRECT(ADDRESS($K511,R$4,1,1,\"3 - Savings Analysis\"))","v":0},{"$f":"INDIRECT(ADDRESS($K511,S$4,1,1,\"3 - Savings Analysis\"))","v":0},{"$f":"INDIRECT(ADDRESS($K511,T$4,1,1,\"3 - Savings Analysis\"))","v":0}]
["","","","","","","","","",null,521,{"$f":"INDIRECT(ADDRESS($K512,L$4,1,1,\"3 - Savings Analysis\"))","v":0},{"$f":"INDIRECT(ADDRESS($K512,M$4,1,1,\"3 - Savings Analysis\"))","v":0},{"$f":"INDIRECT(ADDRESS($K512,N$4,1,1,\"3 - Savings Analysis\"))","v":0},{"$f":"INDIRECT(ADDRESS($K512,O$4,1,1,\"3 - Savings Analysis\"))","v":0},{"$f":"INDIRECT(ADDRESS($K512,P$4,1,1,\"3 - Savings Analysis\"))","v":0},{"$f":"INDIRECT(ADDRESS($K512,Q$4,1,1,\"3 - Savings Analysis\"))","v":0},{"$f":"INDIRECT(ADDRESS($K512,R$4,1,1,\"3 - Savings Analysis\"))","v":0},{"$f":"INDIRECT(ADDRESS($K512,S$4,1,1,\"3 - Savings Analysis\"))","v":0},{"$f":"INDIRECT(ADDRESS($K512,T$4,1,1,\"3 - Savings Analysis\"))","v":0}]
["","","","","","","","","",null,522,{"$f":"INDIRECT(ADDRESS($K513,L$4,1,1,\"3 - Savings Analysis\"))","v":0},{"$f":"INDIRECT(ADDRESS($K513,M$4,1,1,\"3 - Savings Analysis\"))","v":0},{"$f":"INDIRECT(ADDRESS($K513,N$4,1,1,\"3 - Savings Analysis\"))","v":0},{"$f":"INDIRECT(ADDRESS($K513,O$4,1,1,\"3 - Savings Analysis\"))","v":0},{"$f":"INDIRECT(ADDRESS($K513,P$4,1,1,\"3 - Savings Analysis\"))","v":0},{"$f":"INDIRECT(ADDRESS($K513,Q$4,1,1,\"3 - Savings Analysis\"))","v":0},{"$f":"INDIRECT(ADDRESS($K513,R$4,1,1,\"3 - Savings Analysis\"))","v":0},{"$f":"INDIRECT(ADDRESS($K513,S$4,1,1,\"3 - Savings Analysis\"))","v":0},{"$f":"INDIRECT(ADDRESS($K513,T$4,1,1,\"3 - Savings Analysis\"))","v":0}]
["","","","","","","","","",null,523,{"$f":"INDIRECT(ADDRESS($K514,L$4,1,1,\"3 - Savings Analysis\"))","v":0},{"$f":"INDIRECT(ADDRESS($K514,M$4,1,1,\"3 - Savings Analysis\"))","v":0},{"$f":"INDIRECT(ADDRESS($K514,N$4,1,1,\"3 - Savings Analysis\"))","v":0},{"$f":"INDIRECT(ADDRESS($K514,O$4,1,1,\"3 - Savings Analysis\"))","v":0},{"$f":"INDIRECT(ADDRESS($K514,P$4,1,1,\"3 - Savings Analysis\"))","v":0},{"$f":"INDIRECT(ADDRESS($K514,Q$4,1,1,\"3 - Savings Analysis\"))","v":0},{"$f":"INDIRECT(ADDRESS($K514,R$4,1,1,\"3 - Savings Analysis\"))","v":0},{"$f":"INDIRECT(ADDRESS($K514,S$4,1,1,\"3 - Savings Analysis\"))","v":0},{"$f":"INDIRECT(ADDRESS($K514,T$4,1,1,\"3 - Savings Analysis\"))","v":0}]
["","","","","","","","","",null,524,{"$f":"INDIRECT(ADDRESS($K515,L$4,1,1,\"3 - Savings Analysis\"))","v":0},{"$f":"INDIRECT(ADDRESS($K515,M$4,1,1,\"3 - Savings Analysis\"))","v":0},{"$f":"INDIRECT(ADDRESS($K515,N$4,1,1,\"3 - Savings Analysis\"))","v":0},{"$f":"INDIRECT(ADDRESS($K515,O$4,1,1,\"3 - Savings Analysis\"))","v":0},{"$f":"INDIRECT(ADDRESS($K515,P$4,1,1,\"3 - Savings Analysis\"))","v":0},{"$f":"INDIRECT(ADDRESS($K515,Q$4,1,1,\"3 - Savings Analysis\"))","v":0},{"$f":"INDIRECT(ADDRESS($K515,R$4,1,1,\"3 - Savings Analysis\"))","v":0},{"$f":"INDIRECT(ADDRESS($K515,S$4,1,1,\"3 - Savings Analysis\"))","v":0},{"$f":"INDIRECT(ADDRESS($K515,T$4,1,1,\"3 - Savings Analysis\"))","v":0}]
["","","","","","","","","",null,525,{"$f":"INDIRECT(ADDRESS($K516,L$4,1,1,\"3 - Savings Analysis\"))","v":0},{"$f":"INDIRECT(ADDRESS($K516,M$4,1,1,\"3 - Savings Analysis\"))","v":0},{"$f":"INDIRECT(ADDRESS($K516,N$4,1,1,\"3 - Savings Analysis\"))","v":0},{"$f":"INDIRECT(ADDRESS($K516,O$4,1,1,\"3 - Savings Analysis\"))","v":0},{"$f":"INDIRECT(ADDRESS($K516,P$4,1,1,\"3 - Savings Analysis\"))","v":0},{"$f":"INDIRECT(ADDRESS($K516,Q$4,1,1,\"3 - Savings Analysis\"))","v":0},{"$f":"INDIRECT(ADDRESS($K516,R$4,1,1,\"3 - Savings Analysis\"))","v":0},{"$f":"INDIRECT(ADDRESS($K516,S$4,1,1,\"3 - Savings Analysis\"))","v":0},{"$f":"INDIRECT(ADDRESS($K516,T$4,1,1,\"3 - Savings Analysis\"))","v":0}]
["","","","","","","","","",null,526,{"$f":"INDIRECT(ADDRESS($K517,L$4,1,1,\"3 - Savings Analysis\"))","v":0},{"$f":"INDIRECT(ADDRESS($K517,M$4,1,1,\"3 - Savings Analysis\"))","v":0},{"$f":"INDIRECT(ADDRESS($K517,N$4,1,1,\"3 - Savings Analysis\"))","v":0},{"$f":"INDIRECT(ADDRESS($K517,O$4,1,1,\"3 - Savings Analysis\"))","v":0},{"$f":"INDIRECT(ADDRESS($K517,P$4,1,1,\"3 - Savings Analysis\"))","v":0},{"$f":"INDIRECT(ADDRESS($K517,Q$4,1,1,\"3 - Savings Analysis\"))","v":0},{"$f":"INDIRECT(ADDRESS($K517,R$4,1,1,\"3 - Savings Analysis\"))","v":0},{"$f":"INDIRECT(ADDRESS($K517,S$4,1,1,\"3 - Savings Analysis\"))","v":0},{"$f":"INDIRECT(ADDRESS($K517,T$4,1,1,\"3 - Savings Analysis\"))","v":0}]
["","","","","","","","","",null,527,{"$f":"INDIRECT(ADDRESS($K518,L$4,1,1,\"3 - Savings Analysis\"))","v":0},{"$f":"INDIRECT(ADDRESS($K518,M$4,1,1,\"3 - Savings Analysis\"))","v":0},{"$f":"INDIRECT(ADDRESS($K518,N$4,1,1,\"3 - Savings Analysis\"))","v":0},{"$f":"INDIRECT(ADDRESS($K518,O$4,1,1,\"3 - Savings Analysis\"))","v":0},{"$f":"INDIRECT(ADDRESS($K518,P$4,1,1,\"3 - Savings Analysis\"))","v":0},{"$f":"INDIRECT(ADDRESS($K518,Q$4,1,1,\"3 - Savings Analysis\"))","v":0},{"$f":"INDIRECT(ADDRESS($K518,R$4,1,1,\"3 - Savings Analysis\"))","v":0},{"$f":"INDIRECT(ADDRESS($K518,S$4,1,1,\"3 - Savings Analysis\"))","v":0},{"$f":"INDIRECT(ADDRESS($K518,T$4,1,1,\"3 - Savings Analysis\"))","v":0}]
["","","","","","","","","",null,528,{"$f":"INDIRECT(ADDRESS($K519,L$4,1,1,\"3 - Savings Analysis\"))","v":0},{"$f":"INDIRECT(ADDRESS($K519,M$4,1,1,\"3 - Savings Analysis\"))","v":0},{"$f":"INDIRECT(ADDRESS($K519,N$4,1,1,\"3 - Savings Analysis\"))","v":0},{"$f":"INDIRECT(ADDRESS($K519,O$4,1,1,\"3 - Savings Analysis\"))","v":0},{"$f":"INDIRECT(ADDRESS($K519,P$4,1,1,\"3 - Savings Analysis\"))","v":0},{"$f":"INDIRECT(ADDRESS($K519,Q$4,1,1,\"3 - Savings Analysis\"))","v":0},{"$f":"INDIRECT(ADDRESS($K519,R$4,1,1,\"3 - Savings Analysis\"))","v":0},{"$f":"INDIRECT(ADDRESS($K519,S$4,1,1,\"3 - Savings Analysis\"))","v":0},{"$f":"INDIRECT(ADDRESS($K519,T$4,1,1,\"3 - Savings Analysis\"))","v":0}]
["","","","","","","","","",null,529,{"$f":"INDIRECT(ADDRESS($K520,L$4,1,1,\"3 - Savings Analysis\"))","v":0},{"$f":"INDIRECT(ADDRESS($K520,M$4,1,1,\"3 - Savings Analysis\"))","v":0},{"$f":"INDIRECT(ADDRESS($K520,N$4,1,1,\"3 - Savings Analysis\"))","v":0},{"$f":"INDIRECT(ADDRESS($K520,O$4,1,1,\"3 - Savings Analysis\"))","v":0},{"$f":"INDIRECT(ADDRESS($K520,P$4,1,1,\"3 - Savings Analysis\"))","v":0},{"$f":"INDIRECT(ADDRESS($K520,Q$4,1,1,\"3 - Savings Analysis\"))","v":0},{"$f":"INDIRECT(ADDRESS($K520,R$4,1,1,\"3 - Savings Analysis\"))","v":0},{"$f":"INDIRECT(ADDRESS($K520,S$4,1,1,\"3 - Savings Analysis\"))","v":0},{"$f":"INDIRECT(ADDRESS($K520,T$4,1,1,\"3 - Savings Analysis\"))","v":0}]
["","","","","","","","","",null,{"$f":"K520+1","v":530},{"$f":"INDIRECT(ADDRESS($K521,L$4,1,1,\"3 - Savings Analysis\"))","v":0},{"$f":"INDIRECT(ADDRESS($K521,M$4,1,1,\"3 - Savings Analysis\"))","v":0},{"$f":"INDIRECT(ADDRESS($K521,N$4,1,1,\"3 - Savings Analysis\"))","v":0},{"$f":"INDIRECT(ADDRESS($K521,O$4,1,1,\"3 - Savings Analysis\"))","v":0},{"$f":"INDIRECT(ADDRESS($K521,P$4,1,1,\"3 - Savings Analysis\"))","v":0},{"$f":"INDIRECT(ADDRESS($K521,Q$4,1,1,\"3 - Savings Analysis\"))","v":0},{"$f":"INDIRECT(ADDRESS($K521,R$4,1,1,\"3 - Savings Analysis\"))","v":0},{"$f":"INDIRECT(ADDRESS($K521,S$4,1,1,\"3 - Savings Analysis\"))","v":0},{"$f":"INDIRECT(ADDRESS($K521,T$4,1,1,\"3 - Savings Analysis\"))","v":0}]
["","","","","","","","","",null,531,{"$f":"INDIRECT(ADDRESS($K522,L$4,1,1,\"3 - Savings Analysis\"))","v":0},{"$f":"INDIRECT(ADDRESS($K522,M$4,1,1,\"3 - Savings Analysis\"))","v":0},{"$f":"INDIRECT(ADDRESS($K522,N$4,1,1,\"3 - Savings Analysis\"))","v":0},{"$f":"INDIRECT(ADDRESS($K522,O$4,1,1,\"3 - Savings Analysis\"))","v":0},{"$f":"INDIRECT(ADDRESS($K522,P$4,1,1,\"3 - Savings Analysis\"))","v":0},{"$f":"INDIRECT(ADDRESS($K522,Q$4,1,1,\"3 - Savings Analysis\"))","v":0},{"$f":"INDIRECT(ADDRESS($K522,R$4,1,1,\"3 - Savings Analysis\"))","v":0},{"$f":"INDIRECT(ADDRESS($K522,S$4,1,1,\"3 - Savings Analysis\"))","v":0},{"$f":"INDIRECT(ADDRESS($K522,T$4,1,1,\"3 - Savings Analysis\"))","v":0}]
["","","","","","","","","",null,532,{"$f":"INDIRECT(ADDRESS($K523,L$4,1,1,\"3 - Savings Analysis\"))","v":0},{"$f":"INDIRECT(ADDRESS($K523,M$4,1,1,\"3 - Savings Analysis\"))","v":0},{"$f":"INDIRECT(ADDRESS($K523,N$4,1,1,\"3 - Savings Analysis\"))","v":0},{"$f":"INDIRECT(ADDRESS($K523,O$4,1,1,\"3 - Savings Analysis\"))","v":0},{"$f":"INDIRECT(ADDRESS($K523,P$4,1,1,\"3 - Savings Analysis\"))","v":0},{"$f":"INDIRECT(ADDRESS($K523,Q$4,1,1,\"3 - Savings Analysis\"))","v":0},{"$f":"INDIRECT(ADDRESS($K523,R$4,1,1,\"3 - Savings Analysis\"))","v":0},{"$f":"INDIRECT(ADDRESS($K523,S$4,1,1,\"3 - Savings Analysis\"))","v":0},{"$f":"INDIRECT(ADDRESS($K523,T$4,1,1,\"3 - Savings Analysis\"))","v":0}]
["","","","","","","","","",null,533,{"$f":"INDIRECT(ADDRESS($K524,L$4,1,1,\"3 - Savings Analysis\"))","v":0},{"$f":"INDIRECT(ADDRESS($K524,M$4,1,1,\"3 - Savings Analysis\"))","v":0},{"$f":"INDIRECT(ADDRESS($K524,N$4,1,1,\"3 - Savings Analysis\"))","v":0},{"$f":"INDIRECT(ADDRESS($K524,O$4,1,1,\"3 - Savings Analysis\"))","v":0},{"$f":"INDIRECT(ADDRESS($K524,P$4,1,1,\"3 - Savings Analysis\"))","v":0},{"$f":"INDIRECT(ADDRESS($K524,Q$4,1,1,\"3 - Savings Analysis\"))","v":0},{"$f":"INDIRECT(ADDRESS($K524,R$4,1,1,\"3 - Savings Analysis\"))","v":0},{"$f":"INDIRECT(ADDRESS($K524,S$4,1,1,\"3 - Savings Analysis\"))","v":0},{"$f":"INDIRECT(ADDRESS($K524,T$4,1,1,\"3 - Savings Analysis\"))","v":0}]
[{"$f":"IF($K525<=$M$2,L525,\"\")","v":""},{"$f":"IF($K525<=$M$2,IF($A525=\"Total\",\"\",M525),\"\")","v":""},{"$f":"IF($K525<=$M$2,IF($A525=\"Total\",\"\",N525),\"\")","v":""},{"$f":"IF($K525<=$M$2,O525,\"\")","v":""},{"$f":"IF($K525<=$M$2,P525,\"\")","v":""},{"$f":"IF($K525<=$M$2,IF($A525=\"Total\",\"\",Q525),\"\")","v":""},{"$f":"IF($K525<=$M$2,IF($A525=\"Total\",\"\",R525),\"\")","v":""},{"$f":"IF($K525<=$M$2,IF($A525=\"Total\",\"\",IF($T525=0,\"\",S525)),\"\")","v":""},{"$f":"IF($K525<=$M$2,IF($A525=\"Total\",\"\",IF($T525=0,\"\",T525)),\"\")","v":""},null,534,{"$f":"INDIRECT(ADDRESS($K525,L$4,1,1,\"3 - Savings Analysis\"))","v":0},{"$f":"INDIRECT(ADDRESS($K525,M$4,1,1,\"3 - Savings Analysis\"))","v":0},{"$f":"INDIRECT(ADDRESS($K525,N$4,1,1,\"3 - Savings Analysis\"))","v":0},{"$f":"INDIRECT(ADDRESS($K525,O$4,1,1,\"3 - Savings Analysis\"))","v":0},{"$f":"INDIRECT(ADDRESS($K525,P$4,1,1,\"3 - Savings Analysis\"))","v":0},{"$f":"INDIRECT(ADDRESS($K525,Q$4,1,1,\"3 - Savings Analysis\"))","v":0},{"$f":"INDIRECT(ADDRESS($K525,R$4,1,1,\"3 - Savings Analysis\"))","v":0},{"$f":"INDIRECT(ADDRESS($K525,S$4,1,1,\"3 - Savings Analysis\"))","v":0},{"$f":"INDIRECT(ADDRESS($K525,T$4,1,1,\"3 - Savings Analysis\"))","v":0}]
["","","","","","","","","",null,535,{"$f":"INDIRECT(ADDRESS($K526,L$4,1,1,\"3 - Savings Analysis\"))","v":0},{"$f":"INDIRECT(ADDRESS($K526,M$4,1,1,\"3 - Savings Analysis\"))","v":0},{"$f":"INDIRECT(ADDRESS($K526,N$4,1,1,\"3 - Savings Analysis\"))","v":0},{"$f":"INDIRECT(ADDRESS($K526,O$4,1,1,\"3 - Savings Analysis\"))","v":0},{"$f":"INDIRECT(ADDRESS($K526,P$4,1,1,\"3 - Savings Analysis\"))","v":0},{"$f":"INDIRECT(ADDRESS($K526,Q$4,1,1,\"3 - Savings Analysis\"))","v":0},{"$f":"INDIRECT(ADDRESS($K526,R$4,1,1,\"3 - Savings Analysis\"))","v":0},{"$f":"INDIRECT(ADDRESS($K526,S$4,1,1,\"3 - Savings Analysis\"))","v":0},{"$f":"INDIRECT(ADDRESS($K526,T$4,1,1,\"3 - Savings Analysis\"))","v":0}]
["","","","","","","","","",null,536,{"$f":"INDIRECT(ADDRESS($K527,L$4,1,1,\"3 - Savings Analysis\"))","v":0},{"$f":"INDIRECT(ADDRESS($K527,M$4,1,1,\"3 - Savings Analysis\"))","v":0},{"$f":"INDIRECT(ADDRESS($K527,N$4,1,1,\"3 - Savings Analysis\"))","v":0},{"$f":"INDIRECT(ADDRESS($K527,O$4,1,1,\"3 - Savings Analysis\"))","v":0},{"$f":"INDIRECT(ADDRESS($K527,P$4,1,1,\"3 - Savings Analysis\"))","v":0},{"$f":"INDIRECT(ADDRESS($K527,Q$4,1,1,\"3 - Savings Analysis\"))","v":0},{"$f":"INDIRECT(ADDRESS($K527,R$4,1,1,\"3 - Savings Analysis\"))","v":0},{"$f":"INDIRECT(ADDRESS($K527,S$4,1,1,\"3 - Savings Analysis\"))","v":0},{"$f":"INDIRECT(ADDRESS($K527,T$4,1,1,\"3 - Savings Analysis\"))","v":0}]
["","","","","","","","","",null,537,{"$f":"INDIRECT(ADDRESS($K528,L$4,1,1,\"3 - Savings Analysis\"))","v":0},{"$f":"INDIRECT(ADDRESS($K528,M$4,1,1,\"3 - Savings Analysis\"))","v":0},{"$f":"INDIRECT(ADDRESS($K528,N$4,1,1,\"3 - Savings Analysis\"))","v":0},{"$f":"INDIRECT(ADDRESS($K528,O$4,1,1,\"3 - Savings Analysis\"))","v":0},{"$f":"INDIRECT(ADDRESS($K528,P$4,1,1,\"3 - Savings Analysis\"))","v":0},{"$f":"INDIRECT(ADDRESS($K528,Q$4,1,1,\"3 - Savings Analysis\"))","v":0},{"$f":"INDIRECT(ADDRESS($K528,R$4,1,1,\"3 - Savings Analysis\"))","v":0},{"$f":"INDIRECT(ADDRESS($K528,S$4,1,1,\"3 - Savings Analysis\"))","v":0},{"$f":"INDIRECT(ADDRESS($K528,T$4,1,1,\"3 - Savings Analysis\"))","v":0}]
["","","","","","","","","",null,538,{"$f":"INDIRECT(ADDRESS($K529,L$4,1,1,\"3 - Savings Analysis\"))","v":0},{"$f":"INDIRECT(ADDRESS($K529,M$4,1,1,\"3 - Savings Analysis\"))","v":0},{"$f":"INDIRECT(ADDRESS($K529,N$4,1,1,\"3 - Savings Analysis\"))","v":0},{"$f":"INDIRECT(ADDRESS($K529,O$4,1,1,\"3 - Savings Analysis\"))","v":0},{"$f":"INDIRECT(ADDRESS($K529,P$4,1,1,\"3 - Savings Analysis\"))","v":0},{"$f":"INDIRECT(ADDRESS($K529,Q$4,1,1,\"3 - Savings Analysis\"))","v":0},{"$f":"INDIRECT(ADDRESS($K529,R$4,1,1,\"3 - Savings Analysis\"))","v":0},{"$f":"INDIRECT(ADDRESS($K529,S$4,1,1,\"3 - Savings Analysis\"))","v":0},{"$f":"INDIRECT(ADDRESS($K529,T$4,1,1,\"3 - Savings Analysis\"))","v":0}]
["","","","","","","","","",null,539,{"$f":"INDIRECT(ADDRESS($K530,L$4,1,1,\"3 - Savings Analysis\"))","v":0},{"$f":"INDIRECT(ADDRESS($K530,M$4,1,1,\"3 - Savings Analysis\"))","v":0},{"$f":"INDIRECT(ADDRESS($K530,N$4,1,1,\"3 - Savings Analysis\"))","v":0},{"$f":"INDIRECT(ADDRESS($K530,O$4,1,1,\"3 - Savings Analysis\"))","v":0},{"$f":"INDIRECT(ADDRESS($K530,P$4,1,1,\"3 - Savings Analysis\"))","v":0},{"$f":"INDIRECT(ADDRESS($K530,Q$4,1,1,\"3 - Savings Analysis\"))","v":0},{"$f":"INDIRECT(ADDRESS($K530,R$4,1,1,\"3 - Savings Analysis\"))","v":0},{"$f":"INDIRECT(ADDRESS($K530,S$4,1,1,\"3 - Savings Analysis\"))","v":0},{"$f":"INDIRECT(ADDRESS($K530,T$4,1,1,\"3 - Savings Analysis\"))","v":0}]
["","","","","","","","","",null,540,{"$f":"INDIRECT(ADDRESS($K531,L$4,1,1,\"3 - Savings Analysis\"))","v":0},{"$f":"INDIRECT(ADDRESS($K531,M$4,1,1,\"3 - Savings Analysis\"))","v":0},{"$f":"INDIRECT(ADDRESS($K531,N$4,1,1,\"3 - Savings Analysis\"))","v":0},{"$f":"INDIRECT(ADDRESS($K531,O$4,1,1,\"3 - Savings Analysis\"))","v":0},{"$f":"INDIRECT(ADDRESS($K531,P$4,1,1,\"3 - Savings Analysis\"))","v":0},{"$f":"INDIRECT(ADDRESS($K531,Q$4,1,1,\"3 - Savings Analysis\"))","v":0},{"$f":"INDIRECT(ADDRESS($K531,R$4,1,1,\"3 - Savings Analysis\"))","v":0},{"$f":"INDIRECT(ADDRESS($K531,S$4,1,1,\"3 - Savings Analysis\"))","v":0},{"$f":"INDIRECT(ADDRESS($K531,T$4,1,1,\"3 - Savings Analysis\"))","v":0}]
["","","","","","","","","",null,541,{"$f":"INDIRECT(ADDRESS($K532,L$4,1,1,\"3 - Savings Analysis\"))","v":0},{"$f":"INDIRECT(ADDRESS($K532,M$4,1,1,\"3 - Savings Analysis\"))","v":0},{"$f":"INDIRECT(ADDRESS($K532,N$4,1,1,\"3 - Savings Analysis\"))","v":0},{"$f":"INDIRECT(ADDRESS($K532,O$4,1,1,\"3 - Savings Analysis\"))","v":0},{"$f":"INDIRECT(ADDRESS($K532,P$4,1,1,\"3 - Savings Analysis\"))","v":0},{"$f":"INDIRECT(ADDRESS($K532,Q$4,1,1,\"3 - Savings Analysis\"))","v":0},{"$f":"INDIRECT(ADDRESS($K532,R$4,1,1,\"3 - Savings Analysis\"))","v":0},{"$f":"INDIRECT(ADDRESS($K532,S$4,1,1,\"3 - Savings Analysis\"))","v":0},{"$f":"INDIRECT(ADDRESS($K532,T$4,1,1,\"3 - Savings Analysis\"))","v":0}]
["","","","","","","","","",null,542,{"$f":"INDIRECT(ADDRESS($K533,L$4,1,1,\"3 - Savings Analysis\"))","v":0},{"$f":"INDIRECT(ADDRESS($K533,M$4,1,1,\"3 - Savings Analysis\"))","v":0},{"$f":"INDIRECT(ADDRESS($K533,N$4,1,1,\"3 - Savings Analysis\"))","v":0},{"$f":"INDIRECT(ADDRESS($K533,O$4,1,1,\"3 - Savings Analysis\"))","v":0},{"$f":"INDIRECT(ADDRESS($K533,P$4,1,1,\"3 - Savings Analysis\"))","v":0},{"$f":"INDIRECT(ADDRESS($K533,Q$4,1,1,\"3 - Savings Analysis\"))","v":0},{"$f":"INDIRECT(ADDRESS($K533,R$4,1,1,\"3 - Savings Analysis\"))","v":0},{"$f":"INDIRECT(ADDRESS($K533,S$4,1,1,\"3 - Savings Analysis\"))","v":0},{"$f":"INDIRECT(ADDRESS($K533,T$4,1,1,\"3 - Savings Analysis\"))","v":0}]
["","","","","","","","","",null,543,{"$f":"INDIRECT(ADDRESS($K534,L$4,1,1,\"3 - Savings Analysis\"))","v":0},{"$f":"INDIRECT(ADDRESS($K534,M$4,1,1,\"3 - Savings Analysis\"))","v":0},{"$f":"INDIRECT(ADDRESS($K534,N$4,1,1,\"3 - Savings Analysis\"))","v":0},{"$f":"INDIRECT(ADDRESS($K534,O$4,1,1,\"3 - Savings Analysis\"))","v":0},{"$f":"INDIRECT(ADDRESS($K534,P$4,1,1,\"3 - Savings Analysis\"))","v":0},{"$f":"INDIRECT(ADDRESS($K534,Q$4,1,1,\"3 - Savings Analysis\"))","v":0},{"$f":"INDIRECT(ADDRESS($K534,R$4,1,1,\"3 - Savings Analysis\"))","v":0},{"$f":"INDIRECT(ADDRESS($K534,S$4,1,1,\"3 - Savings Analysis\"))","v":0},{"$f":"INDIRECT(ADDRESS($K534,T$4,1,1,\"3 - Savings Analysis\"))","v":0}]
["","","","","","","","","",null,544,{"$f":"INDIRECT(ADDRESS($K535,L$4,1,1,\"3 - Savings Analysis\"))","v":0},{"$f":"INDIRECT(ADDRESS($K535,M$4,1,1,\"3 - Savings Analysis\"))","v":0},{"$f":"INDIRECT(ADDRESS($K535,N$4,1,1,\"3 - Savings Analysis\"))","v":0},{"$f":"INDIRECT(ADDRESS($K535,O$4,1,1,\"3 - Savings Analysis\"))","v":0},{"$f":"INDIRECT(ADDRESS($K535,P$4,1,1,\"3 - Savings Analysis\"))","v":0},{"$f":"INDIRECT(ADDRESS($K535,Q$4,1,1,\"3 - Savings Analysis\"))","v":0},{"$f":"INDIRECT(ADDRESS($K535,R$4,1,1,\"3 - Savings Analysis\"))","v":0},{"$f":"INDIRECT(ADDRESS($K535,S$4,1,1,\"3 - Savings Analysis\"))","v":0},{"$f":"INDIRECT(ADDRESS($K535,T$4,1,1,\"3 - Savings Analysis\"))","v":0}]
["","","","","","","","","",null,545,{"$f":"INDIRECT(ADDRESS($K536,L$4,1,1,\"3 - Savings Analysis\"))","v":0},{"$f":"INDIRECT(ADDRESS($K536,M$4,1,1,\"3 - Savings Analysis\"))","v":0},{"$f":"INDIRECT(ADDRESS($K536,N$4,1,1,\"3 - Savings Analysis\"))","v":0},{"$f":"INDIRECT(ADDRESS($K536,O$4,1,1,\"3 - Savings Analysis\"))","v":0},{"$f":"INDIRECT(ADDRESS($K536,P$4,1,1,\"3 - Savings Analysis\"))","v":0},{"$f":"INDIRECT(ADDRESS($K536,Q$4,1,1,\"3 - Savings Analysis\"))","v":0},{"$f":"INDIRECT(ADDRESS($K536,R$4,1,1,\"3 - Savings Analysis\"))","v":0},{"$f":"INDIRECT(ADDRESS($K536,S$4,1,1,\"3 - Savings Analysis\"))","v":0},{"$f":"INDIRECT(ADDRESS($K536,T$4,1,1,\"3 - Savings Analysis\"))","v":0}]
["","","","","","","","","",null,546,{"$f":"INDIRECT(ADDRESS($K537,L$4,1,1,\"3 - Savings Analysis\"))","v":0},{"$f":"INDIRECT(ADDRESS($K537,M$4,1,1,\"3 - Savings Analysis\"))","v":0},{"$f":"INDIRECT(ADDRESS($K537,N$4,1,1,\"3 - Savings Analysis\"))","v":0},{"$f":"INDIRECT(ADDRESS($K537,O$4,1,1,\"3 - Savings Analysis\"))","v":0},{"$f":"INDIRECT(ADDRESS($K537,P$4,1,1,\"3 - Savings Analysis\"))","v":0},{"$f":"INDIRECT(ADDRESS($K537,Q$4,1,1,\"3 - Savings Analysis\"))","v":0},{"$f":"INDIRECT(ADDRESS($K537,R$4,1,1,\"3 - Savings Analysis\"))","v":0},{"$f":"INDIRECT(ADDRESS($K537,S$4,1,1,\"3 - Savings Analysis\"))","v":0},{"$f":"INDIRECT(ADDRESS($K537,T$4,1,1,\"3 - Savings Analysis\"))","v":0}]
["","","","","","","","","",null,547,{"$f":"INDIRECT(ADDRESS($K538,L$4,1,1,\"3 - Savings Analysis\"))","v":0},{"$f":"INDIRECT(ADDRESS($K538,M$4,1,1,\"3 - Savings Analysis\"))","v":0},{"$f":"INDIRECT(ADDRESS($K538,N$4,1,1,\"3 - Savings Analysis\"))","v":0},{"$f":"INDIRECT(ADDRESS($K538,O$4,1,1,\"3 - Savings Analysis\"))","v":0},{"$f":"INDIRECT(ADDRESS($K538,P$4,1,1,\"3 - Savings Analysis\"))","v":0},{"$f":"INDIRECT(ADDRESS($K538,Q$4,1,1,\"3 - Savings Analysis\"))","v":0},{"$f":"INDIRECT(ADDRESS($K538,R$4,1,1,\"3 - Savings Analysis\"))","v":0},{"$f":"INDIRECT(ADDRESS($K538,S$4,1,1,\"3 - Savings Analysis\"))","v":0},{"$f":"INDIRECT(ADDRESS($K538,T$4,1,1,\"3 - Savings Analysis\"))","v":0}]
["","","","","","","","","",null,548,{"$f":"INDIRECT(ADDRESS($K539,L$4,1,1,\"3 - Savings Analysis\"))","v":0},{"$f":"INDIRECT(ADDRESS($K539,M$4,1,1,\"3 - Savings Analysis\"))","v":0},{"$f":"INDIRECT(ADDRESS($K539,N$4,1,1,\"3 - Savings Analysis\"))","v":0},{"$f":"INDIRECT(ADDRESS($K539,O$4,1,1,\"3 - Savings Analysis\"))","v":0},{"$f":"INDIRECT(ADDRESS($K539,P$4,1,1,\"3 - Savings Analysis\"))","v":0},{"$f":"INDIRECT(ADDRESS($K539,Q$4,1,1,\"3 - Savings Analysis\"))","v":0},{"$f":"INDIRECT(ADDRESS($K539,R$4,1,1,\"3 - Savings Analysis\"))","v":0},{"$f":"INDIRECT(ADDRESS($K539,S$4,1,1,\"3 - Savings Analysis\"))","v":0},{"$f":"INDIRECT(ADDRESS($K539,T$4,1,1,\"3 - Savings Analysis\"))","v":0}]
["","","","","","","","","",null,549,{"$f":"INDIRECT(ADDRESS($K540,L$4,1,1,\"3 - Savings Analysis\"))","v":0},{"$f":"INDIRECT(ADDRESS($K540,M$4,1,1,\"3 - Savings Analysis\"))","v":0},{"$f":"INDIRECT(ADDRESS($K540,N$4,1,1,\"3 - Savings Analysis\"))","v":0},{"$f":"INDIRECT(ADDRESS($K540,O$4,1,1,\"3 - Savings Analysis\"))","v":0},{"$f":"INDIRECT(ADDRESS($K540,P$4,1,1,\"3 - Savings Analysis\"))","v":0},{"$f":"INDIRECT(ADDRESS($K540,Q$4,1,1,\"3 - Savings Analysis\"))","v":0},{"$f":"INDIRECT(ADDRESS($K540,R$4,1,1,\"3 - Savings Analysis\"))","v":0},{"$f":"INDIRECT(ADDRESS($K540,S$4,1,1,\"3 - Savings Analysis\"))","v":0},{"$f":"INDIRECT(ADDRESS($K540,T$4,1,1,\"3 - Savings Analysis\"))","v":0}]
["","","","","","","","","",null,550,{"$f":"INDIRECT(ADDRESS($K541,L$4,1,1,\"3 - Savings Analysis\"))","v":0},{"$f":"INDIRECT(ADDRESS($K541,M$4,1,1,\"3 - Savings Analysis\"))","v":0},{"$f":"INDIRECT(ADDRESS($K541,N$4,1,1,\"3 - Savings Analysis\"))","v":0},{"$f":"INDIRECT(ADDRESS($K541,O$4,1,1,\"3 - Savings Analysis\"))","v":0},{"$f":"INDIRECT(ADDRESS($K541,P$4,1,1,\"3 - Savings Analysis\"))","v":0},{"$f":"INDIRECT(ADDRESS($K541,Q$4,1,1,\"3 - Savings Analysis\"))","v":0},{"$f":"INDIRECT(ADDRESS($K541,R$4,1,1,\"3 - Savings Analysis\"))","v":0},{"$f":"INDIRECT(ADDRESS($K541,S$4,1,1,\"3 - Savings Analysis\"))","v":0},{"$f":"INDIRECT(ADDRESS($K541,T$4,1,1,\"3 - Savings Analysis\"))","v":0}]
["","","","","","","","","",null,551,{"$f":"INDIRECT(ADDRESS($K542,L$4,1,1,\"3 - Savings Analysis\"))","v":0},{"$f":"INDIRECT(ADDRESS($K542,M$4,1,1,\"3 - Savings Analysis\"))","v":0},{"$f":"INDIRECT(ADDRESS($K542,N$4,1,1,\"3 - Savings Analysis\"))","v":0},{"$f":"INDIRECT(ADDRESS($K542,O$4,1,1,\"3 - Savings Analysis\"))","v":0},{"$f":"INDIRECT(ADDRESS($K542,P$4,1,1,\"3 - Savings Analysis\"))","v":0},{"$f":"INDIRECT(ADDRESS($K542,Q$4,1,1,\"3 - Savings Analysis\"))","v":0},{"$f":"INDIRECT(ADDRESS($K542,R$4,1,1,\"3 - Savings Analysis\"))","v":0},{"$f":"INDIRECT(ADDRESS($K542,S$4,1,1,\"3 - Savings Analysis\"))","v":0},{"$f":"INDIRECT(ADDRESS($K542,T$4,1,1,\"3 - Savings Analysis\"))","v":0}]
["","","","","","","","","",null,552,{"$f":"INDIRECT(ADDRESS($K543,L$4,1,1,\"3 - Savings Analysis\"))","v":0},{"$f":"INDIRECT(ADDRESS($K543,M$4,1,1,\"3 - Savings Analysis\"))","v":0},{"$f":"INDIRECT(ADDRESS($K543,N$4,1,1,\"3 - Savings Analysis\"))","v":0},{"$f":"INDIRECT(ADDRESS($K543,O$4,1,1,\"3 - Savings Analysis\"))","v":0},{"$f":"INDIRECT(ADDRESS($K543,P$4,1,1,\"3 - Savings Analysis\"))","v":0},{"$f":"INDIRECT(ADDRESS($K543,Q$4,1,1,\"3 - Savings Analysis\"))","v":0},{"$f":"INDIRECT(ADDRESS($K543,R$4,1,1,\"3 - Savings Analysis\"))","v":0},{"$f":"INDIRECT(ADDRESS($K543,S$4,1,1,\"3 - Savings Analysis\"))","v":0},{"$f":"INDIRECT(ADDRESS($K543,T$4,1,1,\"3 - Savings Analysis\"))","v":0}]
["","","","","","","","","",null,553,{"$f":"INDIRECT(ADDRESS($K544,L$4,1,1,\"3 - Savings Analysis\"))","v":0},{"$f":"INDIRECT(ADDRESS($K544,M$4,1,1,\"3 - Savings Analysis\"))","v":0},{"$f":"INDIRECT(ADDRESS($K544,N$4,1,1,\"3 - Savings Analysis\"))","v":0},{"$f":"INDIRECT(ADDRESS($K544,O$4,1,1,\"3 - Savings Analysis\"))","v":0},{"$f":"INDIRECT(ADDRESS($K544,P$4,1,1,\"3 - Savings Analysis\"))","v":0},{"$f":"INDIRECT(ADDRESS($K544,Q$4,1,1,\"3 - Savings Analysis\"))","v":0},{"$f":"INDIRECT(ADDRESS($K544,R$4,1,1,\"3 - Savings Analysis\"))","v":0},{"$f":"INDIRECT(ADDRESS($K544,S$4,1,1,\"3 - Savings Analysis\"))","v":0},{"$f":"INDIRECT(ADDRESS($K544,T$4,1,1,\"3 - Savings Analysis\"))","v":0}]
["","","","","","","","","",null,554,{"$f":"INDIRECT(ADDRESS($K545,L$4,1,1,\"3 - Savings Analysis\"))","v":0},{"$f":"INDIRECT(ADDRESS($K545,M$4,1,1,\"3 - Savings Analysis\"))","v":0},{"$f":"INDIRECT(ADDRESS($K545,N$4,1,1,\"3 - Savings Analysis\"))","v":0},{"$f":"INDIRECT(ADDRESS($K545,O$4,1,1,\"3 - Savings Analysis\"))","v":0},{"$f":"INDIRECT(ADDRESS($K545,P$4,1,1,\"3 - Savings Analysis\"))","v":0},{"$f":"INDIRECT(ADDRESS($K545,Q$4,1,1,\"3 - Savings Analysis\"))","v":0},{"$f":"INDIRECT(ADDRESS($K545,R$4,1,1,\"3 - Savings Analysis\"))","v":0},{"$f":"INDIRECT(ADDRESS($K545,S$4,1,1,\"3 - Savings Analysis\"))","v":0},{"$f":"INDIRECT(ADDRESS($K545,T$4,1,1,\"3 - Savings Analysis\"))","v":0}]
["","","","","","","","","",null,555,{"$f":"INDIRECT(ADDRESS($K546,L$4,1,1,\"3 - Savings Analysis\"))","v":0},{"$f":"INDIRECT(ADDRESS($K546,M$4,1,1,\"3 - Savings Analysis\"))","v":0},{"$f":"INDIRECT(ADDRESS($K546,N$4,1,1,\"3 - Savings Analysis\"))","v":0},{"$f":"INDIRECT(ADDRESS($K546,O$4,1,1,\"3 - Savings Analysis\"))","v":0},{"$f":"INDIRECT(ADDRESS($K546,P$4,1,1,\"3 - Savings Analysis\"))","v":0},{"$f":"INDIRECT(ADDRESS($K546,Q$4,1,1,\"3 - Savings Analysis\"))","v":0},{"$f":"INDIRECT(ADDRESS($K546,R$4,1,1,\"3 - Savings Analysis\"))","v":0},{"$f":"INDIRECT(ADDRESS($K546,S$4,1,1,\"3 - Savings Analysis\"))","v":0},{"$f":"INDIRECT(ADDRESS($K546,T$4,1,1,\"3 - Savings Analysis\"))","v":0}]
["","","","","","","","","",null,556,{"$f":"INDIRECT(ADDRESS($K547,L$4,1,1,\"3 - Savings Analysis\"))","v":0},{"$f":"INDIRECT(ADDRESS($K547,M$4,1,1,\"3 - Savings Analysis\"))","v":0},{"$f":"INDIRECT(ADDRESS($K547,N$4,1,1,\"3 - Savings Analysis\"))","v":0},{"$f":"INDIRECT(ADDRESS($K547,O$4,1,1,\"3 - Savings Analysis\"))","v":0},{"$f":"INDIRECT(ADDRESS($K547,P$4,1,1,\"3 - Savings Analysis\"))","v":0},{"$f":"INDIRECT(ADDRESS($K547,Q$4,1,1,\"3 - Savings Analysis\"))","v":0},{"$f":"INDIRECT(ADDRESS($K547,R$4,1,1,\"3 - Savings Analysis\"))","v":0},{"$f":"INDIRECT(ADDRESS($K547,S$4,1,1,\"3 - Savings Analysis\"))","v":0},{"$f":"INDIRECT(ADDRESS($K547,T$4,1,1,\"3 - Savings Analysis\"))","v":0}]
["","","","","","","","","",null,557,{"$f":"INDIRECT(ADDRESS($K548,L$4,1,1,\"3 - Savings Analysis\"))","v":0},{"$f":"INDIRECT(ADDRESS($K548,M$4,1,1,\"3 - Savings Analysis\"))","v":0},{"$f":"INDIRECT(ADDRESS($K548,N$4,1,1,\"3 - Savings Analysis\"))","v":0},{"$f":"INDIRECT(ADDRESS($K548,O$4,1,1,\"3 - Savings Analysis\"))","v":0},{"$f":"INDIRECT(ADDRESS($K548,P$4,1,1,\"3 - Savings Analysis\"))","v":0},{"$f":"INDIRECT(ADDRESS($K548,Q$4,1,1,\"3 - Savings Analysis\"))","v":0},{"$f":"INDIRECT(ADDRESS($K548,R$4,1,1,\"3 - Savings Analysis\"))","v":0},{"$f":"INDIRECT(ADDRESS($K548,S$4,1,1,\"3 - Savings Analysis\"))","v":0},{"$f":"INDIRECT(ADDRESS($K548,T$4,1,1,\"3 - Savings Analysis\"))","v":0}]
["","","","","","","","","",null,558,{"$f":"INDIRECT(ADDRESS($K549,L$4,1,1,\"3 - Savings Analysis\"))","v":0},{"$f":"INDIRECT(ADDRESS($K549,M$4,1,1,\"3 - Savings Analysis\"))","v":0},{"$f":"INDIRECT(ADDRESS($K549,N$4,1,1,\"3 - Savings Analysis\"))","v":0},{"$f":"INDIRECT(ADDRESS($K549,O$4,1,1,\"3 - Savings Analysis\"))","v":0},{"$f":"INDIRECT(ADDRESS($K549,P$4,1,1,\"3 - Savings Analysis\"))","v":0},{"$f":"INDIRECT(ADDRESS($K549,Q$4,1,1,\"3 - Savings Analysis\"))","v":0},{"$f":"INDIRECT(ADDRESS($K549,R$4,1,1,\"3 - Savings Analysis\"))","v":0},{"$f":"INDIRECT(ADDRESS($K549,S$4,1,1,\"3 - Savings Analysis\"))","v":0},{"$f":"INDIRECT(ADDRESS($K549,T$4,1,1,\"3 - Savings Analysis\"))","v":0}]
["","","","","","","","","",null,559,{"$f":"INDIRECT(ADDRESS($K550,L$4,1,1,\"3 - Savings Analysis\"))","v":0},{"$f":"INDIRECT(ADDRESS($K550,M$4,1,1,\"3 - Savings Analysis\"))","v":0},{"$f":"INDIRECT(ADDRESS($K550,N$4,1,1,\"3 - Savings Analysis\"))","v":0},{"$f":"INDIRECT(ADDRESS($K550,O$4,1,1,\"3 - Savings Analysis\"))","v":0},{"$f":"INDIRECT(ADDRESS($K550,P$4,1,1,\"3 - Savings Analysis\"))","v":0},{"$f":"INDIRECT(ADDRESS($K550,Q$4,1,1,\"3 - Savings Analysis\"))","v":0},{"$f":"INDIRECT(ADDRESS($K550,R$4,1,1,\"3 - Savings Analysis\"))","v":0},{"$f":"INDIRECT(ADDRESS($K550,S$4,1,1,\"3 - Savings Analysis\"))","v":0},{"$f":"INDIRECT(ADDRESS($K550,T$4,1,1,\"3 - Savings Analysis\"))","v":0}]
["","","","","","","","","",null,560,{"$f":"INDIRECT(ADDRESS($K551,L$4,1,1,\"3 - Savings Analysis\"))","v":0},{"$f":"INDIRECT(ADDRESS($K551,M$4,1,1,\"3 - Savings Analysis\"))","v":0},{"$f":"INDIRECT(ADDRESS($K551,N$4,1,1,\"3 - Savings Analysis\"))","v":0},{"$f":"INDIRECT(ADDRESS($K551,O$4,1,1,\"3 - Savings Analysis\"))","v":0},{"$f":"INDIRECT(ADDRESS($K551,P$4,1,1,\"3 - Savings Analysis\"))","v":0},{"$f":"INDIRECT(ADDRESS($K551,Q$4,1,1,\"3 - Savings Analysis\"))","v":0},{"$f":"INDIRECT(ADDRESS($K551,R$4,1,1,\"3 - Savings Analysis\"))","v":0},{"$f":"INDIRECT(ADDRESS($K551,S$4,1,1,\"3 - Savings Analysis\"))","v":0},{"$f":"INDIRECT(ADDRESS($K551,T$4,1,1,\"3 - Savings Analysis\"))","v":0}]
["","","","","","","","","",null,561,{"$f":"INDIRECT(ADDRESS($K552,L$4,1,1,\"3 - Savings Analysis\"))","v":0},{"$f":"INDIRECT(ADDRESS($K552,M$4,1,1,\"3 - Savings Analysis\"))","v":0},{"$f":"INDIRECT(ADDRESS($K552,N$4,1,1,\"3 - Savings Analysis\"))","v":0},{"$f":"INDIRECT(ADDRESS($K552,O$4,1,1,\"3 - Savings Analysis\"))","v":0},{"$f":"INDIRECT(ADDRESS($K552,P$4,1,1,\"3 - Savings Analysis\"))","v":0},{"$f":"INDIRECT(ADDRESS($K552,Q$4,1,1,\"3 - Savings Analysis\"))","v":0},{"$f":"INDIRECT(ADDRESS($K552,R$4,1,1,\"3 - Savings Analysis\"))","v":0},{"$f":"INDIRECT(ADDRESS($K552,S$4,1,1,\"3 - Savings Analysis\"))","v":0},{"$f":"INDIRECT(ADDRESS($K552,T$4,1,1,\"3 - Savings Analysis\"))","v":0}]
["","","","","","","","","",null,562,{"$f":"INDIRECT(ADDRESS($K553,L$4,1,1,\"3 - Savings Analysis\"))","v":0},{"$f":"INDIRECT(ADDRESS($K553,M$4,1,1,\"3 - Savings Analysis\"))","v":0},{"$f":"INDIRECT(ADDRESS($K553,N$4,1,1,\"3 - Savings Analysis\"))","v":0},{"$f":"INDIRECT(ADDRESS($K553,O$4,1,1,\"3 - Savings Analysis\"))","v":0},{"$f":"INDIRECT(ADDRESS($K553,P$4,1,1,\"3 - Savings Analysis\"))","v":0},{"$f":"INDIRECT(ADDRESS($K553,Q$4,1,1,\"3 - Savings Analysis\"))","v":0},{"$f":"INDIRECT(ADDRESS($K553,R$4,1,1,\"3 - Savings Analysis\"))","v":0},{"$f":"INDIRECT(ADDRESS($K553,S$4,1,1,\"3 - Savings Analysis\"))","v":0},{"$f":"INDIRECT(ADDRESS($K553,T$4,1,1,\"3 - Savings Analysis\"))","v":0}]
["","","","","","","","","",null,563,{"$f":"INDIRECT(ADDRESS($K554,L$4,1,1,\"3 - Savings Analysis\"))","v":0},{"$f":"INDIRECT(ADDRESS($K554,M$4,1,1,\"3 - Savings Analysis\"))","v":0},{"$f":"INDIRECT(ADDRESS($K554,N$4,1,1,\"3 - Savings Analysis\"))","v":0},{"$f":"INDIRECT(ADDRESS($K554,O$4,1,1,\"3 - Savings Analysis\"))","v":0},{"$f":"INDIRECT(ADDRESS($K554,P$4,1,1,\"3 - Savings Analysis\"))","v":0},{"$f":"INDIRECT(ADDRESS($K554,Q$4,1,1,\"3 - Savings Analysis\"))","v":0},{"$f":"INDIRECT(ADDRESS($K554,R$4,1,1,\"3 - Savings Analysis\"))","v":0},{"$f":"INDIRECT(ADDRESS($K554,S$4,1,1,\"3 - Savings Analysis\"))","v":0},{"$f":"INDIRECT(ADDRESS($K554,T$4,1,1,\"3 - Savings Analysis\"))","v":0}]
["","","","","","","","","",null,564,{"$f":"INDIRECT(ADDRESS($K555,L$4,1,1,\"3 - Savings Analysis\"))","v":0},{"$f":"INDIRECT(ADDRESS($K555,M$4,1,1,\"3 - Savings Analysis\"))","v":0},{"$f":"INDIRECT(ADDRESS($K555,N$4,1,1,\"3 - Savings Analysis\"))","v":0},{"$f":"INDIRECT(ADDRESS($K555,O$4,1,1,\"3 - Savings Analysis\"))","v":0},{"$f":"INDIRECT(ADDRESS($K555,P$4,1,1,\"3 - Savings Analysis\"))","v":0},{"$f":"INDIRECT(ADDRESS($K555,Q$4,1,1,\"3 - Savings Analysis\"))","v":0},{"$f":"INDIRECT(ADDRESS($K555,R$4,1,1,\"3 - Savings Analysis\"))","v":0},{"$f":"INDIRECT(ADDRESS($K555,S$4,1,1,\"3 - Savings Analysis\"))","v":0},{"$f":"INDIRECT(ADDRESS($K555,T$4,1,1,\"3 - Savings Analysis\"))","v":0}]
["","","","","","","","","",null,565,{"$f":"INDIRECT(ADDRESS($K556,L$4,1,1,\"3 - Savings Analysis\"))","v":0},{"$f":"INDIRECT(ADDRESS($K556,M$4,1,1,\"3 - Savings Analysis\"))","v":0},{"$f":"INDIRECT(ADDRESS($K556,N$4,1,1,\"3 - Savings Analysis\"))","v":0},{"$f":"INDIRECT(ADDRESS($K556,O$4,1,1,\"3 - Savings Analysis\"))","v":0},{"$f":"INDIRECT(ADDRESS($K556,P$4,1,1,\"3 - Savings Analysis\"))","v":0},{"$f":"INDIRECT(ADDRESS($K556,Q$4,1,1,\"3 - Savings Analysis\"))","v":0},{"$f":"INDIRECT(ADDRESS($K556,R$4,1,1,\"3 - Savings Analysis\"))","v":0},{"$f":"INDIRECT(ADDRESS($K556,S$4,1,1,\"3 - Savings Analysis\"))","v":0},{"$f":"INDIRECT(ADDRESS($K556,T$4,1,1,\"3 - Savings Analysis\"))","v":0}]
["","","","","","","","","",null,566,{"$f":"INDIRECT(ADDRESS($K557,L$4,1,1,\"3 - Savings Analysis\"))","v":0},{"$f":"INDIRECT(ADDRESS($K557,M$4,1,1,\"3 - Savings Analysis\"))","v":0},{"$f":"INDIRECT(ADDRESS($K557,N$4,1,1,\"3 - Savings Analysis\"))","v":0},{"$f":"INDIRECT(ADDRESS($K557,O$4,1,1,\"3 - Savings Analysis\"))","v":0},{"$f":"INDIRECT(ADDRESS($K557,P$4,1,1,\"3 - Savings Analysis\"))","v":0},{"$f":"INDIRECT(ADDRESS($K557,Q$4,1,1,\"3 - Savings Analysis\"))","v":0},{"$f":"INDIRECT(ADDRESS($K557,R$4,1,1,\"3 - Savings Analysis\"))","v":0},{"$f":"INDIRECT(ADDRESS($K557,S$4,1,1,\"3 - Savings Analysis\"))","v":0},{"$f":"INDIRECT(ADDRESS($K557,T$4,1,1,\"3 - Savings Analysis\"))","v":0}]
["","","","","","","","","",null,567,{"$f":"INDIRECT(ADDRESS($K558,L$4,1,1,\"3 - Savings Analysis\"))","v":0},{"$f":"INDIRECT(ADDRESS($K558,M$4,1,1,\"3 - Savings Analysis\"))","v":0},{"$f":"INDIRECT(ADDRESS($K558,N$4,1,1,\"3 - Savings Analysis\"))","v":0},{"$f":"INDIRECT(ADDRESS($K558,O$4,1,1,\"3 - Savings Analysis\"))","v":0},{"$f":"INDIRECT(ADDRESS($K558,P$4,1,1,\"3 - Savings Analysis\"))","v":0},{"$f":"INDIRECT(ADDRESS($K558,Q$4,1,1,\"3 - Savings Analysis\"))","v":0},{"$f":"INDIRECT(ADDRESS($K558,R$4,1,1,\"3 - Savings Analysis\"))","v":0},{"$f":"INDIRECT(ADDRESS($K558,S$4,1,1,\"3 - Savings Analysis\"))","v":0},{"$f":"INDIRECT(ADDRESS($K558,T$4,1,1,\"3 - Savings Analysis\"))","v":0}]
["","","","","","","","","",null,568,{"$f":"INDIRECT(ADDRESS($K559,L$4,1,1,\"3 - Savings Analysis\"))","v":0},{"$f":"INDIRECT(ADDRESS($K559,M$4,1,1,\"3 - Savings Analysis\"))","v":0},{"$f":"INDIRECT(ADDRESS($K559,N$4,1,1,\"3 - Savings Analysis\"))","v":0},{"$f":"INDIRECT(ADDRESS($K559,O$4,1,1,\"3 - Savings Analysis\"))","v":0},{"$f":"INDIRECT(ADDRESS($K559,P$4,1,1,\"3 - Savings Analysis\"))","v":0},{"$f":"INDIRECT(ADDRESS($K559,Q$4,1,1,\"3 - Savings Analysis\"))","v":0},{"$f":"INDIRECT(ADDRESS($K559,R$4,1,1,\"3 - Savings Analysis\"))","v":0},{"$f":"INDIRECT(ADDRESS($K559,S$4,1,1,\"3 - Savings Analysis\"))","v":0},{"$f":"INDIRECT(ADDRESS($K559,T$4,1,1,\"3 - Savings Analysis\"))","v":0}]
["","","","","","","","","",null,569,{"$f":"INDIRECT(ADDRESS($K560,L$4,1,1,\"3 - Savings Analysis\"))","v":0},{"$f":"INDIRECT(ADDRESS($K560,M$4,1,1,\"3 - Savings Analysis\"))","v":0},{"$f":"INDIRECT(ADDRESS($K560,N$4,1,1,\"3 - Savings Analysis\"))","v":0},{"$f":"INDIRECT(ADDRESS($K560,O$4,1,1,\"3 - Savings Analysis\"))","v":0},{"$f":"INDIRECT(ADDRESS($K560,P$4,1,1,\"3 - Savings Analysis\"))","v":0},{"$f":"INDIRECT(ADDRESS($K560,Q$4,1,1,\"3 - Savings Analysis\"))","v":0},{"$f":"INDIRECT(ADDRESS($K560,R$4,1,1,\"3 - Savings Analysis\"))","v":0},{"$f":"INDIRECT(ADDRESS($K560,S$4,1,1,\"3 - Savings Analysis\"))","v":0},{"$f":"INDIRECT(ADDRESS($K560,T$4,1,1,\"3 - Savings Analysis\"))","v":0}]
["","","","","","","","","",null,570,{"$f":"INDIRECT(ADDRESS($K561,L$4,1,1,\"3 - Savings Analysis\"))","v":0},{"$f":"INDIRECT(ADDRESS($K561,M$4,1,1,\"3 - Savings Analysis\"))","v":0},{"$f":"INDIRECT(ADDRESS($K561,N$4,1,1,\"3 - Savings Analysis\"))","v":0},{"$f":"INDIRECT(ADDRESS($K561,O$4,1,1,\"3 - Savings Analysis\"))","v":0},{"$f":"INDIRECT(ADDRESS($K561,P$4,1,1,\"3 - Savings Analysis\"))","v":0},{"$f":"INDIRECT(ADDRESS($K561,Q$4,1,1,\"3 - Savings Analysis\"))","v":0},{"$f":"INDIRECT(ADDRESS($K561,R$4,1,1,\"3 - Savings Analysis\"))","v":0},{"$f":"INDIRECT(ADDRESS($K561,S$4,1,1,\"3 - Savings Analysis\"))","v":0},{"$f":"INDIRECT(ADDRESS($K561,T$4,1,1,\"3 - Savings Analysis\"))","v":0}]
["","","","","","","","","",null,571,{"$f":"INDIRECT(ADDRESS($K562,L$4,1,1,\"3 - Savings Analysis\"))","v":0},{"$f":"INDIRECT(ADDRESS($K562,M$4,1,1,\"3 - Savings Analysis\"))","v":0},{"$f":"INDIRECT(ADDRESS($K562,N$4,1,1,\"3 - Savings Analysis\"))","v":0},{"$f":"INDIRECT(ADDRESS($K562,O$4,1,1,\"3 - Savings Analysis\"))","v":0},{"$f":"INDIRECT(ADDRESS($K562,P$4,1,1,\"3 - Savings Analysis\"))","v":0},{"$f":"INDIRECT(ADDRESS($K562,Q$4,1,1,\"3 - Savings Analysis\"))","v":0},{"$f":"INDIRECT(ADDRESS($K562,R$4,1,1,\"3 - Savings Analysis\"))","v":0},{"$f":"INDIRECT(ADDRESS($K562,S$4,1,1,\"3 - Savings Analysis\"))","v":0},{"$f":"INDIRECT(ADDRESS($K562,T$4,1,1,\"3 - Savings Analysis\"))","v":0}]
["","","","","","","","","",null,572,{"$f":"INDIRECT(ADDRESS($K563,L$4,1,1,\"3 - Savings Analysis\"))","v":0},{"$f":"INDIRECT(ADDRESS($K563,M$4,1,1,\"3 - Savings Analysis\"))","v":0},{"$f":"INDIRECT(ADDRESS($K563,N$4,1,1,\"3 - Savings Analysis\"))","v":0},{"$f":"INDIRECT(ADDRESS($K563,O$4,1,1,\"3 - Savings Analysis\"))","v":0},{"$f":"INDIRECT(ADDRESS($K563,P$4,1,1,\"3 - Savings Analysis\"))","v":0},{"$f":"INDIRECT(ADDRESS($K563,Q$4,1,1,\"3 - Savings Analysis\"))","v":0},{"$f":"INDIRECT(ADDRESS($K563,R$4,1,1,\"3 - Savings Analysis\"))","v":0},{"$f":"INDIRECT(ADDRESS($K563,S$4,1,1,\"3 - Savings Analysis\"))","v":0},{"$f":"INDIRECT(ADDRESS($K563,T$4,1,1,\"3 - Savings Analysis\"))","v":0}]
["","","","","","","","","",null,573,{"$f":"INDIRECT(ADDRESS($K564,L$4,1,1,\"3 - Savings Analysis\"))","v":0},{"$f":"INDIRECT(ADDRESS($K564,M$4,1,1,\"3 - Savings Analysis\"))","v":0},{"$f":"INDIRECT(ADDRESS($K564,N$4,1,1,\"3 - Savings Analysis\"))","v":0},{"$f":"INDIRECT(ADDRESS($K564,O$4,1,1,\"3 - Savings Analysis\"))","v":0},{"$f":"INDIRECT(ADDRESS($K564,P$4,1,1,\"3 - Savings Analysis\"))","v":0},{"$f":"INDIRECT(ADDRESS($K564,Q$4,1,1,\"3 - Savings Analysis\"))","v":0},{"$f":"INDIRECT(ADDRESS($K564,R$4,1,1,\"3 - Savings Analysis\"))","v":0},{"$f":"INDIRECT(ADDRESS($K564,S$4,1,1,\"3 - Savings Analysis\"))","v":0},{"$f":"INDIRECT(ADDRESS($K564,T$4,1,1,\"3 - Savings Analysis\"))","v":0}]
["","","","","","","","","",null,574,{"$f":"INDIRECT(ADDRESS($K565,L$4,1,1,\"3 - Savings Analysis\"))","v":0},{"$f":"INDIRECT(ADDRESS($K565,M$4,1,1,\"3 - Savings Analysis\"))","v":0},{"$f":"INDIRECT(ADDRESS($K565,N$4,1,1,\"3 - Savings Analysis\"))","v":0},{"$f":"INDIRECT(ADDRESS($K565,O$4,1,1,\"3 - Savings Analysis\"))","v":0},{"$f":"INDIRECT(ADDRESS($K565,P$4,1,1,\"3 - Savings Analysis\"))","v":0},{"$f":"INDIRECT(ADDRESS($K565,Q$4,1,1,\"3 - Savings Analysis\"))","v":0},{"$f":"INDIRECT(ADDRESS($K565,R$4,1,1,\"3 - Savings Analysis\"))","v":0},{"$f":"INDIRECT(ADDRESS($K565,S$4,1,1,\"3 - Savings Analysis\"))","v":0},{"$f":"INDIRECT(ADDRESS($K565,T$4,1,1,\"3 - Savings Analysis\"))","v":0}]
["","","","","","","","","",null,575,{"$f":"INDIRECT(ADDRESS($K566,L$4,1,1,\"3 - Savings Analysis\"))","v":0},{"$f":"INDIRECT(ADDRESS($K566,M$4,1,1,\"3 - Savings Analysis\"))","v":0},{"$f":"INDIRECT(ADDRESS($K566,N$4,1,1,\"3 - Savings Analysis\"))","v":0},{"$f":"INDIRECT(ADDRESS($K566,O$4,1,1,\"3 - Savings Analysis\"))","v":0},{"$f":"INDIRECT(ADDRESS($K566,P$4,1,1,\"3 - Savings Analysis\"))","v":0},{"$f":"INDIRECT(ADDRESS($K566,Q$4,1,1,\"3 - Savings Analysis\"))","v":0},{"$f":"INDIRECT(ADDRESS($K566,R$4,1,1,\"3 - Savings Analysis\"))","v":0},{"$f":"INDIRECT(ADDRESS($K566,S$4,1,1,\"3 - Savings Analysis\"))","v":0},{"$f":"INDIRECT(ADDRESS($K566,T$4,1,1,\"3 - Savings Analysis\"))","v":0}]
["","","","","","","","","",null,576,{"$f":"INDIRECT(ADDRESS($K567,L$4,1,1,\"3 - Savings Analysis\"))","v":0},{"$f":"INDIRECT(ADDRESS($K567,M$4,1,1,\"3 - Savings Analysis\"))","v":0},{"$f":"INDIRECT(ADDRESS($K567,N$4,1,1,\"3 - Savings Analysis\"))","v":0},{"$f":"INDIRECT(ADDRESS($K567,O$4,1,1,\"3 - Savings Analysis\"))","v":0},{"$f":"INDIRECT(ADDRESS($K567,P$4,1,1,\"3 - Savings Analysis\"))","v":0},{"$f":"INDIRECT(ADDRESS($K567,Q$4,1,1,\"3 - Savings Analysis\"))","v":0},{"$f":"INDIRECT(ADDRESS($K567,R$4,1,1,\"3 - Savings Analysis\"))","v":0},{"$f":"INDIRECT(ADDRESS($K567,S$4,1,1,\"3 - Savings Analysis\"))","v":0},{"$f":"INDIRECT(ADDRESS($K567,T$4,1,1,\"3 - Savings Analysis\"))","v":0}]
["","","","","","","","","",null,577,{"$f":"INDIRECT(ADDRESS($K568,L$4,1,1,\"3 - Savings Analysis\"))","v":0},{"$f":"INDIRECT(ADDRESS($K568,M$4,1,1,\"3 - Savings Analysis\"))","v":0},{"$f":"INDIRECT(ADDRESS($K568,N$4,1,1,\"3 - Savings Analysis\"))","v":0},{"$f":"INDIRECT(ADDRESS($K568,O$4,1,1,\"3 - Savings Analysis\"))","v":0},{"$f":"INDIRECT(ADDRESS($K568,P$4,1,1,\"3 - Savings Analysis\"))","v":0},{"$f":"INDIRECT(ADDRESS($K568,Q$4,1,1,\"3 - Savings Analysis\"))","v":0},{"$f":"INDIRECT(ADDRESS($K568,R$4,1,1,\"3 - Savings Analysis\"))","v":0},{"$f":"INDIRECT(ADDRESS($K568,S$4,1,1,\"3 - Savings Analysis\"))","v":0},{"$f":"INDIRECT(ADDRESS($K568,T$4,1,1,\"3 - Savings Analysis\"))","v":0}]
["","","","","","","","","",null,578,{"$f":"INDIRECT(ADDRESS($K569,L$4,1,1,\"3 - Savings Analysis\"))","v":0},{"$f":"INDIRECT(ADDRESS($K569,M$4,1,1,\"3 - Savings Analysis\"))","v":0},{"$f":"INDIRECT(ADDRESS($K569,N$4,1,1,\"3 - Savings Analysis\"))","v":0},{"$f":"INDIRECT(ADDRESS($K569,O$4,1,1,\"3 - Savings Analysis\"))","v":0},{"$f":"INDIRECT(ADDRESS($K569,P$4,1,1,\"3 - Savings Analysis\"))","v":0},{"$f":"INDIRECT(ADDRESS($K569,Q$4,1,1,\"3 - Savings Analysis\"))","v":0},{"$f":"INDIRECT(ADDRESS($K569,R$4,1,1,\"3 - Savings Analysis\"))","v":0},{"$f":"INDIRECT(ADDRESS($K569,S$4,1,1,\"3 - Savings Analysis\"))","v":0},{"$f":"INDIRECT(ADDRESS($K569,T$4,1,1,\"3 - Savings Analysis\"))","v":0}]
["","","","","","","","","",null,579,{"$f":"INDIRECT(ADDRESS($K570,L$4,1,1,\"3 - Savings Analysis\"))","v":0},{"$f":"INDIRECT(ADDRESS($K570,M$4,1,1,\"3 - Savings Analysis\"))","v":0},{"$f":"INDIRECT(ADDRESS($K570,N$4,1,1,\"3 - Savings Analysis\"))","v":0},{"$f":"INDIRECT(ADDRESS($K570,O$4,1,1,\"3 - Savings Analysis\"))","v":0},{"$f":"INDIRECT(ADDRESS($K570,P$4,1,1,\"3 - Savings Analysis\"))","v":0},{"$f":"INDIRECT(ADDRESS($K570,Q$4,1,1,\"3 - Savings Analysis\"))","v":0},{"$f":"INDIRECT(ADDRESS($K570,R$4,1,1,\"3 - Savings Analysis\"))","v":0},{"$f":"INDIRECT(ADDRESS($K570,S$4,1,1,\"3 - Savings Analysis\"))","v":0},{"$f":"INDIRECT(ADDRESS($K570,T$4,1,1,\"3 - Savings Analysis\"))","v":0}]
["","","","","","","","","",null,580,{"$f":"INDIRECT(ADDRESS($K571,L$4,1,1,\"3 - Savings Analysis\"))","v":0},{"$f":"INDIRECT(ADDRESS($K571,M$4,1,1,\"3 - Savings Analysis\"))","v":0},{"$f":"INDIRECT(ADDRESS($K571,N$4,1,1,\"3 - Savings Analysis\"))","v":0},{"$f":"INDIRECT(ADDRESS($K571,O$4,1,1,\"3 - Savings Analysis\"))","v":0},{"$f":"INDIRECT(ADDRESS($K571,P$4,1,1,\"3 - Savings Analysis\"))","v":0},{"$f":"INDIRECT(ADDRESS($K571,Q$4,1,1,\"3 - Savings Analysis\"))","v":0},{"$f":"INDIRECT(ADDRESS($K571,R$4,1,1,\"3 - Savings Analysis\"))","v":0},{"$f":"INDIRECT(ADDRESS($K571,S$4,1,1,\"3 - Savings Analysis\"))","v":0},{"$f":"INDIRECT(ADDRESS($K571,T$4,1,1,\"3 - Savings Analysis\"))","v":0}]
["","","","","","","","","",null,581,{"$f":"INDIRECT(ADDRESS($K572,L$4,1,1,\"3 - Savings Analysis\"))","v":0},{"$f":"INDIRECT(ADDRESS($K572,M$4,1,1,\"3 - Savings Analysis\"))","v":0},{"$f":"INDIRECT(ADDRESS($K572,N$4,1,1,\"3 - Savings Analysis\"))","v":0},{"$f":"INDIRECT(ADDRESS($K572,O$4,1,1,\"3 - Savings Analysis\"))","v":0},{"$f":"INDIRECT(ADDRESS($K572,P$4,1,1,\"3 - Savings Analysis\"))","v":0},{"$f":"INDIRECT(ADDRESS($K572,Q$4,1,1,\"3 - Savings Analysis\"))","v":0},{"$f":"INDIRECT(ADDRESS($K572,R$4,1,1,\"3 - Savings Analysis\"))","v":0},{"$f":"INDIRECT(ADDRESS($K572,S$4,1,1,\"3 - Savings Analysis\"))","v":0},{"$f":"INDIRECT(ADDRESS($K572,T$4,1,1,\"3 - Savings Analysis\"))","v":0}]
["","","","","","","","","",null,582,{"$f":"INDIRECT(ADDRESS($K573,L$4,1,1,\"3 - Savings Analysis\"))","v":0},{"$f":"INDIRECT(ADDRESS($K573,M$4,1,1,\"3 - Savings Analysis\"))","v":0},{"$f":"INDIRECT(ADDRESS($K573,N$4,1,1,\"3 - Savings Analysis\"))","v":0},{"$f":"INDIRECT(ADDRESS($K573,O$4,1,1,\"3 - Savings Analysis\"))","v":0},{"$f":"INDIRECT(ADDRESS($K573,P$4,1,1,\"3 - Savings Analysis\"))","v":0},{"$f":"INDIRECT(ADDRESS($K573,Q$4,1,1,\"3 - Savings Analysis\"))","v":0},{"$f":"INDIRECT(ADDRESS($K573,R$4,1,1,\"3 - Savings Analysis\"))","v":0},{"$f":"INDIRECT(ADDRESS($K573,S$4,1,1,\"3 - Savings Analysis\"))","v":0},{"$f":"INDIRECT(ADDRESS($K573,T$4,1,1,\"3 - Savings Analysis\"))","v":0}]
["","","","","","","","","",null,583,{"$f":"INDIRECT(ADDRESS($K574,L$4,1,1,\"3 - Savings Analysis\"))","v":0},{"$f":"INDIRECT(ADDRESS($K574,M$4,1,1,\"3 - Savings Analysis\"))","v":0},{"$f":"INDIRECT(ADDRESS($K574,N$4,1,1,\"3 - Savings Analysis\"))","v":0},{"$f":"INDIRECT(ADDRESS($K574,O$4,1,1,\"3 - Savings Analysis\"))","v":0},{"$f":"INDIRECT(ADDRESS($K574,P$4,1,1,\"3 - Savings Analysis\"))","v":0},{"$f":"INDIRECT(ADDRESS($K574,Q$4,1,1,\"3 - Savings Analysis\"))","v":0},{"$f":"INDIRECT(ADDRESS($K574,R$4,1,1,\"3 - Savings Analysis\"))","v":0},{"$f":"INDIRECT(ADDRESS($K574,S$4,1,1,\"3 - Savings Analysis\"))","v":0},{"$f":"INDIRECT(ADDRESS($K574,T$4,1,1,\"3 - Savings Analysis\"))","v":0}]
["","","","","","","","","",null,584,{"$f":"INDIRECT(ADDRESS($K575,L$4,1,1,\"3 - Savings Analysis\"))","v":0},{"$f":"INDIRECT(ADDRESS($K575,M$4,1,1,\"3 - Savings Analysis\"))","v":0},{"$f":"INDIRECT(ADDRESS($K575,N$4,1,1,\"3 - Savings Analysis\"))","v":0},{"$f":"INDIRECT(ADDRESS($K575,O$4,1,1,\"3 - Savings Analysis\"))","v":0},{"$f":"INDIRECT(ADDRESS($K575,P$4,1,1,\"3 - Savings Analysis\"))","v":0},{"$f":"INDIRECT(ADDRESS($K575,Q$4,1,1,\"3 - Savings Analysis\"))","v":0},{"$f":"INDIRECT(ADDRESS($K575,R$4,1,1,\"3 - Savings Analysis\"))","v":0},{"$f":"INDIRECT(ADDRESS($K575,S$4,1,1,\"3 - Savings Analysis\"))","v":0},{"$f":"INDIRECT(ADDRESS($K575,T$4,1,1,\"3 - Savings Analysis\"))","v":0}]
["","","","","","","","","",null,585,{"$f":"INDIRECT(ADDRESS($K576,L$4,1,1,\"3 - Savings Analysis\"))","v":0},{"$f":"INDIRECT(ADDRESS($K576,M$4,1,1,\"3 - Savings Analysis\"))","v":0},{"$f":"INDIRECT(ADDRESS($K576,N$4,1,1,\"3 - Savings Analysis\"))","v":0},{"$f":"INDIRECT(ADDRESS($K576,O$4,1,1,\"3 - Savings Analysis\"))","v":0},{"$f":"INDIRECT(ADDRESS($K576,P$4,1,1,\"3 - Savings Analysis\"))","v":0},{"$f":"INDIRECT(ADDRESS($K576,Q$4,1,1,\"3 - Savings Analysis\"))","v":0},{"$f":"INDIRECT(ADDRESS($K576,R$4,1,1,\"3 - Savings Analysis\"))","v":0},{"$f":"INDIRECT(ADDRESS($K576,S$4,1,1,\"3 - Savings Analysis\"))","v":0},{"$f":"INDIRECT(ADDRESS($K576,T$4,1,1,\"3 - Savings Analysis\"))","v":0}]
["","","","","","","","","",null,586,{"$f":"INDIRECT(ADDRESS($K577,L$4,1,1,\"3 - Savings Analysis\"))","v":0},{"$f":"INDIRECT(ADDRESS($K577,M$4,1,1,\"3 - Savings Analysis\"))","v":0},{"$f":"INDIRECT(ADDRESS($K577,N$4,1,1,\"3 - Savings Analysis\"))","v":0},{"$f":"INDIRECT(ADDRESS($K577,O$4,1,1,\"3 - Savings Analysis\"))","v":0},{"$f":"INDIRECT(ADDRESS($K577,P$4,1,1,\"3 - Savings Analysis\"))","v":0},{"$f":"INDIRECT(ADDRESS($K577,Q$4,1,1,\"3 - Savings Analysis\"))","v":0},{"$f":"INDIRECT(ADDRESS($K577,R$4,1,1,\"3 - Savings Analysis\"))","v":0},{"$f":"INDIRECT(ADDRESS($K577,S$4,1,1,\"3 - Savings Analysis\"))","v":0},{"$f":"INDIRECT(ADDRESS($K577,T$4,1,1,\"3 - Savings Analysis\"))","v":0}]
["","","","","","","","","",null,587,{"$f":"INDIRECT(ADDRESS($K578,L$4,1,1,\"3 - Savings Analysis\"))","v":0},{"$f":"INDIRECT(ADDRESS($K578,M$4,1,1,\"3 - Savings Analysis\"))","v":0},{"$f":"INDIRECT(ADDRESS($K578,N$4,1,1,\"3 - Savings Analysis\"))","v":0},{"$f":"INDIRECT(ADDRESS($K578,O$4,1,1,\"3 - Savings Analysis\"))","v":0},{"$f":"INDIRECT(ADDRESS($K578,P$4,1,1,\"3 - Savings Analysis\"))","v":0},{"$f":"INDIRECT(ADDRESS($K578,Q$4,1,1,\"3 - Savings Analysis\"))","v":0},{"$f":"INDIRECT(ADDRESS($K578,R$4,1,1,\"3 - Savings Analysis\"))","v":0},{"$f":"INDIRECT(ADDRESS($K578,S$4,1,1,\"3 - Savings Analysis\"))","v":0},{"$f":"INDIRECT(ADDRESS($K578,T$4,1,1,\"3 - Savings Analysis\"))","v":0}]
["","","","","","","","","",null,588,{"$f":"INDIRECT(ADDRESS($K579,L$4,1,1,\"3 - Savings Analysis\"))","v":0},{"$f":"INDIRECT(ADDRESS($K579,M$4,1,1,\"3 - Savings Analysis\"))","v":0},{"$f":"INDIRECT(ADDRESS($K579,N$4,1,1,\"3 - Savings Analysis\"))","v":0},{"$f":"INDIRECT(ADDRESS($K579,O$4,1,1,\"3 - Savings Analysis\"))","v":0},{"$f":"INDIRECT(ADDRESS($K579,P$4,1,1,\"3 - Savings Analysis\"))","v":0},{"$f":"INDIRECT(ADDRESS($K579,Q$4,1,1,\"3 - Savings Analysis\"))","v":0},{"$f":"INDIRECT(ADDRESS($K579,R$4,1,1,\"3 - Savings Analysis\"))","v":0},{"$f":"INDIRECT(ADDRESS($K579,S$4,1,1,\"3 - Savings Analysis\"))","v":0},{"$f":"INDIRECT(ADDRESS($K579,T$4,1,1,\"3 - Savings Analysis\"))","v":0}]
["","","","","","","","","",null,589,{"$f":"INDIRECT(ADDRESS($K580,L$4,1,1,\"3 - Savings Analysis\"))","v":0},{"$f":"INDIRECT(ADDRESS($K580,M$4,1,1,\"3 - Savings Analysis\"))","v":0},{"$f":"INDIRECT(ADDRESS($K580,N$4,1,1,\"3 - Savings Analysis\"))","v":0},{"$f":"INDIRECT(ADDRESS($K580,O$4,1,1,\"3 - Savings Analysis\"))","v":0},{"$f":"INDIRECT(ADDRESS($K580,P$4,1,1,\"3 - Savings Analysis\"))","v":0},{"$f":"INDIRECT(ADDRESS($K580,Q$4,1,1,\"3 - Savings Analysis\"))","v":0},{"$f":"INDIRECT(ADDRESS($K580,R$4,1,1,\"3 - Savings Analysis\"))","v":0},{"$f":"INDIRECT(ADDRESS($K580,S$4,1,1,\"3 - Savings Analysis\"))","v":0},{"$f":"INDIRECT(ADDRESS($K580,T$4,1,1,\"3 - Savings Analysis\"))","v":0}]
["","","","","","","","","",null,590,{"$f":"INDIRECT(ADDRESS($K581,L$4,1,1,\"3 - Savings Analysis\"))","v":0},{"$f":"INDIRECT(ADDRESS($K581,M$4,1,1,\"3 - Savings Analysis\"))","v":0},{"$f":"INDIRECT(ADDRESS($K581,N$4,1,1,\"3 - Savings Analysis\"))","v":0},{"$f":"INDIRECT(ADDRESS($K581,O$4,1,1,\"3 - Savings Analysis\"))","v":0},{"$f":"INDIRECT(ADDRESS($K581,P$4,1,1,\"3 - Savings Analysis\"))","v":0},{"$f":"INDIRECT(ADDRESS($K581,Q$4,1,1,\"3 - Savings Analysis\"))","v":0},{"$f":"INDIRECT(ADDRESS($K581,R$4,1,1,\"3 - Savings Analysis\"))","v":0},{"$f":"INDIRECT(ADDRESS($K581,S$4,1,1,\"3 - Savings Analysis\"))","v":0},{"$f":"INDIRECT(ADDRESS($K581,T$4,1,1,\"3 - Savings Analysis\"))","v":0}]
["","","","","","","","","",null,591,{"$f":"INDIRECT(ADDRESS($K582,L$4,1,1,\"3 - Savings Analysis\"))","v":0},{"$f":"INDIRECT(ADDRESS($K582,M$4,1,1,\"3 - Savings Analysis\"))","v":0},{"$f":"INDIRECT(ADDRESS($K582,N$4,1,1,\"3 - Savings Analysis\"))","v":0},{"$f":"INDIRECT(ADDRESS($K582,O$4,1,1,\"3 - Savings Analysis\"))","v":0},{"$f":"INDIRECT(ADDRESS($K582,P$4,1,1,\"3 - Savings Analysis\"))","v":0},{"$f":"INDIRECT(ADDRESS($K582,Q$4,1,1,\"3 - Savings Analysis\"))","v":0},{"$f":"INDIRECT(ADDRESS($K582,R$4,1,1,\"3 - Savings Analysis\"))","v":0},{"$f":"INDIRECT(ADDRESS($K582,S$4,1,1,\"3 - Savings Analysis\"))","v":0},{"$f":"INDIRECT(ADDRESS($K582,T$4,1,1,\"3 - Savings Analysis\"))","v":0}]
["","","","","","","","","",null,592,{"$f":"INDIRECT(ADDRESS($K583,L$4,1,1,\"3 - Savings Analysis\"))","v":0},{"$f":"INDIRECT(ADDRESS($K583,M$4,1,1,\"3 - Savings Analysis\"))","v":0},{"$f":"INDIRECT(ADDRESS($K583,N$4,1,1,\"3 - Savings Analysis\"))","v":0},{"$f":"INDIRECT(ADDRESS($K583,O$4,1,1,\"3 - Savings Analysis\"))","v":0},{"$f":"INDIRECT(ADDRESS($K583,P$4,1,1,\"3 - Savings Analysis\"))","v":0},{"$f":"INDIRECT(ADDRESS($K583,Q$4,1,1,\"3 - Savings Analysis\"))","v":0},{"$f":"INDIRECT(ADDRESS($K583,R$4,1,1,\"3 - Savings Analysis\"))","v":0},{"$f":"INDIRECT(ADDRESS($K583,S$4,1,1,\"3 - Savings Analysis\"))","v":0},{"$f":"INDIRECT(ADDRESS($K583,T$4,1,1,\"3 - Savings Analysis\"))","v":0}]
["","","","","","","","","",null,593,{"$f":"INDIRECT(ADDRESS($K584,L$4,1,1,\"3 - Savings Analysis\"))","v":0},{"$f":"INDIRECT(ADDRESS($K584,M$4,1,1,\"3 - Savings Analysis\"))","v":0},{"$f":"INDIRECT(ADDRESS($K584,N$4,1,1,\"3 - Savings Analysis\"))","v":0},{"$f":"INDIRECT(ADDRESS($K584,O$4,1,1,\"3 - Savings Analysis\"))","v":0},{"$f":"INDIRECT(ADDRESS($K584,P$4,1,1,\"3 - Savings Analysis\"))","v":0},{"$f":"INDIRECT(ADDRESS($K584,Q$4,1,1,\"3 - Savings Analysis\"))","v":0},{"$f":"INDIRECT(ADDRESS($K584,R$4,1,1,\"3 - Savings Analysis\"))","v":0},{"$f":"INDIRECT(ADDRESS($K584,S$4,1,1,\"3 - Savings Analysis\"))","v":0},{"$f":"INDIRECT(ADDRESS($K584,T$4,1,1,\"3 - Savings Analysis\"))","v":0}]
["","","","","","","","","",null,{"$f":"K584+1","v":594},{"$f":"INDIRECT(ADDRESS($K585,L$4,1,1,\"3 - Savings Analysis\"))","v":0},{"$f":"INDIRECT(ADDRESS($K585,M$4,1,1,\"3 - Savings Analysis\"))","v":0},{"$f":"INDIRECT(ADDRESS($K585,N$4,1,1,\"3 - Savings Analysis\"))","v":0},{"$f":"INDIRECT(ADDRESS($K585,O$4,1,1,\"3 - Savings Analysis\"))","v":0},{"$f":"INDIRECT(ADDRESS($K585,P$4,1,1,\"3 - Savings Analysis\"))","v":0},{"$f":"INDIRECT(ADDRESS($K585,Q$4,1,1,\"3 - Savings Analysis\"))","v":0},{"$f":"INDIRECT(ADDRESS($K585,R$4,1,1,\"3 - Savings Analysis\"))","v":0},{"$f":"INDIRECT(ADDRESS($K585,S$4,1,1,\"3 - Savings Analysis\"))","v":0},{"$f":"INDIRECT(ADDRESS($K585,T$4,1,1,\"3 - Savings Analysis\"))","v":0}]
["","","","","","","","","",null,595,{"$f":"INDIRECT(ADDRESS($K586,L$4,1,1,\"3 - Savings Analysis\"))","v":0},{"$f":"INDIRECT(ADDRESS($K586,M$4,1,1,\"3 - Savings Analysis\"))","v":0},{"$f":"INDIRECT(ADDRESS($K586,N$4,1,1,\"3 - Savings Analysis\"))","v":0},{"$f":"INDIRECT(ADDRESS($K586,O$4,1,1,\"3 - Savings Analysis\"))","v":0},{"$f":"INDIRECT(ADDRESS($K586,P$4,1,1,\"3 - Savings Analysis\"))","v":0},{"$f":"INDIRECT(ADDRESS($K586,Q$4,1,1,\"3 - Savings Analysis\"))","v":0},{"$f":"INDIRECT(ADDRESS($K586,R$4,1,1,\"3 - Savings Analysis\"))","v":0},{"$f":"INDIRECT(ADDRESS($K586,S$4,1,1,\"3 - Savings Analysis\"))","v":0},{"$f":"INDIRECT(ADDRESS($K586,T$4,1,1,\"3 - Savings Analysis\"))","v":0}]
["","","","","","","","","",null,596,{"$f":"INDIRECT(ADDRESS($K587,L$4,1,1,\"3 - Savings Analysis\"))","v":0},{"$f":"INDIRECT(ADDRESS($K587,M$4,1,1,\"3 - Savings Analysis\"))","v":0},{"$f":"INDIRECT(ADDRESS($K587,N$4,1,1,\"3 - Savings Analysis\"))","v":0},{"$f":"INDIRECT(ADDRESS($K587,O$4,1,1,\"3 - Savings Analysis\"))","v":0},{"$f":"INDIRECT(ADDRESS($K587,P$4,1,1,\"3 - Savings Analysis\"))","v":0},{"$f":"INDIRECT(ADDRESS($K587,Q$4,1,1,\"3 - Savings Analysis\"))","v":0},{"$f":"INDIRECT(ADDRESS($K587,R$4,1,1,\"3 - Savings Analysis\"))","v":0},{"$f":"INDIRECT(ADDRESS($K587,S$4,1,1,\"3 - Savings Analysis\"))","v":0},{"$f":"INDIRECT(ADDRESS($K587,T$4,1,1,\"3 - Savings Analysis\"))","v":0}]
["","","","","","","","","",null,597,{"$f":"INDIRECT(ADDRESS($K588,L$4,1,1,\"3 - Savings Analysis\"))","v":0},{"$f":"INDIRECT(ADDRESS($K588,M$4,1,1,\"3 - Savings Analysis\"))","v":0},{"$f":"INDIRECT(ADDRESS($K588,N$4,1,1,\"3 - Savings Analysis\"))","v":0},{"$f":"INDIRECT(ADDRESS($K588,O$4,1,1,\"3 - Savings Analysis\"))","v":0},{"$f":"INDIRECT(ADDRESS($K588,P$4,1,1,\"3 - Savings Analysis\"))","v":0},{"$f":"INDIRECT(ADDRESS($K588,Q$4,1,1,\"3 - Savings Analysis\"))","v":0},{"$f":"INDIRECT(ADDRESS($K588,R$4,1,1,\"3 - Savings Analysis\"))","v":0},{"$f":"INDIRECT(ADDRESS($K588,S$4,1,1,\"3 - Savings Analysis\"))","v":0},{"$f":"INDIRECT(ADDRESS($K588,T$4,1,1,\"3 - Savings Analysis\"))","v":0}]
[{"$f":"IF($K589<=$M$2,L589,\"\")","v":""},{"$f":"IF($K589<=$M$2,IF($A589=\"Total\",\"\",M589),\"\")","v":""},{"$f":"IF($K589<=$M$2,IF($A589=\"Total\",\"\",N589),\"\")","v":""},{"$f":"IF($K589<=$M$2,O589,\"\")","v":""},{"$f":"IF($K589<=$M$2,P589,\"\")","v":""},{"$f":"IF($K589<=$M$2,IF($A589=\"Total\",\"\",Q589),\"\")","v":""},{"$f":"IF($K589<=$M$2,IF($A589=\"Total\",\"\",R589),\"\")","v":""},{"$f":"IF($K589<=$M$2,IF($A589=\"Total\",\"\",IF($T589=0,\"\",S589)),\"\")","v":""},{"$f":"IF($K589<=$M$2,IF($A589=\"Total\",\"\",IF($T589=0,\"\",T589)),\"\")","v":""},null,598,{"$f":"INDIRECT(ADDRESS($K589,L$4,1,1,\"3 - Savings Analysis\"))","v":0},{"$f":"INDIRECT(ADDRESS($K589,M$4,1,1,\"3 - Savings Analysis\"))","v":0},{"$f":"INDIRECT(ADDRESS($K589,N$4,1,1,\"3 - Savings Analysis\"))","v":0},{"$f":"INDIRECT(ADDRESS($K589,O$4,1,1,\"3 - Savings Analysis\"))","v":0},{"$f":"INDIRECT(ADDRESS($K589,P$4,1,1,\"3 - Savings Analysis\"))","v":0},{"$f":"INDIRECT(ADDRESS($K589,Q$4,1,1,\"3 - Savings Analysis\"))","v":0},{"$f":"INDIRECT(ADDRESS($K589,R$4,1,1,\"3 - Savings Analysis\"))","v":0},{"$f":"INDIRECT(ADDRESS($K589,S$4,1,1,\"3 - Savings Analysis\"))","v":0},{"$f":"INDIRECT(ADDRESS($K589,T$4,1,1,\"3 - Savings Analysis\"))","v":0}]
["","","","","","","","","",null,599,{"$f":"INDIRECT(ADDRESS($K590,L$4,1,1,\"3 - Savings Analysis\"))","v":0},{"$f":"INDIRECT(ADDRESS($K590,M$4,1,1,\"3 - Savings Analysis\"))","v":0},{"$f":"INDIRECT(ADDRESS($K590,N$4,1,1,\"3 - Savings Analysis\"))","v":0},{"$f":"INDIRECT(ADDRESS($K590,O$4,1,1,\"3 - Savings Analysis\"))","v":0},{"$f":"INDIRECT(ADDRESS($K590,P$4,1,1,\"3 - Savings Analysis\"))","v":0},{"$f":"INDIRECT(ADDRESS($K590,Q$4,1,1,\"3 - Savings Analysis\"))","v":0},{"$f":"INDIRECT(ADDRESS($K590,R$4,1,1,\"3 - Savings Analysis\"))","v":0},{"$f":"INDIRECT(ADDRESS($K590,S$4,1,1,\"3 - Savings Analysis\"))","v":0},{"$f":"INDIRECT(ADDRESS($K590,T$4,1,1,\"3 - Savings Analysis\"))","v":0}]
["","","","","","","","","",null,600,{"$f":"INDIRECT(ADDRESS($K591,L$4,1,1,\"3 - Savings Analysis\"))","v":0},{"$f":"INDIRECT(ADDRESS($K591,M$4,1,1,\"3 - Savings Analysis\"))","v":0},{"$f":"INDIRECT(ADDRESS($K591,N$4,1,1,\"3 - Savings Analysis\"))","v":0},{"$f":"INDIRECT(ADDRESS($K591,O$4,1,1,\"3 - Savings Analysis\"))","v":0},{"$f":"INDIRECT(ADDRESS($K591,P$4,1,1,\"3 - Savings Analysis\"))","v":0},{"$f":"INDIRECT(ADDRESS($K591,Q$4,1,1,\"3 - Savings Analysis\"))","v":0},{"$f":"INDIRECT(ADDRESS($K591,R$4,1,1,\"3 - Savings Analysis\"))","v":0},{"$f":"INDIRECT(ADDRESS($K591,S$4,1,1,\"3 - Savings Analysis\"))","v":0},{"$f":"INDIRECT(ADDRESS($K591,T$4,1,1,\"3 - Savings Analysis\"))","v":0}]
["","","","","","","","","",null,601,{"$f":"INDIRECT(ADDRESS($K592,L$4,1,1,\"3 - Savings Analysis\"))","v":0},{"$f":"INDIRECT(ADDRESS($K592,M$4,1,1,\"3 - Savings Analysis\"))","v":0},{"$f":"INDIRECT(ADDRESS($K592,N$4,1,1,\"3 - Savings Analysis\"))","v":0},{"$f":"INDIRECT(ADDRESS($K592,O$4,1,1,\"3 - Savings Analysis\"))","v":0},{"$f":"INDIRECT(ADDRESS($K592,P$4,1,1,\"3 - Savings Analysis\"))","v":0},{"$f":"INDIRECT(ADDRESS($K592,Q$4,1,1,\"3 - Savings Analysis\"))","v":0},{"$f":"INDIRECT(ADDRESS($K592,R$4,1,1,\"3 - Savings Analysis\"))","v":0},{"$f":"INDIRECT(ADDRESS($K592,S$4,1,1,\"3 - Savings Analysis\"))","v":0},{"$f":"INDIRECT(ADDRESS($K592,T$4,1,1,\"3 - Savings Analysis\"))","v":0}]
["","","","","","","","","",null,602,{"$f":"INDIRECT(ADDRESS($K593,L$4,1,1,\"3 - Savings Analysis\"))","v":0},{"$f":"INDIRECT(ADDRESS($K593,M$4,1,1,\"3 - Savings Analysis\"))","v":0},{"$f":"INDIRECT(ADDRESS($K593,N$4,1,1,\"3 - Savings Analysis\"))","v":0},{"$f":"INDIRECT(ADDRESS($K593,O$4,1,1,\"3 - Savings Analysis\"))","v":0},{"$f":"INDIRECT(ADDRESS($K593,P$4,1,1,\"3 - Savings Analysis\"))","v":0},{"$f":"INDIRECT(ADDRESS($K593,Q$4,1,1,\"3 - Savings Analysis\"))","v":0},{"$f":"INDIRECT(ADDRESS($K593,R$4,1,1,\"3 - Savings Analysis\"))","v":0},{"$f":"INDIRECT(ADDRESS($K593,S$4,1,1,\"3 - Savings Analysis\"))","v":0},{"$f":"INDIRECT(ADDRESS($K593,T$4,1,1,\"3 - Savings Analysis\"))","v":0}]
["","","","","","","","","",null,603,{"$f":"INDIRECT(ADDRESS($K594,L$4,1,1,\"3 - Savings Analysis\"))","v":0},{"$f":"INDIRECT(ADDRESS($K594,M$4,1,1,\"3 - Savings Analysis\"))","v":0},{"$f":"INDIRECT(ADDRESS($K594,N$4,1,1,\"3 - Savings Analysis\"))","v":0},{"$f":"INDIRECT(ADDRESS($K594,O$4,1,1,\"3 - Savings Analysis\"))","v":0},{"$f":"INDIRECT(ADDRESS($K594,P$4,1,1,\"3 - Savings Analysis\"))","v":0},{"$f":"INDIRECT(ADDRESS($K594,Q$4,1,1,\"3 - Savings Analysis\"))","v":0},{"$f":"INDIRECT(ADDRESS($K594,R$4,1,1,\"3 - Savings Analysis\"))","v":0},{"$f":"INDIRECT(ADDRESS($K594,S$4,1,1,\"3 - Savings Analysis\"))","v":0},{"$f":"INDIRECT(ADDRESS($K594,T$4,1,1,\"3 - Savings Analysis\"))","v":0}]
["","","","","","","","","",null,604,{"$f":"INDIRECT(ADDRESS($K595,L$4,1,1,\"3 - Savings Analysis\"))","v":0},{"$f":"INDIRECT(ADDRESS($K595,M$4,1,1,\"3 - Savings Analysis\"))","v":0},{"$f":"INDIRECT(ADDRESS($K595,N$4,1,1,\"3 - Savings Analysis\"))","v":0},{"$f":"INDIRECT(ADDRESS($K595,O$4,1,1,\"3 - Savings Analysis\"))","v":0},{"$f":"INDIRECT(ADDRESS($K595,P$4,1,1,\"3 - Savings Analysis\"))","v":0},{"$f":"INDIRECT(ADDRESS($K595,Q$4,1,1,\"3 - Savings Analysis\"))","v":0},{"$f":"INDIRECT(ADDRESS($K595,R$4,1,1,\"3 - Savings Analysis\"))","v":0},{"$f":"INDIRECT(ADDRESS($K595,S$4,1,1,\"3 - Savings Analysis\"))","v":0},{"$f":"INDIRECT(ADDRESS($K595,T$4,1,1,\"3 - Savings Analysis\"))","v":0}]
["","","","","","","","","",null,605,{"$f":"INDIRECT(ADDRESS($K596,L$4,1,1,\"3 - Savings Analysis\"))","v":0},{"$f":"INDIRECT(ADDRESS($K596,M$4,1,1,\"3 - Savings Analysis\"))","v":0},{"$f":"INDIRECT(ADDRESS($K596,N$4,1,1,\"3 - Savings Analysis\"))","v":0},{"$f":"INDIRECT(ADDRESS($K596,O$4,1,1,\"3 - Savings Analysis\"))","v":0},{"$f":"INDIRECT(ADDRESS($K596,P$4,1,1,\"3 - Savings Analysis\"))","v":0},{"$f":"INDIRECT(ADDRESS($K596,Q$4,1,1,\"3 - Savings Analysis\"))","v":0},{"$f":"INDIRECT(ADDRESS($K596,R$4,1,1,\"3 - Savings Analysis\"))","v":0},{"$f":"INDIRECT(ADDRESS($K596,S$4,1,1,\"3 - Savings Analysis\"))","v":0},{"$f":"INDIRECT(ADDRESS($K596,T$4,1,1,\"3 - Savings Analysis\"))","v":0}]
["","","","","","","","","",null,606,{"$f":"INDIRECT(ADDRESS($K597,L$4,1,1,\"3 - Savings Analysis\"))","v":0},{"$f":"INDIRECT(ADDRESS($K597,M$4,1,1,\"3 - Savings Analysis\"))","v":0},{"$f":"INDIRECT(ADDRESS($K597,N$4,1,1,\"3 - Savings Analysis\"))","v":0},{"$f":"INDIRECT(ADDRESS($K597,O$4,1,1,\"3 - Savings Analysis\"))","v":0},{"$f":"INDIRECT(ADDRESS($K597,P$4,1,1,\"3 - Savings Analysis\"))","v":0},{"$f":"INDIRECT(ADDRESS($K597,Q$4,1,1,\"3 - Savings Analysis\"))","v":0},{"$f":"INDIRECT(ADDRESS($K597,R$4,1,1,\"3 - Savings Analysis\"))","v":0},{"$f":"INDIRECT(ADDRESS($K597,S$4,1,1,\"3 - Savings Analysis\"))","v":0},{"$f":"INDIRECT(ADDRESS($K597,T$4,1,1,\"3 - Savings Analysis\"))","v":0}]
["","","","","","","","","",null,607,{"$f":"INDIRECT(ADDRESS($K598,L$4,1,1,\"3 - Savings Analysis\"))","v":0},{"$f":"INDIRECT(ADDRESS($K598,M$4,1,1,\"3 - Savings Analysis\"))","v":0},{"$f":"INDIRECT(ADDRESS($K598,N$4,1,1,\"3 - Savings Analysis\"))","v":0},{"$f":"INDIRECT(ADDRESS($K598,O$4,1,1,\"3 - Savings Analysis\"))","v":0},{"$f":"INDIRECT(ADDRESS($K598,P$4,1,1,\"3 - Savings Analysis\"))","v":0},{"$f":"INDIRECT(ADDRESS($K598,Q$4,1,1,\"3 - Savings Analysis\"))","v":0},{"$f":"INDIRECT(ADDRESS($K598,R$4,1,1,\"3 - Savings Analysis\"))","v":0},{"$f":"INDIRECT(ADDRESS($K598,S$4,1,1,\"3 - Savings Analysis\"))","v":0},{"$f":"INDIRECT(ADDRESS($K598,T$4,1,1,\"3 - Savings Analysis\"))","v":0}]
["","","","","","","","","",null,608,{"$f":"INDIRECT(ADDRESS($K599,L$4,1,1,\"3 - Savings Analysis\"))","v":0},{"$f":"INDIRECT(ADDRESS($K599,M$4,1,1,\"3 - Savings Analysis\"))","v":0},{"$f":"INDIRECT(ADDRESS($K599,N$4,1,1,\"3 - Savings Analysis\"))","v":0},{"$f":"INDIRECT(ADDRESS($K599,O$4,1,1,\"3 - Savings Analysis\"))","v":0},{"$f":"INDIRECT(ADDRESS($K599,P$4,1,1,\"3 - Savings Analysis\"))","v":0},{"$f":"INDIRECT(ADDRESS($K599,Q$4,1,1,\"3 - Savings Analysis\"))","v":0},{"$f":"INDIRECT(ADDRESS($K599,R$4,1,1,\"3 - Savings Analysis\"))","v":0},{"$f":"INDIRECT(ADDRESS($K599,S$4,1,1,\"3 - Savings Analysis\"))","v":0},{"$f":"INDIRECT(ADDRESS($K599,T$4,1,1,\"3 - Savings Analysis\"))","v":0}]
["","","","","","","","","",null,609,{"$f":"INDIRECT(ADDRESS($K600,L$4,1,1,\"3 - Savings Analysis\"))","v":0},{"$f":"INDIRECT(ADDRESS($K600,M$4,1,1,\"3 - Savings Analysis\"))","v":0},{"$f":"INDIRECT(ADDRESS($K600,N$4,1,1,\"3 - Savings Analysis\"))","v":0},{"$f":"INDIRECT(ADDRESS($K600,O$4,1,1,\"3 - Savings Analysis\"))","v":0},{"$f":"INDIRECT(ADDRESS($K600,P$4,1,1,\"3 - Savings Analysis\"))","v":0},{"$f":"INDIRECT(ADDRESS($K600,Q$4,1,1,\"3 - Savings Analysis\"))","v":0},{"$f":"INDIRECT(ADDRESS($K600,R$4,1,1,\"3 - Savings Analysis\"))","v":0},{"$f":"INDIRECT(ADDRESS($K600,S$4,1,1,\"3 - Savings Analysis\"))","v":0},{"$f":"INDIRECT(ADDRESS($K600,T$4,1,1,\"3 - Savings Analysis\"))","v":0}]
["","","","","","","","","",null,610,{"$f":"INDIRECT(ADDRESS($K601,L$4,1,1,\"3 - Savings Analysis\"))","v":0},{"$f":"INDIRECT(ADDRESS($K601,M$4,1,1,\"3 - Savings Analysis\"))","v":0},{"$f":"INDIRECT(ADDRESS($K601,N$4,1,1,\"3 - Savings Analysis\"))","v":0},{"$f":"INDIRECT(ADDRESS($K601,O$4,1,1,\"3 - Savings Analysis\"))","v":0},{"$f":"INDIRECT(ADDRESS($K601,P$4,1,1,\"3 - Savings Analysis\"))","v":0},{"$f":"INDIRECT(ADDRESS($K601,Q$4,1,1,\"3 - Savings Analysis\"))","v":0},{"$f":"INDIRECT(ADDRESS($K601,R$4,1,1,\"3 - Savings Analysis\"))","v":0},{"$f":"INDIRECT(ADDRESS($K601,S$4,1,1,\"3 - Savings Analysis\"))","v":0},{"$f":"INDIRECT(ADDRESS($K601,T$4,1,1,\"3 - Savings Analysis\"))","v":0}]
["","","","","","","","","",null,611,{"$f":"INDIRECT(ADDRESS($K602,L$4,1,1,\"3 - Savings Analysis\"))","v":0},{"$f":"INDIRECT(ADDRESS($K602,M$4,1,1,\"3 - Savings Analysis\"))","v":0},{"$f":"INDIRECT(ADDRESS($K602,N$4,1,1,\"3 - Savings Analysis\"))","v":0},{"$f":"INDIRECT(ADDRESS($K602,O$4,1,1,\"3 - Savings Analysis\"))","v":0},{"$f":"INDIRECT(ADDRESS($K602,P$4,1,1,\"3 - Savings Analysis\"))","v":0},{"$f":"INDIRECT(ADDRESS($K602,Q$4,1,1,\"3 - Savings Analysis\"))","v":0},{"$f":"INDIRECT(ADDRESS($K602,R$4,1,1,\"3 - Savings Analysis\"))","v":0},{"$f":"INDIRECT(ADDRESS($K602,S$4,1,1,\"3 - Savings Analysis\"))","v":0},{"$f":"INDIRECT(ADDRESS($K602,T$4,1,1,\"3 - Savings Analysis\"))","v":0}]
["","","","","","","","","",null,612,{"$f":"INDIRECT(ADDRESS($K603,L$4,1,1,\"3 - Savings Analysis\"))","v":0},{"$f":"INDIRECT(ADDRESS($K603,M$4,1,1,\"3 - Savings Analysis\"))","v":0},{"$f":"INDIRECT(ADDRESS($K603,N$4,1,1,\"3 - Savings Analysis\"))","v":0},{"$f":"INDIRECT(ADDRESS($K603,O$4,1,1,\"3 - Savings Analysis\"))","v":0},{"$f":"INDIRECT(ADDRESS($K603,P$4,1,1,\"3 - Savings Analysis\"))","v":0},{"$f":"INDIRECT(ADDRESS($K603,Q$4,1,1,\"3 - Savings Analysis\"))","v":0},{"$f":"INDIRECT(ADDRESS($K603,R$4,1,1,\"3 - Savings Analysis\"))","v":0},{"$f":"INDIRECT(ADDRESS($K603,S$4,1,1,\"3 - Savings Analysis\"))","v":0},{"$f":"INDIRECT(ADDRESS($K603,T$4,1,1,\"3 - Savings Analysis\"))","v":0}]
["","","","","","","","","",null,613,{"$f":"INDIRECT(ADDRESS($K604,L$4,1,1,\"3 - Savings Analysis\"))","v":0},{"$f":"INDIRECT(ADDRESS($K604,M$4,1,1,\"3 - Savings Analysis\"))","v":0},{"$f":"INDIRECT(ADDRESS($K604,N$4,1,1,\"3 - Savings Analysis\"))","v":0},{"$f":"INDIRECT(ADDRESS($K604,O$4,1,1,\"3 - Savings Analysis\"))","v":0},{"$f":"INDIRECT(ADDRESS($K604,P$4,1,1,\"3 - Savings Analysis\"))","v":0},{"$f":"INDIRECT(ADDRESS($K604,Q$4,1,1,\"3 - Savings Analysis\"))","v":0},{"$f":"INDIRECT(ADDRESS($K604,R$4,1,1,\"3 - Savings Analysis\"))","v":0},{"$f":"INDIRECT(ADDRESS($K604,S$4,1,1,\"3 - Savings Analysis\"))","v":0},{"$f":"INDIRECT(ADDRESS($K604,T$4,1,1,\"3 - Savings Analysis\"))","v":0}]
["","","","","","","","","",null,614,{"$f":"INDIRECT(ADDRESS($K605,L$4,1,1,\"3 - Savings Analysis\"))","v":0},{"$f":"INDIRECT(ADDRESS($K605,M$4,1,1,\"3 - Savings Analysis\"))","v":0},{"$f":"INDIRECT(ADDRESS($K605,N$4,1,1,\"3 - Savings Analysis\"))","v":0},{"$f":"INDIRECT(ADDRESS($K605,O$4,1,1,\"3 - Savings Analysis\"))","v":0},{"$f":"INDIRECT(ADDRESS($K605,P$4,1,1,\"3 - Savings Analysis\"))","v":0},{"$f":"INDIRECT(ADDRESS($K605,Q$4,1,1,\"3 - Savings Analysis\"))","v":0},{"$f":"INDIRECT(ADDRESS($K605,R$4,1,1,\"3 - Savings Analysis\"))","v":0},{"$f":"INDIRECT(ADDRESS($K605,S$4,1,1,\"3 - Savings Analysis\"))","v":0},{"$f":"INDIRECT(ADDRESS($K605,T$4,1,1,\"3 - Savings Analysis\"))","v":0}]
["","","","","","","","","",null,615,{"$f":"INDIRECT(ADDRESS($K606,L$4,1,1,\"3 - Savings Analysis\"))","v":0},{"$f":"INDIRECT(ADDRESS($K606,M$4,1,1,\"3 - Savings Analysis\"))","v":0},{"$f":"INDIRECT(ADDRESS($K606,N$4,1,1,\"3 - Savings Analysis\"))","v":0},{"$f":"INDIRECT(ADDRESS($K606,O$4,1,1,\"3 - Savings Analysis\"))","v":0},{"$f":"INDIRECT(ADDRESS($K606,P$4,1,1,\"3 - Savings Analysis\"))","v":0},{"$f":"INDIRECT(ADDRESS($K606,Q$4,1,1,\"3 - Savings Analysis\"))","v":0},{"$f":"INDIRECT(ADDRESS($K606,R$4,1,1,\"3 - Savings Analysis\"))","v":0},{"$f":"INDIRECT(ADDRESS($K606,S$4,1,1,\"3 - Savings Analysis\"))","v":0},{"$f":"INDIRECT(ADDRESS($K606,T$4,1,1,\"3 - Savings Analysis\"))","v":0}]
["","","","","","","","","",null,616,{"$f":"INDIRECT(ADDRESS($K607,L$4,1,1,\"3 - Savings Analysis\"))","v":0},{"$f":"INDIRECT(ADDRESS($K607,M$4,1,1,\"3 - Savings Analysis\"))","v":0},{"$f":"INDIRECT(ADDRESS($K607,N$4,1,1,\"3 - Savings Analysis\"))","v":0},{"$f":"INDIRECT(ADDRESS($K607,O$4,1,1,\"3 - Savings Analysis\"))","v":0},{"$f":"INDIRECT(ADDRESS($K607,P$4,1,1,\"3 - Savings Analysis\"))","v":0},{"$f":"INDIRECT(ADDRESS($K607,Q$4,1,1,\"3 - Savings Analysis\"))","v":0},{"$f":"INDIRECT(ADDRESS($K607,R$4,1,1,\"3 - Savings Analysis\"))","v":0},{"$f":"INDIRECT(ADDRESS($K607,S$4,1,1,\"3 - Savings Analysis\"))","v":0},{"$f":"INDIRECT(ADDRESS($K607,T$4,1,1,\"3 - Savings Analysis\"))","v":0}]
["","","","","","","","","",null,617,{"$f":"INDIRECT(ADDRESS($K608,L$4,1,1,\"3 - Savings Analysis\"))","v":0},{"$f":"INDIRECT(ADDRESS($K608,M$4,1,1,\"3 - Savings Analysis\"))","v":0},{"$f":"INDIRECT(ADDRESS($K608,N$4,1,1,\"3 - Savings Analysis\"))","v":0},{"$f":"INDIRECT(ADDRESS($K608,O$4,1,1,\"3 - Savings Analysis\"))","v":0},{"$f":"INDIRECT(ADDRESS($K608,P$4,1,1,\"3 - Savings Analysis\"))","v":0},{"$f":"INDIRECT(ADDRESS($K608,Q$4,1,1,\"3 - Savings Analysis\"))","v":0},{"$f":"INDIRECT(ADDRESS($K608,R$4,1,1,\"3 - Savings Analysis\"))","v":0},{"$f":"INDIRECT(ADDRESS($K608,S$4,1,1,\"3 - Savings Analysis\"))","v":0},{"$f":"INDIRECT(ADDRESS($K608,T$4,1,1,\"3 - Savings Analysis\"))","v":0}]
["","","","","","","","","",null,618,{"$f":"INDIRECT(ADDRESS($K609,L$4,1,1,\"3 - Savings Analysis\"))","v":0},{"$f":"INDIRECT(ADDRESS($K609,M$4,1,1,\"3 - Savings Analysis\"))","v":0},{"$f":"INDIRECT(ADDRESS($K609,N$4,1,1,\"3 - Savings Analysis\"))","v":0},{"$f":"INDIRECT(ADDRESS($K609,O$4,1,1,\"3 - Savings Analysis\"))","v":0},{"$f":"INDIRECT(ADDRESS($K609,P$4,1,1,\"3 - Savings Analysis\"))","v":0},{"$f":"INDIRECT(ADDRESS($K609,Q$4,1,1,\"3 - Savings Analysis\"))","v":0},{"$f":"INDIRECT(ADDRESS($K609,R$4,1,1,\"3 - Savings Analysis\"))","v":0},{"$f":"INDIRECT(ADDRESS($K609,S$4,1,1,\"3 - Savings Analysis\"))","v":0},{"$f":"INDIRECT(ADDRESS($K609,T$4,1,1,\"3 - Savings Analysis\"))","v":0}]
["","","","","","","","","",null,619,{"$f":"INDIRECT(ADDRESS($K610,L$4,1,1,\"3 - Savings Analysis\"))","v":0},{"$f":"INDIRECT(ADDRESS($K610,M$4,1,1,\"3 - Savings Analysis\"))","v":0},{"$f":"INDIRECT(ADDRESS($K610,N$4,1,1,\"3 - Savings Analysis\"))","v":0},{"$f":"INDIRECT(ADDRESS($K610,O$4,1,1,\"3 - Savings Analysis\"))","v":0},{"$f":"INDIRECT(ADDRESS($K610,P$4,1,1,\"3 - Savings Analysis\"))","v":0},{"$f":"INDIRECT(ADDRESS($K610,Q$4,1,1,\"3 - Savings Analysis\"))","v":0},{"$f":"INDIRECT(ADDRESS($K610,R$4,1,1,\"3 - Savings Analysis\"))","v":0},{"$f":"INDIRECT(ADDRESS($K610,S$4,1,1,\"3 - Savings Analysis\"))","v":0},{"$f":"INDIRECT(ADDRESS($K610,T$4,1,1,\"3 - Savings Analysis\"))","v":0}]
["","","","","","","","","",null,620,{"$f":"INDIRECT(ADDRESS($K611,L$4,1,1,\"3 - Savings Analysis\"))","v":0},{"$f":"INDIRECT(ADDRESS($K611,M$4,1,1,\"3 - Savings Analysis\"))","v":0},{"$f":"INDIRECT(ADDRESS($K611,N$4,1,1,\"3 - Savings Analysis\"))","v":0},{"$f":"INDIRECT(ADDRESS($K611,O$4,1,1,\"3 - Savings Analysis\"))","v":0},{"$f":"INDIRECT(ADDRESS($K611,P$4,1,1,\"3 - Savings Analysis\"))","v":0},{"$f":"INDIRECT(ADDRESS($K611,Q$4,1,1,\"3 - Savings Analysis\"))","v":0},{"$f":"INDIRECT(ADDRESS($K611,R$4,1,1,\"3 - Savings Analysis\"))","v":0},{"$f":"INDIRECT(ADDRESS($K611,S$4,1,1,\"3 - Savings Analysis\"))","v":0},{"$f":"INDIRECT(ADDRESS($K611,T$4,1,1,\"3 - Savings Analysis\"))","v":0}]
["","","","","","","","","",null,621,{"$f":"INDIRECT(ADDRESS($K612,L$4,1,1,\"3 - Savings Analysis\"))","v":0},{"$f":"INDIRECT(ADDRESS($K612,M$4,1,1,\"3 - Savings Analysis\"))","v":0},{"$f":"INDIRECT(ADDRESS($K612,N$4,1,1,\"3 - Savings Analysis\"))","v":0},{"$f":"INDIRECT(ADDRESS($K612,O$4,1,1,\"3 - Savings Analysis\"))","v":0},{"$f":"INDIRECT(ADDRESS($K612,P$4,1,1,\"3 - Savings Analysis\"))","v":0},{"$f":"INDIRECT(ADDRESS($K612,Q$4,1,1,\"3 - Savings Analysis\"))","v":0},{"$f":"INDIRECT(ADDRESS($K612,R$4,1,1,\"3 - Savings Analysis\"))","v":0},{"$f":"INDIRECT(ADDRESS($K612,S$4,1,1,\"3 - Savings Analysis\"))","v":0},{"$f":"INDIRECT(ADDRESS($K612,T$4,1,1,\"3 - Savings Analysis\"))","v":0}]
["","","","","","","","","",null,622,{"$f":"INDIRECT(ADDRESS($K613,L$4,1,1,\"3 - Savings Analysis\"))","v":0},{"$f":"INDIRECT(ADDRESS($K613,M$4,1,1,\"3 - Savings Analysis\"))","v":0},{"$f":"INDIRECT(ADDRESS($K613,N$4,1,1,\"3 - Savings Analysis\"))","v":0},{"$f":"INDIRECT(ADDRESS($K613,O$4,1,1,\"3 - Savings Analysis\"))","v":0},{"$f":"INDIRECT(ADDRESS($K613,P$4,1,1,\"3 - Savings Analysis\"))","v":0},{"$f":"INDIRECT(ADDRESS($K613,Q$4,1,1,\"3 - Savings Analysis\"))","v":0},{"$f":"INDIRECT(ADDRESS($K613,R$4,1,1,\"3 - Savings Analysis\"))","v":0},{"$f":"INDIRECT(ADDRESS($K613,S$4,1,1,\"3 - Savings Analysis\"))","v":0},{"$f":"INDIRECT(ADDRESS($K613,T$4,1,1,\"3 - Savings Analysis\"))","v":0}]
["","","","","","","","","",null,623,{"$f":"INDIRECT(ADDRESS($K614,L$4,1,1,\"3 - Savings Analysis\"))","v":0},{"$f":"INDIRECT(ADDRESS($K614,M$4,1,1,\"3 - Savings Analysis\"))","v":0},{"$f":"INDIRECT(ADDRESS($K614,N$4,1,1,\"3 - Savings Analysis\"))","v":0},{"$f":"INDIRECT(ADDRESS($K614,O$4,1,1,\"3 - Savings Analysis\"))","v":0},{"$f":"INDIRECT(ADDRESS($K614,P$4,1,1,\"3 - Savings Analysis\"))","v":0},{"$f":"INDIRECT(ADDRESS($K614,Q$4,1,1,\"3 - Savings Analysis\"))","v":0},{"$f":"INDIRECT(ADDRESS($K614,R$4,1,1,\"3 - Savings Analysis\"))","v":0},{"$f":"INDIRECT(ADDRESS($K614,S$4,1,1,\"3 - Savings Analysis\"))","v":0},{"$f":"INDIRECT(ADDRESS($K614,T$4,1,1,\"3 - Savings Analysis\"))","v":0}]
["","","","","","","","","",null,624,{"$f":"INDIRECT(ADDRESS($K615,L$4,1,1,\"3 - Savings Analysis\"))","v":0},{"$f":"INDIRECT(ADDRESS($K615,M$4,1,1,\"3 - Savings Analysis\"))","v":0},{"$f":"INDIRECT(ADDRESS($K615,N$4,1,1,\"3 - Savings Analysis\"))","v":0},{"$f":"INDIRECT(ADDRESS($K615,O$4,1,1,\"3 - Savings Analysis\"))","v":0},{"$f":"INDIRECT(ADDRESS($K615,P$4,1,1,\"3 - Savings Analysis\"))","v":0},{"$f":"INDIRECT(ADDRESS($K615,Q$4,1,1,\"3 - Savings Analysis\"))","v":0},{"$f":"INDIRECT(ADDRESS($K615,R$4,1,1,\"3 - Savings Analysis\"))","v":0},{"$f":"INDIRECT(ADDRESS($K615,S$4,1,1,\"3 - Savings Analysis\"))","v":0},{"$f":"INDIRECT(ADDRESS($K615,T$4,1,1,\"3 - Savings Analysis\"))","v":0}]
["","","","","","","","","",null,625,{"$f":"INDIRECT(ADDRESS($K616,L$4,1,1,\"3 - Savings Analysis\"))","v":0},{"$f":"INDIRECT(ADDRESS($K616,M$4,1,1,\"3 - Savings Analysis\"))","v":0},{"$f":"INDIRECT(ADDRESS($K616,N$4,1,1,\"3 - Savings Analysis\"))","v":0},{"$f":"INDIRECT(ADDRESS($K616,O$4,1,1,\"3 - Savings Analysis\"))","v":0},{"$f":"INDIRECT(ADDRESS($K616,P$4,1,1,\"3 - Savings Analysis\"))","v":0},{"$f":"INDIRECT(ADDRESS($K616,Q$4,1,1,\"3 - Savings Analysis\"))","v":0},{"$f":"INDIRECT(ADDRESS($K616,R$4,1,1,\"3 - Savings Analysis\"))","v":0},{"$f":"INDIRECT(ADDRESS($K616,S$4,1,1,\"3 - Savings Analysis\"))","v":0},{"$f":"INDIRECT(ADDRESS($K616,T$4,1,1,\"3 - Savings Analysis\"))","v":0}]
["","","","","","","","","",null,626,{"$f":"INDIRECT(ADDRESS($K617,L$4,1,1,\"3 - Savings Analysis\"))","v":0},{"$f":"INDIRECT(ADDRESS($K617,M$4,1,1,\"3 - Savings Analysis\"))","v":0},{"$f":"INDIRECT(ADDRESS($K617,N$4,1,1,\"3 - Savings Analysis\"))","v":0},{"$f":"INDIRECT(ADDRESS($K617,O$4,1,1,\"3 - Savings Analysis\"))","v":0},{"$f":"INDIRECT(ADDRESS($K617,P$4,1,1,\"3 - Savings Analysis\"))","v":0},{"$f":"INDIRECT(ADDRESS($K617,Q$4,1,1,\"3 - Savings Analysis\"))","v":0},{"$f":"INDIRECT(ADDRESS($K617,R$4,1,1,\"3 - Savings Analysis\"))","v":0},{"$f":"INDIRECT(ADDRESS($K617,S$4,1,1,\"3 - Savings Analysis\"))","v":0},{"$f":"INDIRECT(ADDRESS($K617,T$4,1,1,\"3 - Savings Analysis\"))","v":0}]
["","","","","","","","","",null,627,{"$f":"INDIRECT(ADDRESS($K618,L$4,1,1,\"3 - Savings Analysis\"))","v":0},{"$f":"INDIRECT(ADDRESS($K618,M$4,1,1,\"3 - Savings Analysis\"))","v":0},{"$f":"INDIRECT(ADDRESS($K618,N$4,1,1,\"3 - Savings Analysis\"))","v":0},{"$f":"INDIRECT(ADDRESS($K618,O$4,1,1,\"3 - Savings Analysis\"))","v":0},{"$f":"INDIRECT(ADDRESS($K618,P$4,1,1,\"3 - Savings Analysis\"))","v":0},{"$f":"INDIRECT(ADDRESS($K618,Q$4,1,1,\"3 - Savings Analysis\"))","v":0},{"$f":"INDIRECT(ADDRESS($K618,R$4,1,1,\"3 - Savings Analysis\"))","v":0},{"$f":"INDIRECT(ADDRESS($K618,S$4,1,1,\"3 - Savings Analysis\"))","v":0},{"$f":"INDIRECT(ADDRESS($K618,T$4,1,1,\"3 - Savings Analysis\"))","v":0}]
["","","","","","","","","",null,628,{"$f":"INDIRECT(ADDRESS($K619,L$4,1,1,\"3 - Savings Analysis\"))","v":0},{"$f":"INDIRECT(ADDRESS($K619,M$4,1,1,\"3 - Savings Analysis\"))","v":0},{"$f":"INDIRECT(ADDRESS($K619,N$4,1,1,\"3 - Savings Analysis\"))","v":0},{"$f":"INDIRECT(ADDRESS($K619,O$4,1,1,\"3 - Savings Analysis\"))","v":0},{"$f":"INDIRECT(ADDRESS($K619,P$4,1,1,\"3 - Savings Analysis\"))","v":0},{"$f":"INDIRECT(ADDRESS($K619,Q$4,1,1,\"3 - Savings Analysis\"))","v":0},{"$f":"INDIRECT(ADDRESS($K619,R$4,1,1,\"3 - Savings Analysis\"))","v":0},{"$f":"INDIRECT(ADDRESS($K619,S$4,1,1,\"3 - Savings Analysis\"))","v":0},{"$f":"INDIRECT(ADDRESS($K619,T$4,1,1,\"3 - Savings Analysis\"))","v":0}]
["","","","","","","","","",null,629,{"$f":"INDIRECT(ADDRESS($K620,L$4,1,1,\"3 - Savings Analysis\"))","v":0},{"$f":"INDIRECT(ADDRESS($K620,M$4,1,1,\"3 - Savings Analysis\"))","v":0},{"$f":"INDIRECT(ADDRESS($K620,N$4,1,1,\"3 - Savings Analysis\"))","v":0},{"$f":"INDIRECT(ADDRESS($K620,O$4,1,1,\"3 - Savings Analysis\"))","v":0},{"$f":"INDIRECT(ADDRESS($K620,P$4,1,1,\"3 - Savings Analysis\"))","v":0},{"$f":"INDIRECT(ADDRESS($K620,Q$4,1,1,\"3 - Savings Analysis\"))","v":0},{"$f":"INDIRECT(ADDRESS($K620,R$4,1,1,\"3 - Savings Analysis\"))","v":0},{"$f":"INDIRECT(ADDRESS($K620,S$4,1,1,\"3 - Savings Analysis\"))","v":0},{"$f":"INDIRECT(ADDRESS($K620,T$4,1,1,\"3 - Savings Analysis\"))","v":0}]
["","","","","","","","","",null,630,{"$f":"INDIRECT(ADDRESS($K621,L$4,1,1,\"3 - Savings Analysis\"))","v":0},{"$f":"INDIRECT(ADDRESS($K621,M$4,1,1,\"3 - Savings Analysis\"))","v":0},{"$f":"INDIRECT(ADDRESS($K621,N$4,1,1,\"3 - Savings Analysis\"))","v":0},{"$f":"INDIRECT(ADDRESS($K621,O$4,1,1,\"3 - Savings Analysis\"))","v":0},{"$f":"INDIRECT(ADDRESS($K621,P$4,1,1,\"3 - Savings Analysis\"))","v":0},{"$f":"INDIRECT(ADDRESS($K621,Q$4,1,1,\"3 - Savings Analysis\"))","v":0},{"$f":"INDIRECT(ADDRESS($K621,R$4,1,1,\"3 - Savings Analysis\"))","v":0},{"$f":"INDIRECT(ADDRESS($K621,S$4,1,1,\"3 - Savings Analysis\"))","v":0},{"$f":"INDIRECT(ADDRESS($K621,T$4,1,1,\"3 - Savings Analysis\"))","v":0}]
["","","","","","","","","",null,631,{"$f":"INDIRECT(ADDRESS($K622,L$4,1,1,\"3 - Savings Analysis\"))","v":0},{"$f":"INDIRECT(ADDRESS($K622,M$4,1,1,\"3 - Savings Analysis\"))","v":0},{"$f":"INDIRECT(ADDRESS($K622,N$4,1,1,\"3 - Savings Analysis\"))","v":0},{"$f":"INDIRECT(ADDRESS($K622,O$4,1,1,\"3 - Savings Analysis\"))","v":0},{"$f":"INDIRECT(ADDRESS($K622,P$4,1,1,\"3 - Savings Analysis\"))","v":0},{"$f":"INDIRECT(ADDRESS($K622,Q$4,1,1,\"3 - Savings Analysis\"))","v":0},{"$f":"INDIRECT(ADDRESS($K622,R$4,1,1,\"3 - Savings Analysis\"))","v":0},{"$f":"INDIRECT(ADDRESS($K622,S$4,1,1,\"3 - Savings Analysis\"))","v":0},{"$f":"INDIRECT(ADDRESS($K622,T$4,1,1,\"3 - Savings Analysis\"))","v":0}]
["","","","","","","","","",null,632,{"$f":"INDIRECT(ADDRESS($K623,L$4,1,1,\"3 - Savings Analysis\"))","v":0},{"$f":"INDIRECT(ADDRESS($K623,M$4,1,1,\"3 - Savings Analysis\"))","v":0},{"$f":"INDIRECT(ADDRESS($K623,N$4,1,1,\"3 - Savings Analysis\"))","v":0},{"$f":"INDIRECT(ADDRESS($K623,O$4,1,1,\"3 - Savings Analysis\"))","v":0},{"$f":"INDIRECT(ADDRESS($K623,P$4,1,1,\"3 - Savings Analysis\"))","v":0},{"$f":"INDIRECT(ADDRESS($K623,Q$4,1,1,\"3 - Savings Analysis\"))","v":0},{"$f":"INDIRECT(ADDRESS($K623,R$4,1,1,\"3 - Savings Analysis\"))","v":0},{"$f":"INDIRECT(ADDRESS($K623,S$4,1,1,\"3 - Savings Analysis\"))","v":0},{"$f":"INDIRECT(ADDRESS($K623,T$4,1,1,\"3 - Savings Analysis\"))","v":0}]
["","","","","","","","","",null,633,{"$f":"INDIRECT(ADDRESS($K624,L$4,1,1,\"3 - Savings Analysis\"))","v":0},{"$f":"INDIRECT(ADDRESS($K624,M$4,1,1,\"3 - Savings Analysis\"))","v":0},{"$f":"INDIRECT(ADDRESS($K624,N$4,1,1,\"3 - Savings Analysis\"))","v":0},{"$f":"INDIRECT(ADDRESS($K624,O$4,1,1,\"3 - Savings Analysis\"))","v":0},{"$f":"INDIRECT(ADDRESS($K624,P$4,1,1,\"3 - Savings Analysis\"))","v":0},{"$f":"INDIRECT(ADDRESS($K624,Q$4,1,1,\"3 - Savings Analysis\"))","v":0},{"$f":"INDIRECT(ADDRESS($K624,R$4,1,1,\"3 - Savings Analysis\"))","v":0},{"$f":"INDIRECT(ADDRESS($K624,S$4,1,1,\"3 - Savings Analysis\"))","v":0},{"$f":"INDIRECT(ADDRESS($K624,T$4,1,1,\"3 - Savings Analysis\"))","v":0}]
["","","","","","","","","",null,634,{"$f":"INDIRECT(ADDRESS($K625,L$4,1,1,\"3 - Savings Analysis\"))","v":0},{"$f":"INDIRECT(ADDRESS($K625,M$4,1,1,\"3 - Savings Analysis\"))","v":0},{"$f":"INDIRECT(ADDRESS($K625,N$4,1,1,\"3 - Savings Analysis\"))","v":0},{"$f":"INDIRECT(ADDRESS($K625,O$4,1,1,\"3 - Savings Analysis\"))","v":0},{"$f":"INDIRECT(ADDRESS($K625,P$4,1,1,\"3 - Savings Analysis\"))","v":0},{"$f":"INDIRECT(ADDRESS($K625,Q$4,1,1,\"3 - Savings Analysis\"))","v":0},{"$f":"INDIRECT(ADDRESS($K625,R$4,1,1,\"3 - Savings Analysis\"))","v":0},{"$f":"INDIRECT(ADDRESS($K625,S$4,1,1,\"3 - Savings Analysis\"))","v":0},{"$f":"INDIRECT(ADDRESS($K625,T$4,1,1,\"3 - Savings Analysis\"))","v":0}]
["","","","","","","","","",null,635,{"$f":"INDIRECT(ADDRESS($K626,L$4,1,1,\"3 - Savings Analysis\"))","v":0},{"$f":"INDIRECT(ADDRESS($K626,M$4,1,1,\"3 - Savings Analysis\"))","v":0},{"$f":"INDIRECT(ADDRESS($K626,N$4,1,1,\"3 - Savings Analysis\"))","v":0},{"$f":"INDIRECT(ADDRESS($K626,O$4,1,1,\"3 - Savings Analysis\"))","v":0},{"$f":"INDIRECT(ADDRESS($K626,P$4,1,1,\"3 - Savings Analysis\"))","v":0},{"$f":"INDIRECT(ADDRESS($K626,Q$4,1,1,\"3 - Savings Analysis\"))","v":0},{"$f":"INDIRECT(ADDRESS($K626,R$4,1,1,\"3 - Savings Analysis\"))","v":0},{"$f":"INDIRECT(ADDRESS($K626,S$4,1,1,\"3 - Savings Analysis\"))","v":0},{"$f":"INDIRECT(ADDRESS($K626,T$4,1,1,\"3 - Savings Analysis\"))","v":0}]
["","","","","","","","","",null,636,{"$f":"INDIRECT(ADDRESS($K627,L$4,1,1,\"3 - Savings Analysis\"))","v":0},{"$f":"INDIRECT(ADDRESS($K627,M$4,1,1,\"3 - Savings Analysis\"))","v":0},{"$f":"INDIRECT(ADDRESS($K627,N$4,1,1,\"3 - Savings Analysis\"))","v":0},{"$f":"INDIRECT(ADDRESS($K627,O$4,1,1,\"3 - Savings Analysis\"))","v":0},{"$f":"INDIRECT(ADDRESS($K627,P$4,1,1,\"3 - Savings Analysis\"))","v":0},{"$f":"INDIRECT(ADDRESS($K627,Q$4,1,1,\"3 - Savings Analysis\"))","v":0},{"$f":"INDIRECT(ADDRESS($K627,R$4,1,1,\"3 - Savings Analysis\"))","v":0},{"$f":"INDIRECT(ADDRESS($K627,S$4,1,1,\"3 - Savings Analysis\"))","v":0},{"$f":"INDIRECT(ADDRESS($K627,T$4,1,1,\"3 - Savings Analysis\"))","v":0}]
["","","","","","","","","",null,637,{"$f":"INDIRECT(ADDRESS($K628,L$4,1,1,\"3 - Savings Analysis\"))","v":0},{"$f":"INDIRECT(ADDRESS($K628,M$4,1,1,\"3 - Savings Analysis\"))","v":0},{"$f":"INDIRECT(ADDRESS($K628,N$4,1,1,\"3 - Savings Analysis\"))","v":0},{"$f":"INDIRECT(ADDRESS($K628,O$4,1,1,\"3 - Savings Analysis\"))","v":0},{"$f":"INDIRECT(ADDRESS($K628,P$4,1,1,\"3 - Savings Analysis\"))","v":0},{"$f":"INDIRECT(ADDRESS($K628,Q$4,1,1,\"3 - Savings Analysis\"))","v":0},{"$f":"INDIRECT(ADDRESS($K628,R$4,1,1,\"3 - Savings Analysis\"))","v":0},{"$f":"INDIRECT(ADDRESS($K628,S$4,1,1,\"3 - Savings Analysis\"))","v":0},{"$f":"INDIRECT(ADDRESS($K628,T$4,1,1,\"3 - Savings Analysis\"))","v":0}]
["","","","","","","","","",null,638,{"$f":"INDIRECT(ADDRESS($K629,L$4,1,1,\"3 - Savings Analysis\"))","v":0},{"$f":"INDIRECT(ADDRESS($K629,M$4,1,1,\"3 - Savings Analysis\"))","v":0},{"$f":"INDIRECT(ADDRESS($K629,N$4,1,1,\"3 - Savings Analysis\"))","v":0},{"$f":"INDIRECT(ADDRESS($K629,O$4,1,1,\"3 - Savings Analysis\"))","v":0},{"$f":"INDIRECT(ADDRESS($K629,P$4,1,1,\"3 - Savings Analysis\"))","v":0},{"$f":"INDIRECT(ADDRESS($K629,Q$4,1,1,\"3 - Savings Analysis\"))","v":0},{"$f":"INDIRECT(ADDRESS($K629,R$4,1,1,\"3 - Savings Analysis\"))","v":0},{"$f":"INDIRECT(ADDRESS($K629,S$4,1,1,\"3 - Savings Analysis\"))","v":0},{"$f":"INDIRECT(ADDRESS($K629,T$4,1,1,\"3 - Savings Analysis\"))","v":0}]
["","","","","","","","","",null,639,{"$f":"INDIRECT(ADDRESS($K630,L$4,1,1,\"3 - Savings Analysis\"))","v":0},{"$f":"INDIRECT(ADDRESS($K630,M$4,1,1,\"3 - Savings Analysis\"))","v":0},{"$f":"INDIRECT(ADDRESS($K630,N$4,1,1,\"3 - Savings Analysis\"))","v":0},{"$f":"INDIRECT(ADDRESS($K630,O$4,1,1,\"3 - Savings Analysis\"))","v":0},{"$f":"INDIRECT(ADDRESS($K630,P$4,1,1,\"3 - Savings Analysis\"))","v":0},{"$f":"INDIRECT(ADDRESS($K630,Q$4,1,1,\"3 - Savings Analysis\"))","v":0},{"$f":"INDIRECT(ADDRESS($K630,R$4,1,1,\"3 - Savings Analysis\"))","v":0},{"$f":"INDIRECT(ADDRESS($K630,S$4,1,1,\"3 - Savings Analysis\"))","v":0},{"$f":"INDIRECT(ADDRESS($K630,T$4,1,1,\"3 - Savings Analysis\"))","v":0}]
["","","","","","","","","",null,640,{"$f":"INDIRECT(ADDRESS($K631,L$4,1,1,\"3 - Savings Analysis\"))","v":0},{"$f":"INDIRECT(ADDRESS($K631,M$4,1,1,\"3 - Savings Analysis\"))","v":0},{"$f":"INDIRECT(ADDRESS($K631,N$4,1,1,\"3 - Savings Analysis\"))","v":0},{"$f":"INDIRECT(ADDRESS($K631,O$4,1,1,\"3 - Savings Analysis\"))","v":0},{"$f":"INDIRECT(ADDRESS($K631,P$4,1,1,\"3 - Savings Analysis\"))","v":0},{"$f":"INDIRECT(ADDRESS($K631,Q$4,1,1,\"3 - Savings Analysis\"))","v":0},{"$f":"INDIRECT(ADDRESS($K631,R$4,1,1,\"3 - Savings Analysis\"))","v":0},{"$f":"INDIRECT(ADDRESS($K631,S$4,1,1,\"3 - Savings Analysis\"))","v":0},{"$f":"INDIRECT(ADDRESS($K631,T$4,1,1,\"3 - Savings Analysis\"))","v":0}]
["","","","","","","","","",null,641,{"$f":"INDIRECT(ADDRESS($K632,L$4,1,1,\"3 - Savings Analysis\"))","v":0},{"$f":"INDIRECT(ADDRESS($K632,M$4,1,1,\"3 - Savings Analysis\"))","v":0},{"$f":"INDIRECT(ADDRESS($K632,N$4,1,1,\"3 - Savings Analysis\"))","v":0},{"$f":"INDIRECT(ADDRESS($K632,O$4,1,1,\"3 - Savings Analysis\"))","v":0},{"$f":"INDIRECT(ADDRESS($K632,P$4,1,1,\"3 - Savings Analysis\"))","v":0},{"$f":"INDIRECT(ADDRESS($K632,Q$4,1,1,\"3 - Savings Analysis\"))","v":0},{"$f":"INDIRECT(ADDRESS($K632,R$4,1,1,\"3 - Savings Analysis\"))","v":0},{"$f":"INDIRECT(ADDRESS($K632,S$4,1,1,\"3 - Savings Analysis\"))","v":0},{"$f":"INDIRECT(ADDRESS($K632,T$4,1,1,\"3 - Savings Analysis\"))","v":0}]
["","","","","","","","","",null,642,{"$f":"INDIRECT(ADDRESS($K633,L$4,1,1,\"3 - Savings Analysis\"))","v":0},{"$f":"INDIRECT(ADDRESS($K633,M$4,1,1,\"3 - Savings Analysis\"))","v":0},{"$f":"INDIRECT(ADDRESS($K633,N$4,1,1,\"3 - Savings Analysis\"))","v":0},{"$f":"INDIRECT(ADDRESS($K633,O$4,1,1,\"3 - Savings Analysis\"))","v":0},{"$f":"INDIRECT(ADDRESS($K633,P$4,1,1,\"3 - Savings Analysis\"))","v":0},{"$f":"INDIRECT(ADDRESS($K633,Q$4,1,1,\"3 - Savings Analysis\"))","v":0},{"$f":"INDIRECT(ADDRESS($K633,R$4,1,1,\"3 - Savings Analysis\"))","v":0},{"$f":"INDIRECT(ADDRESS($K633,S$4,1,1,\"3 - Savings Analysis\"))","v":0},{"$f":"INDIRECT(ADDRESS($K633,T$4,1,1,\"3 - Savings Analysis\"))","v":0}]
["","","","","","","","","",null,643,{"$f":"INDIRECT(ADDRESS($K634,L$4,1,1,\"3 - Savings Analysis\"))","v":0},{"$f":"INDIRECT(ADDRESS($K634,M$4,1,1,\"3 - Savings Analysis\"))","v":0},{"$f":"INDIRECT(ADDRESS($K634,N$4,1,1,\"3 - Savings Analysis\"))","v":0},{"$f":"INDIRECT(ADDRESS($K634,O$4,1,1,\"3 - Savings Analysis\"))","v":0},{"$f":"INDIRECT(ADDRESS($K634,P$4,1,1,\"3 - Savings Analysis\"))","v":0},{"$f":"INDIRECT(ADDRESS($K634,Q$4,1,1,\"3 - Savings Analysis\"))","v":0},{"$f":"INDIRECT(ADDRESS($K634,R$4,1,1,\"3 - Savings Analysis\"))","v":0},{"$f":"INDIRECT(ADDRESS($K634,S$4,1,1,\"3 - Savings Analysis\"))","v":0},{"$f":"INDIRECT(ADDRESS($K634,T$4,1,1,\"3 - Savings Analysis\"))","v":0}]
["","","","","","","","","",null,644,{"$f":"INDIRECT(ADDRESS($K635,L$4,1,1,\"3 - Savings Analysis\"))","v":0},{"$f":"INDIRECT(ADDRESS($K635,M$4,1,1,\"3 - Savings Analysis\"))","v":0},{"$f":"INDIRECT(ADDRESS($K635,N$4,1,1,\"3 - Savings Analysis\"))","v":0},{"$f":"INDIRECT(ADDRESS($K635,O$4,1,1,\"3 - Savings Analysis\"))","v":0},{"$f":"INDIRECT(ADDRESS($K635,P$4,1,1,\"3 - Savings Analysis\"))","v":0},{"$f":"INDIRECT(ADDRESS($K635,Q$4,1,1,\"3 - Savings Analysis\"))","v":0},{"$f":"INDIRECT(ADDRESS($K635,R$4,1,1,\"3 - Savings Analysis\"))","v":0},{"$f":"INDIRECT(ADDRESS($K635,S$4,1,1,\"3 - Savings Analysis\"))","v":0},{"$f":"INDIRECT(ADDRESS($K635,T$4,1,1,\"3 - Savings Analysis\"))","v":0}]
["","","","","","","","","",null,645,{"$f":"INDIRECT(ADDRESS($K636,L$4,1,1,\"3 - Savings Analysis\"))","v":0},{"$f":"INDIRECT(ADDRESS($K636,M$4,1,1,\"3 - Savings Analysis\"))","v":0},{"$f":"INDIRECT(ADDRESS($K636,N$4,1,1,\"3 - Savings Analysis\"))","v":0},{"$f":"INDIRECT(ADDRESS($K636,O$4,1,1,\"3 - Savings Analysis\"))","v":0},{"$f":"INDIRECT(ADDRESS($K636,P$4,1,1,\"3 - Savings Analysis\"))","v":0},{"$f":"INDIRECT(ADDRESS($K636,Q$4,1,1,\"3 - Savings Analysis\"))","v":0},{"$f":"INDIRECT(ADDRESS($K636,R$4,1,1,\"3 - Savings Analysis\"))","v":0},{"$f":"INDIRECT(ADDRESS($K636,S$4,1,1,\"3 - Savings Analysis\"))","v":0},{"$f":"INDIRECT(ADDRESS($K636,T$4,1,1,\"3 - Savings Analysis\"))","v":0}]
["","","","","","","","","",null,646,{"$f":"INDIRECT(ADDRESS($K637,L$4,1,1,\"3 - Savings Analysis\"))","v":0},{"$f":"INDIRECT(ADDRESS($K637,M$4,1,1,\"3 - Savings Analysis\"))","v":0},{"$f":"INDIRECT(ADDRESS($K637,N$4,1,1,\"3 - Savings Analysis\"))","v":0},{"$f":"INDIRECT(ADDRESS($K637,O$4,1,1,\"3 - Savings Analysis\"))","v":0},{"$f":"INDIRECT(ADDRESS($K637,P$4,1,1,\"3 - Savings Analysis\"))","v":0},{"$f":"INDIRECT(ADDRESS($K637,Q$4,1,1,\"3 - Savings Analysis\"))","v":0},{"$f":"INDIRECT(ADDRESS($K637,R$4,1,1,\"3 - Savings Analysis\"))","v":0},{"$f":"INDIRECT(ADDRESS($K637,S$4,1,1,\"3 - Savings Analysis\"))","v":0},{"$f":"INDIRECT(ADDRESS($K637,T$4,1,1,\"3 - Savings Analysis\"))","v":0}]
["","","","","","","","","",null,647,{"$f":"INDIRECT(ADDRESS($K638,L$4,1,1,\"3 - Savings Analysis\"))","v":0},{"$f":"INDIRECT(ADDRESS($K638,M$4,1,1,\"3 - Savings Analysis\"))","v":0},{"$f":"INDIRECT(ADDRESS($K638,N$4,1,1,\"3 - Savings Analysis\"))","v":0},{"$f":"INDIRECT(ADDRESS($K638,O$4,1,1,\"3 - Savings Analysis\"))","v":0},{"$f":"INDIRECT(ADDRESS($K638,P$4,1,1,\"3 - Savings Analysis\"))","v":0},{"$f":"INDIRECT(ADDRESS($K638,Q$4,1,1,\"3 - Savings Analysis\"))","v":0},{"$f":"INDIRECT(ADDRESS($K638,R$4,1,1,\"3 - Savings Analysis\"))","v":0},{"$f":"INDIRECT(ADDRESS($K638,S$4,1,1,\"3 - Savings Analysis\"))","v":0},{"$f":"INDIRECT(ADDRESS($K638,T$4,1,1,\"3 - Savings Analysis\"))","v":0}]
["","","","","","","","","",null,648,{"$f":"INDIRECT(ADDRESS($K639,L$4,1,1,\"3 - Savings Analysis\"))","v":0},{"$f":"INDIRECT(ADDRESS($K639,M$4,1,1,\"3 - Savings Analysis\"))","v":0},{"$f":"INDIRECT(ADDRESS($K639,N$4,1,1,\"3 - Savings Analysis\"))","v":0},{"$f":"INDIRECT(ADDRESS($K639,O$4,1,1,\"3 - Savings Analysis\"))","v":0},{"$f":"INDIRECT(ADDRESS($K639,P$4,1,1,\"3 - Savings Analysis\"))","v":0},{"$f":"INDIRECT(ADDRESS($K639,Q$4,1,1,\"3 - Savings Analysis\"))","v":0},{"$f":"INDIRECT(ADDRESS($K639,R$4,1,1,\"3 - Savings Analysis\"))","v":0},{"$f":"INDIRECT(ADDRESS($K639,S$4,1,1,\"3 - Savings Analysis\"))","v":0},{"$f":"INDIRECT(ADDRESS($K639,T$4,1,1,\"3 - Savings Analysis\"))","v":0}]
["","","","","","","","","",null,649,{"$f":"INDIRECT(ADDRESS($K640,L$4,1,1,\"3 - Savings Analysis\"))","v":0},{"$f":"INDIRECT(ADDRESS($K640,M$4,1,1,\"3 - Savings Analysis\"))","v":0},{"$f":"INDIRECT(ADDRESS($K640,N$4,1,1,\"3 - Savings Analysis\"))","v":0},{"$f":"INDIRECT(ADDRESS($K640,O$4,1,1,\"3 - Savings Analysis\"))","v":0},{"$f":"INDIRECT(ADDRESS($K640,P$4,1,1,\"3 - Savings Analysis\"))","v":0},{"$f":"INDIRECT(ADDRESS($K640,Q$4,1,1,\"3 - Savings Analysis\"))","v":0},{"$f":"INDIRECT(ADDRESS($K640,R$4,1,1,\"3 - Savings Analysis\"))","v":0},{"$f":"INDIRECT(ADDRESS($K640,S$4,1,1,\"3 - Savings Analysis\"))","v":0},{"$f":"INDIRECT(ADDRESS($K640,T$4,1,1,\"3 - Savings Analysis\"))","v":0}]
["","","","","","","","","",null,650,{"$f":"INDIRECT(ADDRESS($K641,L$4,1,1,\"3 - Savings Analysis\"))","v":0},{"$f":"INDIRECT(ADDRESS($K641,M$4,1,1,\"3 - Savings Analysis\"))","v":0},{"$f":"INDIRECT(ADDRESS($K641,N$4,1,1,\"3 - Savings Analysis\"))","v":0},{"$f":"INDIRECT(ADDRESS($K641,O$4,1,1,\"3 - Savings Analysis\"))","v":0},{"$f":"INDIRECT(ADDRESS($K641,P$4,1,1,\"3 - Savings Analysis\"))","v":0},{"$f":"INDIRECT(ADDRESS($K641,Q$4,1,1,\"3 - Savings Analysis\"))","v":0},{"$f":"INDIRECT(ADDRESS($K641,R$4,1,1,\"3 - Savings Analysis\"))","v":0},{"$f":"INDIRECT(ADDRESS($K641,S$4,1,1,\"3 - Savings Analysis\"))","v":0},{"$f":"INDIRECT(ADDRESS($K641,T$4,1,1,\"3 - Savings Analysis\"))","v":0}]
["","","","","","","","","",null,651,{"$f":"INDIRECT(ADDRESS($K642,L$4,1,1,\"3 - Savings Analysis\"))","v":0},{"$f":"INDIRECT(ADDRESS($K642,M$4,1,1,\"3 - Savings Analysis\"))","v":0},{"$f":"INDIRECT(ADDRESS($K642,N$4,1,1,\"3 - Savings Analysis\"))","v":0},{"$f":"INDIRECT(ADDRESS($K642,O$4,1,1,\"3 - Savings Analysis\"))","v":0},{"$f":"INDIRECT(ADDRESS($K642,P$4,1,1,\"3 - Savings Analysis\"))","v":0},{"$f":"INDIRECT(ADDRESS($K642,Q$4,1,1,\"3 - Savings Analysis\"))","v":0},{"$f":"INDIRECT(ADDRESS($K642,R$4,1,1,\"3 - Savings Analysis\"))","v":0},{"$f":"INDIRECT(ADDRESS($K642,S$4,1,1,\"3 - Savings Analysis\"))","v":0},{"$f":"INDIRECT(ADDRESS($K642,T$4,1,1,\"3 - Savings Analysis\"))","v":0}]
["","","","","","","","","",null,652,{"$f":"INDIRECT(ADDRESS($K643,L$4,1,1,\"3 - Savings Analysis\"))","v":0},{"$f":"INDIRECT(ADDRESS($K643,M$4,1,1,\"3 - Savings Analysis\"))","v":0},{"$f":"INDIRECT(ADDRESS($K643,N$4,1,1,\"3 - Savings Analysis\"))","v":0},{"$f":"INDIRECT(ADDRESS($K643,O$4,1,1,\"3 - Savings Analysis\"))","v":0},{"$f":"INDIRECT(ADDRESS($K643,P$4,1,1,\"3 - Savings Analysis\"))","v":0},{"$f":"INDIRECT(ADDRESS($K643,Q$4,1,1,\"3 - Savings Analysis\"))","v":0},{"$f":"INDIRECT(ADDRESS($K643,R$4,1,1,\"3 - Savings Analysis\"))","v":0},{"$f":"INDIRECT(ADDRESS($K643,S$4,1,1,\"3 - Savings Analysis\"))","v":0},{"$f":"INDIRECT(ADDRESS($K643,T$4,1,1,\"3 - Savings Analysis\"))","v":0}]
["","","","","","","","","",null,653,{"$f":"INDIRECT(ADDRESS($K644,L$4,1,1,\"3 - Savings Analysis\"))","v":0},{"$f":"INDIRECT(ADDRESS($K644,M$4,1,1,\"3 - Savings Analysis\"))","v":0},{"$f":"INDIRECT(ADDRESS($K644,N$4,1,1,\"3 - Savings Analysis\"))","v":0},{"$f":"INDIRECT(ADDRESS($K644,O$4,1,1,\"3 - Savings Analysis\"))","v":0},{"$f":"INDIRECT(ADDRESS($K644,P$4,1,1,\"3 - Savings Analysis\"))","v":0},{"$f":"INDIRECT(ADDRESS($K644,Q$4,1,1,\"3 - Savings Analysis\"))","v":0},{"$f":"INDIRECT(ADDRESS($K644,R$4,1,1,\"3 - Savings Analysis\"))","v":0},{"$f":"INDIRECT(ADDRESS($K644,S$4,1,1,\"3 - Savings Analysis\"))","v":0},{"$f":"INDIRECT(ADDRESS($K644,T$4,1,1,\"3 - Savings Analysis\"))","v":0}]
["","","","","","","","","",null,654,{"$f":"INDIRECT(ADDRESS($K645,L$4,1,1,\"3 - Savings Analysis\"))","v":0},{"$f":"INDIRECT(ADDRESS($K645,M$4,1,1,\"3 - Savings Analysis\"))","v":0},{"$f":"INDIRECT(ADDRESS($K645,N$4,1,1,\"3 - Savings Analysis\"))","v":0},{"$f":"INDIRECT(ADDRESS($K645,O$4,1,1,\"3 - Savings Analysis\"))","v":0},{"$f":"INDIRECT(ADDRESS($K645,P$4,1,1,\"3 - Savings Analysis\"))","v":0},{"$f":"INDIRECT(ADDRESS($K645,Q$4,1,1,\"3 - Savings Analysis\"))","v":0},{"$f":"INDIRECT(ADDRESS($K645,R$4,1,1,\"3 - Savings Analysis\"))","v":0},{"$f":"INDIRECT(ADDRESS($K645,S$4,1,1,\"3 - Savings Analysis\"))","v":0},{"$f":"INDIRECT(ADDRESS($K645,T$4,1,1,\"3 - Savings Analysis\"))","v":0}]
["","","","","","","","","",null,655,{"$f":"INDIRECT(ADDRESS($K646,L$4,1,1,\"3 - Savings Analysis\"))","v":0},{"$f":"INDIRECT(ADDRESS($K646,M$4,1,1,\"3 - Savings Analysis\"))","v":0},{"$f":"INDIRECT(ADDRESS($K646,N$4,1,1,\"3 - Savings Analysis\"))","v":0},{"$f":"INDIRECT(ADDRESS($K646,O$4,1,1,\"3 - Savings Analysis\"))","v":0},{"$f":"INDIRECT(ADDRESS($K646,P$4,1,1,\"3 - Savings Analysis\"))","v":0},{"$f":"INDIRECT(ADDRESS($K646,Q$4,1,1,\"3 - Savings Analysis\"))","v":0},{"$f":"INDIRECT(ADDRESS($K646,R$4,1,1,\"3 - Savings Analysis\"))","v":0},{"$f":"INDIRECT(ADDRESS($K646,S$4,1,1,\"3 - Savings Analysis\"))","v":0},{"$f":"INDIRECT(ADDRESS($K646,T$4,1,1,\"3 - Savings Analysis\"))","v":0}]
["","","","","","","","","",null,656,{"$f":"INDIRECT(ADDRESS($K647,L$4,1,1,\"3 - Savings Analysis\"))","v":0},{"$f":"INDIRECT(ADDRESS($K647,M$4,1,1,\"3 - Savings Analysis\"))","v":0},{"$f":"INDIRECT(ADDRESS($K647,N$4,1,1,\"3 - Savings Analysis\"))","v":0},{"$f":"INDIRECT(ADDRESS($K647,O$4,1,1,\"3 - Savings Analysis\"))","v":0},{"$f":"INDIRECT(ADDRESS($K647,P$4,1,1,\"3 - Savings Analysis\"))","v":0},{"$f":"INDIRECT(ADDRESS($K647,Q$4,1,1,\"3 - Savings Analysis\"))","v":0},{"$f":"INDIRECT(ADDRESS($K647,R$4,1,1,\"3 - Savings Analysis\"))","v":0},{"$f":"INDIRECT(ADDRESS($K647,S$4,1,1,\"3 - Savings Analysis\"))","v":0},{"$f":"INDIRECT(ADDRESS($K647,T$4,1,1,\"3 - Savings Analysis\"))","v":0}]
["","","","","","","","","",null,657,{"$f":"INDIRECT(ADDRESS($K648,L$4,1,1,\"3 - Savings Analysis\"))","v":0},{"$f":"INDIRECT(ADDRESS($K648,M$4,1,1,\"3 - Savings Analysis\"))","v":0},{"$f":"INDIRECT(ADDRESS($K648,N$4,1,1,\"3 - Savings Analysis\"))","v":0},{"$f":"INDIRECT(ADDRESS($K648,O$4,1,1,\"3 - Savings Analysis\"))","v":0},{"$f":"INDIRECT(ADDRESS($K648,P$4,1,1,\"3 - Savings Analysis\"))","v":0},{"$f":"INDIRECT(ADDRESS($K648,Q$4,1,1,\"3 - Savings Analysis\"))","v":0},{"$f":"INDIRECT(ADDRESS($K648,R$4,1,1,\"3 - Savings Analysis\"))","v":0},{"$f":"INDIRECT(ADDRESS($K648,S$4,1,1,\"3 - Savings Analysis\"))","v":0},{"$f":"INDIRECT(ADDRESS($K648,T$4,1,1,\"3 - Savings Analysis\"))","v":0}]
["","","","","","","","","",null,{"$f":"K648+1","v":658},{"$f":"INDIRECT(ADDRESS($K649,L$4,1,1,\"3 - Savings Analysis\"))","v":0},{"$f":"INDIRECT(ADDRESS($K649,M$4,1,1,\"3 - Savings Analysis\"))","v":0},{"$f":"INDIRECT(ADDRESS($K649,N$4,1,1,\"3 - Savings Analysis\"))","v":0},{"$f":"INDIRECT(ADDRESS($K649,O$4,1,1,\"3 - Savings Analysis\"))","v":0},{"$f":"INDIRECT(ADDRESS($K649,P$4,1,1,\"3 - Savings Analysis\"))","v":0},{"$f":"INDIRECT(ADDRESS($K649,Q$4,1,1,\"3 - Savings Analysis\"))","v":0},{"$f":"INDIRECT(ADDRESS($K649,R$4,1,1,\"3 - Savings Analysis\"))","v":0},{"$f":"INDIRECT(ADDRESS($K649,S$4,1,1,\"3 - Savings Analysis\"))","v":0},{"$f":"INDIRECT(ADDRESS($K649,T$4,1,1,\"3 - Savings Analysis\"))","v":0}]
["","","","","","","","","",null,659,{"$f":"INDIRECT(ADDRESS($K650,L$4,1,1,\"3 - Savings Analysis\"))","v":0},{"$f":"INDIRECT(ADDRESS($K650,M$4,1,1,\"3 - Savings Analysis\"))","v":0},{"$f":"INDIRECT(ADDRESS($K650,N$4,1,1,\"3 - Savings Analysis\"))","v":0},{"$f":"INDIRECT(ADDRESS($K650,O$4,1,1,\"3 - Savings Analysis\"))","v":0},{"$f":"INDIRECT(ADDRESS($K650,P$4,1,1,\"3 - Savings Analysis\"))","v":0},{"$f":"INDIRECT(ADDRESS($K650,Q$4,1,1,\"3 - Savings Analysis\"))","v":0},{"$f":"INDIRECT(ADDRESS($K650,R$4,1,1,\"3 - Savings Analysis\"))","v":0},{"$f":"INDIRECT(ADDRESS($K650,S$4,1,1,\"3 - Savings Analysis\"))","v":0},{"$f":"INDIRECT(ADDRESS($K650,T$4,1,1,\"3 - Savings Analysis\"))","v":0}]
["","","","","","","","","",null,660,{"$f":"INDIRECT(ADDRESS($K651,L$4,1,1,\"3 - Savings Analysis\"))","v":0},{"$f":"INDIRECT(ADDRESS($K651,M$4,1,1,\"3 - Savings Analysis\"))","v":0},{"$f":"INDIRECT(ADDRESS($K651,N$4,1,1,\"3 - Savings Analysis\"))","v":0},{"$f":"INDIRECT(ADDRESS($K651,O$4,1,1,\"3 - Savings Analysis\"))","v":0},{"$f":"INDIRECT(ADDRESS($K651,P$4,1,1,\"3 - Savings Analysis\"))","v":0},{"$f":"INDIRECT(ADDRESS($K651,Q$4,1,1,\"3 - Savings Analysis\"))","v":0},{"$f":"INDIRECT(ADDRESS($K651,R$4,1,1,\"3 - Savings Analysis\"))","v":0},{"$f":"INDIRECT(ADDRESS($K651,S$4,1,1,\"3 - Savings Analysis\"))","v":0},{"$f":"INDIRECT(ADDRESS($K651,T$4,1,1,\"3 - Savings Analysis\"))","v":0}]
["","","","","","","","","",null,661,{"$f":"INDIRECT(ADDRESS($K652,L$4,1,1,\"3 - Savings Analysis\"))","v":0},{"$f":"INDIRECT(ADDRESS($K652,M$4,1,1,\"3 - Savings Analysis\"))","v":0},{"$f":"INDIRECT(ADDRESS($K652,N$4,1,1,\"3 - Savings Analysis\"))","v":0},{"$f":"INDIRECT(ADDRESS($K652,O$4,1,1,\"3 - Savings Analysis\"))","v":0},{"$f":"INDIRECT(ADDRESS($K652,P$4,1,1,\"3 - Savings Analysis\"))","v":0},{"$f":"INDIRECT(ADDRESS($K652,Q$4,1,1,\"3 - Savings Analysis\"))","v":0},{"$f":"INDIRECT(ADDRESS($K652,R$4,1,1,\"3 - Savings Analysis\"))","v":0},{"$f":"INDIRECT(ADDRESS($K652,S$4,1,1,\"3 - Savings Analysis\"))","v":0},{"$f":"INDIRECT(ADDRESS($K652,T$4,1,1,\"3 - Savings Analysis\"))","v":0}]
[{"$f":"IF($K653<=$M$2,L653,\"\")","v":""},{"$f":"IF($K653<=$M$2,IF($A653=\"Total\",\"\",M653),\"\")","v":""},{"$f":"IF($K653<=$M$2,IF($A653=\"Total\",\"\",N653),\"\")","v":""},{"$f":"IF($K653<=$M$2,O653,\"\")","v":""},{"$f":"IF($K653<=$M$2,P653,\"\")","v":""},{"$f":"IF($K653<=$M$2,IF($A653=\"Total\",\"\",Q653),\"\")","v":""},{"$f":"IF($K653<=$M$2,IF($A653=\"Total\",\"\",R653),\"\")","v":""},{"$f":"IF($K653<=$M$2,IF($A653=\"Total\",\"\",IF($T653=0,\"\",S653)),\"\")","v":""},{"$f":"IF($K653<=$M$2,IF($A653=\"Total\",\"\",IF($T653=0,\"\",T653)),\"\")","v":""},null,662,{"$f":"INDIRECT(ADDRESS($K653,L$4,1,1,\"3 - Savings Analysis\"))","v":0},{"$f":"INDIRECT(ADDRESS($K653,M$4,1,1,\"3 - Savings Analysis\"))","v":0},{"$f":"INDIRECT(ADDRESS($K653,N$4,1,1,\"3 - Savings Analysis\"))","v":0},{"$f":"INDIRECT(ADDRESS($K653,O$4,1,1,\"3 - Savings Analysis\"))","v":0},{"$f":"INDIRECT(ADDRESS($K653,P$4,1,1,\"3 - Savings Analysis\"))","v":0},{"$f":"INDIRECT(ADDRESS($K653,Q$4,1,1,\"3 - Savings Analysis\"))","v":0},{"$f":"INDIRECT(ADDRESS($K653,R$4,1,1,\"3 - Savings Analysis\"))","v":0},{"$f":"INDIRECT(ADDRESS($K653,S$4,1,1,\"3 - Savings Analysis\"))","v":0},{"$f":"INDIRECT(ADDRESS($K653,T$4,1,1,\"3 - Savings Analysis\"))","v":0}]
["","","","","","","","","",null,663,{"$f":"INDIRECT(ADDRESS($K654,L$4,1,1,\"3 - Savings Analysis\"))","v":0},{"$f":"INDIRECT(ADDRESS($K654,M$4,1,1,\"3 - Savings Analysis\"))","v":0},{"$f":"INDIRECT(ADDRESS($K654,N$4,1,1,\"3 - Savings Analysis\"))","v":0},{"$f":"INDIRECT(ADDRESS($K654,O$4,1,1,\"3 - Savings Analysis\"))","v":0},{"$f":"INDIRECT(ADDRESS($K654,P$4,1,1,\"3 - Savings Analysis\"))","v":0},{"$f":"INDIRECT(ADDRESS($K654,Q$4,1,1,\"3 - Savings Analysis\"))","v":0},{"$f":"INDIRECT(ADDRESS($K654,R$4,1,1,\"3 - Savings Analysis\"))","v":0},{"$f":"INDIRECT(ADDRESS($K654,S$4,1,1,\"3 - Savings Analysis\"))","v":0},{"$f":"INDIRECT(ADDRESS($K654,T$4,1,1,\"3 - Savings Analysis\"))","v":0}]
["","","","","","","","","",null,664,{"$f":"INDIRECT(ADDRESS($K655,L$4,1,1,\"3 - Savings Analysis\"))","v":0},{"$f":"INDIRECT(ADDRESS($K655,M$4,1,1,\"3 - Savings Analysis\"))","v":0},{"$f":"INDIRECT(ADDRESS($K655,N$4,1,1,\"3 - Savings Analysis\"))","v":0},{"$f":"INDIRECT(ADDRESS($K655,O$4,1,1,\"3 - Savings Analysis\"))","v":0},{"$f":"INDIRECT(ADDRESS($K655,P$4,1,1,\"3 - Savings Analysis\"))","v":0},{"$f":"INDIRECT(ADDRESS($K655,Q$4,1,1,\"3 - Savings Analysis\"))","v":0},{"$f":"INDIRECT(ADDRESS($K655,R$4,1,1,\"3 - Savings Analysis\"))","v":0},{"$f":"INDIRECT(ADDRESS($K655,S$4,1,1,\"3 - Savings Analysis\"))","v":0},{"$f":"INDIRECT(ADDRESS($K655,T$4,1,1,\"3 - Savings Analysis\"))","v":0}]
["","","","","","","","","",null,665,{"$f":"INDIRECT(ADDRESS($K656,L$4,1,1,\"3 - Savings Analysis\"))","v":0},{"$f":"INDIRECT(ADDRESS($K656,M$4,1,1,\"3 - Savings Analysis\"))","v":0},{"$f":"INDIRECT(ADDRESS($K656,N$4,1,1,\"3 - Savings Analysis\"))","v":0},{"$f":"INDIRECT(ADDRESS($K656,O$4,1,1,\"3 - Savings Analysis\"))","v":0},{"$f":"INDIRECT(ADDRESS($K656,P$4,1,1,\"3 - Savings Analysis\"))","v":0},{"$f":"INDIRECT(ADDRESS($K656,Q$4,1,1,\"3 - Savings Analysis\"))","v":0},{"$f":"INDIRECT(ADDRESS($K656,R$4,1,1,\"3 - Savings Analysis\"))","v":0},{"$f":"INDIRECT(ADDRESS($K656,S$4,1,1,\"3 - Savings Analysis\"))","v":0},{"$f":"INDIRECT(ADDRESS($K656,T$4,1,1,\"3 - Savings Analysis\"))","v":0}]
["","","","","","","","","",null,666,{"$f":"INDIRECT(ADDRESS($K657,L$4,1,1,\"3 - Savings Analysis\"))","v":0},{"$f":"INDIRECT(ADDRESS($K657,M$4,1,1,\"3 - Savings Analysis\"))","v":0},{"$f":"INDIRECT(ADDRESS($K657,N$4,1,1,\"3 - Savings Analysis\"))","v":0},{"$f":"INDIRECT(ADDRESS($K657,O$4,1,1,\"3 - Savings Analysis\"))","v":0},{"$f":"INDIRECT(ADDRESS($K657,P$4,1,1,\"3 - Savings Analysis\"))","v":0},{"$f":"INDIRECT(ADDRESS($K657,Q$4,1,1,\"3 - Savings Analysis\"))","v":0},{"$f":"INDIRECT(ADDRESS($K657,R$4,1,1,\"3 - Savings Analysis\"))","v":0},{"$f":"INDIRECT(ADDRESS($K657,S$4,1,1,\"3 - Savings Analysis\"))","v":0},{"$f":"INDIRECT(ADDRESS($K657,T$4,1,1,\"3 - Savings Analysis\"))","v":0}]
["","","","","","","","","",null,667,{"$f":"INDIRECT(ADDRESS($K658,L$4,1,1,\"3 - Savings Analysis\"))","v":0},{"$f":"INDIRECT(ADDRESS($K658,M$4,1,1,\"3 - Savings Analysis\"))","v":0},{"$f":"INDIRECT(ADDRESS($K658,N$4,1,1,\"3 - Savings Analysis\"))","v":0},{"$f":"INDIRECT(ADDRESS($K658,O$4,1,1,\"3 - Savings Analysis\"))","v":0},{"$f":"INDIRECT(ADDRESS($K658,P$4,1,1,\"3 - Savings Analysis\"))","v":0},{"$f":"INDIRECT(ADDRESS($K658,Q$4,1,1,\"3 - Savings Analysis\"))","v":0},{"$f":"INDIRECT(ADDRESS($K658,R$4,1,1,\"3 - Savings Analysis\"))","v":0},{"$f":"INDIRECT(ADDRESS($K658,S$4,1,1,\"3 - Savings Analysis\"))","v":0},{"$f":"INDIRECT(ADDRESS($K658,T$4,1,1,\"3 - Savings Analysis\"))","v":0}]
["","","","","","","","","",null,668,{"$f":"INDIRECT(ADDRESS($K659,L$4,1,1,\"3 - Savings Analysis\"))","v":0},{"$f":"INDIRECT(ADDRESS($K659,M$4,1,1,\"3 - Savings Analysis\"))","v":0},{"$f":"INDIRECT(ADDRESS($K659,N$4,1,1,\"3 - Savings Analysis\"))","v":0},{"$f":"INDIRECT(ADDRESS($K659,O$4,1,1,\"3 - Savings Analysis\"))","v":0},{"$f":"INDIRECT(ADDRESS($K659,P$4,1,1,\"3 - Savings Analysis\"))","v":0},{"$f":"INDIRECT(ADDRESS($K659,Q$4,1,1,\"3 - Savings Analysis\"))","v":0},{"$f":"INDIRECT(ADDRESS($K659,R$4,1,1,\"3 - Savings Analysis\"))","v":0},{"$f":"INDIRECT(ADDRESS($K659,S$4,1,1,\"3 - Savings Analysis\"))","v":0},{"$f":"INDIRECT(ADDRESS($K659,T$4,1,1,\"3 - Savings Analysis\"))","v":0}]
["","","","","","","","","",null,669,{"$f":"INDIRECT(ADDRESS($K660,L$4,1,1,\"3 - Savings Analysis\"))","v":0},{"$f":"INDIRECT(ADDRESS($K660,M$4,1,1,\"3 - Savings Analysis\"))","v":0},{"$f":"INDIRECT(ADDRESS($K660,N$4,1,1,\"3 - Savings Analysis\"))","v":0},{"$f":"INDIRECT(ADDRESS($K660,O$4,1,1,\"3 - Savings Analysis\"))","v":0},{"$f":"INDIRECT(ADDRESS($K660,P$4,1,1,\"3 - Savings Analysis\"))","v":0},{"$f":"INDIRECT(ADDRESS($K660,Q$4,1,1,\"3 - Savings Analysis\"))","v":0},{"$f":"INDIRECT(ADDRESS($K660,R$4,1,1,\"3 - Savings Analysis\"))","v":0},{"$f":"INDIRECT(ADDRESS($K660,S$4,1,1,\"3 - Savings Analysis\"))","v":0},{"$f":"INDIRECT(ADDRESS($K660,T$4,1,1,\"3 - Savings Analysis\"))","v":0}]
["","","","","","","","","",null,670,{"$f":"INDIRECT(ADDRESS($K661,L$4,1,1,\"3 - Savings Analysis\"))","v":0},{"$f":"INDIRECT(ADDRESS($K661,M$4,1,1,\"3 - Savings Analysis\"))","v":0},{"$f":"INDIRECT(ADDRESS($K661,N$4,1,1,\"3 - Savings Analysis\"))","v":0},{"$f":"INDIRECT(ADDRESS($K661,O$4,1,1,\"3 - Savings Analysis\"))","v":0},{"$f":"INDIRECT(ADDRESS($K661,P$4,1,1,\"3 - Savings Analysis\"))","v":0},{"$f":"INDIRECT(ADDRESS($K661,Q$4,1,1,\"3 - Savings Analysis\"))","v":0},{"$f":"INDIRECT(ADDRESS($K661,R$4,1,1,\"3 - Savings Analysis\"))","v":0},{"$f":"INDIRECT(ADDRESS($K661,S$4,1,1,\"3 - Savings Analysis\"))","v":0},{"$f":"INDIRECT(ADDRESS($K661,T$4,1,1,\"3 - Savings Analysis\"))","v":0}]
["","","","","","","","","",null,671,{"$f":"INDIRECT(ADDRESS($K662,L$4,1,1,\"3 - Savings Analysis\"))","v":0},{"$f":"INDIRECT(ADDRESS($K662,M$4,1,1,\"3 - Savings Analysis\"))","v":0},{"$f":"INDIRECT(ADDRESS($K662,N$4,1,1,\"3 - Savings Analysis\"))","v":0},{"$f":"INDIRECT(ADDRESS($K662,O$4,1,1,\"3 - Savings Analysis\"))","v":0},{"$f":"INDIRECT(ADDRESS($K662,P$4,1,1,\"3 - Savings Analysis\"))","v":0},{"$f":"INDIRECT(ADDRESS($K662,Q$4,1,1,\"3 - Savings Analysis\"))","v":0},{"$f":"INDIRECT(ADDRESS($K662,R$4,1,1,\"3 - Savings Analysis\"))","v":0},{"$f":"INDIRECT(ADDRESS($K662,S$4,1,1,\"3 - Savings Analysis\"))","v":0},{"$f":"INDIRECT(ADDRESS($K662,T$4,1,1,\"3 - Savings Analysis\"))","v":0}]
["","","","","","","","","",null,672,{"$f":"INDIRECT(ADDRESS($K663,L$4,1,1,\"3 - Savings Analysis\"))","v":0},{"$f":"INDIRECT(ADDRESS($K663,M$4,1,1,\"3 - Savings Analysis\"))","v":0},{"$f":"INDIRECT(ADDRESS($K663,N$4,1,1,\"3 - Savings Analysis\"))","v":0},{"$f":"INDIRECT(ADDRESS($K663,O$4,1,1,\"3 - Savings Analysis\"))","v":0},{"$f":"INDIRECT(ADDRESS($K663,P$4,1,1,\"3 - Savings Analysis\"))","v":0},{"$f":"INDIRECT(ADDRESS($K663,Q$4,1,1,\"3 - Savings Analysis\"))","v":0},{"$f":"INDIRECT(ADDRESS($K663,R$4,1,1,\"3 - Savings Analysis\"))","v":0},{"$f":"INDIRECT(ADDRESS($K663,S$4,1,1,\"3 - Savings Analysis\"))","v":0},{"$f":"INDIRECT(ADDRESS($K663,T$4,1,1,\"3 - Savings Analysis\"))","v":0}]
["","","","","","","","","",null,673,{"$f":"INDIRECT(ADDRESS($K664,L$4,1,1,\"3 - Savings Analysis\"))","v":0},{"$f":"INDIRECT(ADDRESS($K664,M$4,1,1,\"3 - Savings Analysis\"))","v":0},{"$f":"INDIRECT(ADDRESS($K664,N$4,1,1,\"3 - Savings Analysis\"))","v":0},{"$f":"INDIRECT(ADDRESS($K664,O$4,1,1,\"3 - Savings Analysis\"))","v":0},{"$f":"INDIRECT(ADDRESS($K664,P$4,1,1,\"3 - Savings Analysis\"))","v":0},{"$f":"INDIRECT(ADDRESS($K664,Q$4,1,1,\"3 - Savings Analysis\"))","v":0},{"$f":"INDIRECT(ADDRESS($K664,R$4,1,1,\"3 - Savings Analysis\"))","v":0},{"$f":"INDIRECT(ADDRESS($K664,S$4,1,1,\"3 - Savings Analysis\"))","v":0},{"$f":"INDIRECT(ADDRESS($K664,T$4,1,1,\"3 - Savings Analysis\"))","v":0}]
["","","","","","","","","",null,674,{"$f":"INDIRECT(ADDRESS($K665,L$4,1,1,\"3 - Savings Analysis\"))","v":0},{"$f":"INDIRECT(ADDRESS($K665,M$4,1,1,\"3 - Savings Analysis\"))","v":0},{"$f":"INDIRECT(ADDRESS($K665,N$4,1,1,\"3 - Savings Analysis\"))","v":0},{"$f":"INDIRECT(ADDRESS($K665,O$4,1,1,\"3 - Savings Analysis\"))","v":0},{"$f":"INDIRECT(ADDRESS($K665,P$4,1,1,\"3 - Savings Analysis\"))","v":0},{"$f":"INDIRECT(ADDRESS($K665,Q$4,1,1,\"3 - Savings Analysis\"))","v":0},{"$f":"INDIRECT(ADDRESS($K665,R$4,1,1,\"3 - Savings Analysis\"))","v":0},{"$f":"INDIRECT(ADDRESS($K665,S$4,1,1,\"3 - Savings Analysis\"))","v":0},{"$f":"INDIRECT(ADDRESS($K665,T$4,1,1,\"3 - Savings Analysis\"))","v":0}]
["","","","","","","","","",null,675,{"$f":"INDIRECT(ADDRESS($K666,L$4,1,1,\"3 - Savings Analysis\"))","v":0},{"$f":"INDIRECT(ADDRESS($K666,M$4,1,1,\"3 - Savings Analysis\"))","v":0},{"$f":"INDIRECT(ADDRESS($K666,N$4,1,1,\"3 - Savings Analysis\"))","v":0},{"$f":"INDIRECT(ADDRESS($K666,O$4,1,1,\"3 - Savings Analysis\"))","v":0},{"$f":"INDIRECT(ADDRESS($K666,P$4,1,1,\"3 - Savings Analysis\"))","v":0},{"$f":"INDIRECT(ADDRESS($K666,Q$4,1,1,\"3 - Savings Analysis\"))","v":0},{"$f":"INDIRECT(ADDRESS($K666,R$4,1,1,\"3 - Savings Analysis\"))","v":0},{"$f":"INDIRECT(ADDRESS($K666,S$4,1,1,\"3 - Savings Analysis\"))","v":0},{"$f":"INDIRECT(ADDRESS($K666,T$4,1,1,\"3 - Savings Analysis\"))","v":0}]
["","","","","","","","","",null,676,{"$f":"INDIRECT(ADDRESS($K667,L$4,1,1,\"3 - Savings Analysis\"))","v":0},{"$f":"INDIRECT(ADDRESS($K667,M$4,1,1,\"3 - Savings Analysis\"))","v":0},{"$f":"INDIRECT(ADDRESS($K667,N$4,1,1,\"3 - Savings Analysis\"))","v":0},{"$f":"INDIRECT(ADDRESS($K667,O$4,1,1,\"3 - Savings Analysis\"))","v":0},{"$f":"INDIRECT(ADDRESS($K667,P$4,1,1,\"3 - Savings Analysis\"))","v":0},{"$f":"INDIRECT(ADDRESS($K667,Q$4,1,1,\"3 - Savings Analysis\"))","v":0},{"$f":"INDIRECT(ADDRESS($K667,R$4,1,1,\"3 - Savings Analysis\"))","v":0},{"$f":"INDIRECT(ADDRESS($K667,S$4,1,1,\"3 - Savings Analysis\"))","v":0},{"$f":"INDIRECT(ADDRESS($K667,T$4,1,1,\"3 - Savings Analysis\"))","v":0}]
["","","","","","","","","",null,677,{"$f":"INDIRECT(ADDRESS($K668,L$4,1,1,\"3 - Savings Analysis\"))","v":0},{"$f":"INDIRECT(ADDRESS($K668,M$4,1,1,\"3 - Savings Analysis\"))","v":0},{"$f":"INDIRECT(ADDRESS($K668,N$4,1,1,\"3 - Savings Analysis\"))","v":0},{"$f":"INDIRECT(ADDRESS($K668,O$4,1,1,\"3 - Savings Analysis\"))","v":0},{"$f":"INDIRECT(ADDRESS($K668,P$4,1,1,\"3 - Savings Analysis\"))","v":0},{"$f":"INDIRECT(ADDRESS($K668,Q$4,1,1,\"3 - Savings Analysis\"))","v":0},{"$f":"INDIRECT(ADDRESS($K668,R$4,1,1,\"3 - Savings Analysis\"))","v":0},{"$f":"INDIRECT(ADDRESS($K668,S$4,1,1,\"3 - Savings Analysis\"))","v":0},{"$f":"INDIRECT(ADDRESS($K668,T$4,1,1,\"3 - Savings Analysis\"))","v":0}]
["","","","","","","","","",null,678,{"$f":"INDIRECT(ADDRESS($K669,L$4,1,1,\"3 - Savings Analysis\"))","v":0},{"$f":"INDIRECT(ADDRESS($K669,M$4,1,1,\"3 - Savings Analysis\"))","v":0},{"$f":"INDIRECT(ADDRESS($K669,N$4,1,1,\"3 - Savings Analysis\"))","v":0},{"$f":"INDIRECT(ADDRESS($K669,O$4,1,1,\"3 - Savings Analysis\"))","v":0},{"$f":"INDIRECT(ADDRESS($K669,P$4,1,1,\"3 - Savings Analysis\"))","v":0},{"$f":"INDIRECT(ADDRESS($K669,Q$4,1,1,\"3 - Savings Analysis\"))","v":0},{"$f":"INDIRECT(ADDRESS($K669,R$4,1,1,\"3 - Savings Analysis\"))","v":0},{"$f":"INDIRECT(ADDRESS($K669,S$4,1,1,\"3 - Savings Analysis\"))","v":0},{"$f":"INDIRECT(ADDRESS($K669,T$4,1,1,\"3 - Savings Analysis\"))","v":0}]
["","","","","","","","","",null,679,{"$f":"INDIRECT(ADDRESS($K670,L$4,1,1,\"3 - Savings Analysis\"))","v":0},{"$f":"INDIRECT(ADDRESS($K670,M$4,1,1,\"3 - Savings Analysis\"))","v":0},{"$f":"INDIRECT(ADDRESS($K670,N$4,1,1,\"3 - Savings Analysis\"))","v":0},{"$f":"INDIRECT(ADDRESS($K670,O$4,1,1,\"3 - Savings Analysis\"))","v":0},{"$f":"INDIRECT(ADDRESS($K670,P$4,1,1,\"3 - Savings Analysis\"))","v":0},{"$f":"INDIRECT(ADDRESS($K670,Q$4,1,1,\"3 - Savings Analysis\"))","v":0},{"$f":"INDIRECT(ADDRESS($K670,R$4,1,1,\"3 - Savings Analysis\"))","v":0},{"$f":"INDIRECT(ADDRESS($K670,S$4,1,1,\"3 - Savings Analysis\"))","v":0},{"$f":"INDIRECT(ADDRESS($K670,T$4,1,1,\"3 - Savings Analysis\"))","v":0}]
["","","","","","","","","",null,680,{"$f":"INDIRECT(ADDRESS($K671,L$4,1,1,\"3 - Savings Analysis\"))","v":0},{"$f":"INDIRECT(ADDRESS($K671,M$4,1,1,\"3 - Savings Analysis\"))","v":0},{"$f":"INDIRECT(ADDRESS($K671,N$4,1,1,\"3 - Savings Analysis\"))","v":0},{"$f":"INDIRECT(ADDRESS($K671,O$4,1,1,\"3 - Savings Analysis\"))","v":0},{"$f":"INDIRECT(ADDRESS($K671,P$4,1,1,\"3 - Savings Analysis\"))","v":0},{"$f":"INDIRECT(ADDRESS($K671,Q$4,1,1,\"3 - Savings Analysis\"))","v":0},{"$f":"INDIRECT(ADDRESS($K671,R$4,1,1,\"3 - Savings Analysis\"))","v":0},{"$f":"INDIRECT(ADDRESS($K671,S$4,1,1,\"3 - Savings Analysis\"))","v":0},{"$f":"INDIRECT(ADDRESS($K671,T$4,1,1,\"3 - Savings Analysis\"))","v":0}]
["","","","","","","","","",null,681,{"$f":"INDIRECT(ADDRESS($K672,L$4,1,1,\"3 - Savings Analysis\"))","v":0},{"$f":"INDIRECT(ADDRESS($K672,M$4,1,1,\"3 - Savings Analysis\"))","v":0},{"$f":"INDIRECT(ADDRESS($K672,N$4,1,1,\"3 - Savings Analysis\"))","v":0},{"$f":"INDIRECT(ADDRESS($K672,O$4,1,1,\"3 - Savings Analysis\"))","v":0},{"$f":"INDIRECT(ADDRESS($K672,P$4,1,1,\"3 - Savings Analysis\"))","v":0},{"$f":"INDIRECT(ADDRESS($K672,Q$4,1,1,\"3 - Savings Analysis\"))","v":0},{"$f":"INDIRECT(ADDRESS($K672,R$4,1,1,\"3 - Savings Analysis\"))","v":0},{"$f":"INDIRECT(ADDRESS($K672,S$4,1,1,\"3 - Savings Analysis\"))","v":0},{"$f":"INDIRECT(ADDRESS($K672,T$4,1,1,\"3 - Savings Analysis\"))","v":0}]
["","","","","","","","","",null,682,{"$f":"INDIRECT(ADDRESS($K673,L$4,1,1,\"3 - Savings Analysis\"))","v":0},{"$f":"INDIRECT(ADDRESS($K673,M$4,1,1,\"3 - Savings Analysis\"))","v":0},{"$f":"INDIRECT(ADDRESS($K673,N$4,1,1,\"3 - Savings Analysis\"))","v":0},{"$f":"INDIRECT(ADDRESS($K673,O$4,1,1,\"3 - Savings Analysis\"))","v":0},{"$f":"INDIRECT(ADDRESS($K673,P$4,1,1,\"3 - Savings Analysis\"))","v":0},{"$f":"INDIRECT(ADDRESS($K673,Q$4,1,1,\"3 - Savings Analysis\"))","v":0},{"$f":"INDIRECT(ADDRESS($K673,R$4,1,1,\"3 - Savings Analysis\"))","v":0},{"$f":"INDIRECT(ADDRESS($K673,S$4,1,1,\"3 - Savings Analysis\"))","v":0},{"$f":"INDIRECT(ADDRESS($K673,T$4,1,1,\"3 - Savings Analysis\"))","v":0}]
["","","","","","","","","",null,683,{"$f":"INDIRECT(ADDRESS($K674,L$4,1,1,\"3 - Savings Analysis\"))","v":0},{"$f":"INDIRECT(ADDRESS($K674,M$4,1,1,\"3 - Savings Analysis\"))","v":0},{"$f":"INDIRECT(ADDRESS($K674,N$4,1,1,\"3 - Savings Analysis\"))","v":0},{"$f":"INDIRECT(ADDRESS($K674,O$4,1,1,\"3 - Savings Analysis\"))","v":0},{"$f":"INDIRECT(ADDRESS($K674,P$4,1,1,\"3 - Savings Analysis\"))","v":0},{"$f":"INDIRECT(ADDRESS($K674,Q$4,1,1,\"3 - Savings Analysis\"))","v":0},{"$f":"INDIRECT(ADDRESS($K674,R$4,1,1,\"3 - Savings Analysis\"))","v":0},{"$f":"INDIRECT(ADDRESS($K674,S$4,1,1,\"3 - Savings Analysis\"))","v":0},{"$f":"INDIRECT(ADDRESS($K674,T$4,1,1,\"3 - Savings Analysis\"))","v":0}]
["","","","","","","","","",null,684,{"$f":"INDIRECT(ADDRESS($K675,L$4,1,1,\"3 - Savings Analysis\"))","v":0},{"$f":"INDIRECT(ADDRESS($K675,M$4,1,1,\"3 - Savings Analysis\"))","v":0},{"$f":"INDIRECT(ADDRESS($K675,N$4,1,1,\"3 - Savings Analysis\"))","v":0},{"$f":"INDIRECT(ADDRESS($K675,O$4,1,1,\"3 - Savings Analysis\"))","v":0},{"$f":"INDIRECT(ADDRESS($K675,P$4,1,1,\"3 - Savings Analysis\"))","v":0},{"$f":"INDIRECT(ADDRESS($K675,Q$4,1,1,\"3 - Savings Analysis\"))","v":0},{"$f":"INDIRECT(ADDRESS($K675,R$4,1,1,\"3 - Savings Analysis\"))","v":0},{"$f":"INDIRECT(ADDRESS($K675,S$4,1,1,\"3 - Savings Analysis\"))","v":0},{"$f":"INDIRECT(ADDRESS($K675,T$4,1,1,\"3 - Savings Analysis\"))","v":0}]
["","","","","","","","","",null,685,{"$f":"INDIRECT(ADDRESS($K676,L$4,1,1,\"3 - Savings Analysis\"))","v":0},{"$f":"INDIRECT(ADDRESS($K676,M$4,1,1,\"3 - Savings Analysis\"))","v":0},{"$f":"INDIRECT(ADDRESS($K676,N$4,1,1,\"3 - Savings Analysis\"))","v":0},{"$f":"INDIRECT(ADDRESS($K676,O$4,1,1,\"3 - Savings Analysis\"))","v":0},{"$f":"INDIRECT(ADDRESS($K676,P$4,1,1,\"3 - Savings Analysis\"))","v":0},{"$f":"INDIRECT(ADDRESS($K676,Q$4,1,1,\"3 - Savings Analysis\"))","v":0},{"$f":"INDIRECT(ADDRESS($K676,R$4,1,1,\"3 - Savings Analysis\"))","v":0},{"$f":"INDIRECT(ADDRESS($K676,S$4,1,1,\"3 - Savings Analysis\"))","v":0},{"$f":"INDIRECT(ADDRESS($K676,T$4,1,1,\"3 - Savings Analysis\"))","v":0}]
["","","","","","","","","",null,686,{"$f":"INDIRECT(ADDRESS($K677,L$4,1,1,\"3 - Savings Analysis\"))","v":0},{"$f":"INDIRECT(ADDRESS($K677,M$4,1,1,\"3 - Savings Analysis\"))","v":0},{"$f":"INDIRECT(ADDRESS($K677,N$4,1,1,\"3 - Savings Analysis\"))","v":0},{"$f":"INDIRECT(ADDRESS($K677,O$4,1,1,\"3 - Savings Analysis\"))","v":0},{"$f":"INDIRECT(ADDRESS($K677,P$4,1,1,\"3 - Savings Analysis\"))","v":0},{"$f":"INDIRECT(ADDRESS($K677,Q$4,1,1,\"3 - Savings Analysis\"))","v":0},{"$f":"INDIRECT(ADDRESS($K677,R$4,1,1,\"3 - Savings Analysis\"))","v":0},{"$f":"INDIRECT(ADDRESS($K677,S$4,1,1,\"3 - Savings Analysis\"))","v":0},{"$f":"INDIRECT(ADDRESS($K677,T$4,1,1,\"3 - Savings Analysis\"))","v":0}]
["","","","","","","","","",null,687,{"$f":"INDIRECT(ADDRESS($K678,L$4,1,1,\"3 - Savings Analysis\"))","v":0},{"$f":"INDIRECT(ADDRESS($K678,M$4,1,1,\"3 - Savings Analysis\"))","v":0},{"$f":"INDIRECT(ADDRESS($K678,N$4,1,1,\"3 - Savings Analysis\"))","v":0},{"$f":"INDIRECT(ADDRESS($K678,O$4,1,1,\"3 - Savings Analysis\"))","v":0},{"$f":"INDIRECT(ADDRESS($K678,P$4,1,1,\"3 - Savings Analysis\"))","v":0},{"$f":"INDIRECT(ADDRESS($K678,Q$4,1,1,\"3 - Savings Analysis\"))","v":0},{"$f":"INDIRECT(ADDRESS($K678,R$4,1,1,\"3 - Savings Analysis\"))","v":0},{"$f":"INDIRECT(ADDRESS($K678,S$4,1,1,\"3 - Savings Analysis\"))","v":0},{"$f":"INDIRECT(ADDRESS($K678,T$4,1,1,\"3 - Savings Analysis\"))","v":0}]
["","","","","","","","","",null,688,{"$f":"INDIRECT(ADDRESS($K679,L$4,1,1,\"3 - Savings Analysis\"))","v":0},{"$f":"INDIRECT(ADDRESS($K679,M$4,1,1,\"3 - Savings Analysis\"))","v":0},{"$f":"INDIRECT(ADDRESS($K679,N$4,1,1,\"3 - Savings Analysis\"))","v":0},{"$f":"INDIRECT(ADDRESS($K679,O$4,1,1,\"3 - Savings Analysis\"))","v":0},{"$f":"INDIRECT(ADDRESS($K679,P$4,1,1,\"3 - Savings Analysis\"))","v":0},{"$f":"INDIRECT(ADDRESS($K679,Q$4,1,1,\"3 - Savings Analysis\"))","v":0},{"$f":"INDIRECT(ADDRESS($K679,R$4,1,1,\"3 - Savings Analysis\"))","v":0},{"$f":"INDIRECT(ADDRESS($K679,S$4,1,1,\"3 - Savings Analysis\"))","v":0},{"$f":"INDIRECT(ADDRESS($K679,T$4,1,1,\"3 - Savings Analysis\"))","v":0}]
["","","","","","","","","",null,689,{"$f":"INDIRECT(ADDRESS($K680,L$4,1,1,\"3 - Savings Analysis\"))","v":0},{"$f":"INDIRECT(ADDRESS($K680,M$4,1,1,\"3 - Savings Analysis\"))","v":0},{"$f":"INDIRECT(ADDRESS($K680,N$4,1,1,\"3 - Savings Analysis\"))","v":0},{"$f":"INDIRECT(ADDRESS($K680,O$4,1,1,\"3 - Savings Analysis\"))","v":0},{"$f":"INDIRECT(ADDRESS($K680,P$4,1,1,\"3 - Savings Analysis\"))","v":0},{"$f":"INDIRECT(ADDRESS($K680,Q$4,1,1,\"3 - Savings Analysis\"))","v":0},{"$f":"INDIRECT(ADDRESS($K680,R$4,1,1,\"3 - Savings Analysis\"))","v":0},{"$f":"INDIRECT(ADDRESS($K680,S$4,1,1,\"3 - Savings Analysis\"))","v":0},{"$f":"INDIRECT(ADDRESS($K680,T$4,1,1,\"3 - Savings Analysis\"))","v":0}]
["","","","","","","","","",null,690,{"$f":"INDIRECT(ADDRESS($K681,L$4,1,1,\"3 - Savings Analysis\"))","v":0},{"$f":"INDIRECT(ADDRESS($K681,M$4,1,1,\"3 - Savings Analysis\"))","v":0},{"$f":"INDIRECT(ADDRESS($K681,N$4,1,1,\"3 - Savings Analysis\"))","v":0},{"$f":"INDIRECT(ADDRESS($K681,O$4,1,1,\"3 - Savings Analysis\"))","v":0},{"$f":"INDIRECT(ADDRESS($K681,P$4,1,1,\"3 - Savings Analysis\"))","v":0},{"$f":"INDIRECT(ADDRESS($K681,Q$4,1,1,\"3 - Savings Analysis\"))","v":0},{"$f":"INDIRECT(ADDRESS($K681,R$4,1,1,\"3 - Savings Analysis\"))","v":0},{"$f":"INDIRECT(ADDRESS($K681,S$4,1,1,\"3 - Savings Analysis\"))","v":0},{"$f":"INDIRECT(ADDRESS($K681,T$4,1,1,\"3 - Savings Analysis\"))","v":0}]
["","","","","","","","","",null,691,{"$f":"INDIRECT(ADDRESS($K682,L$4,1,1,\"3 - Savings Analysis\"))","v":0},{"$f":"INDIRECT(ADDRESS($K682,M$4,1,1,\"3 - Savings Analysis\"))","v":0},{"$f":"INDIRECT(ADDRESS($K682,N$4,1,1,\"3 - Savings Analysis\"))","v":0},{"$f":"INDIRECT(ADDRESS($K682,O$4,1,1,\"3 - Savings Analysis\"))","v":0},{"$f":"INDIRECT(ADDRESS($K682,P$4,1,1,\"3 - Savings Analysis\"))","v":0},{"$f":"INDIRECT(ADDRESS($K682,Q$4,1,1,\"3 - Savings Analysis\"))","v":0},{"$f":"INDIRECT(ADDRESS($K682,R$4,1,1,\"3 - Savings Analysis\"))","v":0},{"$f":"INDIRECT(ADDRESS($K682,S$4,1,1,\"3 - Savings Analysis\"))","v":0},{"$f":"INDIRECT(ADDRESS($K682,T$4,1,1,\"3 - Savings Analysis\"))","v":0}]
["","","","","","","","","",null,692,{"$f":"INDIRECT(ADDRESS($K683,L$4,1,1,\"3 - Savings Analysis\"))","v":0},{"$f":"INDIRECT(ADDRESS($K683,M$4,1,1,\"3 - Savings Analysis\"))","v":0},{"$f":"INDIRECT(ADDRESS($K683,N$4,1,1,\"3 - Savings Analysis\"))","v":0},{"$f":"INDIRECT(ADDRESS($K683,O$4,1,1,\"3 - Savings Analysis\"))","v":0},{"$f":"INDIRECT(ADDRESS($K683,P$4,1,1,\"3 - Savings Analysis\"))","v":0},{"$f":"INDIRECT(ADDRESS($K683,Q$4,1,1,\"3 - Savings Analysis\"))","v":0},{"$f":"INDIRECT(ADDRESS($K683,R$4,1,1,\"3 - Savings Analysis\"))","v":0},{"$f":"INDIRECT(ADDRESS($K683,S$4,1,1,\"3 - Savings Analysis\"))","v":0},{"$f":"INDIRECT(ADDRESS($K683,T$4,1,1,\"3 - Savings Analysis\"))","v":0}]
["","","","","","","","","",null,693,{"$f":"INDIRECT(ADDRESS($K684,L$4,1,1,\"3 - Savings Analysis\"))","v":0},{"$f":"INDIRECT(ADDRESS($K684,M$4,1,1,\"3 - Savings Analysis\"))","v":0},{"$f":"INDIRECT(ADDRESS($K684,N$4,1,1,\"3 - Savings Analysis\"))","v":0},{"$f":"INDIRECT(ADDRESS($K684,O$4,1,1,\"3 - Savings Analysis\"))","v":0},{"$f":"INDIRECT(ADDRESS($K684,P$4,1,1,\"3 - Savings Analysis\"))","v":0},{"$f":"INDIRECT(ADDRESS($K684,Q$4,1,1,\"3 - Savings Analysis\"))","v":0},{"$f":"INDIRECT(ADDRESS($K684,R$4,1,1,\"3 - Savings Analysis\"))","v":0},{"$f":"INDIRECT(ADDRESS($K684,S$4,1,1,\"3 - Savings Analysis\"))","v":0},{"$f":"INDIRECT(ADDRESS($K684,T$4,1,1,\"3 - Savings Analysis\"))","v":0}]
["","","","","","","","","",null,694,{"$f":"INDIRECT(ADDRESS($K685,L$4,1,1,\"3 - Savings Analysis\"))","v":0},{"$f":"INDIRECT(ADDRESS($K685,M$4,1,1,\"3 - Savings Analysis\"))","v":0},{"$f":"INDIRECT(ADDRESS($K685,N$4,1,1,\"3 - Savings Analysis\"))","v":0},{"$f":"INDIRECT(ADDRESS($K685,O$4,1,1,\"3 - Savings Analysis\"))","v":0},{"$f":"INDIRECT(ADDRESS($K685,P$4,1,1,\"3 - Savings Analysis\"))","v":0},{"$f":"INDIRECT(ADDRESS($K685,Q$4,1,1,\"3 - Savings Analysis\"))","v":0},{"$f":"INDIRECT(ADDRESS($K685,R$4,1,1,\"3 - Savings Analysis\"))","v":0},{"$f":"INDIRECT(ADDRESS($K685,S$4,1,1,\"3 - Savings Analysis\"))","v":0},{"$f":"INDIRECT(ADDRESS($K685,T$4,1,1,\"3 - Savings Analysis\"))","v":0}]
["","","","","","","","","",null,695,{"$f":"INDIRECT(ADDRESS($K686,L$4,1,1,\"3 - Savings Analysis\"))","v":0},{"$f":"INDIRECT(ADDRESS($K686,M$4,1,1,\"3 - Savings Analysis\"))","v":0},{"$f":"INDIRECT(ADDRESS($K686,N$4,1,1,\"3 - Savings Analysis\"))","v":0},{"$f":"INDIRECT(ADDRESS($K686,O$4,1,1,\"3 - Savings Analysis\"))","v":0},{"$f":"INDIRECT(ADDRESS($K686,P$4,1,1,\"3 - Savings Analysis\"))","v":0},{"$f":"INDIRECT(ADDRESS($K686,Q$4,1,1,\"3 - Savings Analysis\"))","v":0},{"$f":"INDIRECT(ADDRESS($K686,R$4,1,1,\"3 - Savings Analysis\"))","v":0},{"$f":"INDIRECT(ADDRESS($K686,S$4,1,1,\"3 - Savings Analysis\"))","v":0},{"$f":"INDIRECT(ADDRESS($K686,T$4,1,1,\"3 - Savings Analysis\"))","v":0}]
["","","","","","","","","",null,696,{"$f":"INDIRECT(ADDRESS($K687,L$4,1,1,\"3 - Savings Analysis\"))","v":0},{"$f":"INDIRECT(ADDRESS($K687,M$4,1,1,\"3 - Savings Analysis\"))","v":0},{"$f":"INDIRECT(ADDRESS($K687,N$4,1,1,\"3 - Savings Analysis\"))","v":0},{"$f":"INDIRECT(ADDRESS($K687,O$4,1,1,\"3 - Savings Analysis\"))","v":0},{"$f":"INDIRECT(ADDRESS($K687,P$4,1,1,\"3 - Savings Analysis\"))","v":0},{"$f":"INDIRECT(ADDRESS($K687,Q$4,1,1,\"3 - Savings Analysis\"))","v":0},{"$f":"INDIRECT(ADDRESS($K687,R$4,1,1,\"3 - Savings Analysis\"))","v":0},{"$f":"INDIRECT(ADDRESS($K687,S$4,1,1,\"3 - Savings Analysis\"))","v":0},{"$f":"INDIRECT(ADDRESS($K687,T$4,1,1,\"3 - Savings Analysis\"))","v":0}]
["","","","","","","","","",null,697,{"$f":"INDIRECT(ADDRESS($K688,L$4,1,1,\"3 - Savings Analysis\"))","v":0},{"$f":"INDIRECT(ADDRESS($K688,M$4,1,1,\"3 - Savings Analysis\"))","v":0},{"$f":"INDIRECT(ADDRESS($K688,N$4,1,1,\"3 - Savings Analysis\"))","v":0},{"$f":"INDIRECT(ADDRESS($K688,O$4,1,1,\"3 - Savings Analysis\"))","v":0},{"$f":"INDIRECT(ADDRESS($K688,P$4,1,1,\"3 - Savings Analysis\"))","v":0},{"$f":"INDIRECT(ADDRESS($K688,Q$4,1,1,\"3 - Savings Analysis\"))","v":0},{"$f":"INDIRECT(ADDRESS($K688,R$4,1,1,\"3 - Savings Analysis\"))","v":0},{"$f":"INDIRECT(ADDRESS($K688,S$4,1,1,\"3 - Savings Analysis\"))","v":0},{"$f":"INDIRECT(ADDRESS($K688,T$4,1,1,\"3 - Savings Analysis\"))","v":0}]
["","","","","","","","","",null,698,{"$f":"INDIRECT(ADDRESS($K689,L$4,1,1,\"3 - Savings Analysis\"))","v":0},{"$f":"INDIRECT(ADDRESS($K689,M$4,1,1,\"3 - Savings Analysis\"))","v":0},{"$f":"INDIRECT(ADDRESS($K689,N$4,1,1,\"3 - Savings Analysis\"))","v":0},{"$f":"INDIRECT(ADDRESS($K689,O$4,1,1,\"3 - Savings Analysis\"))","v":0},{"$f":"INDIRECT(ADDRESS($K689,P$4,1,1,\"3 - Savings Analysis\"))","v":0},{"$f":"INDIRECT(ADDRESS($K689,Q$4,1,1,\"3 - Savings Analysis\"))","v":0},{"$f":"INDIRECT(ADDRESS($K689,R$4,1,1,\"3 - Savings Analysis\"))","v":0},{"$f":"INDIRECT(ADDRESS($K689,S$4,1,1,\"3 - Savings Analysis\"))","v":0},{"$f":"INDIRECT(ADDRESS($K689,T$4,1,1,\"3 - Savings Analysis\"))","v":0}]
["","","","","","","","","",null,699,{"$f":"INDIRECT(ADDRESS($K690,L$4,1,1,\"3 - Savings Analysis\"))","v":0},{"$f":"INDIRECT(ADDRESS($K690,M$4,1,1,\"3 - Savings Analysis\"))","v":0},{"$f":"INDIRECT(ADDRESS($K690,N$4,1,1,\"3 - Savings Analysis\"))","v":0},{"$f":"INDIRECT(ADDRESS($K690,O$4,1,1,\"3 - Savings Analysis\"))","v":0},{"$f":"INDIRECT(ADDRESS($K690,P$4,1,1,\"3 - Savings Analysis\"))","v":0},{"$f":"INDIRECT(ADDRESS($K690,Q$4,1,1,\"3 - Savings Analysis\"))","v":0},{"$f":"INDIRECT(ADDRESS($K690,R$4,1,1,\"3 - Savings Analysis\"))","v":0},{"$f":"INDIRECT(ADDRESS($K690,S$4,1,1,\"3 - Savings Analysis\"))","v":0},{"$f":"INDIRECT(ADDRESS($K690,T$4,1,1,\"3 - Savings Analysis\"))","v":0}]
["","","","","","","","","",null,700,{"$f":"INDIRECT(ADDRESS($K691,L$4,1,1,\"3 - Savings Analysis\"))","v":0},{"$f":"INDIRECT(ADDRESS($K691,M$4,1,1,\"3 - Savings Analysis\"))","v":0},{"$f":"INDIRECT(ADDRESS($K691,N$4,1,1,\"3 - Savings Analysis\"))","v":0},{"$f":"INDIRECT(ADDRESS($K691,O$4,1,1,\"3 - Savings Analysis\"))","v":0},{"$f":"INDIRECT(ADDRESS($K691,P$4,1,1,\"3 - Savings Analysis\"))","v":0},{"$f":"INDIRECT(ADDRESS($K691,Q$4,1,1,\"3 - Savings Analysis\"))","v":0},{"$f":"INDIRECT(ADDRESS($K691,R$4,1,1,\"3 - Savings Analysis\"))","v":0},{"$f":"INDIRECT(ADDRESS($K691,S$4,1,1,\"3 - Savings Analysis\"))","v":0},{"$f":"INDIRECT(ADDRESS($K691,T$4,1,1,\"3 - Savings Analysis\"))","v":0}]
["","","","","","","","","",null,701,{"$f":"INDIRECT(ADDRESS($K692,L$4,1,1,\"3 - Savings Analysis\"))","v":0},{"$f":"INDIRECT(ADDRESS($K692,M$4,1,1,\"3 - Savings Analysis\"))","v":0},{"$f":"INDIRECT(ADDRESS($K692,N$4,1,1,\"3 - Savings Analysis\"))","v":0},{"$f":"INDIRECT(ADDRESS($K692,O$4,1,1,\"3 - Savings Analysis\"))","v":0},{"$f":"INDIRECT(ADDRESS($K692,P$4,1,1,\"3 - Savings Analysis\"))","v":0},{"$f":"INDIRECT(ADDRESS($K692,Q$4,1,1,\"3 - Savings Analysis\"))","v":0},{"$f":"INDIRECT(ADDRESS($K692,R$4,1,1,\"3 - Savings Analysis\"))","v":0},{"$f":"INDIRECT(ADDRESS($K692,S$4,1,1,\"3 - Savings Analysis\"))","v":0},{"$f":"INDIRECT(ADDRESS($K692,T$4,1,1,\"3 - Savings Analysis\"))","v":0}]
["","","","","","","","","",null,702,{"$f":"INDIRECT(ADDRESS($K693,L$4,1,1,\"3 - Savings Analysis\"))","v":0},{"$f":"INDIRECT(ADDRESS($K693,M$4,1,1,\"3 - Savings Analysis\"))","v":0},{"$f":"INDIRECT(ADDRESS($K693,N$4,1,1,\"3 - Savings Analysis\"))","v":0},{"$f":"INDIRECT(ADDRESS($K693,O$4,1,1,\"3 - Savings Analysis\"))","v":0},{"$f":"INDIRECT(ADDRESS($K693,P$4,1,1,\"3 - Savings Analysis\"))","v":0},{"$f":"INDIRECT(ADDRESS($K693,Q$4,1,1,\"3 - Savings Analysis\"))","v":0},{"$f":"INDIRECT(ADDRESS($K693,R$4,1,1,\"3 - Savings Analysis\"))","v":0},{"$f":"INDIRECT(ADDRESS($K693,S$4,1,1,\"3 - Savings Analysis\"))","v":0},{"$f":"INDIRECT(ADDRESS($K693,T$4,1,1,\"3 - Savings Analysis\"))","v":0}]
["","","","","","","","","",null,703,{"$f":"INDIRECT(ADDRESS($K694,L$4,1,1,\"3 - Savings Analysis\"))","v":0},{"$f":"INDIRECT(ADDRESS($K694,M$4,1,1,\"3 - Savings Analysis\"))","v":0},{"$f":"INDIRECT(ADDRESS($K694,N$4,1,1,\"3 - Savings Analysis\"))","v":0},{"$f":"INDIRECT(ADDRESS($K694,O$4,1,1,\"3 - Savings Analysis\"))","v":0},{"$f":"INDIRECT(ADDRESS($K694,P$4,1,1,\"3 - Savings Analysis\"))","v":0},{"$f":"INDIRECT(ADDRESS($K694,Q$4,1,1,\"3 - Savings Analysis\"))","v":0},{"$f":"INDIRECT(ADDRESS($K694,R$4,1,1,\"3 - Savings Analysis\"))","v":0},{"$f":"INDIRECT(ADDRESS($K694,S$4,1,1,\"3 - Savings Analysis\"))","v":0},{"$f":"INDIRECT(ADDRESS($K694,T$4,1,1,\"3 - Savings Analysis\"))","v":0}]
["","","","","","","","","",null,704,{"$f":"INDIRECT(ADDRESS($K695,L$4,1,1,\"3 - Savings Analysis\"))","v":0},{"$f":"INDIRECT(ADDRESS($K695,M$4,1,1,\"3 - Savings Analysis\"))","v":0},{"$f":"INDIRECT(ADDRESS($K695,N$4,1,1,\"3 - Savings Analysis\"))","v":0},{"$f":"INDIRECT(ADDRESS($K695,O$4,1,1,\"3 - Savings Analysis\"))","v":0},{"$f":"INDIRECT(ADDRESS($K695,P$4,1,1,\"3 - Savings Analysis\"))","v":0},{"$f":"INDIRECT(ADDRESS($K695,Q$4,1,1,\"3 - Savings Analysis\"))","v":0},{"$f":"INDIRECT(ADDRESS($K695,R$4,1,1,\"3 - Savings Analysis\"))","v":0},{"$f":"INDIRECT(ADDRESS($K695,S$4,1,1,\"3 - Savings Analysis\"))","v":0},{"$f":"INDIRECT(ADDRESS($K695,T$4,1,1,\"3 - Savings Analysis\"))","v":0}]
["","","","","","","","","",null,705,{"$f":"INDIRECT(ADDRESS($K696,L$4,1,1,\"3 - Savings Analysis\"))","v":0},{"$f":"INDIRECT(ADDRESS($K696,M$4,1,1,\"3 - Savings Analysis\"))","v":0},{"$f":"INDIRECT(ADDRESS($K696,N$4,1,1,\"3 - Savings Analysis\"))","v":0},{"$f":"INDIRECT(ADDRESS($K696,O$4,1,1,\"3 - Savings Analysis\"))","v":0},{"$f":"INDIRECT(ADDRESS($K696,P$4,1,1,\"3 - Savings Analysis\"))","v":0},{"$f":"INDIRECT(ADDRESS($K696,Q$4,1,1,\"3 - Savings Analysis\"))","v":0},{"$f":"INDIRECT(ADDRESS($K696,R$4,1,1,\"3 - Savings Analysis\"))","v":0},{"$f":"INDIRECT(ADDRESS($K696,S$4,1,1,\"3 - Savings Analysis\"))","v":0},{"$f":"INDIRECT(ADDRESS($K696,T$4,1,1,\"3 - Savings Analysis\"))","v":0}]
["","","","","","","","","",null,706,{"$f":"INDIRECT(ADDRESS($K697,L$4,1,1,\"3 - Savings Analysis\"))","v":0},{"$f":"INDIRECT(ADDRESS($K697,M$4,1,1,\"3 - Savings Analysis\"))","v":0},{"$f":"INDIRECT(ADDRESS($K697,N$4,1,1,\"3 - Savings Analysis\"))","v":0},{"$f":"INDIRECT(ADDRESS($K697,O$4,1,1,\"3 - Savings Analysis\"))","v":0},{"$f":"INDIRECT(ADDRESS($K697,P$4,1,1,\"3 - Savings Analysis\"))","v":0},{"$f":"INDIRECT(ADDRESS($K697,Q$4,1,1,\"3 - Savings Analysis\"))","v":0},{"$f":"INDIRECT(ADDRESS($K697,R$4,1,1,\"3 - Savings Analysis\"))","v":0},{"$f":"INDIRECT(ADDRESS($K697,S$4,1,1,\"3 - Savings Analysis\"))","v":0},{"$f":"INDIRECT(ADDRESS($K697,T$4,1,1,\"3 - Savings Analysis\"))","v":0}]
["","","","","","","","","",null,707,{"$f":"INDIRECT(ADDRESS($K698,L$4,1,1,\"3 - Savings Analysis\"))","v":0},{"$f":"INDIRECT(ADDRESS($K698,M$4,1,1,\"3 - Savings Analysis\"))","v":0},{"$f":"INDIRECT(ADDRESS($K698,N$4,1,1,\"3 - Savings Analysis\"))","v":0},{"$f":"INDIRECT(ADDRESS($K698,O$4,1,1,\"3 - Savings Analysis\"))","v":0},{"$f":"INDIRECT(ADDRESS($K698,P$4,1,1,\"3 - Savings Analysis\"))","v":0},{"$f":"INDIRECT(ADDRESS($K698,Q$4,1,1,\"3 - Savings Analysis\"))","v":0},{"$f":"INDIRECT(ADDRESS($K698,R$4,1,1,\"3 - Savings Analysis\"))","v":0},{"$f":"INDIRECT(ADDRESS($K698,S$4,1,1,\"3 - Savings Analysis\"))","v":0},{"$f":"INDIRECT(ADDRESS($K698,T$4,1,1,\"3 - Savings Analysis\"))","v":0}]
["","","","","","","","","",null,708,{"$f":"INDIRECT(ADDRESS($K699,L$4,1,1,\"3 - Savings Analysis\"))","v":0},{"$f":"INDIRECT(ADDRESS($K699,M$4,1,1,\"3 - Savings Analysis\"))","v":0},{"$f":"INDIRECT(ADDRESS($K699,N$4,1,1,\"3 - Savings Analysis\"))","v":0},{"$f":"INDIRECT(ADDRESS($K699,O$4,1,1,\"3 - Savings Analysis\"))","v":0},{"$f":"INDIRECT(ADDRESS($K699,P$4,1,1,\"3 - Savings Analysis\"))","v":0},{"$f":"INDIRECT(ADDRESS($K699,Q$4,1,1,\"3 - Savings Analysis\"))","v":0},{"$f":"INDIRECT(ADDRESS($K699,R$4,1,1,\"3 - Savings Analysis\"))","v":0},{"$f":"INDIRECT(ADDRESS($K699,S$4,1,1,\"3 - Savings Analysis\"))","v":0},{"$f":"INDIRECT(ADDRESS($K699,T$4,1,1,\"3 - Savings Analysis\"))","v":0}]
["","","","","","","","","",null,709,{"$f":"INDIRECT(ADDRESS($K700,L$4,1,1,\"3 - Savings Analysis\"))","v":0},{"$f":"INDIRECT(ADDRESS($K700,M$4,1,1,\"3 - Savings Analysis\"))","v":0},{"$f":"INDIRECT(ADDRESS($K700,N$4,1,1,\"3 - Savings Analysis\"))","v":0},{"$f":"INDIRECT(ADDRESS($K700,O$4,1,1,\"3 - Savings Analysis\"))","v":0},{"$f":"INDIRECT(ADDRESS($K700,P$4,1,1,\"3 - Savings Analysis\"))","v":0},{"$f":"INDIRECT(ADDRESS($K700,Q$4,1,1,\"3 - Savings Analysis\"))","v":0},{"$f":"INDIRECT(ADDRESS($K700,R$4,1,1,\"3 - Savings Analysis\"))","v":0},{"$f":"INDIRECT(ADDRESS($K700,S$4,1,1,\"3 - Savings Analysis\"))","v":0},{"$f":"INDIRECT(ADDRESS($K700,T$4,1,1,\"3 - Savings Analysis\"))","v":0}]
["","","","","","","","","",null,710,{"$f":"INDIRECT(ADDRESS($K701,L$4,1,1,\"3 - Savings Analysis\"))","v":0},{"$f":"INDIRECT(ADDRESS($K701,M$4,1,1,\"3 - Savings Analysis\"))","v":0},{"$f":"INDIRECT(ADDRESS($K701,N$4,1,1,\"3 - Savings Analysis\"))","v":0},{"$f":"INDIRECT(ADDRESS($K701,O$4,1,1,\"3 - Savings Analysis\"))","v":0},{"$f":"INDIRECT(ADDRESS($K701,P$4,1,1,\"3 - Savings Analysis\"))","v":0},{"$f":"INDIRECT(ADDRESS($K701,Q$4,1,1,\"3 - Savings Analysis\"))","v":0},{"$f":"INDIRECT(ADDRESS($K701,R$4,1,1,\"3 - Savings Analysis\"))","v":0},{"$f":"INDIRECT(ADDRESS($K701,S$4,1,1,\"3 - Savings Analysis\"))","v":0},{"$f":"INDIRECT(ADDRESS($K701,T$4,1,1,\"3 - Savings Analysis\"))","v":0}]
["","","","","","","","","",null,711,{"$f":"INDIRECT(ADDRESS($K702,L$4,1,1,\"3 - Savings Analysis\"))","v":0},{"$f":"INDIRECT(ADDRESS($K702,M$4,1,1,\"3 - Savings Analysis\"))","v":0},{"$f":"INDIRECT(ADDRESS($K702,N$4,1,1,\"3 - Savings Analysis\"))","v":0},{"$f":"INDIRECT(ADDRESS($K702,O$4,1,1,\"3 - Savings Analysis\"))","v":0},{"$f":"INDIRECT(ADDRESS($K702,P$4,1,1,\"3 - Savings Analysis\"))","v":0},{"$f":"INDIRECT(ADDRESS($K702,Q$4,1,1,\"3 - Savings Analysis\"))","v":0},{"$f":"INDIRECT(ADDRESS($K702,R$4,1,1,\"3 - Savings Analysis\"))","v":0},{"$f":"INDIRECT(ADDRESS($K702,S$4,1,1,\"3 - Savings Analysis\"))","v":0},{"$f":"INDIRECT(ADDRESS($K702,T$4,1,1,\"3 - Savings Analysis\"))","v":0}]
["","","","","","","","","",null,712,{"$f":"INDIRECT(ADDRESS($K703,L$4,1,1,\"3 - Savings Analysis\"))","v":0},{"$f":"INDIRECT(ADDRESS($K703,M$4,1,1,\"3 - Savings Analysis\"))","v":0},{"$f":"INDIRECT(ADDRESS($K703,N$4,1,1,\"3 - Savings Analysis\"))","v":0},{"$f":"INDIRECT(ADDRESS($K703,O$4,1,1,\"3 - Savings Analysis\"))","v":0},{"$f":"INDIRECT(ADDRESS($K703,P$4,1,1,\"3 - Savings Analysis\"))","v":0},{"$f":"INDIRECT(ADDRESS($K703,Q$4,1,1,\"3 - Savings Analysis\"))","v":0},{"$f":"INDIRECT(ADDRESS($K703,R$4,1,1,\"3 - Savings Analysis\"))","v":0},{"$f":"INDIRECT(ADDRESS($K703,S$4,1,1,\"3 - Savings Analysis\"))","v":0},{"$f":"INDIRECT(ADDRESS($K703,T$4,1,1,\"3 - Savings Analysis\"))","v":0}]
["","","","","","","","","",null,713,{"$f":"INDIRECT(ADDRESS($K704,L$4,1,1,\"3 - Savings Analysis\"))","v":0},{"$f":"INDIRECT(ADDRESS($K704,M$4,1,1,\"3 - Savings Analysis\"))","v":0},{"$f":"INDIRECT(ADDRESS($K704,N$4,1,1,\"3 - Savings Analysis\"))","v":0},{"$f":"INDIRECT(ADDRESS($K704,O$4,1,1,\"3 - Savings Analysis\"))","v":0},{"$f":"INDIRECT(ADDRESS($K704,P$4,1,1,\"3 - Savings Analysis\"))","v":0},{"$f":"INDIRECT(ADDRESS($K704,Q$4,1,1,\"3 - Savings Analysis\"))","v":0},{"$f":"INDIRECT(ADDRESS($K704,R$4,1,1,\"3 - Savings Analysis\"))","v":0},{"$f":"INDIRECT(ADDRESS($K704,S$4,1,1,\"3 - Savings Analysis\"))","v":0},{"$f":"INDIRECT(ADDRESS($K704,T$4,1,1,\"3 - Savings Analysis\"))","v":0}]
["","","","","","","","","",null,714,{"$f":"INDIRECT(ADDRESS($K705,L$4,1,1,\"3 - Savings Analysis\"))","v":0},{"$f":"INDIRECT(ADDRESS($K705,M$4,1,1,\"3 - Savings Analysis\"))","v":0},{"$f":"INDIRECT(ADDRESS($K705,N$4,1,1,\"3 - Savings Analysis\"))","v":0},{"$f":"INDIRECT(ADDRESS($K705,O$4,1,1,\"3 - Savings Analysis\"))","v":0},{"$f":"INDIRECT(ADDRESS($K705,P$4,1,1,\"3 - Savings Analysis\"))","v":0},{"$f":"INDIRECT(ADDRESS($K705,Q$4,1,1,\"3 - Savings Analysis\"))","v":0},{"$f":"INDIRECT(ADDRESS($K705,R$4,1,1,\"3 - Savings Analysis\"))","v":0},{"$f":"INDIRECT(ADDRESS($K705,S$4,1,1,\"3 - Savings Analysis\"))","v":0},{"$f":"INDIRECT(ADDRESS($K705,T$4,1,1,\"3 - Savings Analysis\"))","v":0}]
["","","","","","","","","",null,715,{"$f":"INDIRECT(ADDRESS($K706,L$4,1,1,\"3 - Savings Analysis\"))","v":0},{"$f":"INDIRECT(ADDRESS($K706,M$4,1,1,\"3 - Savings Analysis\"))","v":0},{"$f":"INDIRECT(ADDRESS($K706,N$4,1,1,\"3 - Savings Analysis\"))","v":0},{"$f":"INDIRECT(ADDRESS($K706,O$4,1,1,\"3 - Savings Analysis\"))","v":0},{"$f":"INDIRECT(ADDRESS($K706,P$4,1,1,\"3 - Savings Analysis\"))","v":0},{"$f":"INDIRECT(ADDRESS($K706,Q$4,1,1,\"3 - Savings Analysis\"))","v":0},{"$f":"INDIRECT(ADDRESS($K706,R$4,1,1,\"3 - Savings Analysis\"))","v":0},{"$f":"INDIRECT(ADDRESS($K706,S$4,1,1,\"3 - Savings Analysis\"))","v":0},{"$f":"INDIRECT(ADDRESS($K706,T$4,1,1,\"3 - Savings Analysis\"))","v":0}]
["","","","","","","","","",null,716,{"$f":"INDIRECT(ADDRESS($K707,L$4,1,1,\"3 - Savings Analysis\"))","v":0},{"$f":"INDIRECT(ADDRESS($K707,M$4,1,1,\"3 - Savings Analysis\"))","v":0},{"$f":"INDIRECT(ADDRESS($K707,N$4,1,1,\"3 - Savings Analysis\"))","v":0},{"$f":"INDIRECT(ADDRESS($K707,O$4,1,1,\"3 - Savings Analysis\"))","v":0},{"$f":"INDIRECT(ADDRESS($K707,P$4,1,1,\"3 - Savings Analysis\"))","v":0},{"$f":"INDIRECT(ADDRESS($K707,Q$4,1,1,\"3 - Savings Analysis\"))","v":0},{"$f":"INDIRECT(ADDRESS($K707,R$4,1,1,\"3 - Savings Analysis\"))","v":0},{"$f":"INDIRECT(ADDRESS($K707,S$4,1,1,\"3 - Savings Analysis\"))","v":0},{"$f":"INDIRECT(ADDRESS($K707,T$4,1,1,\"3 - Savings Analysis\"))","v":0}]
["","","","","","","","","",null,717,{"$f":"INDIRECT(ADDRESS($K708,L$4,1,1,\"3 - Savings Analysis\"))","v":0},{"$f":"INDIRECT(ADDRESS($K708,M$4,1,1,\"3 - Savings Analysis\"))","v":0},{"$f":"INDIRECT(ADDRESS($K708,N$4,1,1,\"3 - Savings Analysis\"))","v":0},{"$f":"INDIRECT(ADDRESS($K708,O$4,1,1,\"3 - Savings Analysis\"))","v":0},{"$f":"INDIRECT(ADDRESS($K708,P$4,1,1,\"3 - Savings Analysis\"))","v":0},{"$f":"INDIRECT(ADDRESS($K708,Q$4,1,1,\"3 - Savings Analysis\"))","v":0},{"$f":"INDIRECT(ADDRESS($K708,R$4,1,1,\"3 - Savings Analysis\"))","v":0},{"$f":"INDIRECT(ADDRESS($K708,S$4,1,1,\"3 - Savings Analysis\"))","v":0},{"$f":"INDIRECT(ADDRESS($K708,T$4,1,1,\"3 - Savings Analysis\"))","v":0}]
["","","","","","","","","",null,718,{"$f":"INDIRECT(ADDRESS($K709,L$4,1,1,\"3 - Savings Analysis\"))","v":0},{"$f":"INDIRECT(ADDRESS($K709,M$4,1,1,\"3 - Savings Analysis\"))","v":0},{"$f":"INDIRECT(ADDRESS($K709,N$4,1,1,\"3 - Savings Analysis\"))","v":0},{"$f":"INDIRECT(ADDRESS($K709,O$4,1,1,\"3 - Savings Analysis\"))","v":0},{"$f":"INDIRECT(ADDRESS($K709,P$4,1,1,\"3 - Savings Analysis\"))","v":0},{"$f":"INDIRECT(ADDRESS($K709,Q$4,1,1,\"3 - Savings Analysis\"))","v":0},{"$f":"INDIRECT(ADDRESS($K709,R$4,1,1,\"3 - Savings Analysis\"))","v":0},{"$f":"INDIRECT(ADDRESS($K709,S$4,1,1,\"3 - Savings Analysis\"))","v":0},{"$f":"INDIRECT(ADDRESS($K709,T$4,1,1,\"3 - Savings Analysis\"))","v":0}]
["","","","","","","","","",null,719,{"$f":"INDIRECT(ADDRESS($K710,L$4,1,1,\"3 - Savings Analysis\"))","v":0},{"$f":"INDIRECT(ADDRESS($K710,M$4,1,1,\"3 - Savings Analysis\"))","v":0},{"$f":"INDIRECT(ADDRESS($K710,N$4,1,1,\"3 - Savings Analysis\"))","v":0},{"$f":"INDIRECT(ADDRESS($K710,O$4,1,1,\"3 - Savings Analysis\"))","v":0},{"$f":"INDIRECT(ADDRESS($K710,P$4,1,1,\"3 - Savings Analysis\"))","v":0},{"$f":"INDIRECT(ADDRESS($K710,Q$4,1,1,\"3 - Savings Analysis\"))","v":0},{"$f":"INDIRECT(ADDRESS($K710,R$4,1,1,\"3 - Savings Analysis\"))","v":0},{"$f":"INDIRECT(ADDRESS($K710,S$4,1,1,\"3 - Savings Analysis\"))","v":0},{"$f":"INDIRECT(ADDRESS($K710,T$4,1,1,\"3 - Savings Analysis\"))","v":0}]
["","","","","","","","","",null,720,{"$f":"INDIRECT(ADDRESS($K711,L$4,1,1,\"3 - Savings Analysis\"))","v":0},{"$f":"INDIRECT(ADDRESS($K711,M$4,1,1,\"3 - Savings Analysis\"))","v":0},{"$f":"INDIRECT(ADDRESS($K711,N$4,1,1,\"3 - Savings Analysis\"))","v":0},{"$f":"INDIRECT(ADDRESS($K711,O$4,1,1,\"3 - Savings Analysis\"))","v":0},{"$f":"INDIRECT(ADDRESS($K711,P$4,1,1,\"3 - Savings Analysis\"))","v":0},{"$f":"INDIRECT(ADDRESS($K711,Q$4,1,1,\"3 - Savings Analysis\"))","v":0},{"$f":"INDIRECT(ADDRESS($K711,R$4,1,1,\"3 - Savings Analysis\"))","v":0},{"$f":"INDIRECT(ADDRESS($K711,S$4,1,1,\"3 - Savings Analysis\"))","v":0},{"$f":"INDIRECT(ADDRESS($K711,T$4,1,1,\"3 - Savings Analysis\"))","v":0}]
["","","","","","","","","",null,721,{"$f":"INDIRECT(ADDRESS($K712,L$4,1,1,\"3 - Savings Analysis\"))","v":0},{"$f":"INDIRECT(ADDRESS($K712,M$4,1,1,\"3 - Savings Analysis\"))","v":0},{"$f":"INDIRECT(ADDRESS($K712,N$4,1,1,\"3 - Savings Analysis\"))","v":0},{"$f":"INDIRECT(ADDRESS($K712,O$4,1,1,\"3 - Savings Analysis\"))","v":0},{"$f":"INDIRECT(ADDRESS($K712,P$4,1,1,\"3 - Savings Analysis\"))","v":0},{"$f":"INDIRECT(ADDRESS($K712,Q$4,1,1,\"3 - Savings Analysis\"))","v":0},{"$f":"INDIRECT(ADDRESS($K712,R$4,1,1,\"3 - Savings Analysis\"))","v":0},{"$f":"INDIRECT(ADDRESS($K712,S$4,1,1,\"3 - Savings Analysis\"))","v":0},{"$f":"INDIRECT(ADDRESS($K712,T$4,1,1,\"3 - Savings Analysis\"))","v":0}]
["","","","","","","","","",null,{"$f":"K712+1","v":722},{"$f":"INDIRECT(ADDRESS($K713,L$4,1,1,\"3 - Savings Analysis\"))","v":0},{"$f":"INDIRECT(ADDRESS($K713,M$4,1,1,\"3 - Savings Analysis\"))","v":0},{"$f":"INDIRECT(ADDRESS($K713,N$4,1,1,\"3 - Savings Analysis\"))","v":0},{"$f":"INDIRECT(ADDRESS($K713,O$4,1,1,\"3 - Savings Analysis\"))","v":0},{"$f":"INDIRECT(ADDRESS($K713,P$4,1,1,\"3 - Savings Analysis\"))","v":0},{"$f":"INDIRECT(ADDRESS($K713,Q$4,1,1,\"3 - Savings Analysis\"))","v":0},{"$f":"INDIRECT(ADDRESS($K713,R$4,1,1,\"3 - Savings Analysis\"))","v":0},{"$f":"INDIRECT(ADDRESS($K713,S$4,1,1,\"3 - Savings Analysis\"))","v":0},{"$f":"INDIRECT(ADDRESS($K713,T$4,1,1,\"3 - Savings Analysis\"))","v":0}]
["","","","","","","","","",null,723,{"$f":"INDIRECT(ADDRESS($K714,L$4,1,1,\"3 - Savings Analysis\"))","v":0},{"$f":"INDIRECT(ADDRESS($K714,M$4,1,1,\"3 - Savings Analysis\"))","v":0},{"$f":"INDIRECT(ADDRESS($K714,N$4,1,1,\"3 - Savings Analysis\"))","v":0},{"$f":"INDIRECT(ADDRESS($K714,O$4,1,1,\"3 - Savings Analysis\"))","v":0},{"$f":"INDIRECT(ADDRESS($K714,P$4,1,1,\"3 - Savings Analysis\"))","v":0},{"$f":"INDIRECT(ADDRESS($K714,Q$4,1,1,\"3 - Savings Analysis\"))","v":0},{"$f":"INDIRECT(ADDRESS($K714,R$4,1,1,\"3 - Savings Analysis\"))","v":0},{"$f":"INDIRECT(ADDRESS($K714,S$4,1,1,\"3 - Savings Analysis\"))","v":0},{"$f":"INDIRECT(ADDRESS($K714,T$4,1,1,\"3 - Savings Analysis\"))","v":0}]
["","","","","","","","","",null,724,{"$f":"INDIRECT(ADDRESS($K715,L$4,1,1,\"3 - Savings Analysis\"))","v":0},{"$f":"INDIRECT(ADDRESS($K715,M$4,1,1,\"3 - Savings Analysis\"))","v":0},{"$f":"INDIRECT(ADDRESS($K715,N$4,1,1,\"3 - Savings Analysis\"))","v":0},{"$f":"INDIRECT(ADDRESS($K715,O$4,1,1,\"3 - Savings Analysis\"))","v":0},{"$f":"INDIRECT(ADDRESS($K715,P$4,1,1,\"3 - Savings Analysis\"))","v":0},{"$f":"INDIRECT(ADDRESS($K715,Q$4,1,1,\"3 - Savings Analysis\"))","v":0},{"$f":"INDIRECT(ADDRESS($K715,R$4,1,1,\"3 - Savings Analysis\"))","v":0},{"$f":"INDIRECT(ADDRESS($K715,S$4,1,1,\"3 - Savings Analysis\"))","v":0},{"$f":"INDIRECT(ADDRESS($K715,T$4,1,1,\"3 - Savings Analysis\"))","v":0}]
["","","","","","","","","",null,725,{"$f":"INDIRECT(ADDRESS($K716,L$4,1,1,\"3 - Savings Analysis\"))","v":0},{"$f":"INDIRECT(ADDRESS($K716,M$4,1,1,\"3 - Savings Analysis\"))","v":0},{"$f":"INDIRECT(ADDRESS($K716,N$4,1,1,\"3 - Savings Analysis\"))","v":0},{"$f":"INDIRECT(ADDRESS($K716,O$4,1,1,\"3 - Savings Analysis\"))","v":0},{"$f":"INDIRECT(ADDRESS($K716,P$4,1,1,\"3 - Savings Analysis\"))","v":0},{"$f":"INDIRECT(ADDRESS($K716,Q$4,1,1,\"3 - Savings Analysis\"))","v":0},{"$f":"INDIRECT(ADDRESS($K716,R$4,1,1,\"3 - Savings Analysis\"))","v":0},{"$f":"INDIRECT(ADDRESS($K716,S$4,1,1,\"3 - Savings Analysis\"))","v":0},{"$f":"INDIRECT(ADDRESS($K716,T$4,1,1,\"3 - Savings Analysis\"))","v":0}]
[{"$f":"IF($K717<=$M$2,L717,\"\")","v":""},{"$f":"IF($K717<=$M$2,IF($A717=\"Total\",\"\",M717),\"\")","v":""},{"$f":"IF($K717<=$M$2,IF($A717=\"Total\",\"\",N717),\"\")","v":""},{"$f":"IF($K717<=$M$2,O717,\"\")","v":""},{"$f":"IF($K717<=$M$2,P717,\"\")","v":""},{"$f":"IF($K717<=$M$2,IF($A717=\"Total\",\"\",Q717),\"\")","v":""},{"$f":"IF($K717<=$M$2,IF($A717=\"Total\",\"\",R717),\"\")","v":""},{"$f":"IF($K717<=$M$2,IF($A717=\"Total\",\"\",IF($T717=0,\"\",S717)),\"\")","v":""},{"$f":"IF($K717<=$M$2,IF($A717=\"Total\",\"\",IF($T717=0,\"\",T717)),\"\")","v":""},null,726,{"$f":"INDIRECT(ADDRESS($K717,L$4,1,1,\"3 - Savings Analysis\"))","v":0},{"$f":"INDIRECT(ADDRESS($K717,M$4,1,1,\"3 - Savings Analysis\"))","v":0},{"$f":"INDIRECT(ADDRESS($K717,N$4,1,1,\"3 - Savings Analysis\"))","v":0},{"$f":"INDIRECT(ADDRESS($K717,O$4,1,1,\"3 - Savings Analysis\"))","v":0},{"$f":"INDIRECT(ADDRESS($K717,P$4,1,1,\"3 - Savings Analysis\"))","v":0},{"$f":"INDIRECT(ADDRESS($K717,Q$4,1,1,\"3 - Savings Analysis\"))","v":0},{"$f":"INDIRECT(ADDRESS($K717,R$4,1,1,\"3 - Savings Analysis\"))","v":0},{"$f":"INDIRECT(ADDRESS($K717,S$4,1,1,\"3 - Savings Analysis\"))","v":0},{"$f":"INDIRECT(ADDRESS($K717,T$4,1,1,\"3 - Savings Analysis\"))","v":0}]
["","","","","","","","","",null,727,{"$f":"INDIRECT(ADDRESS($K718,L$4,1,1,\"3 - Savings Analysis\"))","v":0},{"$f":"INDIRECT(ADDRESS($K718,M$4,1,1,\"3 - Savings Analysis\"))","v":0},{"$f":"INDIRECT(ADDRESS($K718,N$4,1,1,\"3 - Savings Analysis\"))","v":0},{"$f":"INDIRECT(ADDRESS($K718,O$4,1,1,\"3 - Savings Analysis\"))","v":0},{"$f":"INDIRECT(ADDRESS($K718,P$4,1,1,\"3 - Savings Analysis\"))","v":0},{"$f":"INDIRECT(ADDRESS($K718,Q$4,1,1,\"3 - Savings Analysis\"))","v":0},{"$f":"INDIRECT(ADDRESS($K718,R$4,1,1,\"3 - Savings Analysis\"))","v":0},{"$f":"INDIRECT(ADDRESS($K718,S$4,1,1,\"3 - Savings Analysis\"))","v":0},{"$f":"INDIRECT(ADDRESS($K718,T$4,1,1,\"3 - Savings Analysis\"))","v":0}]
["","","","","","","","","",null,728,{"$f":"INDIRECT(ADDRESS($K719,L$4,1,1,\"3 - Savings Analysis\"))","v":0},{"$f":"INDIRECT(ADDRESS($K719,M$4,1,1,\"3 - Savings Analysis\"))","v":0},{"$f":"INDIRECT(ADDRESS($K719,N$4,1,1,\"3 - Savings Analysis\"))","v":0},{"$f":"INDIRECT(ADDRESS($K719,O$4,1,1,\"3 - Savings Analysis\"))","v":0},{"$f":"INDIRECT(ADDRESS($K719,P$4,1,1,\"3 - Savings Analysis\"))","v":0},{"$f":"INDIRECT(ADDRESS($K719,Q$4,1,1,\"3 - Savings Analysis\"))","v":0},{"$f":"INDIRECT(ADDRESS($K719,R$4,1,1,\"3 - Savings Analysis\"))","v":0},{"$f":"INDIRECT(ADDRESS($K719,S$4,1,1,\"3 - Savings Analysis\"))","v":0},{"$f":"INDIRECT(ADDRESS($K719,T$4,1,1,\"3 - Savings Analysis\"))","v":0}]
["","","","","","","","","",null,729,{"$f":"INDIRECT(ADDRESS($K720,L$4,1,1,\"3 - Savings Analysis\"))","v":0},{"$f":"INDIRECT(ADDRESS($K720,M$4,1,1,\"3 - Savings Analysis\"))","v":0},{"$f":"INDIRECT(ADDRESS($K720,N$4,1,1,\"3 - Savings Analysis\"))","v":0},{"$f":"INDIRECT(ADDRESS($K720,O$4,1,1,\"3 - Savings Analysis\"))","v":0},{"$f":"INDIRECT(ADDRESS($K720,P$4,1,1,\"3 - Savings Analysis\"))","v":0},{"$f":"INDIRECT(ADDRESS($K720,Q$4,1,1,\"3 - Savings Analysis\"))","v":0},{"$f":"INDIRECT(ADDRESS($K720,R$4,1,1,\"3 - Savings Analysis\"))","v":0},{"$f":"INDIRECT(ADDRESS($K720,S$4,1,1,\"3 - Savings Analysis\"))","v":0},{"$f":"INDIRECT(ADDRESS($K720,T$4,1,1,\"3 - Savings Analysis\"))","v":0}]
["","","","","","","","","",null,730,{"$f":"INDIRECT(ADDRESS($K721,L$4,1,1,\"3 - Savings Analysis\"))","v":0},{"$f":"INDIRECT(ADDRESS($K721,M$4,1,1,\"3 - Savings Analysis\"))","v":0},{"$f":"INDIRECT(ADDRESS($K721,N$4,1,1,\"3 - Savings Analysis\"))","v":0},{"$f":"INDIRECT(ADDRESS($K721,O$4,1,1,\"3 - Savings Analysis\"))","v":0},{"$f":"INDIRECT(ADDRESS($K721,P$4,1,1,\"3 - Savings Analysis\"))","v":0},{"$f":"INDIRECT(ADDRESS($K721,Q$4,1,1,\"3 - Savings Analysis\"))","v":0},{"$f":"INDIRECT(ADDRESS($K721,R$4,1,1,\"3 - Savings Analysis\"))","v":0},{"$f":"INDIRECT(ADDRESS($K721,S$4,1,1,\"3 - Savings Analysis\"))","v":0},{"$f":"INDIRECT(ADDRESS($K721,T$4,1,1,\"3 - Savings Analysis\"))","v":0}]
["","","","","","","","","",null,731,{"$f":"INDIRECT(ADDRESS($K722,L$4,1,1,\"3 - Savings Analysis\"))","v":0},{"$f":"INDIRECT(ADDRESS($K722,M$4,1,1,\"3 - Savings Analysis\"))","v":0},{"$f":"INDIRECT(ADDRESS($K722,N$4,1,1,\"3 - Savings Analysis\"))","v":0},{"$f":"INDIRECT(ADDRESS($K722,O$4,1,1,\"3 - Savings Analysis\"))","v":0},{"$f":"INDIRECT(ADDRESS($K722,P$4,1,1,\"3 - Savings Analysis\"))","v":0},{"$f":"INDIRECT(ADDRESS($K722,Q$4,1,1,\"3 - Savings Analysis\"))","v":0},{"$f":"INDIRECT(ADDRESS($K722,R$4,1,1,\"3 - Savings Analysis\"))","v":0},{"$f":"INDIRECT(ADDRESS($K722,S$4,1,1,\"3 - Savings Analysis\"))","v":0},{"$f":"INDIRECT(ADDRESS($K722,T$4,1,1,\"3 - Savings Analysis\"))","v":0}]
["","","","","","","","","",null,732,{"$f":"INDIRECT(ADDRESS($K723,L$4,1,1,\"3 - Savings Analysis\"))","v":0},{"$f":"INDIRECT(ADDRESS($K723,M$4,1,1,\"3 - Savings Analysis\"))","v":0},{"$f":"INDIRECT(ADDRESS($K723,N$4,1,1,\"3 - Savings Analysis\"))","v":0},{"$f":"INDIRECT(ADDRESS($K723,O$4,1,1,\"3 - Savings Analysis\"))","v":0},{"$f":"INDIRECT(ADDRESS($K723,P$4,1,1,\"3 - Savings Analysis\"))","v":0},{"$f":"INDIRECT(ADDRESS($K723,Q$4,1,1,\"3 - Savings Analysis\"))","v":0},{"$f":"INDIRECT(ADDRESS($K723,R$4,1,1,\"3 - Savings Analysis\"))","v":0},{"$f":"INDIRECT(ADDRESS($K723,S$4,1,1,\"3 - Savings Analysis\"))","v":0},{"$f":"INDIRECT(ADDRESS($K723,T$4,1,1,\"3 - Savings Analysis\"))","v":0}]
["","","","","","","","","",null,733,{"$f":"INDIRECT(ADDRESS($K724,L$4,1,1,\"3 - Savings Analysis\"))","v":0},{"$f":"INDIRECT(ADDRESS($K724,M$4,1,1,\"3 - Savings Analysis\"))","v":0},{"$f":"INDIRECT(ADDRESS($K724,N$4,1,1,\"3 - Savings Analysis\"))","v":0},{"$f":"INDIRECT(ADDRESS($K724,O$4,1,1,\"3 - Savings Analysis\"))","v":0},{"$f":"INDIRECT(ADDRESS($K724,P$4,1,1,\"3 - Savings Analysis\"))","v":0},{"$f":"INDIRECT(ADDRESS($K724,Q$4,1,1,\"3 - Savings Analysis\"))","v":0},{"$f":"INDIRECT(ADDRESS($K724,R$4,1,1,\"3 - Savings Analysis\"))","v":0},{"$f":"INDIRECT(ADDRESS($K724,S$4,1,1,\"3 - Savings Analysis\"))","v":0},{"$f":"INDIRECT(ADDRESS($K724,T$4,1,1,\"3 - Savings Analysis\"))","v":0}]
["","","","","","","","","",null,734,{"$f":"INDIRECT(ADDRESS($K725,L$4,1,1,\"3 - Savings Analysis\"))","v":0},{"$f":"INDIRECT(ADDRESS($K725,M$4,1,1,\"3 - Savings Analysis\"))","v":0},{"$f":"INDIRECT(ADDRESS($K725,N$4,1,1,\"3 - Savings Analysis\"))","v":0},{"$f":"INDIRECT(ADDRESS($K725,O$4,1,1,\"3 - Savings Analysis\"))","v":0},{"$f":"INDIRECT(ADDRESS($K725,P$4,1,1,\"3 - Savings Analysis\"))","v":0},{"$f":"INDIRECT(ADDRESS($K725,Q$4,1,1,\"3 - Savings Analysis\"))","v":0},{"$f":"INDIRECT(ADDRESS($K725,R$4,1,1,\"3 - Savings Analysis\"))","v":0},{"$f":"INDIRECT(ADDRESS($K725,S$4,1,1,\"3 - Savings Analysis\"))","v":0},{"$f":"INDIRECT(ADDRESS($K725,T$4,1,1,\"3 - Savings Analysis\"))","v":0}]
["","","","","","","","","",null,735,{"$f":"INDIRECT(ADDRESS($K726,L$4,1,1,\"3 - Savings Analysis\"))","v":0},{"$f":"INDIRECT(ADDRESS($K726,M$4,1,1,\"3 - Savings Analysis\"))","v":0},{"$f":"INDIRECT(ADDRESS($K726,N$4,1,1,\"3 - Savings Analysis\"))","v":0},{"$f":"INDIRECT(ADDRESS($K726,O$4,1,1,\"3 - Savings Analysis\"))","v":0},{"$f":"INDIRECT(ADDRESS($K726,P$4,1,1,\"3 - Savings Analysis\"))","v":0},{"$f":"INDIRECT(ADDRESS($K726,Q$4,1,1,\"3 - Savings Analysis\"))","v":0},{"$f":"INDIRECT(ADDRESS($K726,R$4,1,1,\"3 - Savings Analysis\"))","v":0},{"$f":"INDIRECT(ADDRESS($K726,S$4,1,1,\"3 - Savings Analysis\"))","v":0},{"$f":"INDIRECT(ADDRESS($K726,T$4,1,1,\"3 - Savings Analysis\"))","v":0}]
["","","","","","","","","",null,736,{"$f":"INDIRECT(ADDRESS($K727,L$4,1,1,\"3 - Savings Analysis\"))","v":0},{"$f":"INDIRECT(ADDRESS($K727,M$4,1,1,\"3 - Savings Analysis\"))","v":0},{"$f":"INDIRECT(ADDRESS($K727,N$4,1,1,\"3 - Savings Analysis\"))","v":0},{"$f":"INDIRECT(ADDRESS($K727,O$4,1,1,\"3 - Savings Analysis\"))","v":0},{"$f":"INDIRECT(ADDRESS($K727,P$4,1,1,\"3 - Savings Analysis\"))","v":0},{"$f":"INDIRECT(ADDRESS($K727,Q$4,1,1,\"3 - Savings Analysis\"))","v":0},{"$f":"INDIRECT(ADDRESS($K727,R$4,1,1,\"3 - Savings Analysis\"))","v":0},{"$f":"INDIRECT(ADDRESS($K727,S$4,1,1,\"3 - Savings Analysis\"))","v":0},{"$f":"INDIRECT(ADDRESS($K727,T$4,1,1,\"3 - Savings Analysis\"))","v":0}]
["","","","","","","","","",null,737,{"$f":"INDIRECT(ADDRESS($K728,L$4,1,1,\"3 - Savings Analysis\"))","v":0},{"$f":"INDIRECT(ADDRESS($K728,M$4,1,1,\"3 - Savings Analysis\"))","v":0},{"$f":"INDIRECT(ADDRESS($K728,N$4,1,1,\"3 - Savings Analysis\"))","v":0},{"$f":"INDIRECT(ADDRESS($K728,O$4,1,1,\"3 - Savings Analysis\"))","v":0},{"$f":"INDIRECT(ADDRESS($K728,P$4,1,1,\"3 - Savings Analysis\"))","v":0},{"$f":"INDIRECT(ADDRESS($K728,Q$4,1,1,\"3 - Savings Analysis\"))","v":0},{"$f":"INDIRECT(ADDRESS($K728,R$4,1,1,\"3 - Savings Analysis\"))","v":0},{"$f":"INDIRECT(ADDRESS($K728,S$4,1,1,\"3 - Savings Analysis\"))","v":0},{"$f":"INDIRECT(ADDRESS($K728,T$4,1,1,\"3 - Savings Analysis\"))","v":0}]
["","","","","","","","","",null,738,{"$f":"INDIRECT(ADDRESS($K729,L$4,1,1,\"3 - Savings Analysis\"))","v":0},{"$f":"INDIRECT(ADDRESS($K729,M$4,1,1,\"3 - Savings Analysis\"))","v":0},{"$f":"INDIRECT(ADDRESS($K729,N$4,1,1,\"3 - Savings Analysis\"))","v":0},{"$f":"INDIRECT(ADDRESS($K729,O$4,1,1,\"3 - Savings Analysis\"))","v":0},{"$f":"INDIRECT(ADDRESS($K729,P$4,1,1,\"3 - Savings Analysis\"))","v":0},{"$f":"INDIRECT(ADDRESS($K729,Q$4,1,1,\"3 - Savings Analysis\"))","v":0},{"$f":"INDIRECT(ADDRESS($K729,R$4,1,1,\"3 - Savings Analysis\"))","v":0},{"$f":"INDIRECT(ADDRESS($K729,S$4,1,1,\"3 - Savings Analysis\"))","v":0},{"$f":"INDIRECT(ADDRESS($K729,T$4,1,1,\"3 - Savings Analysis\"))","v":0}]
["","","","","","","","","",null,739,{"$f":"INDIRECT(ADDRESS($K730,L$4,1,1,\"3 - Savings Analysis\"))","v":0},{"$f":"INDIRECT(ADDRESS($K730,M$4,1,1,\"3 - Savings Analysis\"))","v":0},{"$f":"INDIRECT(ADDRESS($K730,N$4,1,1,\"3 - Savings Analysis\"))","v":0},{"$f":"INDIRECT(ADDRESS($K730,O$4,1,1,\"3 - Savings Analysis\"))","v":0},{"$f":"INDIRECT(ADDRESS($K730,P$4,1,1,\"3 - Savings Analysis\"))","v":0},{"$f":"INDIRECT(ADDRESS($K730,Q$4,1,1,\"3 - Savings Analysis\"))","v":0},{"$f":"INDIRECT(ADDRESS($K730,R$4,1,1,\"3 - Savings Analysis\"))","v":0},{"$f":"INDIRECT(ADDRESS($K730,S$4,1,1,\"3 - Savings Analysis\"))","v":0},{"$f":"INDIRECT(ADDRESS($K730,T$4,1,1,\"3 - Savings Analysis\"))","v":0}]
["","","","","","","","","",null,740,{"$f":"INDIRECT(ADDRESS($K731,L$4,1,1,\"3 - Savings Analysis\"))","v":0},{"$f":"INDIRECT(ADDRESS($K731,M$4,1,1,\"3 - Savings Analysis\"))","v":0},{"$f":"INDIRECT(ADDRESS($K731,N$4,1,1,\"3 - Savings Analysis\"))","v":0},{"$f":"INDIRECT(ADDRESS($K731,O$4,1,1,\"3 - Savings Analysis\"))","v":0},{"$f":"INDIRECT(ADDRESS($K731,P$4,1,1,\"3 - Savings Analysis\"))","v":0},{"$f":"INDIRECT(ADDRESS($K731,Q$4,1,1,\"3 - Savings Analysis\"))","v":0},{"$f":"INDIRECT(ADDRESS($K731,R$4,1,1,\"3 - Savings Analysis\"))","v":0},{"$f":"INDIRECT(ADDRESS($K731,S$4,1,1,\"3 - Savings Analysis\"))","v":0},{"$f":"INDIRECT(ADDRESS($K731,T$4,1,1,\"3 - Savings Analysis\"))","v":0}]
["","","","","","","","","",null,741,{"$f":"INDIRECT(ADDRESS($K732,L$4,1,1,\"3 - Savings Analysis\"))","v":0},{"$f":"INDIRECT(ADDRESS($K732,M$4,1,1,\"3 - Savings Analysis\"))","v":0},{"$f":"INDIRECT(ADDRESS($K732,N$4,1,1,\"3 - Savings Analysis\"))","v":0},{"$f":"INDIRECT(ADDRESS($K732,O$4,1,1,\"3 - Savings Analysis\"))","v":0},{"$f":"INDIRECT(ADDRESS($K732,P$4,1,1,\"3 - Savings Analysis\"))","v":0},{"$f":"INDIRECT(ADDRESS($K732,Q$4,1,1,\"3 - Savings Analysis\"))","v":0},{"$f":"INDIRECT(ADDRESS($K732,R$4,1,1,\"3 - Savings Analysis\"))","v":0},{"$f":"INDIRECT(ADDRESS($K732,S$4,1,1,\"3 - Savings Analysis\"))","v":0},{"$f":"INDIRECT(ADDRESS($K732,T$4,1,1,\"3 - Savings Analysis\"))","v":0}]
["","","","","","","","","",null,742,{"$f":"INDIRECT(ADDRESS($K733,L$4,1,1,\"3 - Savings Analysis\"))","v":0},{"$f":"INDIRECT(ADDRESS($K733,M$4,1,1,\"3 - Savings Analysis\"))","v":0},{"$f":"INDIRECT(ADDRESS($K733,N$4,1,1,\"3 - Savings Analysis\"))","v":0},{"$f":"INDIRECT(ADDRESS($K733,O$4,1,1,\"3 - Savings Analysis\"))","v":0},{"$f":"INDIRECT(ADDRESS($K733,P$4,1,1,\"3 - Savings Analysis\"))","v":0},{"$f":"INDIRECT(ADDRESS($K733,Q$4,1,1,\"3 - Savings Analysis\"))","v":0},{"$f":"INDIRECT(ADDRESS($K733,R$4,1,1,\"3 - Savings Analysis\"))","v":0},{"$f":"INDIRECT(ADDRESS($K733,S$4,1,1,\"3 - Savings Analysis\"))","v":0},{"$f":"INDIRECT(ADDRESS($K733,T$4,1,1,\"3 - Savings Analysis\"))","v":0}]
["","","","","","","","","",null,743,{"$f":"INDIRECT(ADDRESS($K734,L$4,1,1,\"3 - Savings Analysis\"))","v":0},{"$f":"INDIRECT(ADDRESS($K734,M$4,1,1,\"3 - Savings Analysis\"))","v":0},{"$f":"INDIRECT(ADDRESS($K734,N$4,1,1,\"3 - Savings Analysis\"))","v":0},{"$f":"INDIRECT(ADDRESS($K734,O$4,1,1,\"3 - Savings Analysis\"))","v":0},{"$f":"INDIRECT(ADDRESS($K734,P$4,1,1,\"3 - Savings Analysis\"))","v":0},{"$f":"INDIRECT(ADDRESS($K734,Q$4,1,1,\"3 - Savings Analysis\"))","v":0},{"$f":"INDIRECT(ADDRESS($K734,R$4,1,1,\"3 - Savings Analysis\"))","v":0},{"$f":"INDIRECT(ADDRESS($K734,S$4,1,1,\"3 - Savings Analysis\"))","v":0},{"$f":"INDIRECT(ADDRESS($K734,T$4,1,1,\"3 - Savings Analysis\"))","v":0}]
["","","","","","","","","",null,744,{"$f":"INDIRECT(ADDRESS($K735,L$4,1,1,\"3 - Savings Analysis\"))","v":0},{"$f":"INDIRECT(ADDRESS($K735,M$4,1,1,\"3 - Savings Analysis\"))","v":0},{"$f":"INDIRECT(ADDRESS($K735,N$4,1,1,\"3 - Savings Analysis\"))","v":0},{"$f":"INDIRECT(ADDRESS($K735,O$4,1,1,\"3 - Savings Analysis\"))","v":0},{"$f":"INDIRECT(ADDRESS($K735,P$4,1,1,\"3 - Savings Analysis\"))","v":0},{"$f":"INDIRECT(ADDRESS($K735,Q$4,1,1,\"3 - Savings Analysis\"))","v":0},{"$f":"INDIRECT(ADDRESS($K735,R$4,1,1,\"3 - Savings Analysis\"))","v":0},{"$f":"INDIRECT(ADDRESS($K735,S$4,1,1,\"3 - Savings Analysis\"))","v":0},{"$f":"INDIRECT(ADDRESS($K735,T$4,1,1,\"3 - Savings Analysis\"))","v":0}]
["","","","","","","","","",null,745,{"$f":"INDIRECT(ADDRESS($K736,L$4,1,1,\"3 - Savings Analysis\"))","v":0},{"$f":"INDIRECT(ADDRESS($K736,M$4,1,1,\"3 - Savings Analysis\"))","v":0},{"$f":"INDIRECT(ADDRESS($K736,N$4,1,1,\"3 - Savings Analysis\"))","v":0},{"$f":"INDIRECT(ADDRESS($K736,O$4,1,1,\"3 - Savings Analysis\"))","v":0},{"$f":"INDIRECT(ADDRESS($K736,P$4,1,1,\"3 - Savings Analysis\"))","v":0},{"$f":"INDIRECT(ADDRESS($K736,Q$4,1,1,\"3 - Savings Analysis\"))","v":0},{"$f":"INDIRECT(ADDRESS($K736,R$4,1,1,\"3 - Savings Analysis\"))","v":0},{"$f":"INDIRECT(ADDRESS($K736,S$4,1,1,\"3 - Savings Analysis\"))","v":0},{"$f":"INDIRECT(ADDRESS($K736,T$4,1,1,\"3 - Savings Analysis\"))","v":0}]
["","","","","","","","","",null,746,{"$f":"INDIRECT(ADDRESS($K737,L$4,1,1,\"3 - Savings Analysis\"))","v":0},{"$f":"INDIRECT(ADDRESS($K737,M$4,1,1,\"3 - Savings Analysis\"))","v":0},{"$f":"INDIRECT(ADDRESS($K737,N$4,1,1,\"3 - Savings Analysis\"))","v":0},{"$f":"INDIRECT(ADDRESS($K737,O$4,1,1,\"3 - Savings Analysis\"))","v":0},{"$f":"INDIRECT(ADDRESS($K737,P$4,1,1,\"3 - Savings Analysis\"))","v":0},{"$f":"INDIRECT(ADDRESS($K737,Q$4,1,1,\"3 - Savings Analysis\"))","v":0},{"$f":"INDIRECT(ADDRESS($K737,R$4,1,1,\"3 - Savings Analysis\"))","v":0},{"$f":"INDIRECT(ADDRESS($K737,S$4,1,1,\"3 - Savings Analysis\"))","v":0},{"$f":"INDIRECT(ADDRESS($K737,T$4,1,1,\"3 - Savings Analysis\"))","v":0}]
["","","","","","","","","",null,747,{"$f":"INDIRECT(ADDRESS($K738,L$4,1,1,\"3 - Savings Analysis\"))","v":0},{"$f":"INDIRECT(ADDRESS($K738,M$4,1,1,\"3 - Savings Analysis\"))","v":0},{"$f":"INDIRECT(ADDRESS($K738,N$4,1,1,\"3 - Savings Analysis\"))","v":0},{"$f":"INDIRECT(ADDRESS($K738,O$4,1,1,\"3 - Savings Analysis\"))","v":0},{"$f":"INDIRECT(ADDRESS($K738,P$4,1,1,\"3 - Savings Analysis\"))","v":0},{"$f":"INDIRECT(ADDRESS($K738,Q$4,1,1,\"3 - Savings Analysis\"))","v":0},{"$f":"INDIRECT(ADDRESS($K738,R$4,1,1,\"3 - Savings Analysis\"))","v":0},{"$f":"INDIRECT(ADDRESS($K738,S$4,1,1,\"3 - Savings Analysis\"))","v":0},{"$f":"INDIRECT(ADDRESS($K738,T$4,1,1,\"3 - Savings Analysis\"))","v":0}]
["","","","","","","","","",null,748,{"$f":"INDIRECT(ADDRESS($K739,L$4,1,1,\"3 - Savings Analysis\"))","v":0},{"$f":"INDIRECT(ADDRESS($K739,M$4,1,1,\"3 - Savings Analysis\"))","v":0},{"$f":"INDIRECT(ADDRESS($K739,N$4,1,1,\"3 - Savings Analysis\"))","v":0},{"$f":"INDIRECT(ADDRESS($K739,O$4,1,1,\"3 - Savings Analysis\"))","v":0},{"$f":"INDIRECT(ADDRESS($K739,P$4,1,1,\"3 - Savings Analysis\"))","v":0},{"$f":"INDIRECT(ADDRESS($K739,Q$4,1,1,\"3 - Savings Analysis\"))","v":0},{"$f":"INDIRECT(ADDRESS($K739,R$4,1,1,\"3 - Savings Analysis\"))","v":0},{"$f":"INDIRECT(ADDRESS($K739,S$4,1,1,\"3 - Savings Analysis\"))","v":0},{"$f":"INDIRECT(ADDRESS($K739,T$4,1,1,\"3 - Savings Analysis\"))","v":0}]
["","","","","","","","","",null,749,{"$f":"INDIRECT(ADDRESS($K740,L$4,1,1,\"3 - Savings Analysis\"))","v":0},{"$f":"INDIRECT(ADDRESS($K740,M$4,1,1,\"3 - Savings Analysis\"))","v":0},{"$f":"INDIRECT(ADDRESS($K740,N$4,1,1,\"3 - Savings Analysis\"))","v":0},{"$f":"INDIRECT(ADDRESS($K740,O$4,1,1,\"3 - Savings Analysis\"))","v":0},{"$f":"INDIRECT(ADDRESS($K740,P$4,1,1,\"3 - Savings Analysis\"))","v":0},{"$f":"INDIRECT(ADDRESS($K740,Q$4,1,1,\"3 - Savings Analysis\"))","v":0},{"$f":"INDIRECT(ADDRESS($K740,R$4,1,1,\"3 - Savings Analysis\"))","v":0},{"$f":"INDIRECT(ADDRESS($K740,S$4,1,1,\"3 - Savings Analysis\"))","v":0},{"$f":"INDIRECT(ADDRESS($K740,T$4,1,1,\"3 - Savings Analysis\"))","v":0}]
["","","","","","","","","",null,750,{"$f":"INDIRECT(ADDRESS($K741,L$4,1,1,\"3 - Savings Analysis\"))","v":0},{"$f":"INDIRECT(ADDRESS($K741,M$4,1,1,\"3 - Savings Analysis\"))","v":0},{"$f":"INDIRECT(ADDRESS($K741,N$4,1,1,\"3 - Savings Analysis\"))","v":0},{"$f":"INDIRECT(ADDRESS($K741,O$4,1,1,\"3 - Savings Analysis\"))","v":0},{"$f":"INDIRECT(ADDRESS($K741,P$4,1,1,\"3 - Savings Analysis\"))","v":0},{"$f":"INDIRECT(ADDRESS($K741,Q$4,1,1,\"3 - Savings Analysis\"))","v":0},{"$f":"INDIRECT(ADDRESS($K741,R$4,1,1,\"3 - Savings Analysis\"))","v":0},{"$f":"INDIRECT(ADDRESS($K741,S$4,1,1,\"3 - Savings Analysis\"))","v":0},{"$f":"INDIRECT(ADDRESS($K741,T$4,1,1,\"3 - Savings Analysis\"))","v":0}]
["","","","","","","","","",null,751,{"$f":"INDIRECT(ADDRESS($K742,L$4,1,1,\"3 - Savings Analysis\"))","v":0},{"$f":"INDIRECT(ADDRESS($K742,M$4,1,1,\"3 - Savings Analysis\"))","v":0},{"$f":"INDIRECT(ADDRESS($K742,N$4,1,1,\"3 - Savings Analysis\"))","v":0},{"$f":"INDIRECT(ADDRESS($K742,O$4,1,1,\"3 - Savings Analysis\"))","v":0},{"$f":"INDIRECT(ADDRESS($K742,P$4,1,1,\"3 - Savings Analysis\"))","v":0},{"$f":"INDIRECT(ADDRESS($K742,Q$4,1,1,\"3 - Savings Analysis\"))","v":0},{"$f":"INDIRECT(ADDRESS($K742,R$4,1,1,\"3 - Savings Analysis\"))","v":0},{"$f":"INDIRECT(ADDRESS($K742,S$4,1,1,\"3 - Savings Analysis\"))","v":0},{"$f":"INDIRECT(ADDRESS($K742,T$4,1,1,\"3 - Savings Analysis\"))","v":0}]
["","","","","","","","","",null,752,{"$f":"INDIRECT(ADDRESS($K743,L$4,1,1,\"3 - Savings Analysis\"))","v":0},{"$f":"INDIRECT(ADDRESS($K743,M$4,1,1,\"3 - Savings Analysis\"))","v":0},{"$f":"INDIRECT(ADDRESS($K743,N$4,1,1,\"3 - Savings Analysis\"))","v":0},{"$f":"INDIRECT(ADDRESS($K743,O$4,1,1,\"3 - Savings Analysis\"))","v":0},{"$f":"INDIRECT(ADDRESS($K743,P$4,1,1,\"3 - Savings Analysis\"))","v":0},{"$f":"INDIRECT(ADDRESS($K743,Q$4,1,1,\"3 - Savings Analysis\"))","v":0},{"$f":"INDIRECT(ADDRESS($K743,R$4,1,1,\"3 - Savings Analysis\"))","v":0},{"$f":"INDIRECT(ADDRESS($K743,S$4,1,1,\"3 - Savings Analysis\"))","v":0},{"$f":"INDIRECT(ADDRESS($K743,T$4,1,1,\"3 - Savings Analysis\"))","v":0}]
["","","","","","","","","",null,753,{"$f":"INDIRECT(ADDRESS($K744,L$4,1,1,\"3 - Savings Analysis\"))","v":0},{"$f":"INDIRECT(ADDRESS($K744,M$4,1,1,\"3 - Savings Analysis\"))","v":0},{"$f":"INDIRECT(ADDRESS($K744,N$4,1,1,\"3 - Savings Analysis\"))","v":0},{"$f":"INDIRECT(ADDRESS($K744,O$4,1,1,\"3 - Savings Analysis\"))","v":0},{"$f":"INDIRECT(ADDRESS($K744,P$4,1,1,\"3 - Savings Analysis\"))","v":0},{"$f":"INDIRECT(ADDRESS($K744,Q$4,1,1,\"3 - Savings Analysis\"))","v":0},{"$f":"INDIRECT(ADDRESS($K744,R$4,1,1,\"3 - Savings Analysis\"))","v":0},{"$f":"INDIRECT(ADDRESS($K744,S$4,1,1,\"3 - Savings Analysis\"))","v":0},{"$f":"INDIRECT(ADDRESS($K744,T$4,1,1,\"3 - Savings Analysis\"))","v":0}]
["","","","","","","","","",null,754,{"$f":"INDIRECT(ADDRESS($K745,L$4,1,1,\"3 - Savings Analysis\"))","v":0},{"$f":"INDIRECT(ADDRESS($K745,M$4,1,1,\"3 - Savings Analysis\"))","v":0},{"$f":"INDIRECT(ADDRESS($K745,N$4,1,1,\"3 - Savings Analysis\"))","v":0},{"$f":"INDIRECT(ADDRESS($K745,O$4,1,1,\"3 - Savings Analysis\"))","v":0},{"$f":"INDIRECT(ADDRESS($K745,P$4,1,1,\"3 - Savings Analysis\"))","v":0},{"$f":"INDIRECT(ADDRESS($K745,Q$4,1,1,\"3 - Savings Analysis\"))","v":0},{"$f":"INDIRECT(ADDRESS($K745,R$4,1,1,\"3 - Savings Analysis\"))","v":0},{"$f":"INDIRECT(ADDRESS($K745,S$4,1,1,\"3 - Savings Analysis\"))","v":0},{"$f":"INDIRECT(ADDRESS($K745,T$4,1,1,\"3 - Savings Analysis\"))","v":0}]
["","","","","","","","","",null,755,{"$f":"INDIRECT(ADDRESS($K746,L$4,1,1,\"3 - Savings Analysis\"))","v":0},{"$f":"INDIRECT(ADDRESS($K746,M$4,1,1,\"3 - Savings Analysis\"))","v":0},{"$f":"INDIRECT(ADDRESS($K746,N$4,1,1,\"3 - Savings Analysis\"))","v":0},{"$f":"INDIRECT(ADDRESS($K746,O$4,1,1,\"3 - Savings Analysis\"))","v":0},{"$f":"INDIRECT(ADDRESS($K746,P$4,1,1,\"3 - Savings Analysis\"))","v":0},{"$f":"INDIRECT(ADDRESS($K746,Q$4,1,1,\"3 - Savings Analysis\"))","v":0},{"$f":"INDIRECT(ADDRESS($K746,R$4,1,1,\"3 - Savings Analysis\"))","v":0},{"$f":"INDIRECT(ADDRESS($K746,S$4,1,1,\"3 - Savings Analysis\"))","v":0},{"$f":"INDIRECT(ADDRESS($K746,T$4,1,1,\"3 - Savings Analysis\"))","v":0}]
["","","","","","","","","",null,756,{"$f":"INDIRECT(ADDRESS($K747,L$4,1,1,\"3 - Savings Analysis\"))","v":0},{"$f":"INDIRECT(ADDRESS($K747,M$4,1,1,\"3 - Savings Analysis\"))","v":0},{"$f":"INDIRECT(ADDRESS($K747,N$4,1,1,\"3 - Savings Analysis\"))","v":0},{"$f":"INDIRECT(ADDRESS($K747,O$4,1,1,\"3 - Savings Analysis\"))","v":0},{"$f":"INDIRECT(ADDRESS($K747,P$4,1,1,\"3 - Savings Analysis\"))","v":0},{"$f":"INDIRECT(ADDRESS($K747,Q$4,1,1,\"3 - Savings Analysis\"))","v":0},{"$f":"INDIRECT(ADDRESS($K747,R$4,1,1,\"3 - Savings Analysis\"))","v":0},{"$f":"INDIRECT(ADDRESS($K747,S$4,1,1,\"3 - Savings Analysis\"))","v":0},{"$f":"INDIRECT(ADDRESS($K747,T$4,1,1,\"3 - Savings Analysis\"))","v":0}]
["","","","","","","","","",null,757,{"$f":"INDIRECT(ADDRESS($K748,L$4,1,1,\"3 - Savings Analysis\"))","v":0},{"$f":"INDIRECT(ADDRESS($K748,M$4,1,1,\"3 - Savings Analysis\"))","v":0},{"$f":"INDIRECT(ADDRESS($K748,N$4,1,1,\"3 - Savings Analysis\"))","v":0},{"$f":"INDIRECT(ADDRESS($K748,O$4,1,1,\"3 - Savings Analysis\"))","v":0},{"$f":"INDIRECT(ADDRESS($K748,P$4,1,1,\"3 - Savings Analysis\"))","v":0},{"$f":"INDIRECT(ADDRESS($K748,Q$4,1,1,\"3 - Savings Analysis\"))","v":0},{"$f":"INDIRECT(ADDRESS($K748,R$4,1,1,\"3 - Savings Analysis\"))","v":0},{"$f":"INDIRECT(ADDRESS($K748,S$4,1,1,\"3 - Savings Analysis\"))","v":0},{"$f":"INDIRECT(ADDRESS($K748,T$4,1,1,\"3 - Savings Analysis\"))","v":0}]
["","","","","","","","","",null,758,{"$f":"INDIRECT(ADDRESS($K749,L$4,1,1,\"3 - Savings Analysis\"))","v":0},{"$f":"INDIRECT(ADDRESS($K749,M$4,1,1,\"3 - Savings Analysis\"))","v":0},{"$f":"INDIRECT(ADDRESS($K749,N$4,1,1,\"3 - Savings Analysis\"))","v":0},{"$f":"INDIRECT(ADDRESS($K749,O$4,1,1,\"3 - Savings Analysis\"))","v":0},{"$f":"INDIRECT(ADDRESS($K749,P$4,1,1,\"3 - Savings Analysis\"))","v":0},{"$f":"INDIRECT(ADDRESS($K749,Q$4,1,1,\"3 - Savings Analysis\"))","v":0},{"$f":"INDIRECT(ADDRESS($K749,R$4,1,1,\"3 - Savings Analysis\"))","v":0},{"$f":"INDIRECT(ADDRESS($K749,S$4,1,1,\"3 - Savings Analysis\"))","v":0},{"$f":"INDIRECT(ADDRESS($K749,T$4,1,1,\"3 - Savings Analysis\"))","v":0}]
["","","","","","","","","",null,759,{"$f":"INDIRECT(ADDRESS($K750,L$4,1,1,\"3 - Savings Analysis\"))","v":0},{"$f":"INDIRECT(ADDRESS($K750,M$4,1,1,\"3 - Savings Analysis\"))","v":0},{"$f":"INDIRECT(ADDRESS($K750,N$4,1,1,\"3 - Savings Analysis\"))","v":0},{"$f":"INDIRECT(ADDRESS($K750,O$4,1,1,\"3 - Savings Analysis\"))","v":0},{"$f":"INDIRECT(ADDRESS($K750,P$4,1,1,\"3 - Savings Analysis\"))","v":0},{"$f":"INDIRECT(ADDRESS($K750,Q$4,1,1,\"3 - Savings Analysis\"))","v":0},{"$f":"INDIRECT(ADDRESS($K750,R$4,1,1,\"3 - Savings Analysis\"))","v":0},{"$f":"INDIRECT(ADDRESS($K750,S$4,1,1,\"3 - Savings Analysis\"))","v":0},{"$f":"INDIRECT(ADDRESS($K750,T$4,1,1,\"3 - Savings Analysis\"))","v":0}]
["","","","","","","","","",null,760,{"$f":"INDIRECT(ADDRESS($K751,L$4,1,1,\"3 - Savings Analysis\"))","v":0},{"$f":"INDIRECT(ADDRESS($K751,M$4,1,1,\"3 - Savings Analysis\"))","v":0},{"$f":"INDIRECT(ADDRESS($K751,N$4,1,1,\"3 - Savings Analysis\"))","v":0},{"$f":"INDIRECT(ADDRESS($K751,O$4,1,1,\"3 - Savings Analysis\"))","v":0},{"$f":"INDIRECT(ADDRESS($K751,P$4,1,1,\"3 - Savings Analysis\"))","v":0},{"$f":"INDIRECT(ADDRESS($K751,Q$4,1,1,\"3 - Savings Analysis\"))","v":0},{"$f":"INDIRECT(ADDRESS($K751,R$4,1,1,\"3 - Savings Analysis\"))","v":0},{"$f":"INDIRECT(ADDRESS($K751,S$4,1,1,\"3 - Savings Analysis\"))","v":0},{"$f":"INDIRECT(ADDRESS($K751,T$4,1,1,\"3 - Savings Analysis\"))","v":0}]
["","","","","","","","","",null,761,{"$f":"INDIRECT(ADDRESS($K752,L$4,1,1,\"3 - Savings Analysis\"))","v":0},{"$f":"INDIRECT(ADDRESS($K752,M$4,1,1,\"3 - Savings Analysis\"))","v":0},{"$f":"INDIRECT(ADDRESS($K752,N$4,1,1,\"3 - Savings Analysis\"))","v":0},{"$f":"INDIRECT(ADDRESS($K752,O$4,1,1,\"3 - Savings Analysis\"))","v":0},{"$f":"INDIRECT(ADDRESS($K752,P$4,1,1,\"3 - Savings Analysis\"))","v":0},{"$f":"INDIRECT(ADDRESS($K752,Q$4,1,1,\"3 - Savings Analysis\"))","v":0},{"$f":"INDIRECT(ADDRESS($K752,R$4,1,1,\"3 - Savings Analysis\"))","v":0},{"$f":"INDIRECT(ADDRESS($K752,S$4,1,1,\"3 - Savings Analysis\"))","v":0},{"$f":"INDIRECT(ADDRESS($K752,T$4,1,1,\"3 - Savings Analysis\"))","v":0}]
["","","","","","","","","",null,762,{"$f":"INDIRECT(ADDRESS($K753,L$4,1,1,\"3 - Savings Analysis\"))","v":0},{"$f":"INDIRECT(ADDRESS($K753,M$4,1,1,\"3 - Savings Analysis\"))","v":0},{"$f":"INDIRECT(ADDRESS($K753,N$4,1,1,\"3 - Savings Analysis\"))","v":0},{"$f":"INDIRECT(ADDRESS($K753,O$4,1,1,\"3 - Savings Analysis\"))","v":0},{"$f":"INDIRECT(ADDRESS($K753,P$4,1,1,\"3 - Savings Analysis\"))","v":0},{"$f":"INDIRECT(ADDRESS($K753,Q$4,1,1,\"3 - Savings Analysis\"))","v":0},{"$f":"INDIRECT(ADDRESS($K753,R$4,1,1,\"3 - Savings Analysis\"))","v":0},{"$f":"INDIRECT(ADDRESS($K753,S$4,1,1,\"3 - Savings Analysis\"))","v":0},{"$f":"INDIRECT(ADDRESS($K753,T$4,1,1,\"3 - Savings Analysis\"))","v":0}]
["","","","","","","","","",null,763,{"$f":"INDIRECT(ADDRESS($K754,L$4,1,1,\"3 - Savings Analysis\"))","v":0},{"$f":"INDIRECT(ADDRESS($K754,M$4,1,1,\"3 - Savings Analysis\"))","v":0},{"$f":"INDIRECT(ADDRESS($K754,N$4,1,1,\"3 - Savings Analysis\"))","v":0},{"$f":"INDIRECT(ADDRESS($K754,O$4,1,1,\"3 - Savings Analysis\"))","v":0},{"$f":"INDIRECT(ADDRESS($K754,P$4,1,1,\"3 - Savings Analysis\"))","v":0},{"$f":"INDIRECT(ADDRESS($K754,Q$4,1,1,\"3 - Savings Analysis\"))","v":0},{"$f":"INDIRECT(ADDRESS($K754,R$4,1,1,\"3 - Savings Analysis\"))","v":0},{"$f":"INDIRECT(ADDRESS($K754,S$4,1,1,\"3 - Savings Analysis\"))","v":0},{"$f":"INDIRECT(ADDRESS($K754,T$4,1,1,\"3 - Savings Analysis\"))","v":0}]
["","","","","","","","","",null,764,{"$f":"INDIRECT(ADDRESS($K755,L$4,1,1,\"3 - Savings Analysis\"))","v":0},{"$f":"INDIRECT(ADDRESS($K755,M$4,1,1,\"3 - Savings Analysis\"))","v":0},{"$f":"INDIRECT(ADDRESS($K755,N$4,1,1,\"3 - Savings Analysis\"))","v":0},{"$f":"INDIRECT(ADDRESS($K755,O$4,1,1,\"3 - Savings Analysis\"))","v":0},{"$f":"INDIRECT(ADDRESS($K755,P$4,1,1,\"3 - Savings Analysis\"))","v":0},{"$f":"INDIRECT(ADDRESS($K755,Q$4,1,1,\"3 - Savings Analysis\"))","v":0},{"$f":"INDIRECT(ADDRESS($K755,R$4,1,1,\"3 - Savings Analysis\"))","v":0},{"$f":"INDIRECT(ADDRESS($K755,S$4,1,1,\"3 - Savings Analysis\"))","v":0},{"$f":"INDIRECT(ADDRESS($K755,T$4,1,1,\"3 - Savings Analysis\"))","v":0}]
["","","","","","","","","",null,765,{"$f":"INDIRECT(ADDRESS($K756,L$4,1,1,\"3 - Savings Analysis\"))","v":0},{"$f":"INDIRECT(ADDRESS($K756,M$4,1,1,\"3 - Savings Analysis\"))","v":0},{"$f":"INDIRECT(ADDRESS($K756,N$4,1,1,\"3 - Savings Analysis\"))","v":0},{"$f":"INDIRECT(ADDRESS($K756,O$4,1,1,\"3 - Savings Analysis\"))","v":0},{"$f":"INDIRECT(ADDRESS($K756,P$4,1,1,\"3 - Savings Analysis\"))","v":0},{"$f":"INDIRECT(ADDRESS($K756,Q$4,1,1,\"3 - Savings Analysis\"))","v":0},{"$f":"INDIRECT(ADDRESS($K756,R$4,1,1,\"3 - Savings Analysis\"))","v":0},{"$f":"INDIRECT(ADDRESS($K756,S$4,1,1,\"3 - Savings Analysis\"))","v":0},{"$f":"INDIRECT(ADDRESS($K756,T$4,1,1,\"3 - Savings Analysis\"))","v":0}]
["","","","","","","","","",null,766,{"$f":"INDIRECT(ADDRESS($K757,L$4,1,1,\"3 - Savings Analysis\"))","v":0},{"$f":"INDIRECT(ADDRESS($K757,M$4,1,1,\"3 - Savings Analysis\"))","v":0},{"$f":"INDIRECT(ADDRESS($K757,N$4,1,1,\"3 - Savings Analysis\"))","v":0},{"$f":"INDIRECT(ADDRESS($K757,O$4,1,1,\"3 - Savings Analysis\"))","v":0},{"$f":"INDIRECT(ADDRESS($K757,P$4,1,1,\"3 - Savings Analysis\"))","v":0},{"$f":"INDIRECT(ADDRESS($K757,Q$4,1,1,\"3 - Savings Analysis\"))","v":0},{"$f":"INDIRECT(ADDRESS($K757,R$4,1,1,\"3 - Savings Analysis\"))","v":0},{"$f":"INDIRECT(ADDRESS($K757,S$4,1,1,\"3 - Savings Analysis\"))","v":0},{"$f":"INDIRECT(ADDRESS($K757,T$4,1,1,\"3 - Savings Analysis\"))","v":0}]
["","","","","","","","","",null,767,{"$f":"INDIRECT(ADDRESS($K758,L$4,1,1,\"3 - Savings Analysis\"))","v":0},{"$f":"INDIRECT(ADDRESS($K758,M$4,1,1,\"3 - Savings Analysis\"))","v":0},{"$f":"INDIRECT(ADDRESS($K758,N$4,1,1,\"3 - Savings Analysis\"))","v":0},{"$f":"INDIRECT(ADDRESS($K758,O$4,1,1,\"3 - Savings Analysis\"))","v":0},{"$f":"INDIRECT(ADDRESS($K758,P$4,1,1,\"3 - Savings Analysis\"))","v":0},{"$f":"INDIRECT(ADDRESS($K758,Q$4,1,1,\"3 - Savings Analysis\"))","v":0},{"$f":"INDIRECT(ADDRESS($K758,R$4,1,1,\"3 - Savings Analysis\"))","v":0},{"$f":"INDIRECT(ADDRESS($K758,S$4,1,1,\"3 - Savings Analysis\"))","v":0},{"$f":"INDIRECT(ADDRESS($K758,T$4,1,1,\"3 - Savings Analysis\"))","v":0}]
["","","","","","","","","",null,768,{"$f":"INDIRECT(ADDRESS($K759,L$4,1,1,\"3 - Savings Analysis\"))","v":0},{"$f":"INDIRECT(ADDRESS($K759,M$4,1,1,\"3 - Savings Analysis\"))","v":0},{"$f":"INDIRECT(ADDRESS($K759,N$4,1,1,\"3 - Savings Analysis\"))","v":0},{"$f":"INDIRECT(ADDRESS($K759,O$4,1,1,\"3 - Savings Analysis\"))","v":0},{"$f":"INDIRECT(ADDRESS($K759,P$4,1,1,\"3 - Savings Analysis\"))","v":0},{"$f":"INDIRECT(ADDRESS($K759,Q$4,1,1,\"3 - Savings Analysis\"))","v":0},{"$f":"INDIRECT(ADDRESS($K759,R$4,1,1,\"3 - Savings Analysis\"))","v":0},{"$f":"INDIRECT(ADDRESS($K759,S$4,1,1,\"3 - Savings Analysis\"))","v":0},{"$f":"INDIRECT(ADDRESS($K759,T$4,1,1,\"3 - Savings Analysis\"))","v":0}]
["","","","","","","","","",null,769,{"$f":"INDIRECT(ADDRESS($K760,L$4,1,1,\"3 - Savings Analysis\"))","v":0},{"$f":"INDIRECT(ADDRESS($K760,M$4,1,1,\"3 - Savings Analysis\"))","v":0},{"$f":"INDIRECT(ADDRESS($K760,N$4,1,1,\"3 - Savings Analysis\"))","v":0},{"$f":"INDIRECT(ADDRESS($K760,O$4,1,1,\"3 - Savings Analysis\"))","v":0},{"$f":"INDIRECT(ADDRESS($K760,P$4,1,1,\"3 - Savings Analysis\"))","v":0},{"$f":"INDIRECT(ADDRESS($K760,Q$4,1,1,\"3 - Savings Analysis\"))","v":0},{"$f":"INDIRECT(ADDRESS($K760,R$4,1,1,\"3 - Savings Analysis\"))","v":0},{"$f":"INDIRECT(ADDRESS($K760,S$4,1,1,\"3 - Savings Analysis\"))","v":0},{"$f":"INDIRECT(ADDRESS($K760,T$4,1,1,\"3 - Savings Analysis\"))","v":0}]
["","","","","","","","","",null,770,{"$f":"INDIRECT(ADDRESS($K761,L$4,1,1,\"3 - Savings Analysis\"))","v":0},{"$f":"INDIRECT(ADDRESS($K761,M$4,1,1,\"3 - Savings Analysis\"))","v":0},{"$f":"INDIRECT(ADDRESS($K761,N$4,1,1,\"3 - Savings Analysis\"))","v":0},{"$f":"INDIRECT(ADDRESS($K761,O$4,1,1,\"3 - Savings Analysis\"))","v":0},{"$f":"INDIRECT(ADDRESS($K761,P$4,1,1,\"3 - Savings Analysis\"))","v":0},{"$f":"INDIRECT(ADDRESS($K761,Q$4,1,1,\"3 - Savings Analysis\"))","v":0},{"$f":"INDIRECT(ADDRESS($K761,R$4,1,1,\"3 - Savings Analysis\"))","v":0},{"$f":"INDIRECT(ADDRESS($K761,S$4,1,1,\"3 - Savings Analysis\"))","v":0},{"$f":"INDIRECT(ADDRESS($K761,T$4,1,1,\"3 - Savings Analysis\"))","v":0}]
["","","","","","","","","",null,771,{"$f":"INDIRECT(ADDRESS($K762,L$4,1,1,\"3 - Savings Analysis\"))","v":0},{"$f":"INDIRECT(ADDRESS($K762,M$4,1,1,\"3 - Savings Analysis\"))","v":0},{"$f":"INDIRECT(ADDRESS($K762,N$4,1,1,\"3 - Savings Analysis\"))","v":0},{"$f":"INDIRECT(ADDRESS($K762,O$4,1,1,\"3 - Savings Analysis\"))","v":0},{"$f":"INDIRECT(ADDRESS($K762,P$4,1,1,\"3 - Savings Analysis\"))","v":0},{"$f":"INDIRECT(ADDRESS($K762,Q$4,1,1,\"3 - Savings Analysis\"))","v":0},{"$f":"INDIRECT(ADDRESS($K762,R$4,1,1,\"3 - Savings Analysis\"))","v":0},{"$f":"INDIRECT(ADDRESS($K762,S$4,1,1,\"3 - Savings Analysis\"))","v":0},{"$f":"INDIRECT(ADDRESS($K762,T$4,1,1,\"3 - Savings Analysis\"))","v":0}]
["","","","","","","","","",null,772,{"$f":"INDIRECT(ADDRESS($K763,L$4,1,1,\"3 - Savings Analysis\"))","v":0},{"$f":"INDIRECT(ADDRESS($K763,M$4,1,1,\"3 - Savings Analysis\"))","v":0},{"$f":"INDIRECT(ADDRESS($K763,N$4,1,1,\"3 - Savings Analysis\"))","v":0},{"$f":"INDIRECT(ADDRESS($K763,O$4,1,1,\"3 - Savings Analysis\"))","v":0},{"$f":"INDIRECT(ADDRESS($K763,P$4,1,1,\"3 - Savings Analysis\"))","v":0},{"$f":"INDIRECT(ADDRESS($K763,Q$4,1,1,\"3 - Savings Analysis\"))","v":0},{"$f":"INDIRECT(ADDRESS($K763,R$4,1,1,\"3 - Savings Analysis\"))","v":0},{"$f":"INDIRECT(ADDRESS($K763,S$4,1,1,\"3 - Savings Analysis\"))","v":0},{"$f":"INDIRECT(ADDRESS($K763,T$4,1,1,\"3 - Savings Analysis\"))","v":0}]
["","","","","","","","","",null,773,{"$f":"INDIRECT(ADDRESS($K764,L$4,1,1,\"3 - Savings Analysis\"))","v":0},{"$f":"INDIRECT(ADDRESS($K764,M$4,1,1,\"3 - Savings Analysis\"))","v":0},{"$f":"INDIRECT(ADDRESS($K764,N$4,1,1,\"3 - Savings Analysis\"))","v":0},{"$f":"INDIRECT(ADDRESS($K764,O$4,1,1,\"3 - Savings Analysis\"))","v":0},{"$f":"INDIRECT(ADDRESS($K764,P$4,1,1,\"3 - Savings Analysis\"))","v":0},{"$f":"INDIRECT(ADDRESS($K764,Q$4,1,1,\"3 - Savings Analysis\"))","v":0},{"$f":"INDIRECT(ADDRESS($K764,R$4,1,1,\"3 - Savings Analysis\"))","v":0},{"$f":"INDIRECT(ADDRESS($K764,S$4,1,1,\"3 - Savings Analysis\"))","v":0},{"$f":"INDIRECT(ADDRESS($K764,T$4,1,1,\"3 - Savings Analysis\"))","v":0}]
["","","","","","","","","",null,774,{"$f":"INDIRECT(ADDRESS($K765,L$4,1,1,\"3 - Savings Analysis\"))","v":0},{"$f":"INDIRECT(ADDRESS($K765,M$4,1,1,\"3 - Savings Analysis\"))","v":0},{"$f":"INDIRECT(ADDRESS($K765,N$4,1,1,\"3 - Savings Analysis\"))","v":0},{"$f":"INDIRECT(ADDRESS($K765,O$4,1,1,\"3 - Savings Analysis\"))","v":0},{"$f":"INDIRECT(ADDRESS($K765,P$4,1,1,\"3 - Savings Analysis\"))","v":0},{"$f":"INDIRECT(ADDRESS($K765,Q$4,1,1,\"3 - Savings Analysis\"))","v":0},{"$f":"INDIRECT(ADDRESS($K765,R$4,1,1,\"3 - Savings Analysis\"))","v":0},{"$f":"INDIRECT(ADDRESS($K765,S$4,1,1,\"3 - Savings Analysis\"))","v":0},{"$f":"INDIRECT(ADDRESS($K765,T$4,1,1,\"3 - Savings Analysis\"))","v":0}]
["","","","","","","","","",null,775,{"$f":"INDIRECT(ADDRESS($K766,L$4,1,1,\"3 - Savings Analysis\"))","v":0},{"$f":"INDIRECT(ADDRESS($K766,M$4,1,1,\"3 - Savings Analysis\"))","v":0},{"$f":"INDIRECT(ADDRESS($K766,N$4,1,1,\"3 - Savings Analysis\"))","v":0},{"$f":"INDIRECT(ADDRESS($K766,O$4,1,1,\"3 - Savings Analysis\"))","v":0},{"$f":"INDIRECT(ADDRESS($K766,P$4,1,1,\"3 - Savings Analysis\"))","v":0},{"$f":"INDIRECT(ADDRESS($K766,Q$4,1,1,\"3 - Savings Analysis\"))","v":0},{"$f":"INDIRECT(ADDRESS($K766,R$4,1,1,\"3 - Savings Analysis\"))","v":0},{"$f":"INDIRECT(ADDRESS($K766,S$4,1,1,\"3 - Savings Analysis\"))","v":0},{"$f":"INDIRECT(ADDRESS($K766,T$4,1,1,\"3 - Savings Analysis\"))","v":0}]
["","","","","","","","","",null,776,{"$f":"INDIRECT(ADDRESS($K767,L$4,1,1,\"3 - Savings Analysis\"))","v":0},{"$f":"INDIRECT(ADDRESS($K767,M$4,1,1,\"3 - Savings Analysis\"))","v":0},{"$f":"INDIRECT(ADDRESS($K767,N$4,1,1,\"3 - Savings Analysis\"))","v":0},{"$f":"INDIRECT(ADDRESS($K767,O$4,1,1,\"3 - Savings Analysis\"))","v":0},{"$f":"INDIRECT(ADDRESS($K767,P$4,1,1,\"3 - Savings Analysis\"))","v":0},{"$f":"INDIRECT(ADDRESS($K767,Q$4,1,1,\"3 - Savings Analysis\"))","v":0},{"$f":"INDIRECT(ADDRESS($K767,R$4,1,1,\"3 - Savings Analysis\"))","v":0},{"$f":"INDIRECT(ADDRESS($K767,S$4,1,1,\"3 - Savings Analysis\"))","v":0},{"$f":"INDIRECT(ADDRESS($K767,T$4,1,1,\"3 - Savings Analysis\"))","v":0}]
["","","","","","","","","",null,777,{"$f":"INDIRECT(ADDRESS($K768,L$4,1,1,\"3 - Savings Analysis\"))","v":0},{"$f":"INDIRECT(ADDRESS($K768,M$4,1,1,\"3 - Savings Analysis\"))","v":0},{"$f":"INDIRECT(ADDRESS($K768,N$4,1,1,\"3 - Savings Analysis\"))","v":0},{"$f":"INDIRECT(ADDRESS($K768,O$4,1,1,\"3 - Savings Analysis\"))","v":0},{"$f":"INDIRECT(ADDRESS($K768,P$4,1,1,\"3 - Savings Analysis\"))","v":0},{"$f":"INDIRECT(ADDRESS($K768,Q$4,1,1,\"3 - Savings Analysis\"))","v":0},{"$f":"INDIRECT(ADDRESS($K768,R$4,1,1,\"3 - Savings Analysis\"))","v":0},{"$f":"INDIRECT(ADDRESS($K768,S$4,1,1,\"3 - Savings Analysis\"))","v":0},{"$f":"INDIRECT(ADDRESS($K768,T$4,1,1,\"3 - Savings Analysis\"))","v":0}]
["","","","","","","","","",null,778,{"$f":"INDIRECT(ADDRESS($K769,L$4,1,1,\"3 - Savings Analysis\"))","v":0},{"$f":"INDIRECT(ADDRESS($K769,M$4,1,1,\"3 - Savings Analysis\"))","v":0},{"$f":"INDIRECT(ADDRESS($K769,N$4,1,1,\"3 - Savings Analysis\"))","v":0},{"$f":"INDIRECT(ADDRESS($K769,O$4,1,1,\"3 - Savings Analysis\"))","v":0},{"$f":"INDIRECT(ADDRESS($K769,P$4,1,1,\"3 - Savings Analysis\"))","v":0},{"$f":"INDIRECT(ADDRESS($K769,Q$4,1,1,\"3 - Savings Analysis\"))","v":0},{"$f":"INDIRECT(ADDRESS($K769,R$4,1,1,\"3 - Savings Analysis\"))","v":0},{"$f":"INDIRECT(ADDRESS($K769,S$4,1,1,\"3 - Savings Analysis\"))","v":0},{"$f":"INDIRECT(ADDRESS($K769,T$4,1,1,\"3 - Savings Analysis\"))","v":0}]
["","","","","","","","","",null,779,{"$f":"INDIRECT(ADDRESS($K770,L$4,1,1,\"3 - Savings Analysis\"))","v":0},{"$f":"INDIRECT(ADDRESS($K770,M$4,1,1,\"3 - Savings Analysis\"))","v":0},{"$f":"INDIRECT(ADDRESS($K770,N$4,1,1,\"3 - Savings Analysis\"))","v":0},{"$f":"INDIRECT(ADDRESS($K770,O$4,1,1,\"3 - Savings Analysis\"))","v":0},{"$f":"INDIRECT(ADDRESS($K770,P$4,1,1,\"3 - Savings Analysis\"))","v":0},{"$f":"INDIRECT(ADDRESS($K770,Q$4,1,1,\"3 - Savings Analysis\"))","v":0},{"$f":"INDIRECT(ADDRESS($K770,R$4,1,1,\"3 - Savings Analysis\"))","v":0},{"$f":"INDIRECT(ADDRESS($K770,S$4,1,1,\"3 - Savings Analysis\"))","v":0},{"$f":"INDIRECT(ADDRESS($K770,T$4,1,1,\"3 - Savings Analysis\"))","v":0}]
["","","","","","","","","",null,780,{"$f":"INDIRECT(ADDRESS($K771,L$4,1,1,\"3 - Savings Analysis\"))","v":0},{"$f":"INDIRECT(ADDRESS($K771,M$4,1,1,\"3 - Savings Analysis\"))","v":0},{"$f":"INDIRECT(ADDRESS($K771,N$4,1,1,\"3 - Savings Analysis\"))","v":0},{"$f":"INDIRECT(ADDRESS($K771,O$4,1,1,\"3 - Savings Analysis\"))","v":0},{"$f":"INDIRECT(ADDRESS($K771,P$4,1,1,\"3 - Savings Analysis\"))","v":0},{"$f":"INDIRECT(ADDRESS($K771,Q$4,1,1,\"3 - Savings Analysis\"))","v":0},{"$f":"INDIRECT(ADDRESS($K771,R$4,1,1,\"3 - Savings Analysis\"))","v":0},{"$f":"INDIRECT(ADDRESS($K771,S$4,1,1,\"3 - Savings Analysis\"))","v":0},{"$f":"INDIRECT(ADDRESS($K771,T$4,1,1,\"3 - Savings Analysis\"))","v":0}]
["","","","","","","","","",null,781,{"$f":"INDIRECT(ADDRESS($K772,L$4,1,1,\"3 - Savings Analysis\"))","v":0},{"$f":"INDIRECT(ADDRESS($K772,M$4,1,1,\"3 - Savings Analysis\"))","v":0},{"$f":"INDIRECT(ADDRESS($K772,N$4,1,1,\"3 - Savings Analysis\"))","v":0},{"$f":"INDIRECT(ADDRESS($K772,O$4,1,1,\"3 - Savings Analysis\"))","v":0},{"$f":"INDIRECT(ADDRESS($K772,P$4,1,1,\"3 - Savings Analysis\"))","v":0},{"$f":"INDIRECT(ADDRESS($K772,Q$4,1,1,\"3 - Savings Analysis\"))","v":0},{"$f":"INDIRECT(ADDRESS($K772,R$4,1,1,\"3 - Savings Analysis\"))","v":0},{"$f":"INDIRECT(ADDRESS($K772,S$4,1,1,\"3 - Savings Analysis\"))","v":0},{"$f":"INDIRECT(ADDRESS($K772,T$4,1,1,\"3 - Savings Analysis\"))","v":0}]
["","","","","","","","","",null,782,{"$f":"INDIRECT(ADDRESS($K773,L$4,1,1,\"3 - Savings Analysis\"))","v":0},{"$f":"INDIRECT(ADDRESS($K773,M$4,1,1,\"3 - Savings Analysis\"))","v":0},{"$f":"INDIRECT(ADDRESS($K773,N$4,1,1,\"3 - Savings Analysis\"))","v":0},{"$f":"INDIRECT(ADDRESS($K773,O$4,1,1,\"3 - Savings Analysis\"))","v":0},{"$f":"INDIRECT(ADDRESS($K773,P$4,1,1,\"3 - Savings Analysis\"))","v":0},{"$f":"INDIRECT(ADDRESS($K773,Q$4,1,1,\"3 - Savings Analysis\"))","v":0},{"$f":"INDIRECT(ADDRESS($K773,R$4,1,1,\"3 - Savings Analysis\"))","v":0},{"$f":"INDIRECT(ADDRESS($K773,S$4,1,1,\"3 - Savings Analysis\"))","v":0},{"$f":"INDIRECT(ADDRESS($K773,T$4,1,1,\"3 - Savings Analysis\"))","v":0}]
["","","","","","","","","",null,783,{"$f":"INDIRECT(ADDRESS($K774,L$4,1,1,\"3 - Savings Analysis\"))","v":0},{"$f":"INDIRECT(ADDRESS($K774,M$4,1,1,\"3 - Savings Analysis\"))","v":0},{"$f":"INDIRECT(ADDRESS($K774,N$4,1,1,\"3 - Savings Analysis\"))","v":0},{"$f":"INDIRECT(ADDRESS($K774,O$4,1,1,\"3 - Savings Analysis\"))","v":0},{"$f":"INDIRECT(ADDRESS($K774,P$4,1,1,\"3 - Savings Analysis\"))","v":0},{"$f":"INDIRECT(ADDRESS($K774,Q$4,1,1,\"3 - Savings Analysis\"))","v":0},{"$f":"INDIRECT(ADDRESS($K774,R$4,1,1,\"3 - Savings Analysis\"))","v":0},{"$f":"INDIRECT(ADDRESS($K774,S$4,1,1,\"3 - Savings Analysis\"))","v":0},{"$f":"INDIRECT(ADDRESS($K774,T$4,1,1,\"3 - Savings Analysis\"))","v":0}]
["","","","","","","","","",null,784,{"$f":"INDIRECT(ADDRESS($K775,L$4,1,1,\"3 - Savings Analysis\"))","v":0},{"$f":"INDIRECT(ADDRESS($K775,M$4,1,1,\"3 - Savings Analysis\"))","v":0},{"$f":"INDIRECT(ADDRESS($K775,N$4,1,1,\"3 - Savings Analysis\"))","v":0},{"$f":"INDIRECT(ADDRESS($K775,O$4,1,1,\"3 - Savings Analysis\"))","v":0},{"$f":"INDIRECT(ADDRESS($K775,P$4,1,1,\"3 - Savings Analysis\"))","v":0},{"$f":"INDIRECT(ADDRESS($K775,Q$4,1,1,\"3 - Savings Analysis\"))","v":0},{"$f":"INDIRECT(ADDRESS($K775,R$4,1,1,\"3 - Savings Analysis\"))","v":0},{"$f":"INDIRECT(ADDRESS($K775,S$4,1,1,\"3 - Savings Analysis\"))","v":0},{"$f":"INDIRECT(ADDRESS($K775,T$4,1,1,\"3 - Savings Analysis\"))","v":0}]
["","","","","","","","","",null,785,{"$f":"INDIRECT(ADDRESS($K776,L$4,1,1,\"3 - Savings Analysis\"))","v":0},{"$f":"INDIRECT(ADDRESS($K776,M$4,1,1,\"3 - Savings Analysis\"))","v":0},{"$f":"INDIRECT(ADDRESS($K776,N$4,1,1,\"3 - Savings Analysis\"))","v":0},{"$f":"INDIRECT(ADDRESS($K776,O$4,1,1,\"3 - Savings Analysis\"))","v":0},{"$f":"INDIRECT(ADDRESS($K776,P$4,1,1,\"3 - Savings Analysis\"))","v":0},{"$f":"INDIRECT(ADDRESS($K776,Q$4,1,1,\"3 - Savings Analysis\"))","v":0},{"$f":"INDIRECT(ADDRESS($K776,R$4,1,1,\"3 - Savings Analysis\"))","v":0},{"$f":"INDIRECT(ADDRESS($K776,S$4,1,1,\"3 - Savings Analysis\"))","v":0},{"$f":"INDIRECT(ADDRESS($K776,T$4,1,1,\"3 - Savings Analysis\"))","v":0}]
["","","","","","","","","",null,{"$f":"K776+1","v":786},{"$f":"INDIRECT(ADDRESS($K777,L$4,1,1,\"3 - Savings Analysis\"))","v":0},{"$f":"INDIRECT(ADDRESS($K777,M$4,1,1,\"3 - Savings Analysis\"))","v":0},{"$f":"INDIRECT(ADDRESS($K777,N$4,1,1,\"3 - Savings Analysis\"))","v":0},{"$f":"INDIRECT(ADDRESS($K777,O$4,1,1,\"3 - Savings Analysis\"))","v":0},{"$f":"INDIRECT(ADDRESS($K777,P$4,1,1,\"3 - Savings Analysis\"))","v":0},{"$f":"INDIRECT(ADDRESS($K777,Q$4,1,1,\"3 - Savings Analysis\"))","v":0},{"$f":"INDIRECT(ADDRESS($K777,R$4,1,1,\"3 - Savings Analysis\"))","v":0},{"$f":"INDIRECT(ADDRESS($K777,S$4,1,1,\"3 - Savings Analysis\"))","v":0},{"$f":"INDIRECT(ADDRESS($K777,T$4,1,1,\"3 - Savings Analysis\"))","v":0}]
["","","","","","","","","",null,787,{"$f":"INDIRECT(ADDRESS($K778,L$4,1,1,\"3 - Savings Analysis\"))","v":0},{"$f":"INDIRECT(ADDRESS($K778,M$4,1,1,\"3 - Savings Analysis\"))","v":0},{"$f":"INDIRECT(ADDRESS($K778,N$4,1,1,\"3 - Savings Analysis\"))","v":0},{"$f":"INDIRECT(ADDRESS($K778,O$4,1,1,\"3 - Savings Analysis\"))","v":0},{"$f":"INDIRECT(ADDRESS($K778,P$4,1,1,\"3 - Savings Analysis\"))","v":0},{"$f":"INDIRECT(ADDRESS($K778,Q$4,1,1,\"3 - Savings Analysis\"))","v":0},{"$f":"INDIRECT(ADDRESS($K778,R$4,1,1,\"3 - Savings Analysis\"))","v":0},{"$f":"INDIRECT(ADDRESS($K778,S$4,1,1,\"3 - Savings Analysis\"))","v":0},{"$f":"INDIRECT(ADDRESS($K778,T$4,1,1,\"3 - Savings Analysis\"))","v":0}]
["","","","","","","","","",null,788,{"$f":"INDIRECT(ADDRESS($K779,L$4,1,1,\"3 - Savings Analysis\"))","v":0},{"$f":"INDIRECT(ADDRESS($K779,M$4,1,1,\"3 - Savings Analysis\"))","v":0},{"$f":"INDIRECT(ADDRESS($K779,N$4,1,1,\"3 - Savings Analysis\"))","v":0},{"$f":"INDIRECT(ADDRESS($K779,O$4,1,1,\"3 - Savings Analysis\"))","v":0},{"$f":"INDIRECT(ADDRESS($K779,P$4,1,1,\"3 - Savings Analysis\"))","v":0},{"$f":"INDIRECT(ADDRESS($K779,Q$4,1,1,\"3 - Savings Analysis\"))","v":0},{"$f":"INDIRECT(ADDRESS($K779,R$4,1,1,\"3 - Savings Analysis\"))","v":0},{"$f":"INDIRECT(ADDRESS($K779,S$4,1,1,\"3 - Savings Analysis\"))","v":0},{"$f":"INDIRECT(ADDRESS($K779,T$4,1,1,\"3 - Savings Analysis\"))","v":0}]
["","","","","","","","","",null,789,{"$f":"INDIRECT(ADDRESS($K780,L$4,1,1,\"3 - Savings Analysis\"))","v":0},{"$f":"INDIRECT(ADDRESS($K780,M$4,1,1,\"3 - Savings Analysis\"))","v":0},{"$f":"INDIRECT(ADDRESS($K780,N$4,1,1,\"3 - Savings Analysis\"))","v":0},{"$f":"INDIRECT(ADDRESS($K780,O$4,1,1,\"3 - Savings Analysis\"))","v":0},{"$f":"INDIRECT(ADDRESS($K780,P$4,1,1,\"3 - Savings Analysis\"))","v":0},{"$f":"INDIRECT(ADDRESS($K780,Q$4,1,1,\"3 - Savings Analysis\"))","v":0},{"$f":"INDIRECT(ADDRESS($K780,R$4,1,1,\"3 - Savings Analysis\"))","v":0},{"$f":"INDIRECT(ADDRESS($K780,S$4,1,1,\"3 - Savings Analysis\"))","v":0},{"$f":"INDIRECT(ADDRESS($K780,T$4,1,1,\"3 - Savings Analysis\"))","v":0}]
[{"$f":"IF($K781<=$M$2,L781,\"\")","v":""},{"$f":"IF($K781<=$M$2,IF($A781=\"Total\",\"\",M781),\"\")","v":""},{"$f":"IF($K781<=$M$2,IF($A781=\"Total\",\"\",N781),\"\")","v":""},{"$f":"IF($K781<=$M$2,O781,\"\")","v":""},{"$f":"IF($K781<=$M$2,P781,\"\")","v":""},{"$f":"IF($K781<=$M$2,IF($A781=\"Total\",\"\",Q781),\"\")","v":""},{"$f":"IF($K781<=$M$2,IF($A781=\"Total\",\"\",R781),\"\")","v":""},{"$f":"IF($K781<=$M$2,IF($A781=\"Total\",\"\",IF($T781=0,\"\",S781)),\"\")","v":""},{"$f":"IF($K781<=$M$2,IF($A781=\"Total\",\"\",IF($T781=0,\"\",T781)),\"\")","v":""},null,790,{"$f":"INDIRECT(ADDRESS($K781,L$4,1,1,\"3 - Savings Analysis\"))","v":0},{"$f":"INDIRECT(ADDRESS($K781,M$4,1,1,\"3 - Savings Analysis\"))","v":0},{"$f":"INDIRECT(ADDRESS($K781,N$4,1,1,\"3 - Savings Analysis\"))","v":0},{"$f":"INDIRECT(ADDRESS($K781,O$4,1,1,\"3 - Savings Analysis\"))","v":0},{"$f":"INDIRECT(ADDRESS($K781,P$4,1,1,\"3 - Savings Analysis\"))","v":0},{"$f":"INDIRECT(ADDRESS($K781,Q$4,1,1,\"3 - Savings Analysis\"))","v":0},{"$f":"INDIRECT(ADDRESS($K781,R$4,1,1,\"3 - Savings Analysis\"))","v":0},{"$f":"INDIRECT(ADDRESS($K781,S$4,1,1,\"3 - Savings Analysis\"))","v":0},{"$f":"INDIRECT(ADDRESS($K781,T$4,1,1,\"3 - Savings Analysis\"))","v":0}]
["","","","","","","","","",null,791,{"$f":"INDIRECT(ADDRESS($K782,L$4,1,1,\"3 - Savings Analysis\"))","v":0},{"$f":"INDIRECT(ADDRESS($K782,M$4,1,1,\"3 - Savings Analysis\"))","v":0},{"$f":"INDIRECT(ADDRESS($K782,N$4,1,1,\"3 - Savings Analysis\"))","v":0},{"$f":"INDIRECT(ADDRESS($K782,O$4,1,1,\"3 - Savings Analysis\"))","v":0},{"$f":"INDIRECT(ADDRESS($K782,P$4,1,1,\"3 - Savings Analysis\"))","v":0},{"$f":"INDIRECT(ADDRESS($K782,Q$4,1,1,\"3 - Savings Analysis\"))","v":0},{"$f":"INDIRECT(ADDRESS($K782,R$4,1,1,\"3 - Savings Analysis\"))","v":0},{"$f":"INDIRECT(ADDRESS($K782,S$4,1,1,\"3 - Savings Analysis\"))","v":0},{"$f":"INDIRECT(ADDRESS($K782,T$4,1,1,\"3 - Savings Analysis\"))","v":0}]
["","","","","","","","","",null,792,{"$f":"INDIRECT(ADDRESS($K783,L$4,1,1,\"3 - Savings Analysis\"))","v":0},{"$f":"INDIRECT(ADDRESS($K783,M$4,1,1,\"3 - Savings Analysis\"))","v":0},{"$f":"INDIRECT(ADDRESS($K783,N$4,1,1,\"3 - Savings Analysis\"))","v":0},{"$f":"INDIRECT(ADDRESS($K783,O$4,1,1,\"3 - Savings Analysis\"))","v":0},{"$f":"INDIRECT(ADDRESS($K783,P$4,1,1,\"3 - Savings Analysis\"))","v":0},{"$f":"INDIRECT(ADDRESS($K783,Q$4,1,1,\"3 - Savings Analysis\"))","v":0},{"$f":"INDIRECT(ADDRESS($K783,R$4,1,1,\"3 - Savings Analysis\"))","v":0},{"$f":"INDIRECT(ADDRESS($K783,S$4,1,1,\"3 - Savings Analysis\"))","v":0},{"$f":"INDIRECT(ADDRESS($K783,T$4,1,1,\"3 - Savings Analysis\"))","v":0}]
["","","","","","","","","",null,793,{"$f":"INDIRECT(ADDRESS($K784,L$4,1,1,\"3 - Savings Analysis\"))","v":0},{"$f":"INDIRECT(ADDRESS($K784,M$4,1,1,\"3 - Savings Analysis\"))","v":0},{"$f":"INDIRECT(ADDRESS($K784,N$4,1,1,\"3 - Savings Analysis\"))","v":0},{"$f":"INDIRECT(ADDRESS($K784,O$4,1,1,\"3 - Savings Analysis\"))","v":0},{"$f":"INDIRECT(ADDRESS($K784,P$4,1,1,\"3 - Savings Analysis\"))","v":0},{"$f":"INDIRECT(ADDRESS($K784,Q$4,1,1,\"3 - Savings Analysis\"))","v":0},{"$f":"INDIRECT(ADDRESS($K784,R$4,1,1,\"3 - Savings Analysis\"))","v":0},{"$f":"INDIRECT(ADDRESS($K784,S$4,1,1,\"3 - Savings Analysis\"))","v":0},{"$f":"INDIRECT(ADDRESS($K784,T$4,1,1,\"3 - Savings Analysis\"))","v":0}]
["","","","","","","","","",null,794,{"$f":"INDIRECT(ADDRESS($K785,L$4,1,1,\"3 - Savings Analysis\"))","v":0},{"$f":"INDIRECT(ADDRESS($K785,M$4,1,1,\"3 - Savings Analysis\"))","v":0},{"$f":"INDIRECT(ADDRESS($K785,N$4,1,1,\"3 - Savings Analysis\"))","v":0},{"$f":"INDIRECT(ADDRESS($K785,O$4,1,1,\"3 - Savings Analysis\"))","v":0},{"$f":"INDIRECT(ADDRESS($K785,P$4,1,1,\"3 - Savings Analysis\"))","v":0},{"$f":"INDIRECT(ADDRESS($K785,Q$4,1,1,\"3 - Savings Analysis\"))","v":0},{"$f":"INDIRECT(ADDRESS($K785,R$4,1,1,\"3 - Savings Analysis\"))","v":0},{"$f":"INDIRECT(ADDRESS($K785,S$4,1,1,\"3 - Savings Analysis\"))","v":0},{"$f":"INDIRECT(ADDRESS($K785,T$4,1,1,\"3 - Savings Analysis\"))","v":0}]
["","","","","","","","","",null,795,{"$f":"INDIRECT(ADDRESS($K786,L$4,1,1,\"3 - Savings Analysis\"))","v":0},{"$f":"INDIRECT(ADDRESS($K786,M$4,1,1,\"3 - Savings Analysis\"))","v":0},{"$f":"INDIRECT(ADDRESS($K786,N$4,1,1,\"3 - Savings Analysis\"))","v":0},{"$f":"INDIRECT(ADDRESS($K786,O$4,1,1,\"3 - Savings Analysis\"))","v":0},{"$f":"INDIRECT(ADDRESS($K786,P$4,1,1,\"3 - Savings Analysis\"))","v":0},{"$f":"INDIRECT(ADDRESS($K786,Q$4,1,1,\"3 - Savings Analysis\"))","v":0},{"$f":"INDIRECT(ADDRESS($K786,R$4,1,1,\"3 - Savings Analysis\"))","v":0},{"$f":"INDIRECT(ADDRESS($K786,S$4,1,1,\"3 - Savings Analysis\"))","v":0},{"$f":"INDIRECT(ADDRESS($K786,T$4,1,1,\"3 - Savings Analysis\"))","v":0}]
["","","","","","","","","",null,796,{"$f":"INDIRECT(ADDRESS($K787,L$4,1,1,\"3 - Savings Analysis\"))","v":0},{"$f":"INDIRECT(ADDRESS($K787,M$4,1,1,\"3 - Savings Analysis\"))","v":0},{"$f":"INDIRECT(ADDRESS($K787,N$4,1,1,\"3 - Savings Analysis\"))","v":0},{"$f":"INDIRECT(ADDRESS($K787,O$4,1,1,\"3 - Savings Analysis\"))","v":0},{"$f":"INDIRECT(ADDRESS($K787,P$4,1,1,\"3 - Savings Analysis\"))","v":0},{"$f":"INDIRECT(ADDRESS($K787,Q$4,1,1,\"3 - Savings Analysis\"))","v":0},{"$f":"INDIRECT(ADDRESS($K787,R$4,1,1,\"3 - Savings Analysis\"))","v":0},{"$f":"INDIRECT(ADDRESS($K787,S$4,1,1,\"3 - Savings Analysis\"))","v":0},{"$f":"INDIRECT(ADDRESS($K787,T$4,1,1,\"3 - Savings Analysis\"))","v":0}]
["","","","","","","","","",null,797,{"$f":"INDIRECT(ADDRESS($K788,L$4,1,1,\"3 - Savings Analysis\"))","v":0},{"$f":"INDIRECT(ADDRESS($K788,M$4,1,1,\"3 - Savings Analysis\"))","v":0},{"$f":"INDIRECT(ADDRESS($K788,N$4,1,1,\"3 - Savings Analysis\"))","v":0},{"$f":"INDIRECT(ADDRESS($K788,O$4,1,1,\"3 - Savings Analysis\"))","v":0},{"$f":"INDIRECT(ADDRESS($K788,P$4,1,1,\"3 - Savings Analysis\"))","v":0},{"$f":"INDIRECT(ADDRESS($K788,Q$4,1,1,\"3 - Savings Analysis\"))","v":0},{"$f":"INDIRECT(ADDRESS($K788,R$4,1,1,\"3 - Savings Analysis\"))","v":0},{"$f":"INDIRECT(ADDRESS($K788,S$4,1,1,\"3 - Savings Analysis\"))","v":0},{"$f":"INDIRECT(ADDRESS($K788,T$4,1,1,\"3 - Savings Analysis\"))","v":0}]
["","","","","","","","","",null,798,{"$f":"INDIRECT(ADDRESS($K789,L$4,1,1,\"3 - Savings Analysis\"))","v":0},{"$f":"INDIRECT(ADDRESS($K789,M$4,1,1,\"3 - Savings Analysis\"))","v":0},{"$f":"INDIRECT(ADDRESS($K789,N$4,1,1,\"3 - Savings Analysis\"))","v":0},{"$f":"INDIRECT(ADDRESS($K789,O$4,1,1,\"3 - Savings Analysis\"))","v":0},{"$f":"INDIRECT(ADDRESS($K789,P$4,1,1,\"3 - Savings Analysis\"))","v":0},{"$f":"INDIRECT(ADDRESS($K789,Q$4,1,1,\"3 - Savings Analysis\"))","v":0},{"$f":"INDIRECT(ADDRESS($K789,R$4,1,1,\"3 - Savings Analysis\"))","v":0},{"$f":"INDIRECT(ADDRESS($K789,S$4,1,1,\"3 - Savings Analysis\"))","v":0},{"$f":"INDIRECT(ADDRESS($K789,T$4,1,1,\"3 - Savings Analysis\"))","v":0}]
["","","","","","","","","",null,799,{"$f":"INDIRECT(ADDRESS($K790,L$4,1,1,\"3 - Savings Analysis\"))","v":0},{"$f":"INDIRECT(ADDRESS($K790,M$4,1,1,\"3 - Savings Analysis\"))","v":0},{"$f":"INDIRECT(ADDRESS($K790,N$4,1,1,\"3 - Savings Analysis\"))","v":0},{"$f":"INDIRECT(ADDRESS($K790,O$4,1,1,\"3 - Savings Analysis\"))","v":0},{"$f":"INDIRECT(ADDRESS($K790,P$4,1,1,\"3 - Savings Analysis\"))","v":0},{"$f":"INDIRECT(ADDRESS($K790,Q$4,1,1,\"3 - Savings Analysis\"))","v":0},{"$f":"INDIRECT(ADDRESS($K790,R$4,1,1,\"3 - Savings Analysis\"))","v":0},{"$f":"INDIRECT(ADDRESS($K790,S$4,1,1,\"3 - Savings Analysis\"))","v":0},{"$f":"INDIRECT(ADDRESS($K790,T$4,1,1,\"3 - Savings Analysis\"))","v":0}]
["","","","","","","","","",null,800,{"$f":"INDIRECT(ADDRESS($K791,L$4,1,1,\"3 - Savings Analysis\"))","v":0},{"$f":"INDIRECT(ADDRESS($K791,M$4,1,1,\"3 - Savings Analysis\"))","v":0},{"$f":"INDIRECT(ADDRESS($K791,N$4,1,1,\"3 - Savings Analysis\"))","v":0},{"$f":"INDIRECT(ADDRESS($K791,O$4,1,1,\"3 - Savings Analysis\"))","v":0},{"$f":"INDIRECT(ADDRESS($K791,P$4,1,1,\"3 - Savings Analysis\"))","v":0},{"$f":"INDIRECT(ADDRESS($K791,Q$4,1,1,\"3 - Savings Analysis\"))","v":0},{"$f":"INDIRECT(ADDRESS($K791,R$4,1,1,\"3 - Savings Analysis\"))","v":0},{"$f":"INDIRECT(ADDRESS($K791,S$4,1,1,\"3 - Savings Analysis\"))","v":0},{"$f":"INDIRECT(ADDRESS($K791,T$4,1,1,\"3 - Savings Analysis\"))","v":0}]
["","","","","","","","","",null,801,{"$f":"INDIRECT(ADDRESS($K792,L$4,1,1,\"3 - Savings Analysis\"))","v":0},{"$f":"INDIRECT(ADDRESS($K792,M$4,1,1,\"3 - Savings Analysis\"))","v":0},{"$f":"INDIRECT(ADDRESS($K792,N$4,1,1,\"3 - Savings Analysis\"))","v":0},{"$f":"INDIRECT(ADDRESS($K792,O$4,1,1,\"3 - Savings Analysis\"))","v":0},{"$f":"INDIRECT(ADDRESS($K792,P$4,1,1,\"3 - Savings Analysis\"))","v":0},{"$f":"INDIRECT(ADDRESS($K792,Q$4,1,1,\"3 - Savings Analysis\"))","v":0},{"$f":"INDIRECT(ADDRESS($K792,R$4,1,1,\"3 - Savings Analysis\"))","v":0},{"$f":"INDIRECT(ADDRESS($K792,S$4,1,1,\"3 - Savings Analysis\"))","v":0},{"$f":"INDIRECT(ADDRESS($K792,T$4,1,1,\"3 - Savings Analysis\"))","v":0}]
["","","","","","","","","",null,802,{"$f":"INDIRECT(ADDRESS($K793,L$4,1,1,\"3 - Savings Analysis\"))","v":0},{"$f":"INDIRECT(ADDRESS($K793,M$4,1,1,\"3 - Savings Analysis\"))","v":0},{"$f":"INDIRECT(ADDRESS($K793,N$4,1,1,\"3 - Savings Analysis\"))","v":0},{"$f":"INDIRECT(ADDRESS($K793,O$4,1,1,\"3 - Savings Analysis\"))","v":0},{"$f":"INDIRECT(ADDRESS($K793,P$4,1,1,\"3 - Savings Analysis\"))","v":0},{"$f":"INDIRECT(ADDRESS($K793,Q$4,1,1,\"3 - Savings Analysis\"))","v":0},{"$f":"INDIRECT(ADDRESS($K793,R$4,1,1,\"3 - Savings Analysis\"))","v":0},{"$f":"INDIRECT(ADDRESS($K793,S$4,1,1,\"3 - Savings Analysis\"))","v":0},{"$f":"INDIRECT(ADDRESS($K793,T$4,1,1,\"3 - Savings Analysis\"))","v":0}]
["","","","","","","","","",null,803,{"$f":"INDIRECT(ADDRESS($K794,L$4,1,1,\"3 - Savings Analysis\"))","v":0},{"$f":"INDIRECT(ADDRESS($K794,M$4,1,1,\"3 - Savings Analysis\"))","v":0},{"$f":"INDIRECT(ADDRESS($K794,N$4,1,1,\"3 - Savings Analysis\"))","v":0},{"$f":"INDIRECT(ADDRESS($K794,O$4,1,1,\"3 - Savings Analysis\"))","v":0},{"$f":"INDIRECT(ADDRESS($K794,P$4,1,1,\"3 - Savings Analysis\"))","v":0},{"$f":"INDIRECT(ADDRESS($K794,Q$4,1,1,\"3 - Savings Analysis\"))","v":0},{"$f":"INDIRECT(ADDRESS($K794,R$4,1,1,\"3 - Savings Analysis\"))","v":0},{"$f":"INDIRECT(ADDRESS($K794,S$4,1,1,\"3 - Savings Analysis\"))","v":0},{"$f":"INDIRECT(ADDRESS($K794,T$4,1,1,\"3 - Savings Analysis\"))","v":0}]
["","","","","","","","","",null,804,{"$f":"INDIRECT(ADDRESS($K795,L$4,1,1,\"3 - Savings Analysis\"))","v":0},{"$f":"INDIRECT(ADDRESS($K795,M$4,1,1,\"3 - Savings Analysis\"))","v":0},{"$f":"INDIRECT(ADDRESS($K795,N$4,1,1,\"3 - Savings Analysis\"))","v":0},{"$f":"INDIRECT(ADDRESS($K795,O$4,1,1,\"3 - Savings Analysis\"))","v":0},{"$f":"INDIRECT(ADDRESS($K795,P$4,1,1,\"3 - Savings Analysis\"))","v":0},{"$f":"INDIRECT(ADDRESS($K795,Q$4,1,1,\"3 - Savings Analysis\"))","v":0},{"$f":"INDIRECT(ADDRESS($K795,R$4,1,1,\"3 - Savings Analysis\"))","v":0},{"$f":"INDIRECT(ADDRESS($K795,S$4,1,1,\"3 - Savings Analysis\"))","v":0},{"$f":"INDIRECT(ADDRESS($K795,T$4,1,1,\"3 - Savings Analysis\"))","v":0}]
["","","","","","","","","",null,805,{"$f":"INDIRECT(ADDRESS($K796,L$4,1,1,\"3 - Savings Analysis\"))","v":0},{"$f":"INDIRECT(ADDRESS($K796,M$4,1,1,\"3 - Savings Analysis\"))","v":0},{"$f":"INDIRECT(ADDRESS($K796,N$4,1,1,\"3 - Savings Analysis\"))","v":0},{"$f":"INDIRECT(ADDRESS($K796,O$4,1,1,\"3 - Savings Analysis\"))","v":0},{"$f":"INDIRECT(ADDRESS($K796,P$4,1,1,\"3 - Savings Analysis\"))","v":0},{"$f":"INDIRECT(ADDRESS($K796,Q$4,1,1,\"3 - Savings Analysis\"))","v":0},{"$f":"INDIRECT(ADDRESS($K796,R$4,1,1,\"3 - Savings Analysis\"))","v":0},{"$f":"INDIRECT(ADDRESS($K796,S$4,1,1,\"3 - Savings Analysis\"))","v":0},{"$f":"INDIRECT(ADDRESS($K796,T$4,1,1,\"3 - Savings Analysis\"))","v":0}]
["","","","","","","","","",null,806,{"$f":"INDIRECT(ADDRESS($K797,L$4,1,1,\"3 - Savings Analysis\"))","v":0},{"$f":"INDIRECT(ADDRESS($K797,M$4,1,1,\"3 - Savings Analysis\"))","v":0},{"$f":"INDIRECT(ADDRESS($K797,N$4,1,1,\"3 - Savings Analysis\"))","v":0},{"$f":"INDIRECT(ADDRESS($K797,O$4,1,1,\"3 - Savings Analysis\"))","v":0},{"$f":"INDIRECT(ADDRESS($K797,P$4,1,1,\"3 - Savings Analysis\"))","v":0},{"$f":"INDIRECT(ADDRESS($K797,Q$4,1,1,\"3 - Savings Analysis\"))","v":0},{"$f":"INDIRECT(ADDRESS($K797,R$4,1,1,\"3 - Savings Analysis\"))","v":0},{"$f":"INDIRECT(ADDRESS($K797,S$4,1,1,\"3 - Savings Analysis\"))","v":0},{"$f":"INDIRECT(ADDRESS($K797,T$4,1,1,\"3 - Savings Analysis\"))","v":0}]
["","","","","","","","","",null,807,{"$f":"INDIRECT(ADDRESS($K798,L$4,1,1,\"3 - Savings Analysis\"))","v":0},{"$f":"INDIRECT(ADDRESS($K798,M$4,1,1,\"3 - Savings Analysis\"))","v":0},{"$f":"INDIRECT(ADDRESS($K798,N$4,1,1,\"3 - Savings Analysis\"))","v":0},{"$f":"INDIRECT(ADDRESS($K798,O$4,1,1,\"3 - Savings Analysis\"))","v":0},{"$f":"INDIRECT(ADDRESS($K798,P$4,1,1,\"3 - Savings Analysis\"))","v":0},{"$f":"INDIRECT(ADDRESS($K798,Q$4,1,1,\"3 - Savings Analysis\"))","v":0},{"$f":"INDIRECT(ADDRESS($K798,R$4,1,1,\"3 - Savings Analysis\"))","v":0},{"$f":"INDIRECT(ADDRESS($K798,S$4,1,1,\"3 - Savings Analysis\"))","v":0},{"$f":"INDIRECT(ADDRESS($K798,T$4,1,1,\"3 - Savings Analysis\"))","v":0}]
["","","","","","","","","",null,808,{"$f":"INDIRECT(ADDRESS($K799,L$4,1,1,\"3 - Savings Analysis\"))","v":0},{"$f":"INDIRECT(ADDRESS($K799,M$4,1,1,\"3 - Savings Analysis\"))","v":0},{"$f":"INDIRECT(ADDRESS($K799,N$4,1,1,\"3 - Savings Analysis\"))","v":0},{"$f":"INDIRECT(ADDRESS($K799,O$4,1,1,\"3 - Savings Analysis\"))","v":0},{"$f":"INDIRECT(ADDRESS($K799,P$4,1,1,\"3 - Savings Analysis\"))","v":0},{"$f":"INDIRECT(ADDRESS($K799,Q$4,1,1,\"3 - Savings Analysis\"))","v":0},{"$f":"INDIRECT(ADDRESS($K799,R$4,1,1,\"3 - Savings Analysis\"))","v":0},{"$f":"INDIRECT(ADDRESS($K799,S$4,1,1,\"3 - Savings Analysis\"))","v":0},{"$f":"INDIRECT(ADDRESS($K799,T$4,1,1,\"3 - Savings Analysis\"))","v":0}]
["","","","","","","","","",null,809,{"$f":"INDIRECT(ADDRESS($K800,L$4,1,1,\"3 - Savings Analysis\"))","v":0},{"$f":"INDIRECT(ADDRESS($K800,M$4,1,1,\"3 - Savings Analysis\"))","v":0},{"$f":"INDIRECT(ADDRESS($K800,N$4,1,1,\"3 - Savings Analysis\"))","v":0},{"$f":"INDIRECT(ADDRESS($K800,O$4,1,1,\"3 - Savings Analysis\"))","v":0},{"$f":"INDIRECT(ADDRESS($K800,P$4,1,1,\"3 - Savings Analysis\"))","v":0},{"$f":"INDIRECT(ADDRESS($K800,Q$4,1,1,\"3 - Savings Analysis\"))","v":0},{"$f":"INDIRECT(ADDRESS($K800,R$4,1,1,\"3 - Savings Analysis\"))","v":0},{"$f":"INDIRECT(ADDRESS($K800,S$4,1,1,\"3 - Savings Analysis\"))","v":0},{"$f":"INDIRECT(ADDRESS($K800,T$4,1,1,\"3 - Savings Analysis\"))","v":0}]
["","","","","","","","","",null,810,{"$f":"INDIRECT(ADDRESS($K801,L$4,1,1,\"3 - Savings Analysis\"))","v":0},{"$f":"INDIRECT(ADDRESS($K801,M$4,1,1,\"3 - Savings Analysis\"))","v":0},{"$f":"INDIRECT(ADDRESS($K801,N$4,1,1,\"3 - Savings Analysis\"))","v":0},{"$f":"INDIRECT(ADDRESS($K801,O$4,1,1,\"3 - Savings Analysis\"))","v":0},{"$f":"INDIRECT(ADDRESS($K801,P$4,1,1,\"3 - Savings Analysis\"))","v":0},{"$f":"INDIRECT(ADDRESS($K801,Q$4,1,1,\"3 - Savings Analysis\"))","v":0},{"$f":"INDIRECT(ADDRESS($K801,R$4,1,1,\"3 - Savings Analysis\"))","v":0},{"$f":"INDIRECT(ADDRESS($K801,S$4,1,1,\"3 - Savings Analysis\"))","v":0},{"$f":"INDIRECT(ADDRESS($K801,T$4,1,1,\"3 - Savings Analysis\"))","v":0}]
["","","","","","","","","",null,811,{"$f":"INDIRECT(ADDRESS($K802,L$4,1,1,\"3 - Savings Analysis\"))","v":0},{"$f":"INDIRECT(ADDRESS($K802,M$4,1,1,\"3 - Savings Analysis\"))","v":0},{"$f":"INDIRECT(ADDRESS($K802,N$4,1,1,\"3 - Savings Analysis\"))","v":0},{"$f":"INDIRECT(ADDRESS($K802,O$4,1,1,\"3 - Savings Analysis\"))","v":0},{"$f":"INDIRECT(ADDRESS($K802,P$4,1,1,\"3 - Savings Analysis\"))","v":0},{"$f":"INDIRECT(ADDRESS($K802,Q$4,1,1,\"3 - Savings Analysis\"))","v":0},{"$f":"INDIRECT(ADDRESS($K802,R$4,1,1,\"3 - Savings Analysis\"))","v":0},{"$f":"INDIRECT(ADDRESS($K802,S$4,1,1,\"3 - Savings Analysis\"))","v":0},{"$f":"INDIRECT(ADDRESS($K802,T$4,1,1,\"3 - Savings Analysis\"))","v":0}]
["","","","","","","","","",null,812,{"$f":"INDIRECT(ADDRESS($K803,L$4,1,1,\"3 - Savings Analysis\"))","v":0},{"$f":"INDIRECT(ADDRESS($K803,M$4,1,1,\"3 - Savings Analysis\"))","v":0},{"$f":"INDIRECT(ADDRESS($K803,N$4,1,1,\"3 - Savings Analysis\"))","v":0},{"$f":"INDIRECT(ADDRESS($K803,O$4,1,1,\"3 - Savings Analysis\"))","v":0},{"$f":"INDIRECT(ADDRESS($K803,P$4,1,1,\"3 - Savings Analysis\"))","v":0},{"$f":"INDIRECT(ADDRESS($K803,Q$4,1,1,\"3 - Savings Analysis\"))","v":0},{"$f":"INDIRECT(ADDRESS($K803,R$4,1,1,\"3 - Savings Analysis\"))","v":0},{"$f":"INDIRECT(ADDRESS($K803,S$4,1,1,\"3 - Savings Analysis\"))","v":0},{"$f":"INDIRECT(ADDRESS($K803,T$4,1,1,\"3 - Savings Analysis\"))","v":0}]
["","","","","","","","","",null,813,{"$f":"INDIRECT(ADDRESS($K804,L$4,1,1,\"3 - Savings Analysis\"))","v":0},{"$f":"INDIRECT(ADDRESS($K804,M$4,1,1,\"3 - Savings Analysis\"))","v":0},{"$f":"INDIRECT(ADDRESS($K804,N$4,1,1,\"3 - Savings Analysis\"))","v":0},{"$f":"INDIRECT(ADDRESS($K804,O$4,1,1,\"3 - Savings Analysis\"))","v":0},{"$f":"INDIRECT(ADDRESS($K804,P$4,1,1,\"3 - Savings Analysis\"))","v":0},{"$f":"INDIRECT(ADDRESS($K804,Q$4,1,1,\"3 - Savings Analysis\"))","v":0},{"$f":"INDIRECT(ADDRESS($K804,R$4,1,1,\"3 - Savings Analysis\"))","v":0},{"$f":"INDIRECT(ADDRESS($K804,S$4,1,1,\"3 - Savings Analysis\"))","v":0},{"$f":"INDIRECT(ADDRESS($K804,T$4,1,1,\"3 - Savings Analysis\"))","v":0}]
["","","","","","","","","",null,814,{"$f":"INDIRECT(ADDRESS($K805,L$4,1,1,\"3 - Savings Analysis\"))","v":0},{"$f":"INDIRECT(ADDRESS($K805,M$4,1,1,\"3 - Savings Analysis\"))","v":0},{"$f":"INDIRECT(ADDRESS($K805,N$4,1,1,\"3 - Savings Analysis\"))","v":0},{"$f":"INDIRECT(ADDRESS($K805,O$4,1,1,\"3 - Savings Analysis\"))","v":0},{"$f":"INDIRECT(ADDRESS($K805,P$4,1,1,\"3 - Savings Analysis\"))","v":0},{"$f":"INDIRECT(ADDRESS($K805,Q$4,1,1,\"3 - Savings Analysis\"))","v":0},{"$f":"INDIRECT(ADDRESS($K805,R$4,1,1,\"3 - Savings Analysis\"))","v":0},{"$f":"INDIRECT(ADDRESS($K805,S$4,1,1,\"3 - Savings Analysis\"))","v":0},{"$f":"INDIRECT(ADDRESS($K805,T$4,1,1,\"3 - Savings Analysis\"))","v":0}]
["","","","","","","","","",null,815,{"$f":"INDIRECT(ADDRESS($K806,L$4,1,1,\"3 - Savings Analysis\"))","v":0},{"$f":"INDIRECT(ADDRESS($K806,M$4,1,1,\"3 - Savings Analysis\"))","v":0},{"$f":"INDIRECT(ADDRESS($K806,N$4,1,1,\"3 - Savings Analysis\"))","v":0},{"$f":"INDIRECT(ADDRESS($K806,O$4,1,1,\"3 - Savings Analysis\"))","v":0},{"$f":"INDIRECT(ADDRESS($K806,P$4,1,1,\"3 - Savings Analysis\"))","v":0},{"$f":"INDIRECT(ADDRESS($K806,Q$4,1,1,\"3 - Savings Analysis\"))","v":0},{"$f":"INDIRECT(ADDRESS($K806,R$4,1,1,\"3 - Savings Analysis\"))","v":0},{"$f":"INDIRECT(ADDRESS($K806,S$4,1,1,\"3 - Savings Analysis\"))","v":0},{"$f":"INDIRECT(ADDRESS($K806,T$4,1,1,\"3 - Savings Analysis\"))","v":0}]
["","","","","","","","","",null,816,{"$f":"INDIRECT(ADDRESS($K807,L$4,1,1,\"3 - Savings Analysis\"))","v":0},{"$f":"INDIRECT(ADDRESS($K807,M$4,1,1,\"3 - Savings Analysis\"))","v":0},{"$f":"INDIRECT(ADDRESS($K807,N$4,1,1,\"3 - Savings Analysis\"))","v":0},{"$f":"INDIRECT(ADDRESS($K807,O$4,1,1,\"3 - Savings Analysis\"))","v":0},{"$f":"INDIRECT(ADDRESS($K807,P$4,1,1,\"3 - Savings Analysis\"))","v":0},{"$f":"INDIRECT(ADDRESS($K807,Q$4,1,1,\"3 - Savings Analysis\"))","v":0},{"$f":"INDIRECT(ADDRESS($K807,R$4,1,1,\"3 - Savings Analysis\"))","v":0},{"$f":"INDIRECT(ADDRESS($K807,S$4,1,1,\"3 - Savings Analysis\"))","v":0},{"$f":"INDIRECT(ADDRESS($K807,T$4,1,1,\"3 - Savings Analysis\"))","v":0}]
["","","","","","","","","",null,817,{"$f":"INDIRECT(ADDRESS($K808,L$4,1,1,\"3 - Savings Analysis\"))","v":0},{"$f":"INDIRECT(ADDRESS($K808,M$4,1,1,\"3 - Savings Analysis\"))","v":0},{"$f":"INDIRECT(ADDRESS($K808,N$4,1,1,\"3 - Savings Analysis\"))","v":0},{"$f":"INDIRECT(ADDRESS($K808,O$4,1,1,\"3 - Savings Analysis\"))","v":0},{"$f":"INDIRECT(ADDRESS($K808,P$4,1,1,\"3 - Savings Analysis\"))","v":0},{"$f":"INDIRECT(ADDRESS($K808,Q$4,1,1,\"3 - Savings Analysis\"))","v":0},{"$f":"INDIRECT(ADDRESS($K808,R$4,1,1,\"3 - Savings Analysis\"))","v":0},{"$f":"INDIRECT(ADDRESS($K808,S$4,1,1,\"3 - Savings Analysis\"))","v":0},{"$f":"INDIRECT(ADDRESS($K808,T$4,1,1,\"3 - Savings Analysis\"))","v":0}]
["","","","","","","","","",null,818,{"$f":"INDIRECT(ADDRESS($K809,L$4,1,1,\"3 - Savings Analysis\"))","v":0},{"$f":"INDIRECT(ADDRESS($K809,M$4,1,1,\"3 - Savings Analysis\"))","v":0},{"$f":"INDIRECT(ADDRESS($K809,N$4,1,1,\"3 - Savings Analysis\"))","v":0},{"$f":"INDIRECT(ADDRESS($K809,O$4,1,1,\"3 - Savings Analysis\"))","v":0},{"$f":"INDIRECT(ADDRESS($K809,P$4,1,1,\"3 - Savings Analysis\"))","v":0},{"$f":"INDIRECT(ADDRESS($K809,Q$4,1,1,\"3 - Savings Analysis\"))","v":0},{"$f":"INDIRECT(ADDRESS($K809,R$4,1,1,\"3 - Savings Analysis\"))","v":0},{"$f":"INDIRECT(ADDRESS($K809,S$4,1,1,\"3 - Savings Analysis\"))","v":0},{"$f":"INDIRECT(ADDRESS($K809,T$4,1,1,\"3 - Savings Analysis\"))","v":0}]
["","","","","","","","","",null,819,{"$f":"INDIRECT(ADDRESS($K810,L$4,1,1,\"3 - Savings Analysis\"))","v":0},{"$f":"INDIRECT(ADDRESS($K810,M$4,1,1,\"3 - Savings Analysis\"))","v":0},{"$f":"INDIRECT(ADDRESS($K810,N$4,1,1,\"3 - Savings Analysis\"))","v":0},{"$f":"INDIRECT(ADDRESS($K810,O$4,1,1,\"3 - Savings Analysis\"))","v":0},{"$f":"INDIRECT(ADDRESS($K810,P$4,1,1,\"3 - Savings Analysis\"))","v":0},{"$f":"INDIRECT(ADDRESS($K810,Q$4,1,1,\"3 - Savings Analysis\"))","v":0},{"$f":"INDIRECT(ADDRESS($K810,R$4,1,1,\"3 - Savings Analysis\"))","v":0},{"$f":"INDIRECT(ADDRESS($K810,S$4,1,1,\"3 - Savings Analysis\"))","v":0},{"$f":"INDIRECT(ADDRESS($K810,T$4,1,1,\"3 - Savings Analysis\"))","v":0}]
["","","","","","","","","",null,820,{"$f":"INDIRECT(ADDRESS($K811,L$4,1,1,\"3 - Savings Analysis\"))","v":0},{"$f":"INDIRECT(ADDRESS($K811,M$4,1,1,\"3 - Savings Analysis\"))","v":0},{"$f":"INDIRECT(ADDRESS($K811,N$4,1,1,\"3 - Savings Analysis\"))","v":0},{"$f":"INDIRECT(ADDRESS($K811,O$4,1,1,\"3 - Savings Analysis\"))","v":0},{"$f":"INDIRECT(ADDRESS($K811,P$4,1,1,\"3 - Savings Analysis\"))","v":0},{"$f":"INDIRECT(ADDRESS($K811,Q$4,1,1,\"3 - Savings Analysis\"))","v":0},{"$f":"INDIRECT(ADDRESS($K811,R$4,1,1,\"3 - Savings Analysis\"))","v":0},{"$f":"INDIRECT(ADDRESS($K811,S$4,1,1,\"3 - Savings Analysis\"))","v":0},{"$f":"INDIRECT(ADDRESS($K811,T$4,1,1,\"3 - Savings Analysis\"))","v":0}]
["","","","","","","","","",null,821,{"$f":"INDIRECT(ADDRESS($K812,L$4,1,1,\"3 - Savings Analysis\"))","v":0},{"$f":"INDIRECT(ADDRESS($K812,M$4,1,1,\"3 - Savings Analysis\"))","v":0},{"$f":"INDIRECT(ADDRESS($K812,N$4,1,1,\"3 - Savings Analysis\"))","v":0},{"$f":"INDIRECT(ADDRESS($K812,O$4,1,1,\"3 - Savings Analysis\"))","v":0},{"$f":"INDIRECT(ADDRESS($K812,P$4,1,1,\"3 - Savings Analysis\"))","v":0},{"$f":"INDIRECT(ADDRESS($K812,Q$4,1,1,\"3 - Savings Analysis\"))","v":0},{"$f":"INDIRECT(ADDRESS($K812,R$4,1,1,\"3 - Savings Analysis\"))","v":0},{"$f":"INDIRECT(ADDRESS($K812,S$4,1,1,\"3 - Savings Analysis\"))","v":0},{"$f":"INDIRECT(ADDRESS($K812,T$4,1,1,\"3 - Savings Analysis\"))","v":0}]
["","","","","","","","","",null,822,{"$f":"INDIRECT(ADDRESS($K813,L$4,1,1,\"3 - Savings Analysis\"))","v":0},{"$f":"INDIRECT(ADDRESS($K813,M$4,1,1,\"3 - Savings Analysis\"))","v":0},{"$f":"INDIRECT(ADDRESS($K813,N$4,1,1,\"3 - Savings Analysis\"))","v":0},{"$f":"INDIRECT(ADDRESS($K813,O$4,1,1,\"3 - Savings Analysis\"))","v":0},{"$f":"INDIRECT(ADDRESS($K813,P$4,1,1,\"3 - Savings Analysis\"))","v":0},{"$f":"INDIRECT(ADDRESS($K813,Q$4,1,1,\"3 - Savings Analysis\"))","v":0},{"$f":"INDIRECT(ADDRESS($K813,R$4,1,1,\"3 - Savings Analysis\"))","v":0},{"$f":"INDIRECT(ADDRESS($K813,S$4,1,1,\"3 - Savings Analysis\"))","v":0},{"$f":"INDIRECT(ADDRESS($K813,T$4,1,1,\"3 - Savings Analysis\"))","v":0}]
["","","","","","","","","",null,823,{"$f":"INDIRECT(ADDRESS($K814,L$4,1,1,\"3 - Savings Analysis\"))","v":0},{"$f":"INDIRECT(ADDRESS($K814,M$4,1,1,\"3 - Savings Analysis\"))","v":0},{"$f":"INDIRECT(ADDRESS($K814,N$4,1,1,\"3 - Savings Analysis\"))","v":0},{"$f":"INDIRECT(ADDRESS($K814,O$4,1,1,\"3 - Savings Analysis\"))","v":0},{"$f":"INDIRECT(ADDRESS($K814,P$4,1,1,\"3 - Savings Analysis\"))","v":0},{"$f":"INDIRECT(ADDRESS($K814,Q$4,1,1,\"3 - Savings Analysis\"))","v":0},{"$f":"INDIRECT(ADDRESS($K814,R$4,1,1,\"3 - Savings Analysis\"))","v":0},{"$f":"INDIRECT(ADDRESS($K814,S$4,1,1,\"3 - Savings Analysis\"))","v":0},{"$f":"INDIRECT(ADDRESS($K814,T$4,1,1,\"3 - Savings Analysis\"))","v":0}]
["","","","","","","","","",null,824,{"$f":"INDIRECT(ADDRESS($K815,L$4,1,1,\"3 - Savings Analysis\"))","v":0},{"$f":"INDIRECT(ADDRESS($K815,M$4,1,1,\"3 - Savings Analysis\"))","v":0},{"$f":"INDIRECT(ADDRESS($K815,N$4,1,1,\"3 - Savings Analysis\"))","v":0},{"$f":"INDIRECT(ADDRESS($K815,O$4,1,1,\"3 - Savings Analysis\"))","v":0},{"$f":"INDIRECT(ADDRESS($K815,P$4,1,1,\"3 - Savings Analysis\"))","v":0},{"$f":"INDIRECT(ADDRESS($K815,Q$4,1,1,\"3 - Savings Analysis\"))","v":0},{"$f":"INDIRECT(ADDRESS($K815,R$4,1,1,\"3 - Savings Analysis\"))","v":0},{"$f":"INDIRECT(ADDRESS($K815,S$4,1,1,\"3 - Savings Analysis\"))","v":0},{"$f":"INDIRECT(ADDRESS($K815,T$4,1,1,\"3 - Savings Analysis\"))","v":0}]
["","","","","","","","","",null,825,{"$f":"INDIRECT(ADDRESS($K816,L$4,1,1,\"3 - Savings Analysis\"))","v":0},{"$f":"INDIRECT(ADDRESS($K816,M$4,1,1,\"3 - Savings Analysis\"))","v":0},{"$f":"INDIRECT(ADDRESS($K816,N$4,1,1,\"3 - Savings Analysis\"))","v":0},{"$f":"INDIRECT(ADDRESS($K816,O$4,1,1,\"3 - Savings Analysis\"))","v":0},{"$f":"INDIRECT(ADDRESS($K816,P$4,1,1,\"3 - Savings Analysis\"))","v":0},{"$f":"INDIRECT(ADDRESS($K816,Q$4,1,1,\"3 - Savings Analysis\"))","v":0},{"$f":"INDIRECT(ADDRESS($K816,R$4,1,1,\"3 - Savings Analysis\"))","v":0},{"$f":"INDIRECT(ADDRESS($K816,S$4,1,1,\"3 - Savings Analysis\"))","v":0},{"$f":"INDIRECT(ADDRESS($K816,T$4,1,1,\"3 - Savings Analysis\"))","v":0}]
["","","","","","","","","",null,826,{"$f":"INDIRECT(ADDRESS($K817,L$4,1,1,\"3 - Savings Analysis\"))","v":0},{"$f":"INDIRECT(ADDRESS($K817,M$4,1,1,\"3 - Savings Analysis\"))","v":0},{"$f":"INDIRECT(ADDRESS($K817,N$4,1,1,\"3 - Savings Analysis\"))","v":0},{"$f":"INDIRECT(ADDRESS($K817,O$4,1,1,\"3 - Savings Analysis\"))","v":0},{"$f":"INDIRECT(ADDRESS($K817,P$4,1,1,\"3 - Savings Analysis\"))","v":0},{"$f":"INDIRECT(ADDRESS($K817,Q$4,1,1,\"3 - Savings Analysis\"))","v":0},{"$f":"INDIRECT(ADDRESS($K817,R$4,1,1,\"3 - Savings Analysis\"))","v":0},{"$f":"INDIRECT(ADDRESS($K817,S$4,1,1,\"3 - Savings Analysis\"))","v":0},{"$f":"INDIRECT(ADDRESS($K817,T$4,1,1,\"3 - Savings Analysis\"))","v":0}]
["","","","","","","","","",null,827,{"$f":"INDIRECT(ADDRESS($K818,L$4,1,1,\"3 - Savings Analysis\"))","v":0},{"$f":"INDIRECT(ADDRESS($K818,M$4,1,1,\"3 - Savings Analysis\"))","v":0},{"$f":"INDIRECT(ADDRESS($K818,N$4,1,1,\"3 - Savings Analysis\"))","v":0},{"$f":"INDIRECT(ADDRESS($K818,O$4,1,1,\"3 - Savings Analysis\"))","v":0},{"$f":"INDIRECT(ADDRESS($K818,P$4,1,1,\"3 - Savings Analysis\"))","v":0},{"$f":"INDIRECT(ADDRESS($K818,Q$4,1,1,\"3 - Savings Analysis\"))","v":0},{"$f":"INDIRECT(ADDRESS($K818,R$4,1,1,\"3 - Savings Analysis\"))","v":0},{"$f":"INDIRECT(ADDRESS($K818,S$4,1,1,\"3 - Savings Analysis\"))","v":0},{"$f":"INDIRECT(ADDRESS($K818,T$4,1,1,\"3 - Savings Analysis\"))","v":0}]
["","","","","","","","","",null,828,{"$f":"INDIRECT(ADDRESS($K819,L$4,1,1,\"3 - Savings Analysis\"))","v":0},{"$f":"INDIRECT(ADDRESS($K819,M$4,1,1,\"3 - Savings Analysis\"))","v":0},{"$f":"INDIRECT(ADDRESS($K819,N$4,1,1,\"3 - Savings Analysis\"))","v":0},{"$f":"INDIRECT(ADDRESS($K819,O$4,1,1,\"3 - Savings Analysis\"))","v":0},{"$f":"INDIRECT(ADDRESS($K819,P$4,1,1,\"3 - Savings Analysis\"))","v":0},{"$f":"INDIRECT(ADDRESS($K819,Q$4,1,1,\"3 - Savings Analysis\"))","v":0},{"$f":"INDIRECT(ADDRESS($K819,R$4,1,1,\"3 - Savings Analysis\"))","v":0},{"$f":"INDIRECT(ADDRESS($K819,S$4,1,1,\"3 - Savings Analysis\"))","v":0},{"$f":"INDIRECT(ADDRESS($K819,T$4,1,1,\"3 - Savings Analysis\"))","v":0}]
["","","","","","","","","",null,829,{"$f":"INDIRECT(ADDRESS($K820,L$4,1,1,\"3 - Savings Analysis\"))","v":0},{"$f":"INDIRECT(ADDRESS($K820,M$4,1,1,\"3 - Savings Analysis\"))","v":0},{"$f":"INDIRECT(ADDRESS($K820,N$4,1,1,\"3 - Savings Analysis\"))","v":0},{"$f":"INDIRECT(ADDRESS($K820,O$4,1,1,\"3 - Savings Analysis\"))","v":0},{"$f":"INDIRECT(ADDRESS($K820,P$4,1,1,\"3 - Savings Analysis\"))","v":0},{"$f":"INDIRECT(ADDRESS($K820,Q$4,1,1,\"3 - Savings Analysis\"))","v":0},{"$f":"INDIRECT(ADDRESS($K820,R$4,1,1,\"3 - Savings Analysis\"))","v":0},{"$f":"INDIRECT(ADDRESS($K820,S$4,1,1,\"3 - Savings Analysis\"))","v":0},{"$f":"INDIRECT(ADDRESS($K820,T$4,1,1,\"3 - Savings Analysis\"))","v":0}]
["","","","","","","","","",null,830,{"$f":"INDIRECT(ADDRESS($K821,L$4,1,1,\"3 - Savings Analysis\"))","v":0},{"$f":"INDIRECT(ADDRESS($K821,M$4,1,1,\"3 - Savings Analysis\"))","v":0},{"$f":"INDIRECT(ADDRESS($K821,N$4,1,1,\"3 - Savings Analysis\"))","v":0},{"$f":"INDIRECT(ADDRESS($K821,O$4,1,1,\"3 - Savings Analysis\"))","v":0},{"$f":"INDIRECT(ADDRESS($K821,P$4,1,1,\"3 - Savings Analysis\"))","v":0},{"$f":"INDIRECT(ADDRESS($K821,Q$4,1,1,\"3 - Savings Analysis\"))","v":0},{"$f":"INDIRECT(ADDRESS($K821,R$4,1,1,\"3 - Savings Analysis\"))","v":0},{"$f":"INDIRECT(ADDRESS($K821,S$4,1,1,\"3 - Savings Analysis\"))","v":0},{"$f":"INDIRECT(ADDRESS($K821,T$4,1,1,\"3 - Savings Analysis\"))","v":0}]
["","","","","","","","","",null,831,{"$f":"INDIRECT(ADDRESS($K822,L$4,1,1,\"3 - Savings Analysis\"))","v":0},{"$f":"INDIRECT(ADDRESS($K822,M$4,1,1,\"3 - Savings Analysis\"))","v":0},{"$f":"INDIRECT(ADDRESS($K822,N$4,1,1,\"3 - Savings Analysis\"))","v":0},{"$f":"INDIRECT(ADDRESS($K822,O$4,1,1,\"3 - Savings Analysis\"))","v":0},{"$f":"INDIRECT(ADDRESS($K822,P$4,1,1,\"3 - Savings Analysis\"))","v":0},{"$f":"INDIRECT(ADDRESS($K822,Q$4,1,1,\"3 - Savings Analysis\"))","v":0},{"$f":"INDIRECT(ADDRESS($K822,R$4,1,1,\"3 - Savings Analysis\"))","v":0},{"$f":"INDIRECT(ADDRESS($K822,S$4,1,1,\"3 - Savings Analysis\"))","v":0},{"$f":"INDIRECT(ADDRESS($K822,T$4,1,1,\"3 - Savings Analysis\"))","v":0}]
["","","","","","","","","",null,832,{"$f":"INDIRECT(ADDRESS($K823,L$4,1,1,\"3 - Savings Analysis\"))","v":0},{"$f":"INDIRECT(ADDRESS($K823,M$4,1,1,\"3 - Savings Analysis\"))","v":0},{"$f":"INDIRECT(ADDRESS($K823,N$4,1,1,\"3 - Savings Analysis\"))","v":0},{"$f":"INDIRECT(ADDRESS($K823,O$4,1,1,\"3 - Savings Analysis\"))","v":0},{"$f":"INDIRECT(ADDRESS($K823,P$4,1,1,\"3 - Savings Analysis\"))","v":0},{"$f":"INDIRECT(ADDRESS($K823,Q$4,1,1,\"3 - Savings Analysis\"))","v":0},{"$f":"INDIRECT(ADDRESS($K823,R$4,1,1,\"3 - Savings Analysis\"))","v":0},{"$f":"INDIRECT(ADDRESS($K823,S$4,1,1,\"3 - Savings Analysis\"))","v":0},{"$f":"INDIRECT(ADDRESS($K823,T$4,1,1,\"3 - Savings Analysis\"))","v":0}]
["","","","","","","","","",null,833,{"$f":"INDIRECT(ADDRESS($K824,L$4,1,1,\"3 - Savings Analysis\"))","v":0},{"$f":"INDIRECT(ADDRESS($K824,M$4,1,1,\"3 - Savings Analysis\"))","v":0},{"$f":"INDIRECT(ADDRESS($K824,N$4,1,1,\"3 - Savings Analysis\"))","v":0},{"$f":"INDIRECT(ADDRESS($K824,O$4,1,1,\"3 - Savings Analysis\"))","v":0},{"$f":"INDIRECT(ADDRESS($K824,P$4,1,1,\"3 - Savings Analysis\"))","v":0},{"$f":"INDIRECT(ADDRESS($K824,Q$4,1,1,\"3 - Savings Analysis\"))","v":0},{"$f":"INDIRECT(ADDRESS($K824,R$4,1,1,\"3 - Savings Analysis\"))","v":0},{"$f":"INDIRECT(ADDRESS($K824,S$4,1,1,\"3 - Savings Analysis\"))","v":0},{"$f":"INDIRECT(ADDRESS($K824,T$4,1,1,\"3 - Savings Analysis\"))","v":0}]
["","","","","","","","","",null,834,{"$f":"INDIRECT(ADDRESS($K825,L$4,1,1,\"3 - Savings Analysis\"))","v":0},{"$f":"INDIRECT(ADDRESS($K825,M$4,1,1,\"3 - Savings Analysis\"))","v":0},{"$f":"INDIRECT(ADDRESS($K825,N$4,1,1,\"3 - Savings Analysis\"))","v":0},{"$f":"INDIRECT(ADDRESS($K825,O$4,1,1,\"3 - Savings Analysis\"))","v":0},{"$f":"INDIRECT(ADDRESS($K825,P$4,1,1,\"3 - Savings Analysis\"))","v":0},{"$f":"INDIRECT(ADDRESS($K825,Q$4,1,1,\"3 - Savings Analysis\"))","v":0},{"$f":"INDIRECT(ADDRESS($K825,R$4,1,1,\"3 - Savings Analysis\"))","v":0},{"$f":"INDIRECT(ADDRESS($K825,S$4,1,1,\"3 - Savings Analysis\"))","v":0},{"$f":"INDIRECT(ADDRESS($K825,T$4,1,1,\"3 - Savings Analysis\"))","v":0}]
["","","","","","","","","",null,835,{"$f":"INDIRECT(ADDRESS($K826,L$4,1,1,\"3 - Savings Analysis\"))","v":0},{"$f":"INDIRECT(ADDRESS($K826,M$4,1,1,\"3 - Savings Analysis\"))","v":0},{"$f":"INDIRECT(ADDRESS($K826,N$4,1,1,\"3 - Savings Analysis\"))","v":0},{"$f":"INDIRECT(ADDRESS($K826,O$4,1,1,\"3 - Savings Analysis\"))","v":0},{"$f":"INDIRECT(ADDRESS($K826,P$4,1,1,\"3 - Savings Analysis\"))","v":0},{"$f":"INDIRECT(ADDRESS($K826,Q$4,1,1,\"3 - Savings Analysis\"))","v":0},{"$f":"INDIRECT(ADDRESS($K826,R$4,1,1,\"3 - Savings Analysis\"))","v":0},{"$f":"INDIRECT(ADDRESS($K826,S$4,1,1,\"3 - Savings Analysis\"))","v":0},{"$f":"INDIRECT(ADDRESS($K826,T$4,1,1,\"3 - Savings Analysis\"))","v":0}]
["","","","","","","","","",null,836,{"$f":"INDIRECT(ADDRESS($K827,L$4,1,1,\"3 - Savings Analysis\"))","v":0},{"$f":"INDIRECT(ADDRESS($K827,M$4,1,1,\"3 - Savings Analysis\"))","v":0},{"$f":"INDIRECT(ADDRESS($K827,N$4,1,1,\"3 - Savings Analysis\"))","v":0},{"$f":"INDIRECT(ADDRESS($K827,O$4,1,1,\"3 - Savings Analysis\"))","v":0},{"$f":"INDIRECT(ADDRESS($K827,P$4,1,1,\"3 - Savings Analysis\"))","v":0},{"$f":"INDIRECT(ADDRESS($K827,Q$4,1,1,\"3 - Savings Analysis\"))","v":0},{"$f":"INDIRECT(ADDRESS($K827,R$4,1,1,\"3 - Savings Analysis\"))","v":0},{"$f":"INDIRECT(ADDRESS($K827,S$4,1,1,\"3 - Savings Analysis\"))","v":0},{"$f":"INDIRECT(ADDRESS($K827,T$4,1,1,\"3 - Savings Analysis\"))","v":0}]
["","","","","","","","","",null,837,{"$f":"INDIRECT(ADDRESS($K828,L$4,1,1,\"3 - Savings Analysis\"))","v":0},{"$f":"INDIRECT(ADDRESS($K828,M$4,1,1,\"3 - Savings Analysis\"))","v":0},{"$f":"INDIRECT(ADDRESS($K828,N$4,1,1,\"3 - Savings Analysis\"))","v":0},{"$f":"INDIRECT(ADDRESS($K828,O$4,1,1,\"3 - Savings Analysis\"))","v":0},{"$f":"INDIRECT(ADDRESS($K828,P$4,1,1,\"3 - Savings Analysis\"))","v":0},{"$f":"INDIRECT(ADDRESS($K828,Q$4,1,1,\"3 - Savings Analysis\"))","v":0},{"$f":"INDIRECT(ADDRESS($K828,R$4,1,1,\"3 - Savings Analysis\"))","v":0},{"$f":"INDIRECT(ADDRESS($K828,S$4,1,1,\"3 - Savings Analysis\"))","v":0},{"$f":"INDIRECT(ADDRESS($K828,T$4,1,1,\"3 - Savings Analysis\"))","v":0}]
["","","","","","","","","",null,838,{"$f":"INDIRECT(ADDRESS($K829,L$4,1,1,\"3 - Savings Analysis\"))","v":0},{"$f":"INDIRECT(ADDRESS($K829,M$4,1,1,\"3 - Savings Analysis\"))","v":0},{"$f":"INDIRECT(ADDRESS($K829,N$4,1,1,\"3 - Savings Analysis\"))","v":0},{"$f":"INDIRECT(ADDRESS($K829,O$4,1,1,\"3 - Savings Analysis\"))","v":0},{"$f":"INDIRECT(ADDRESS($K829,P$4,1,1,\"3 - Savings Analysis\"))","v":0},{"$f":"INDIRECT(ADDRESS($K829,Q$4,1,1,\"3 - Savings Analysis\"))","v":0},{"$f":"INDIRECT(ADDRESS($K829,R$4,1,1,\"3 - Savings Analysis\"))","v":0},{"$f":"INDIRECT(ADDRESS($K829,S$4,1,1,\"3 - Savings Analysis\"))","v":0},{"$f":"INDIRECT(ADDRESS($K829,T$4,1,1,\"3 - Savings Analysis\"))","v":0}]
["","","","","","","","","",null,839,{"$f":"INDIRECT(ADDRESS($K830,L$4,1,1,\"3 - Savings Analysis\"))","v":0},{"$f":"INDIRECT(ADDRESS($K830,M$4,1,1,\"3 - Savings Analysis\"))","v":0},{"$f":"INDIRECT(ADDRESS($K830,N$4,1,1,\"3 - Savings Analysis\"))","v":0},{"$f":"INDIRECT(ADDRESS($K830,O$4,1,1,\"3 - Savings Analysis\"))","v":0},{"$f":"INDIRECT(ADDRESS($K830,P$4,1,1,\"3 - Savings Analysis\"))","v":0},{"$f":"INDIRECT(ADDRESS($K830,Q$4,1,1,\"3 - Savings Analysis\"))","v":0},{"$f":"INDIRECT(ADDRESS($K830,R$4,1,1,\"3 - Savings Analysis\"))","v":0},{"$f":"INDIRECT(ADDRESS($K830,S$4,1,1,\"3 - Savings Analysis\"))","v":0},{"$f":"INDIRECT(ADDRESS($K830,T$4,1,1,\"3 - Savings Analysis\"))","v":0}]
["","","","","","","","","",null,840,{"$f":"INDIRECT(ADDRESS($K831,L$4,1,1,\"3 - Savings Analysis\"))","v":0},{"$f":"INDIRECT(ADDRESS($K831,M$4,1,1,\"3 - Savings Analysis\"))","v":0},{"$f":"INDIRECT(ADDRESS($K831,N$4,1,1,\"3 - Savings Analysis\"))","v":0},{"$f":"INDIRECT(ADDRESS($K831,O$4,1,1,\"3 - Savings Analysis\"))","v":0},{"$f":"INDIRECT(ADDRESS($K831,P$4,1,1,\"3 - Savings Analysis\"))","v":0},{"$f":"INDIRECT(ADDRESS($K831,Q$4,1,1,\"3 - Savings Analysis\"))","v":0},{"$f":"INDIRECT(ADDRESS($K831,R$4,1,1,\"3 - Savings Analysis\"))","v":0},{"$f":"INDIRECT(ADDRESS($K831,S$4,1,1,\"3 - Savings Analysis\"))","v":0},{"$f":"INDIRECT(ADDRESS($K831,T$4,1,1,\"3 - Savings Analysis\"))","v":0}]
["","","","","","","","","",null,841,{"$f":"INDIRECT(ADDRESS($K832,L$4,1,1,\"3 - Savings Analysis\"))","v":0},{"$f":"INDIRECT(ADDRESS($K832,M$4,1,1,\"3 - Savings Analysis\"))","v":0},{"$f":"INDIRECT(ADDRESS($K832,N$4,1,1,\"3 - Savings Analysis\"))","v":0},{"$f":"INDIRECT(ADDRESS($K832,O$4,1,1,\"3 - Savings Analysis\"))","v":0},{"$f":"INDIRECT(ADDRESS($K832,P$4,1,1,\"3 - Savings Analysis\"))","v":0},{"$f":"INDIRECT(ADDRESS($K832,Q$4,1,1,\"3 - Savings Analysis\"))","v":0},{"$f":"INDIRECT(ADDRESS($K832,R$4,1,1,\"3 - Savings Analysis\"))","v":0},{"$f":"INDIRECT(ADDRESS($K832,S$4,1,1,\"3 - Savings Analysis\"))","v":0},{"$f":"INDIRECT(ADDRESS($K832,T$4,1,1,\"3 - Savings Analysis\"))","v":0}]
["","","","","","","","","",null,842,{"$f":"INDIRECT(ADDRESS($K833,L$4,1,1,\"3 - Savings Analysis\"))","v":0},{"$f":"INDIRECT(ADDRESS($K833,M$4,1,1,\"3 - Savings Analysis\"))","v":0},{"$f":"INDIRECT(ADDRESS($K833,N$4,1,1,\"3 - Savings Analysis\"))","v":0},{"$f":"INDIRECT(ADDRESS($K833,O$4,1,1,\"3 - Savings Analysis\"))","v":0},{"$f":"INDIRECT(ADDRESS($K833,P$4,1,1,\"3 - Savings Analysis\"))","v":0},{"$f":"INDIRECT(ADDRESS($K833,Q$4,1,1,\"3 - Savings Analysis\"))","v":0},{"$f":"INDIRECT(ADDRESS($K833,R$4,1,1,\"3 - Savings Analysis\"))","v":0},{"$f":"INDIRECT(ADDRESS($K833,S$4,1,1,\"3 - Savings Analysis\"))","v":0},{"$f":"INDIRECT(ADDRESS($K833,T$4,1,1,\"3 - Savings Analysis\"))","v":0}]
["","","","","","","","","",null,843,{"$f":"INDIRECT(ADDRESS($K834,L$4,1,1,\"3 - Savings Analysis\"))","v":0},{"$f":"INDIRECT(ADDRESS($K834,M$4,1,1,\"3 - Savings Analysis\"))","v":0},{"$f":"INDIRECT(ADDRESS($K834,N$4,1,1,\"3 - Savings Analysis\"))","v":0},{"$f":"INDIRECT(ADDRESS($K834,O$4,1,1,\"3 - Savings Analysis\"))","v":0},{"$f":"INDIRECT(ADDRESS($K834,P$4,1,1,\"3 - Savings Analysis\"))","v":0},{"$f":"INDIRECT(ADDRESS($K834,Q$4,1,1,\"3 - Savings Analysis\"))","v":0},{"$f":"INDIRECT(ADDRESS($K834,R$4,1,1,\"3 - Savings Analysis\"))","v":0},{"$f":"INDIRECT(ADDRESS($K834,S$4,1,1,\"3 - Savings Analysis\"))","v":0},{"$f":"INDIRECT(ADDRESS($K834,T$4,1,1,\"3 - Savings Analysis\"))","v":0}]
["","","","","","","","","",null,844,{"$f":"INDIRECT(ADDRESS($K835,L$4,1,1,\"3 - Savings Analysis\"))","v":0},{"$f":"INDIRECT(ADDRESS($K835,M$4,1,1,\"3 - Savings Analysis\"))","v":0},{"$f":"INDIRECT(ADDRESS($K835,N$4,1,1,\"3 - Savings Analysis\"))","v":0},{"$f":"INDIRECT(ADDRESS($K835,O$4,1,1,\"3 - Savings Analysis\"))","v":0},{"$f":"INDIRECT(ADDRESS($K835,P$4,1,1,\"3 - Savings Analysis\"))","v":0},{"$f":"INDIRECT(ADDRESS($K835,Q$4,1,1,\"3 - Savings Analysis\"))","v":0},{"$f":"INDIRECT(ADDRESS($K835,R$4,1,1,\"3 - Savings Analysis\"))","v":0},{"$f":"INDIRECT(ADDRESS($K835,S$4,1,1,\"3 - Savings Analysis\"))","v":0},{"$f":"INDIRECT(ADDRESS($K835,T$4,1,1,\"3 - Savings Analysis\"))","v":0}]
["","","","","","","","","",null,845,{"$f":"INDIRECT(ADDRESS($K836,L$4,1,1,\"3 - Savings Analysis\"))","v":0},{"$f":"INDIRECT(ADDRESS($K836,M$4,1,1,\"3 - Savings Analysis\"))","v":0},{"$f":"INDIRECT(ADDRESS($K836,N$4,1,1,\"3 - Savings Analysis\"))","v":0},{"$f":"INDIRECT(ADDRESS($K836,O$4,1,1,\"3 - Savings Analysis\"))","v":0},{"$f":"INDIRECT(ADDRESS($K836,P$4,1,1,\"3 - Savings Analysis\"))","v":0},{"$f":"INDIRECT(ADDRESS($K836,Q$4,1,1,\"3 - Savings Analysis\"))","v":0},{"$f":"INDIRECT(ADDRESS($K836,R$4,1,1,\"3 - Savings Analysis\"))","v":0},{"$f":"INDIRECT(ADDRESS($K836,S$4,1,1,\"3 - Savings Analysis\"))","v":0},{"$f":"INDIRECT(ADDRESS($K836,T$4,1,1,\"3 - Savings Analysis\"))","v":0}]
["","","","","","","","","",null,846,{"$f":"INDIRECT(ADDRESS($K837,L$4,1,1,\"3 - Savings Analysis\"))","v":0},{"$f":"INDIRECT(ADDRESS($K837,M$4,1,1,\"3 - Savings Analysis\"))","v":0},{"$f":"INDIRECT(ADDRESS($K837,N$4,1,1,\"3 - Savings Analysis\"))","v":0},{"$f":"INDIRECT(ADDRESS($K837,O$4,1,1,\"3 - Savings Analysis\"))","v":0},{"$f":"INDIRECT(ADDRESS($K837,P$4,1,1,\"3 - Savings Analysis\"))","v":0},{"$f":"INDIRECT(ADDRESS($K837,Q$4,1,1,\"3 - Savings Analysis\"))","v":0},{"$f":"INDIRECT(ADDRESS($K837,R$4,1,1,\"3 - Savings Analysis\"))","v":0},{"$f":"INDIRECT(ADDRESS($K837,S$4,1,1,\"3 - Savings Analysis\"))","v":0},{"$f":"INDIRECT(ADDRESS($K837,T$4,1,1,\"3 - Savings Analysis\"))","v":0}]
["","","","","","","","","",null,847,{"$f":"INDIRECT(ADDRESS($K838,L$4,1,1,\"3 - Savings Analysis\"))","v":0},{"$f":"INDIRECT(ADDRESS($K838,M$4,1,1,\"3 - Savings Analysis\"))","v":0},{"$f":"INDIRECT(ADDRESS($K838,N$4,1,1,\"3 - Savings Analysis\"))","v":0},{"$f":"INDIRECT(ADDRESS($K838,O$4,1,1,\"3 - Savings Analysis\"))","v":0},{"$f":"INDIRECT(ADDRESS($K838,P$4,1,1,\"3 - Savings Analysis\"))","v":0},{"$f":"INDIRECT(ADDRESS($K838,Q$4,1,1,\"3 - Savings Analysis\"))","v":0},{"$f":"INDIRECT(ADDRESS($K838,R$4,1,1,\"3 - Savings Analysis\"))","v":0},{"$f":"INDIRECT(ADDRESS($K838,S$4,1,1,\"3 - Savings Analysis\"))","v":0},{"$f":"INDIRECT(ADDRESS($K838,T$4,1,1,\"3 - Savings Analysis\"))","v":0}]
["","","","","","","","","",null,848,{"$f":"INDIRECT(ADDRESS($K839,L$4,1,1,\"3 - Savings Analysis\"))","v":0},{"$f":"INDIRECT(ADDRESS($K839,M$4,1,1,\"3 - Savings Analysis\"))","v":0},{"$f":"INDIRECT(ADDRESS($K839,N$4,1,1,\"3 - Savings Analysis\"))","v":0},{"$f":"INDIRECT(ADDRESS($K839,O$4,1,1,\"3 - Savings Analysis\"))","v":0},{"$f":"INDIRECT(ADDRESS($K839,P$4,1,1,\"3 - Savings Analysis\"))","v":0},{"$f":"INDIRECT(ADDRESS($K839,Q$4,1,1,\"3 - Savings Analysis\"))","v":0},{"$f":"INDIRECT(ADDRESS($K839,R$4,1,1,\"3 - Savings Analysis\"))","v":0},{"$f":"INDIRECT(ADDRESS($K839,S$4,1,1,\"3 - Savings Analysis\"))","v":0},{"$f":"INDIRECT(ADDRESS($K839,T$4,1,1,\"3 - Savings Analysis\"))","v":0}]
["","","","","","","","","",null,849,{"$f":"INDIRECT(ADDRESS($K840,L$4,1,1,\"3 - Savings Analysis\"))","v":0},{"$f":"INDIRECT(ADDRESS($K840,M$4,1,1,\"3 - Savings Analysis\"))","v":0},{"$f":"INDIRECT(ADDRESS($K840,N$4,1,1,\"3 - Savings Analysis\"))","v":0},{"$f":"INDIRECT(ADDRESS($K840,O$4,1,1,\"3 - Savings Analysis\"))","v":0},{"$f":"INDIRECT(ADDRESS($K840,P$4,1,1,\"3 - Savings Analysis\"))","v":0},{"$f":"INDIRECT(ADDRESS($K840,Q$4,1,1,\"3 - Savings Analysis\"))","v":0},{"$f":"INDIRECT(ADDRESS($K840,R$4,1,1,\"3 - Savings Analysis\"))","v":0},{"$f":"INDIRECT(ADDRESS($K840,S$4,1,1,\"3 - Savings Analysis\"))","v":0},{"$f":"INDIRECT(ADDRESS($K840,T$4,1,1,\"3 - Savings Analysis\"))","v":0}]
["","","","","","","","","",null,{"$f":"K840+1","v":850},{"$f":"INDIRECT(ADDRESS($K841,L$4,1,1,\"3 - Savings Analysis\"))","v":0},{"$f":"INDIRECT(ADDRESS($K841,M$4,1,1,\"3 - Savings Analysis\"))","v":0},{"$f":"INDIRECT(ADDRESS($K841,N$4,1,1,\"3 - Savings Analysis\"))","v":0},{"$f":"INDIRECT(ADDRESS($K841,O$4,1,1,\"3 - Savings Analysis\"))","v":0},{"$f":"INDIRECT(ADDRESS($K841,P$4,1,1,\"3 - Savings Analysis\"))","v":0},{"$f":"INDIRECT(ADDRESS($K841,Q$4,1,1,\"3 - Savings Analysis\"))","v":0},{"$f":"INDIRECT(ADDRESS($K841,R$4,1,1,\"3 - Savings Analysis\"))","v":0},{"$f":"INDIRECT(ADDRESS($K841,S$4,1,1,\"3 - Savings Analysis\"))","v":0},{"$f":"INDIRECT(ADDRESS($K841,T$4,1,1,\"3 - Savings Analysis\"))","v":0}]
["","","","","","","","","",null,851,{"$f":"INDIRECT(ADDRESS($K842,L$4,1,1,\"3 - Savings Analysis\"))","v":0},{"$f":"INDIRECT(ADDRESS($K842,M$4,1,1,\"3 - Savings Analysis\"))","v":0},{"$f":"INDIRECT(ADDRESS($K842,N$4,1,1,\"3 - Savings Analysis\"))","v":0},{"$f":"INDIRECT(ADDRESS($K842,O$4,1,1,\"3 - Savings Analysis\"))","v":0},{"$f":"INDIRECT(ADDRESS($K842,P$4,1,1,\"3 - Savings Analysis\"))","v":0},{"$f":"INDIRECT(ADDRESS($K842,Q$4,1,1,\"3 - Savings Analysis\"))","v":0},{"$f":"INDIRECT(ADDRESS($K842,R$4,1,1,\"3 - Savings Analysis\"))","v":0},{"$f":"INDIRECT(ADDRESS($K842,S$4,1,1,\"3 - Savings Analysis\"))","v":0},{"$f":"INDIRECT(ADDRESS($K842,T$4,1,1,\"3 - Savings Analysis\"))","v":0}]
["","","","","","","","","",null,852,{"$f":"INDIRECT(ADDRESS($K843,L$4,1,1,\"3 - Savings Analysis\"))","v":0},{"$f":"INDIRECT(ADDRESS($K843,M$4,1,1,\"3 - Savings Analysis\"))","v":0},{"$f":"INDIRECT(ADDRESS($K843,N$4,1,1,\"3 - Savings Analysis\"))","v":0},{"$f":"INDIRECT(ADDRESS($K843,O$4,1,1,\"3 - Savings Analysis\"))","v":0},{"$f":"INDIRECT(ADDRESS($K843,P$4,1,1,\"3 - Savings Analysis\"))","v":0},{"$f":"INDIRECT(ADDRESS($K843,Q$4,1,1,\"3 - Savings Analysis\"))","v":0},{"$f":"INDIRECT(ADDRESS($K843,R$4,1,1,\"3 - Savings Analysis\"))","v":0},{"$f":"INDIRECT(ADDRESS($K843,S$4,1,1,\"3 - Savings Analysis\"))","v":0},{"$f":"INDIRECT(ADDRESS($K843,T$4,1,1,\"3 - Savings Analysis\"))","v":0}]
["","","","","","","","","",null,853,{"$f":"INDIRECT(ADDRESS($K844,L$4,1,1,\"3 - Savings Analysis\"))","v":0},{"$f":"INDIRECT(ADDRESS($K844,M$4,1,1,\"3 - Savings Analysis\"))","v":0},{"$f":"INDIRECT(ADDRESS($K844,N$4,1,1,\"3 - Savings Analysis\"))","v":0},{"$f":"INDIRECT(ADDRESS($K844,O$4,1,1,\"3 - Savings Analysis\"))","v":0},{"$f":"INDIRECT(ADDRESS($K844,P$4,1,1,\"3 - Savings Analysis\"))","v":0},{"$f":"INDIRECT(ADDRESS($K844,Q$4,1,1,\"3 - Savings Analysis\"))","v":0},{"$f":"INDIRECT(ADDRESS($K844,R$4,1,1,\"3 - Savings Analysis\"))","v":0},{"$f":"INDIRECT(ADDRESS($K844,S$4,1,1,\"3 - Savings Analysis\"))","v":0},{"$f":"INDIRECT(ADDRESS($K844,T$4,1,1,\"3 - Savings Analysis\"))","v":0}]
[{"$f":"IF($K845<=$M$2,L845,\"\")","v":""},{"$f":"IF($K845<=$M$2,IF($A845=\"Total\",\"\",M845),\"\")","v":""},{"$f":"IF($K845<=$M$2,IF($A845=\"Total\",\"\",N845),\"\")","v":""},{"$f":"IF($K845<=$M$2,O845,\"\")","v":""},{"$f":"IF($K845<=$M$2,P845,\"\")","v":""},{"$f":"IF($K845<=$M$2,IF($A845=\"Total\",\"\",Q845),\"\")","v":""},{"$f":"IF($K845<=$M$2,IF($A845=\"Total\",\"\",R845),\"\")","v":""},{"$f":"IF($K845<=$M$2,IF($A845=\"Total\",\"\",IF($T845=0,\"\",S845)),\"\")","v":""},{"$f":"IF($K845<=$M$2,IF($A845=\"Total\",\"\",IF($T845=0,\"\",T845)),\"\")","v":""},null,854,{"$f":"INDIRECT(ADDRESS($K845,L$4,1,1,\"3 - Savings Analysis\"))","v":0},{"$f":"INDIRECT(ADDRESS($K845,M$4,1,1,\"3 - Savings Analysis\"))","v":0},{"$f":"INDIRECT(ADDRESS($K845,N$4,1,1,\"3 - Savings Analysis\"))","v":0},{"$f":"INDIRECT(ADDRESS($K845,O$4,1,1,\"3 - Savings Analysis\"))","v":0},{"$f":"INDIRECT(ADDRESS($K845,P$4,1,1,\"3 - Savings Analysis\"))","v":0},{"$f":"INDIRECT(ADDRESS($K845,Q$4,1,1,\"3 - Savings Analysis\"))","v":0},{"$f":"INDIRECT(ADDRESS($K845,R$4,1,1,\"3 - Savings Analysis\"))","v":0},{"$f":"INDIRECT(ADDRESS($K845,S$4,1,1,\"3 - Savings Analysis\"))","v":0},{"$f":"INDIRECT(ADDRESS($K845,T$4,1,1,\"3 - Savings Analysis\"))","v":0}]
["","","","","","","","","",null,855,{"$f":"INDIRECT(ADDRESS($K846,L$4,1,1,\"3 - Savings Analysis\"))","v":0},{"$f":"INDIRECT(ADDRESS($K846,M$4,1,1,\"3 - Savings Analysis\"))","v":0},{"$f":"INDIRECT(ADDRESS($K846,N$4,1,1,\"3 - Savings Analysis\"))","v":0},{"$f":"INDIRECT(ADDRESS($K846,O$4,1,1,\"3 - Savings Analysis\"))","v":0},{"$f":"INDIRECT(ADDRESS($K846,P$4,1,1,\"3 - Savings Analysis\"))","v":0},{"$f":"INDIRECT(ADDRESS($K846,Q$4,1,1,\"3 - Savings Analysis\"))","v":0},{"$f":"INDIRECT(ADDRESS($K846,R$4,1,1,\"3 - Savings Analysis\"))","v":0},{"$f":"INDIRECT(ADDRESS($K846,S$4,1,1,\"3 - Savings Analysis\"))","v":0},{"$f":"INDIRECT(ADDRESS($K846,T$4,1,1,\"3 - Savings Analysis\"))","v":0}]
["","","","","","","","","",null,856,{"$f":"INDIRECT(ADDRESS($K847,L$4,1,1,\"3 - Savings Analysis\"))","v":0},{"$f":"INDIRECT(ADDRESS($K847,M$4,1,1,\"3 - Savings Analysis\"))","v":0},{"$f":"INDIRECT(ADDRESS($K847,N$4,1,1,\"3 - Savings Analysis\"))","v":0},{"$f":"INDIRECT(ADDRESS($K847,O$4,1,1,\"3 - Savings Analysis\"))","v":0},{"$f":"INDIRECT(ADDRESS($K847,P$4,1,1,\"3 - Savings Analysis\"))","v":0},{"$f":"INDIRECT(ADDRESS($K847,Q$4,1,1,\"3 - Savings Analysis\"))","v":0},{"$f":"INDIRECT(ADDRESS($K847,R$4,1,1,\"3 - Savings Analysis\"))","v":0},{"$f":"INDIRECT(ADDRESS($K847,S$4,1,1,\"3 - Savings Analysis\"))","v":0},{"$f":"INDIRECT(ADDRESS($K847,T$4,1,1,\"3 - Savings Analysis\"))","v":0}]
["","","","","","","","","",null,857,{"$f":"INDIRECT(ADDRESS($K848,L$4,1,1,\"3 - Savings Analysis\"))","v":0},{"$f":"INDIRECT(ADDRESS($K848,M$4,1,1,\"3 - Savings Analysis\"))","v":0},{"$f":"INDIRECT(ADDRESS($K848,N$4,1,1,\"3 - Savings Analysis\"))","v":0},{"$f":"INDIRECT(ADDRESS($K848,O$4,1,1,\"3 - Savings Analysis\"))","v":0},{"$f":"INDIRECT(ADDRESS($K848,P$4,1,1,\"3 - Savings Analysis\"))","v":0},{"$f":"INDIRECT(ADDRESS($K848,Q$4,1,1,\"3 - Savings Analysis\"))","v":0},{"$f":"INDIRECT(ADDRESS($K848,R$4,1,1,\"3 - Savings Analysis\"))","v":0},{"$f":"INDIRECT(ADDRESS($K848,S$4,1,1,\"3 - Savings Analysis\"))","v":0},{"$f":"INDIRECT(ADDRESS($K848,T$4,1,1,\"3 - Savings Analysis\"))","v":0}]
["","","","","","","","","",null,858,{"$f":"INDIRECT(ADDRESS($K849,L$4,1,1,\"3 - Savings Analysis\"))","v":0},{"$f":"INDIRECT(ADDRESS($K849,M$4,1,1,\"3 - Savings Analysis\"))","v":0},{"$f":"INDIRECT(ADDRESS($K849,N$4,1,1,\"3 - Savings Analysis\"))","v":0},{"$f":"INDIRECT(ADDRESS($K849,O$4,1,1,\"3 - Savings Analysis\"))","v":0},{"$f":"INDIRECT(ADDRESS($K849,P$4,1,1,\"3 - Savings Analysis\"))","v":0},{"$f":"INDIRECT(ADDRESS($K849,Q$4,1,1,\"3 - Savings Analysis\"))","v":0},{"$f":"INDIRECT(ADDRESS($K849,R$4,1,1,\"3 - Savings Analysis\"))","v":0},{"$f":"INDIRECT(ADDRESS($K849,S$4,1,1,\"3 - Savings Analysis\"))","v":0},{"$f":"INDIRECT(ADDRESS($K849,T$4,1,1,\"3 - Savings Analysis\"))","v":0}]
["","","","","","","","","",null,859,{"$f":"INDIRECT(ADDRESS($K850,L$4,1,1,\"3 - Savings Analysis\"))","v":0},{"$f":"INDIRECT(ADDRESS($K850,M$4,1,1,\"3 - Savings Analysis\"))","v":0},{"$f":"INDIRECT(ADDRESS($K850,N$4,1,1,\"3 - Savings Analysis\"))","v":0},{"$f":"INDIRECT(ADDRESS($K850,O$4,1,1,\"3 - Savings Analysis\"))","v":0},{"$f":"INDIRECT(ADDRESS($K850,P$4,1,1,\"3 - Savings Analysis\"))","v":0},{"$f":"INDIRECT(ADDRESS($K850,Q$4,1,1,\"3 - Savings Analysis\"))","v":0},{"$f":"INDIRECT(ADDRESS($K850,R$4,1,1,\"3 - Savings Analysis\"))","v":0},{"$f":"INDIRECT(ADDRESS($K850,S$4,1,1,\"3 - Savings Analysis\"))","v":0},{"$f":"INDIRECT(ADDRESS($K850,T$4,1,1,\"3 - Savings Analysis\"))","v":0}]
["","","","","","","","","",null,860,{"$f":"INDIRECT(ADDRESS($K851,L$4,1,1,\"3 - Savings Analysis\"))","v":0},{"$f":"INDIRECT(ADDRESS($K851,M$4,1,1,\"3 - Savings Analysis\"))","v":0},{"$f":"INDIRECT(ADDRESS($K851,N$4,1,1,\"3 - Savings Analysis\"))","v":0},{"$f":"INDIRECT(ADDRESS($K851,O$4,1,1,\"3 - Savings Analysis\"))","v":0},{"$f":"INDIRECT(ADDRESS($K851,P$4,1,1,\"3 - Savings Analysis\"))","v":0},{"$f":"INDIRECT(ADDRESS($K851,Q$4,1,1,\"3 - Savings Analysis\"))","v":0},{"$f":"INDIRECT(ADDRESS($K851,R$4,1,1,\"3 - Savings Analysis\"))","v":0},{"$f":"INDIRECT(ADDRESS($K851,S$4,1,1,\"3 - Savings Analysis\"))","v":0},{"$f":"INDIRECT(ADDRESS($K851,T$4,1,1,\"3 - Savings Analysis\"))","v":0}]
["","","","","","","","","",null,861,{"$f":"INDIRECT(ADDRESS($K852,L$4,1,1,\"3 - Savings Analysis\"))","v":0},{"$f":"INDIRECT(ADDRESS($K852,M$4,1,1,\"3 - Savings Analysis\"))","v":0},{"$f":"INDIRECT(ADDRESS($K852,N$4,1,1,\"3 - Savings Analysis\"))","v":0},{"$f":"INDIRECT(ADDRESS($K852,O$4,1,1,\"3 - Savings Analysis\"))","v":0},{"$f":"INDIRECT(ADDRESS($K852,P$4,1,1,\"3 - Savings Analysis\"))","v":0},{"$f":"INDIRECT(ADDRESS($K852,Q$4,1,1,\"3 - Savings Analysis\"))","v":0},{"$f":"INDIRECT(ADDRESS($K852,R$4,1,1,\"3 - Savings Analysis\"))","v":0},{"$f":"INDIRECT(ADDRESS($K852,S$4,1,1,\"3 - Savings Analysis\"))","v":0},{"$f":"INDIRECT(ADDRESS($K852,T$4,1,1,\"3 - Savings Analysis\"))","v":0}]
["","","","","","","","","",null,862,{"$f":"INDIRECT(ADDRESS($K853,L$4,1,1,\"3 - Savings Analysis\"))","v":0},{"$f":"INDIRECT(ADDRESS($K853,M$4,1,1,\"3 - Savings Analysis\"))","v":0},{"$f":"INDIRECT(ADDRESS($K853,N$4,1,1,\"3 - Savings Analysis\"))","v":0},{"$f":"INDIRECT(ADDRESS($K853,O$4,1,1,\"3 - Savings Analysis\"))","v":0},{"$f":"INDIRECT(ADDRESS($K853,P$4,1,1,\"3 - Savings Analysis\"))","v":0},{"$f":"INDIRECT(ADDRESS($K853,Q$4,1,1,\"3 - Savings Analysis\"))","v":0},{"$f":"INDIRECT(ADDRESS($K853,R$4,1,1,\"3 - Savings Analysis\"))","v":0},{"$f":"INDIRECT(ADDRESS($K853,S$4,1,1,\"3 - Savings Analysis\"))","v":0},{"$f":"INDIRECT(ADDRESS($K853,T$4,1,1,\"3 - Savings Analysis\"))","v":0}]
["","","","","","","","","",null,863,{"$f":"INDIRECT(ADDRESS($K854,L$4,1,1,\"3 - Savings Analysis\"))","v":0},{"$f":"INDIRECT(ADDRESS($K854,M$4,1,1,\"3 - Savings Analysis\"))","v":0},{"$f":"INDIRECT(ADDRESS($K854,N$4,1,1,\"3 - Savings Analysis\"))","v":0},{"$f":"INDIRECT(ADDRESS($K854,O$4,1,1,\"3 - Savings Analysis\"))","v":0},{"$f":"INDIRECT(ADDRESS($K854,P$4,1,1,\"3 - Savings Analysis\"))","v":0},{"$f":"INDIRECT(ADDRESS($K854,Q$4,1,1,\"3 - Savings Analysis\"))","v":0},{"$f":"INDIRECT(ADDRESS($K854,R$4,1,1,\"3 - Savings Analysis\"))","v":0},{"$f":"INDIRECT(ADDRESS($K854,S$4,1,1,\"3 - Savings Analysis\"))","v":0},{"$f":"INDIRECT(ADDRESS($K854,T$4,1,1,\"3 - Savings Analysis\"))","v":0}]
["","","","","","","","","",null,864,{"$f":"INDIRECT(ADDRESS($K855,L$4,1,1,\"3 - Savings Analysis\"))","v":0},{"$f":"INDIRECT(ADDRESS($K855,M$4,1,1,\"3 - Savings Analysis\"))","v":0},{"$f":"INDIRECT(ADDRESS($K855,N$4,1,1,\"3 - Savings Analysis\"))","v":0},{"$f":"INDIRECT(ADDRESS($K855,O$4,1,1,\"3 - Savings Analysis\"))","v":0},{"$f":"INDIRECT(ADDRESS($K855,P$4,1,1,\"3 - Savings Analysis\"))","v":0},{"$f":"INDIRECT(ADDRESS($K855,Q$4,1,1,\"3 - Savings Analysis\"))","v":0},{"$f":"INDIRECT(ADDRESS($K855,R$4,1,1,\"3 - Savings Analysis\"))","v":0},{"$f":"INDIRECT(ADDRESS($K855,S$4,1,1,\"3 - Savings Analysis\"))","v":0},{"$f":"INDIRECT(ADDRESS($K855,T$4,1,1,\"3 - Savings Analysis\"))","v":0}]
["","","","","","","","","",null,865,{"$f":"INDIRECT(ADDRESS($K856,L$4,1,1,\"3 - Savings Analysis\"))","v":0},{"$f":"INDIRECT(ADDRESS($K856,M$4,1,1,\"3 - Savings Analysis\"))","v":0},{"$f":"INDIRECT(ADDRESS($K856,N$4,1,1,\"3 - Savings Analysis\"))","v":0},{"$f":"INDIRECT(ADDRESS($K856,O$4,1,1,\"3 - Savings Analysis\"))","v":0},{"$f":"INDIRECT(ADDRESS($K856,P$4,1,1,\"3 - Savings Analysis\"))","v":0},{"$f":"INDIRECT(ADDRESS($K856,Q$4,1,1,\"3 - Savings Analysis\"))","v":0},{"$f":"INDIRECT(ADDRESS($K856,R$4,1,1,\"3 - Savings Analysis\"))","v":0},{"$f":"INDIRECT(ADDRESS($K856,S$4,1,1,\"3 - Savings Analysis\"))","v":0},{"$f":"INDIRECT(ADDRESS($K856,T$4,1,1,\"3 - Savings Analysis\"))","v":0}]
["","","","","","","","","",null,866,{"$f":"INDIRECT(ADDRESS($K857,L$4,1,1,\"3 - Savings Analysis\"))","v":0},{"$f":"INDIRECT(ADDRESS($K857,M$4,1,1,\"3 - Savings Analysis\"))","v":0},{"$f":"INDIRECT(ADDRESS($K857,N$4,1,1,\"3 - Savings Analysis\"))","v":0},{"$f":"INDIRECT(ADDRESS($K857,O$4,1,1,\"3 - Savings Analysis\"))","v":0},{"$f":"INDIRECT(ADDRESS($K857,P$4,1,1,\"3 - Savings Analysis\"))","v":0},{"$f":"INDIRECT(ADDRESS($K857,Q$4,1,1,\"3 - Savings Analysis\"))","v":0},{"$f":"INDIRECT(ADDRESS($K857,R$4,1,1,\"3 - Savings Analysis\"))","v":0},{"$f":"INDIRECT(ADDRESS($K857,S$4,1,1,\"3 - Savings Analysis\"))","v":0},{"$f":"INDIRECT(ADDRESS($K857,T$4,1,1,\"3 - Savings Analysis\"))","v":0}]
["","","","","","","","","",null,867,{"$f":"INDIRECT(ADDRESS($K858,L$4,1,1,\"3 - Savings Analysis\"))","v":0},{"$f":"INDIRECT(ADDRESS($K858,M$4,1,1,\"3 - Savings Analysis\"))","v":0},{"$f":"INDIRECT(ADDRESS($K858,N$4,1,1,\"3 - Savings Analysis\"))","v":0},{"$f":"INDIRECT(ADDRESS($K858,O$4,1,1,\"3 - Savings Analysis\"))","v":0},{"$f":"INDIRECT(ADDRESS($K858,P$4,1,1,\"3 - Savings Analysis\"))","v":0},{"$f":"INDIRECT(ADDRESS($K858,Q$4,1,1,\"3 - Savings Analysis\"))","v":0},{"$f":"INDIRECT(ADDRESS($K858,R$4,1,1,\"3 - Savings Analysis\"))","v":0},{"$f":"INDIRECT(ADDRESS($K858,S$4,1,1,\"3 - Savings Analysis\"))","v":0},{"$f":"INDIRECT(ADDRESS($K858,T$4,1,1,\"3 - Savings Analysis\"))","v":0}]
["","","","","","","","","",null,868,{"$f":"INDIRECT(ADDRESS($K859,L$4,1,1,\"3 - Savings Analysis\"))","v":0},{"$f":"INDIRECT(ADDRESS($K859,M$4,1,1,\"3 - Savings Analysis\"))","v":0},{"$f":"INDIRECT(ADDRESS($K859,N$4,1,1,\"3 - Savings Analysis\"))","v":0},{"$f":"INDIRECT(ADDRESS($K859,O$4,1,1,\"3 - Savings Analysis\"))","v":0},{"$f":"INDIRECT(ADDRESS($K859,P$4,1,1,\"3 - Savings Analysis\"))","v":0},{"$f":"INDIRECT(ADDRESS($K859,Q$4,1,1,\"3 - Savings Analysis\"))","v":0},{"$f":"INDIRECT(ADDRESS($K859,R$4,1,1,\"3 - Savings Analysis\"))","v":0},{"$f":"INDIRECT(ADDRESS($K859,S$4,1,1,\"3 - Savings Analysis\"))","v":0},{"$f":"INDIRECT(ADDRESS($K859,T$4,1,1,\"3 - Savings Analysis\"))","v":0}]
["","","","","","","","","",null,869,{"$f":"INDIRECT(ADDRESS($K860,L$4,1,1,\"3 - Savings Analysis\"))","v":0},{"$f":"INDIRECT(ADDRESS($K860,M$4,1,1,\"3 - Savings Analysis\"))","v":0},{"$f":"INDIRECT(ADDRESS($K860,N$4,1,1,\"3 - Savings Analysis\"))","v":0},{"$f":"INDIRECT(ADDRESS($K860,O$4,1,1,\"3 - Savings Analysis\"))","v":0},{"$f":"INDIRECT(ADDRESS($K860,P$4,1,1,\"3 - Savings Analysis\"))","v":0},{"$f":"INDIRECT(ADDRESS($K860,Q$4,1,1,\"3 - Savings Analysis\"))","v":0},{"$f":"INDIRECT(ADDRESS($K860,R$4,1,1,\"3 - Savings Analysis\"))","v":0},{"$f":"INDIRECT(ADDRESS($K860,S$4,1,1,\"3 - Savings Analysis\"))","v":0},{"$f":"INDIRECT(ADDRESS($K860,T$4,1,1,\"3 - Savings Analysis\"))","v":0}]
["","","","","","","","","",null,870,{"$f":"INDIRECT(ADDRESS($K861,L$4,1,1,\"3 - Savings Analysis\"))","v":0},{"$f":"INDIRECT(ADDRESS($K861,M$4,1,1,\"3 - Savings Analysis\"))","v":0},{"$f":"INDIRECT(ADDRESS($K861,N$4,1,1,\"3 - Savings Analysis\"))","v":0},{"$f":"INDIRECT(ADDRESS($K861,O$4,1,1,\"3 - Savings Analysis\"))","v":0},{"$f":"INDIRECT(ADDRESS($K861,P$4,1,1,\"3 - Savings Analysis\"))","v":0},{"$f":"INDIRECT(ADDRESS($K861,Q$4,1,1,\"3 - Savings Analysis\"))","v":0},{"$f":"INDIRECT(ADDRESS($K861,R$4,1,1,\"3 - Savings Analysis\"))","v":0},{"$f":"INDIRECT(ADDRESS($K861,S$4,1,1,\"3 - Savings Analysis\"))","v":0},{"$f":"INDIRECT(ADDRESS($K861,T$4,1,1,\"3 - Savings Analysis\"))","v":0}]
["","","","","","","","","",null,871,{"$f":"INDIRECT(ADDRESS($K862,L$4,1,1,\"3 - Savings Analysis\"))","v":0},{"$f":"INDIRECT(ADDRESS($K862,M$4,1,1,\"3 - Savings Analysis\"))","v":0},{"$f":"INDIRECT(ADDRESS($K862,N$4,1,1,\"3 - Savings Analysis\"))","v":0},{"$f":"INDIRECT(ADDRESS($K862,O$4,1,1,\"3 - Savings Analysis\"))","v":0},{"$f":"INDIRECT(ADDRESS($K862,P$4,1,1,\"3 - Savings Analysis\"))","v":0},{"$f":"INDIRECT(ADDRESS($K862,Q$4,1,1,\"3 - Savings Analysis\"))","v":0},{"$f":"INDIRECT(ADDRESS($K862,R$4,1,1,\"3 - Savings Analysis\"))","v":0},{"$f":"INDIRECT(ADDRESS($K862,S$4,1,1,\"3 - Savings Analysis\"))","v":0},{"$f":"INDIRECT(ADDRESS($K862,T$4,1,1,\"3 - Savings Analysis\"))","v":0}]
["","","","","","","","","",null,872,{"$f":"INDIRECT(ADDRESS($K863,L$4,1,1,\"3 - Savings Analysis\"))","v":0},{"$f":"INDIRECT(ADDRESS($K863,M$4,1,1,\"3 - Savings Analysis\"))","v":0},{"$f":"INDIRECT(ADDRESS($K863,N$4,1,1,\"3 - Savings Analysis\"))","v":0},{"$f":"INDIRECT(ADDRESS($K863,O$4,1,1,\"3 - Savings Analysis\"))","v":0},{"$f":"INDIRECT(ADDRESS($K863,P$4,1,1,\"3 - Savings Analysis\"))","v":0},{"$f":"INDIRECT(ADDRESS($K863,Q$4,1,1,\"3 - Savings Analysis\"))","v":0},{"$f":"INDIRECT(ADDRESS($K863,R$4,1,1,\"3 - Savings Analysis\"))","v":0},{"$f":"INDIRECT(ADDRESS($K863,S$4,1,1,\"3 - Savings Analysis\"))","v":0},{"$f":"INDIRECT(ADDRESS($K863,T$4,1,1,\"3 - Savings Analysis\"))","v":0}]
["","","","","","","","","",null,873,{"$f":"INDIRECT(ADDRESS($K864,L$4,1,1,\"3 - Savings Analysis\"))","v":0},{"$f":"INDIRECT(ADDRESS($K864,M$4,1,1,\"3 - Savings Analysis\"))","v":0},{"$f":"INDIRECT(ADDRESS($K864,N$4,1,1,\"3 - Savings Analysis\"))","v":0},{"$f":"INDIRECT(ADDRESS($K864,O$4,1,1,\"3 - Savings Analysis\"))","v":0},{"$f":"INDIRECT(ADDRESS($K864,P$4,1,1,\"3 - Savings Analysis\"))","v":0},{"$f":"INDIRECT(ADDRESS($K864,Q$4,1,1,\"3 - Savings Analysis\"))","v":0},{"$f":"INDIRECT(ADDRESS($K864,R$4,1,1,\"3 - Savings Analysis\"))","v":0},{"$f":"INDIRECT(ADDRESS($K864,S$4,1,1,\"3 - Savings Analysis\"))","v":0},{"$f":"INDIRECT(ADDRESS($K864,T$4,1,1,\"3 - Savings Analysis\"))","v":0}]
["","","","","","","","","",null,874,{"$f":"INDIRECT(ADDRESS($K865,L$4,1,1,\"3 - Savings Analysis\"))","v":0},{"$f":"INDIRECT(ADDRESS($K865,M$4,1,1,\"3 - Savings Analysis\"))","v":0},{"$f":"INDIRECT(ADDRESS($K865,N$4,1,1,\"3 - Savings Analysis\"))","v":0},{"$f":"INDIRECT(ADDRESS($K865,O$4,1,1,\"3 - Savings Analysis\"))","v":0},{"$f":"INDIRECT(ADDRESS($K865,P$4,1,1,\"3 - Savings Analysis\"))","v":0},{"$f":"INDIRECT(ADDRESS($K865,Q$4,1,1,\"3 - Savings Analysis\"))","v":0},{"$f":"INDIRECT(ADDRESS($K865,R$4,1,1,\"3 - Savings Analysis\"))","v":0},{"$f":"INDIRECT(ADDRESS($K865,S$4,1,1,\"3 - Savings Analysis\"))","v":0},{"$f":"INDIRECT(ADDRESS($K865,T$4,1,1,\"3 - Savings Analysis\"))","v":0}]
["","","","","","","","","",null,875,{"$f":"INDIRECT(ADDRESS($K866,L$4,1,1,\"3 - Savings Analysis\"))","v":0},{"$f":"INDIRECT(ADDRESS($K866,M$4,1,1,\"3 - Savings Analysis\"))","v":0},{"$f":"INDIRECT(ADDRESS($K866,N$4,1,1,\"3 - Savings Analysis\"))","v":0},{"$f":"INDIRECT(ADDRESS($K866,O$4,1,1,\"3 - Savings Analysis\"))","v":0},{"$f":"INDIRECT(ADDRESS($K866,P$4,1,1,\"3 - Savings Analysis\"))","v":0},{"$f":"INDIRECT(ADDRESS($K866,Q$4,1,1,\"3 - Savings Analysis\"))","v":0},{"$f":"INDIRECT(ADDRESS($K866,R$4,1,1,\"3 - Savings Analysis\"))","v":0},{"$f":"INDIRECT(ADDRESS($K866,S$4,1,1,\"3 - Savings Analysis\"))","v":0},{"$f":"INDIRECT(ADDRESS($K866,T$4,1,1,\"3 - Savings Analysis\"))","v":0}]
["","","","","","","","","",null,876,{"$f":"INDIRECT(ADDRESS($K867,L$4,1,1,\"3 - Savings Analysis\"))","v":0},{"$f":"INDIRECT(ADDRESS($K867,M$4,1,1,\"3 - Savings Analysis\"))","v":0},{"$f":"INDIRECT(ADDRESS($K867,N$4,1,1,\"3 - Savings Analysis\"))","v":0},{"$f":"INDIRECT(ADDRESS($K867,O$4,1,1,\"3 - Savings Analysis\"))","v":0},{"$f":"INDIRECT(ADDRESS($K867,P$4,1,1,\"3 - Savings Analysis\"))","v":0},{"$f":"INDIRECT(ADDRESS($K867,Q$4,1,1,\"3 - Savings Analysis\"))","v":0},{"$f":"INDIRECT(ADDRESS($K867,R$4,1,1,\"3 - Savings Analysis\"))","v":0},{"$f":"INDIRECT(ADDRESS($K867,S$4,1,1,\"3 - Savings Analysis\"))","v":0},{"$f":"INDIRECT(ADDRESS($K867,T$4,1,1,\"3 - Savings Analysis\"))","v":0}]
["","","","","","","","","",null,877,{"$f":"INDIRECT(ADDRESS($K868,L$4,1,1,\"3 - Savings Analysis\"))","v":0},{"$f":"INDIRECT(ADDRESS($K868,M$4,1,1,\"3 - Savings Analysis\"))","v":0},{"$f":"INDIRECT(ADDRESS($K868,N$4,1,1,\"3 - Savings Analysis\"))","v":0},{"$f":"INDIRECT(ADDRESS($K868,O$4,1,1,\"3 - Savings Analysis\"))","v":0},{"$f":"INDIRECT(ADDRESS($K868,P$4,1,1,\"3 - Savings Analysis\"))","v":0},{"$f":"INDIRECT(ADDRESS($K868,Q$4,1,1,\"3 - Savings Analysis\"))","v":0},{"$f":"INDIRECT(ADDRESS($K868,R$4,1,1,\"3 - Savings Analysis\"))","v":0},{"$f":"INDIRECT(ADDRESS($K868,S$4,1,1,\"3 - Savings Analysis\"))","v":0},{"$f":"INDIRECT(ADDRESS($K868,T$4,1,1,\"3 - Savings Analysis\"))","v":0}]
["","","","","","","","","",null,878,{"$f":"INDIRECT(ADDRESS($K869,L$4,1,1,\"3 - Savings Analysis\"))","v":0},{"$f":"INDIRECT(ADDRESS($K869,M$4,1,1,\"3 - Savings Analysis\"))","v":0},{"$f":"INDIRECT(ADDRESS($K869,N$4,1,1,\"3 - Savings Analysis\"))","v":0},{"$f":"INDIRECT(ADDRESS($K869,O$4,1,1,\"3 - Savings Analysis\"))","v":0},{"$f":"INDIRECT(ADDRESS($K869,P$4,1,1,\"3 - Savings Analysis\"))","v":0},{"$f":"INDIRECT(ADDRESS($K869,Q$4,1,1,\"3 - Savings Analysis\"))","v":0},{"$f":"INDIRECT(ADDRESS($K869,R$4,1,1,\"3 - Savings Analysis\"))","v":0},{"$f":"INDIRECT(ADDRESS($K869,S$4,1,1,\"3 - Savings Analysis\"))","v":0},{"$f":"INDIRECT(ADDRESS($K869,T$4,1,1,\"3 - Savings Analysis\"))","v":0}]
["","","","","","","","","",null,879,{"$f":"INDIRECT(ADDRESS($K870,L$4,1,1,\"3 - Savings Analysis\"))","v":0},{"$f":"INDIRECT(ADDRESS($K870,M$4,1,1,\"3 - Savings Analysis\"))","v":0},{"$f":"INDIRECT(ADDRESS($K870,N$4,1,1,\"3 - Savings Analysis\"))","v":0},{"$f":"INDIRECT(ADDRESS($K870,O$4,1,1,\"3 - Savings Analysis\"))","v":0},{"$f":"INDIRECT(ADDRESS($K870,P$4,1,1,\"3 - Savings Analysis\"))","v":0},{"$f":"INDIRECT(ADDRESS($K870,Q$4,1,1,\"3 - Savings Analysis\"))","v":0},{"$f":"INDIRECT(ADDRESS($K870,R$4,1,1,\"3 - Savings Analysis\"))","v":0},{"$f":"INDIRECT(ADDRESS($K870,S$4,1,1,\"3 - Savings Analysis\"))","v":0},{"$f":"INDIRECT(ADDRESS($K870,T$4,1,1,\"3 - Savings Analysis\"))","v":0}]
["","","","","","","","","",null,880,{"$f":"INDIRECT(ADDRESS($K871,L$4,1,1,\"3 - Savings Analysis\"))","v":0},{"$f":"INDIRECT(ADDRESS($K871,M$4,1,1,\"3 - Savings Analysis\"))","v":0},{"$f":"INDIRECT(ADDRESS($K871,N$4,1,1,\"3 - Savings Analysis\"))","v":0},{"$f":"INDIRECT(ADDRESS($K871,O$4,1,1,\"3 - Savings Analysis\"))","v":0},{"$f":"INDIRECT(ADDRESS($K871,P$4,1,1,\"3 - Savings Analysis\"))","v":0},{"$f":"INDIRECT(ADDRESS($K871,Q$4,1,1,\"3 - Savings Analysis\"))","v":0},{"$f":"INDIRECT(ADDRESS($K871,R$4,1,1,\"3 - Savings Analysis\"))","v":0},{"$f":"INDIRECT(ADDRESS($K871,S$4,1,1,\"3 - Savings Analysis\"))","v":0},{"$f":"INDIRECT(ADDRESS($K871,T$4,1,1,\"3 - Savings Analysis\"))","v":0}]
["","","","","","","","","",null,881,{"$f":"INDIRECT(ADDRESS($K872,L$4,1,1,\"3 - Savings Analysis\"))","v":0},{"$f":"INDIRECT(ADDRESS($K872,M$4,1,1,\"3 - Savings Analysis\"))","v":0},{"$f":"INDIRECT(ADDRESS($K872,N$4,1,1,\"3 - Savings Analysis\"))","v":0},{"$f":"INDIRECT(ADDRESS($K872,O$4,1,1,\"3 - Savings Analysis\"))","v":0},{"$f":"INDIRECT(ADDRESS($K872,P$4,1,1,\"3 - Savings Analysis\"))","v":0},{"$f":"INDIRECT(ADDRESS($K872,Q$4,1,1,\"3 - Savings Analysis\"))","v":0},{"$f":"INDIRECT(ADDRESS($K872,R$4,1,1,\"3 - Savings Analysis\"))","v":0},{"$f":"INDIRECT(ADDRESS($K872,S$4,1,1,\"3 - Savings Analysis\"))","v":0},{"$f":"INDIRECT(ADDRESS($K872,T$4,1,1,\"3 - Savings Analysis\"))","v":0}]
["","","","","","","","","",null,882,{"$f":"INDIRECT(ADDRESS($K873,L$4,1,1,\"3 - Savings Analysis\"))","v":0},{"$f":"INDIRECT(ADDRESS($K873,M$4,1,1,\"3 - Savings Analysis\"))","v":0},{"$f":"INDIRECT(ADDRESS($K873,N$4,1,1,\"3 - Savings Analysis\"))","v":0},{"$f":"INDIRECT(ADDRESS($K873,O$4,1,1,\"3 - Savings Analysis\"))","v":0},{"$f":"INDIRECT(ADDRESS($K873,P$4,1,1,\"3 - Savings Analysis\"))","v":0},{"$f":"INDIRECT(ADDRESS($K873,Q$4,1,1,\"3 - Savings Analysis\"))","v":0},{"$f":"INDIRECT(ADDRESS($K873,R$4,1,1,\"3 - Savings Analysis\"))","v":0},{"$f":"INDIRECT(ADDRESS($K873,S$4,1,1,\"3 - Savings Analysis\"))","v":0},{"$f":"INDIRECT(ADDRESS($K873,T$4,1,1,\"3 - Savings Analysis\"))","v":0}]
["","","","","","","","","",null,883,{"$f":"INDIRECT(ADDRESS($K874,L$4,1,1,\"3 - Savings Analysis\"))","v":0},{"$f":"INDIRECT(ADDRESS($K874,M$4,1,1,\"3 - Savings Analysis\"))","v":0},{"$f":"INDIRECT(ADDRESS($K874,N$4,1,1,\"3 - Savings Analysis\"))","v":0},{"$f":"INDIRECT(ADDRESS($K874,O$4,1,1,\"3 - Savings Analysis\"))","v":0},{"$f":"INDIRECT(ADDRESS($K874,P$4,1,1,\"3 - Savings Analysis\"))","v":0},{"$f":"INDIRECT(ADDRESS($K874,Q$4,1,1,\"3 - Savings Analysis\"))","v":0},{"$f":"INDIRECT(ADDRESS($K874,R$4,1,1,\"3 - Savings Analysis\"))","v":0},{"$f":"INDIRECT(ADDRESS($K874,S$4,1,1,\"3 - Savings Analysis\"))","v":0},{"$f":"INDIRECT(ADDRESS($K874,T$4,1,1,\"3 - Savings Analysis\"))","v":0}]
["","","","","","","","","",null,884,{"$f":"INDIRECT(ADDRESS($K875,L$4,1,1,\"3 - Savings Analysis\"))","v":0},{"$f":"INDIRECT(ADDRESS($K875,M$4,1,1,\"3 - Savings Analysis\"))","v":0},{"$f":"INDIRECT(ADDRESS($K875,N$4,1,1,\"3 - Savings Analysis\"))","v":0},{"$f":"INDIRECT(ADDRESS($K875,O$4,1,1,\"3 - Savings Analysis\"))","v":0},{"$f":"INDIRECT(ADDRESS($K875,P$4,1,1,\"3 - Savings Analysis\"))","v":0},{"$f":"INDIRECT(ADDRESS($K875,Q$4,1,1,\"3 - Savings Analysis\"))","v":0},{"$f":"INDIRECT(ADDRESS($K875,R$4,1,1,\"3 - Savings Analysis\"))","v":0},{"$f":"INDIRECT(ADDRESS($K875,S$4,1,1,\"3 - Savings Analysis\"))","v":0},{"$f":"INDIRECT(ADDRESS($K875,T$4,1,1,\"3 - Savings Analysis\"))","v":0}]
["","","","","","","","","",null,885,{"$f":"INDIRECT(ADDRESS($K876,L$4,1,1,\"3 - Savings Analysis\"))","v":0},{"$f":"INDIRECT(ADDRESS($K876,M$4,1,1,\"3 - Savings Analysis\"))","v":0},{"$f":"INDIRECT(ADDRESS($K876,N$4,1,1,\"3 - Savings Analysis\"))","v":0},{"$f":"INDIRECT(ADDRESS($K876,O$4,1,1,\"3 - Savings Analysis\"))","v":0},{"$f":"INDIRECT(ADDRESS($K876,P$4,1,1,\"3 - Savings Analysis\"))","v":0},{"$f":"INDIRECT(ADDRESS($K876,Q$4,1,1,\"3 - Savings Analysis\"))","v":0},{"$f":"INDIRECT(ADDRESS($K876,R$4,1,1,\"3 - Savings Analysis\"))","v":0},{"$f":"INDIRECT(ADDRESS($K876,S$4,1,1,\"3 - Savings Analysis\"))","v":0},{"$f":"INDIRECT(ADDRESS($K876,T$4,1,1,\"3 - Savings Analysis\"))","v":0}]
["","","","","","","","","",null,886,{"$f":"INDIRECT(ADDRESS($K877,L$4,1,1,\"3 - Savings Analysis\"))","v":0},{"$f":"INDIRECT(ADDRESS($K877,M$4,1,1,\"3 - Savings Analysis\"))","v":0},{"$f":"INDIRECT(ADDRESS($K877,N$4,1,1,\"3 - Savings Analysis\"))","v":0},{"$f":"INDIRECT(ADDRESS($K877,O$4,1,1,\"3 - Savings Analysis\"))","v":0},{"$f":"INDIRECT(ADDRESS($K877,P$4,1,1,\"3 - Savings Analysis\"))","v":0},{"$f":"INDIRECT(ADDRESS($K877,Q$4,1,1,\"3 - Savings Analysis\"))","v":0},{"$f":"INDIRECT(ADDRESS($K877,R$4,1,1,\"3 - Savings Analysis\"))","v":0},{"$f":"INDIRECT(ADDRESS($K877,S$4,1,1,\"3 - Savings Analysis\"))","v":0},{"$f":"INDIRECT(ADDRESS($K877,T$4,1,1,\"3 - Savings Analysis\"))","v":0}]
["","","","","","","","","",null,887,{"$f":"INDIRECT(ADDRESS($K878,L$4,1,1,\"3 - Savings Analysis\"))","v":0},{"$f":"INDIRECT(ADDRESS($K878,M$4,1,1,\"3 - Savings Analysis\"))","v":0},{"$f":"INDIRECT(ADDRESS($K878,N$4,1,1,\"3 - Savings Analysis\"))","v":0},{"$f":"INDIRECT(ADDRESS($K878,O$4,1,1,\"3 - Savings Analysis\"))","v":0},{"$f":"INDIRECT(ADDRESS($K878,P$4,1,1,\"3 - Savings Analysis\"))","v":0},{"$f":"INDIRECT(ADDRESS($K878,Q$4,1,1,\"3 - Savings Analysis\"))","v":0},{"$f":"INDIRECT(ADDRESS($K878,R$4,1,1,\"3 - Savings Analysis\"))","v":0},{"$f":"INDIRECT(ADDRESS($K878,S$4,1,1,\"3 - Savings Analysis\"))","v":0},{"$f":"INDIRECT(ADDRESS($K878,T$4,1,1,\"3 - Savings Analysis\"))","v":0}]
["","","","","","","","","",null,888,{"$f":"INDIRECT(ADDRESS($K879,L$4,1,1,\"3 - Savings Analysis\"))","v":0},{"$f":"INDIRECT(ADDRESS($K879,M$4,1,1,\"3 - Savings Analysis\"))","v":0},{"$f":"INDIRECT(ADDRESS($K879,N$4,1,1,\"3 - Savings Analysis\"))","v":0},{"$f":"INDIRECT(ADDRESS($K879,O$4,1,1,\"3 - Savings Analysis\"))","v":0},{"$f":"INDIRECT(ADDRESS($K879,P$4,1,1,\"3 - Savings Analysis\"))","v":0},{"$f":"INDIRECT(ADDRESS($K879,Q$4,1,1,\"3 - Savings Analysis\"))","v":0},{"$f":"INDIRECT(ADDRESS($K879,R$4,1,1,\"3 - Savings Analysis\"))","v":0},{"$f":"INDIRECT(ADDRESS($K879,S$4,1,1,\"3 - Savings Analysis\"))","v":0},{"$f":"INDIRECT(ADDRESS($K879,T$4,1,1,\"3 - Savings Analysis\"))","v":0}]
["","","","","","","","","",null,889,{"$f":"INDIRECT(ADDRESS($K880,L$4,1,1,\"3 - Savings Analysis\"))","v":0},{"$f":"INDIRECT(ADDRESS($K880,M$4,1,1,\"3 - Savings Analysis\"))","v":0},{"$f":"INDIRECT(ADDRESS($K880,N$4,1,1,\"3 - Savings Analysis\"))","v":0},{"$f":"INDIRECT(ADDRESS($K880,O$4,1,1,\"3 - Savings Analysis\"))","v":0},{"$f":"INDIRECT(ADDRESS($K880,P$4,1,1,\"3 - Savings Analysis\"))","v":0},{"$f":"INDIRECT(ADDRESS($K880,Q$4,1,1,\"3 - Savings Analysis\"))","v":0},{"$f":"INDIRECT(ADDRESS($K880,R$4,1,1,\"3 - Savings Analysis\"))","v":0},{"$f":"INDIRECT(ADDRESS($K880,S$4,1,1,\"3 - Savings Analysis\"))","v":0},{"$f":"INDIRECT(ADDRESS($K880,T$4,1,1,\"3 - Savings Analysis\"))","v":0}]
["","","","","","","","","",null,890,{"$f":"INDIRECT(ADDRESS($K881,L$4,1,1,\"3 - Savings Analysis\"))","v":0},{"$f":"INDIRECT(ADDRESS($K881,M$4,1,1,\"3 - Savings Analysis\"))","v":0},{"$f":"INDIRECT(ADDRESS($K881,N$4,1,1,\"3 - Savings Analysis\"))","v":0},{"$f":"INDIRECT(ADDRESS($K881,O$4,1,1,\"3 - Savings Analysis\"))","v":0},{"$f":"INDIRECT(ADDRESS($K881,P$4,1,1,\"3 - Savings Analysis\"))","v":0},{"$f":"INDIRECT(ADDRESS($K881,Q$4,1,1,\"3 - Savings Analysis\"))","v":0},{"$f":"INDIRECT(ADDRESS($K881,R$4,1,1,\"3 - Savings Analysis\"))","v":0},{"$f":"INDIRECT(ADDRESS($K881,S$4,1,1,\"3 - Savings Analysis\"))","v":0},{"$f":"INDIRECT(ADDRESS($K881,T$4,1,1,\"3 - Savings Analysis\"))","v":0}]
["","","","","","","","","",null,891,{"$f":"INDIRECT(ADDRESS($K882,L$4,1,1,\"3 - Savings Analysis\"))","v":0},{"$f":"INDIRECT(ADDRESS($K882,M$4,1,1,\"3 - Savings Analysis\"))","v":0},{"$f":"INDIRECT(ADDRESS($K882,N$4,1,1,\"3 - Savings Analysis\"))","v":0},{"$f":"INDIRECT(ADDRESS($K882,O$4,1,1,\"3 - Savings Analysis\"))","v":0},{"$f":"INDIRECT(ADDRESS($K882,P$4,1,1,\"3 - Savings Analysis\"))","v":0},{"$f":"INDIRECT(ADDRESS($K882,Q$4,1,1,\"3 - Savings Analysis\"))","v":0},{"$f":"INDIRECT(ADDRESS($K882,R$4,1,1,\"3 - Savings Analysis\"))","v":0},{"$f":"INDIRECT(ADDRESS($K882,S$4,1,1,\"3 - Savings Analysis\"))","v":0},{"$f":"INDIRECT(ADDRESS($K882,T$4,1,1,\"3 - Savings Analysis\"))","v":0}]
["","","","","","","","","",null,892,{"$f":"INDIRECT(ADDRESS($K883,L$4,1,1,\"3 - Savings Analysis\"))","v":0},{"$f":"INDIRECT(ADDRESS($K883,M$4,1,1,\"3 - Savings Analysis\"))","v":0},{"$f":"INDIRECT(ADDRESS($K883,N$4,1,1,\"3 - Savings Analysis\"))","v":0},{"$f":"INDIRECT(ADDRESS($K883,O$4,1,1,\"3 - Savings Analysis\"))","v":0},{"$f":"INDIRECT(ADDRESS($K883,P$4,1,1,\"3 - Savings Analysis\"))","v":0},{"$f":"INDIRECT(ADDRESS($K883,Q$4,1,1,\"3 - Savings Analysis\"))","v":0},{"$f":"INDIRECT(ADDRESS($K883,R$4,1,1,\"3 - Savings Analysis\"))","v":0},{"$f":"INDIRECT(ADDRESS($K883,S$4,1,1,\"3 - Savings Analysis\"))","v":0},{"$f":"INDIRECT(ADDRESS($K883,T$4,1,1,\"3 - Savings Analysis\"))","v":0}]
["","","","","","","","","",null,893,{"$f":"INDIRECT(ADDRESS($K884,L$4,1,1,\"3 - Savings Analysis\"))","v":0},{"$f":"INDIRECT(ADDRESS($K884,M$4,1,1,\"3 - Savings Analysis\"))","v":0},{"$f":"INDIRECT(ADDRESS($K884,N$4,1,1,\"3 - Savings Analysis\"))","v":0},{"$f":"INDIRECT(ADDRESS($K884,O$4,1,1,\"3 - Savings Analysis\"))","v":0},{"$f":"INDIRECT(ADDRESS($K884,P$4,1,1,\"3 - Savings Analysis\"))","v":0},{"$f":"INDIRECT(ADDRESS($K884,Q$4,1,1,\"3 - Savings Analysis\"))","v":0},{"$f":"INDIRECT(ADDRESS($K884,R$4,1,1,\"3 - Savings Analysis\"))","v":0},{"$f":"INDIRECT(ADDRESS($K884,S$4,1,1,\"3 - Savings Analysis\"))","v":0},{"$f":"INDIRECT(ADDRESS($K884,T$4,1,1,\"3 - Savings Analysis\"))","v":0}]
["","","","","","","","","",null,894,{"$f":"INDIRECT(ADDRESS($K885,L$4,1,1,\"3 - Savings Analysis\"))","v":0},{"$f":"INDIRECT(ADDRESS($K885,M$4,1,1,\"3 - Savings Analysis\"))","v":0},{"$f":"INDIRECT(ADDRESS($K885,N$4,1,1,\"3 - Savings Analysis\"))","v":0},{"$f":"INDIRECT(ADDRESS($K885,O$4,1,1,\"3 - Savings Analysis\"))","v":0},{"$f":"INDIRECT(ADDRESS($K885,P$4,1,1,\"3 - Savings Analysis\"))","v":0},{"$f":"INDIRECT(ADDRESS($K885,Q$4,1,1,\"3 - Savings Analysis\"))","v":0},{"$f":"INDIRECT(ADDRESS($K885,R$4,1,1,\"3 - Savings Analysis\"))","v":0},{"$f":"INDIRECT(ADDRESS($K885,S$4,1,1,\"3 - Savings Analysis\"))","v":0},{"$f":"INDIRECT(ADDRESS($K885,T$4,1,1,\"3 - Savings Analysis\"))","v":0}]
["","","","","","","","","",null,895,{"$f":"INDIRECT(ADDRESS($K886,L$4,1,1,\"3 - Savings Analysis\"))","v":0},{"$f":"INDIRECT(ADDRESS($K886,M$4,1,1,\"3 - Savings Analysis\"))","v":0},{"$f":"INDIRECT(ADDRESS($K886,N$4,1,1,\"3 - Savings Analysis\"))","v":0},{"$f":"INDIRECT(ADDRESS($K886,O$4,1,1,\"3 - Savings Analysis\"))","v":0},{"$f":"INDIRECT(ADDRESS($K886,P$4,1,1,\"3 - Savings Analysis\"))","v":0},{"$f":"INDIRECT(ADDRESS($K886,Q$4,1,1,\"3 - Savings Analysis\"))","v":0},{"$f":"INDIRECT(ADDRESS($K886,R$4,1,1,\"3 - Savings Analysis\"))","v":0},{"$f":"INDIRECT(ADDRESS($K886,S$4,1,1,\"3 - Savings Analysis\"))","v":0},{"$f":"INDIRECT(ADDRESS($K886,T$4,1,1,\"3 - Savings Analysis\"))","v":0}]
["","","","","","","","","",null,896,{"$f":"INDIRECT(ADDRESS($K887,L$4,1,1,\"3 - Savings Analysis\"))","v":0},{"$f":"INDIRECT(ADDRESS($K887,M$4,1,1,\"3 - Savings Analysis\"))","v":0},{"$f":"INDIRECT(ADDRESS($K887,N$4,1,1,\"3 - Savings Analysis\"))","v":0},{"$f":"INDIRECT(ADDRESS($K887,O$4,1,1,\"3 - Savings Analysis\"))","v":0},{"$f":"INDIRECT(ADDRESS($K887,P$4,1,1,\"3 - Savings Analysis\"))","v":0},{"$f":"INDIRECT(ADDRESS($K887,Q$4,1,1,\"3 - Savings Analysis\"))","v":0},{"$f":"INDIRECT(ADDRESS($K887,R$4,1,1,\"3 - Savings Analysis\"))","v":0},{"$f":"INDIRECT(ADDRESS($K887,S$4,1,1,\"3 - Savings Analysis\"))","v":0},{"$f":"INDIRECT(ADDRESS($K887,T$4,1,1,\"3 - Savings Analysis\"))","v":0}]
["","","","","","","","","",null,897,{"$f":"INDIRECT(ADDRESS($K888,L$4,1,1,\"3 - Savings Analysis\"))","v":0},{"$f":"INDIRECT(ADDRESS($K888,M$4,1,1,\"3 - Savings Analysis\"))","v":0},{"$f":"INDIRECT(ADDRESS($K888,N$4,1,1,\"3 - Savings Analysis\"))","v":0},{"$f":"INDIRECT(ADDRESS($K888,O$4,1,1,\"3 - Savings Analysis\"))","v":0},{"$f":"INDIRECT(ADDRESS($K888,P$4,1,1,\"3 - Savings Analysis\"))","v":0},{"$f":"INDIRECT(ADDRESS($K888,Q$4,1,1,\"3 - Savings Analysis\"))","v":0},{"$f":"INDIRECT(ADDRESS($K888,R$4,1,1,\"3 - Savings Analysis\"))","v":0},{"$f":"INDIRECT(ADDRESS($K888,S$4,1,1,\"3 - Savings Analysis\"))","v":0},{"$f":"INDIRECT(ADDRESS($K888,T$4,1,1,\"3 - Savings Analysis\"))","v":0}]
["","","","","","","","","",null,898,{"$f":"INDIRECT(ADDRESS($K889,L$4,1,1,\"3 - Savings Analysis\"))","v":0},{"$f":"INDIRECT(ADDRESS($K889,M$4,1,1,\"3 - Savings Analysis\"))","v":0},{"$f":"INDIRECT(ADDRESS($K889,N$4,1,1,\"3 - Savings Analysis\"))","v":0},{"$f":"INDIRECT(ADDRESS($K889,O$4,1,1,\"3 - Savings Analysis\"))","v":0},{"$f":"INDIRECT(ADDRESS($K889,P$4,1,1,\"3 - Savings Analysis\"))","v":0},{"$f":"INDIRECT(ADDRESS($K889,Q$4,1,1,\"3 - Savings Analysis\"))","v":0},{"$f":"INDIRECT(ADDRESS($K889,R$4,1,1,\"3 - Savings Analysis\"))","v":0},{"$f":"INDIRECT(ADDRESS($K889,S$4,1,1,\"3 - Savings Analysis\"))","v":0},{"$f":"INDIRECT(ADDRESS($K889,T$4,1,1,\"3 - Savings Analysis\"))","v":0}]
["","","","","","","","","",null,899,{"$f":"INDIRECT(ADDRESS($K890,L$4,1,1,\"3 - Savings Analysis\"))","v":0},{"$f":"INDIRECT(ADDRESS($K890,M$4,1,1,\"3 - Savings Analysis\"))","v":0},{"$f":"INDIRECT(ADDRESS($K890,N$4,1,1,\"3 - Savings Analysis\"))","v":0},{"$f":"INDIRECT(ADDRESS($K890,O$4,1,1,\"3 - Savings Analysis\"))","v":0},{"$f":"INDIRECT(ADDRESS($K890,P$4,1,1,\"3 - Savings Analysis\"))","v":0},{"$f":"INDIRECT(ADDRESS($K890,Q$4,1,1,\"3 - Savings Analysis\"))","v":0},{"$f":"INDIRECT(ADDRESS($K890,R$4,1,1,\"3 - Savings Analysis\"))","v":0},{"$f":"INDIRECT(ADDRESS($K890,S$4,1,1,\"3 - Savings Analysis\"))","v":0},{"$f":"INDIRECT(ADDRESS($K890,T$4,1,1,\"3 - Savings Analysis\"))","v":0}]
["","","","","","","","","",null,900,{"$f":"INDIRECT(ADDRESS($K891,L$4,1,1,\"3 - Savings Analysis\"))","v":0},{"$f":"INDIRECT(ADDRESS($K891,M$4,1,1,\"3 - Savings Analysis\"))","v":0},{"$f":"INDIRECT(ADDRESS($K891,N$4,1,1,\"3 - Savings Analysis\"))","v":0},{"$f":"INDIRECT(ADDRESS($K891,O$4,1,1,\"3 - Savings Analysis\"))","v":0},{"$f":"INDIRECT(ADDRESS($K891,P$4,1,1,\"3 - Savings Analysis\"))","v":0},{"$f":"INDIRECT(ADDRESS($K891,Q$4,1,1,\"3 - Savings Analysis\"))","v":0},{"$f":"INDIRECT(ADDRESS($K891,R$4,1,1,\"3 - Savings Analysis\"))","v":0},{"$f":"INDIRECT(ADDRESS($K891,S$4,1,1,\"3 - Savings Analysis\"))","v":0},{"$f":"INDIRECT(ADDRESS($K891,T$4,1,1,\"3 - Savings Analysis\"))","v":0}]
["","","","","","","","","",null,901,{"$f":"INDIRECT(ADDRESS($K892,L$4,1,1,\"3 - Savings Analysis\"))","v":0},{"$f":"INDIRECT(ADDRESS($K892,M$4,1,1,\"3 - Savings Analysis\"))","v":0},{"$f":"INDIRECT(ADDRESS($K892,N$4,1,1,\"3 - Savings Analysis\"))","v":0},{"$f":"INDIRECT(ADDRESS($K892,O$4,1,1,\"3 - Savings Analysis\"))","v":0},{"$f":"INDIRECT(ADDRESS($K892,P$4,1,1,\"3 - Savings Analysis\"))","v":0},{"$f":"INDIRECT(ADDRESS($K892,Q$4,1,1,\"3 - Savings Analysis\"))","v":0},{"$f":"INDIRECT(ADDRESS($K892,R$4,1,1,\"3 - Savings Analysis\"))","v":0},{"$f":"INDIRECT(ADDRESS($K892,S$4,1,1,\"3 - Savings Analysis\"))","v":0},{"$f":"INDIRECT(ADDRESS($K892,T$4,1,1,\"3 - Savings Analysis\"))","v":0}]
["","","","","","","","","",null,902,{"$f":"INDIRECT(ADDRESS($K893,L$4,1,1,\"3 - Savings Analysis\"))","v":0},{"$f":"INDIRECT(ADDRESS($K893,M$4,1,1,\"3 - Savings Analysis\"))","v":0},{"$f":"INDIRECT(ADDRESS($K893,N$4,1,1,\"3 - Savings Analysis\"))","v":0},{"$f":"INDIRECT(ADDRESS($K893,O$4,1,1,\"3 - Savings Analysis\"))","v":0},{"$f":"INDIRECT(ADDRESS($K893,P$4,1,1,\"3 - Savings Analysis\"))","v":0},{"$f":"INDIRECT(ADDRESS($K893,Q$4,1,1,\"3 - Savings Analysis\"))","v":0},{"$f":"INDIRECT(ADDRESS($K893,R$4,1,1,\"3 - Savings Analysis\"))","v":0},{"$f":"INDIRECT(ADDRESS($K893,S$4,1,1,\"3 - Savings Analysis\"))","v":0},{"$f":"INDIRECT(ADDRESS($K893,T$4,1,1,\"3 - Savings Analysis\"))","v":0}]
["","","","","","","","","",null,903,{"$f":"INDIRECT(ADDRESS($K894,L$4,1,1,\"3 - Savings Analysis\"))","v":0},{"$f":"INDIRECT(ADDRESS($K894,M$4,1,1,\"3 - Savings Analysis\"))","v":0},{"$f":"INDIRECT(ADDRESS($K894,N$4,1,1,\"3 - Savings Analysis\"))","v":0},{"$f":"INDIRECT(ADDRESS($K894,O$4,1,1,\"3 - Savings Analysis\"))","v":0},{"$f":"INDIRECT(ADDRESS($K894,P$4,1,1,\"3 - Savings Analysis\"))","v":0},{"$f":"INDIRECT(ADDRESS($K894,Q$4,1,1,\"3 - Savings Analysis\"))","v":0},{"$f":"INDIRECT(ADDRESS($K894,R$4,1,1,\"3 - Savings Analysis\"))","v":0},{"$f":"INDIRECT(ADDRESS($K894,S$4,1,1,\"3 - Savings Analysis\"))","v":0},{"$f":"INDIRECT(ADDRESS($K894,T$4,1,1,\"3 - Savings Analysis\"))","v":0}]
["","","","","","","","","",null,904,{"$f":"INDIRECT(ADDRESS($K895,L$4,1,1,\"3 - Savings Analysis\"))","v":0},{"$f":"INDIRECT(ADDRESS($K895,M$4,1,1,\"3 - Savings Analysis\"))","v":0},{"$f":"INDIRECT(ADDRESS($K895,N$4,1,1,\"3 - Savings Analysis\"))","v":0},{"$f":"INDIRECT(ADDRESS($K895,O$4,1,1,\"3 - Savings Analysis\"))","v":0},{"$f":"INDIRECT(ADDRESS($K895,P$4,1,1,\"3 - Savings Analysis\"))","v":0},{"$f":"INDIRECT(ADDRESS($K895,Q$4,1,1,\"3 - Savings Analysis\"))","v":0},{"$f":"INDIRECT(ADDRESS($K895,R$4,1,1,\"3 - Savings Analysis\"))","v":0},{"$f":"INDIRECT(ADDRESS($K895,S$4,1,1,\"3 - Savings Analysis\"))","v":0},{"$f":"INDIRECT(ADDRESS($K895,T$4,1,1,\"3 - Savings Analysis\"))","v":0}]
["","","","","","","","","",null,905,{"$f":"INDIRECT(ADDRESS($K896,L$4,1,1,\"3 - Savings Analysis\"))","v":0},{"$f":"INDIRECT(ADDRESS($K896,M$4,1,1,\"3 - Savings Analysis\"))","v":0},{"$f":"INDIRECT(ADDRESS($K896,N$4,1,1,\"3 - Savings Analysis\"))","v":0},{"$f":"INDIRECT(ADDRESS($K896,O$4,1,1,\"3 - Savings Analysis\"))","v":0},{"$f":"INDIRECT(ADDRESS($K896,P$4,1,1,\"3 - Savings Analysis\"))","v":0},{"$f":"INDIRECT(ADDRESS($K896,Q$4,1,1,\"3 - Savings Analysis\"))","v":0},{"$f":"INDIRECT(ADDRESS($K896,R$4,1,1,\"3 - Savings Analysis\"))","v":0},{"$f":"INDIRECT(ADDRESS($K896,S$4,1,1,\"3 - Savings Analysis\"))","v":0},{"$f":"INDIRECT(ADDRESS($K896,T$4,1,1,\"3 - Savings Analysis\"))","v":0}]
["","","","","","","","","",null,906,{"$f":"INDIRECT(ADDRESS($K897,L$4,1,1,\"3 - Savings Analysis\"))","v":0},{"$f":"INDIRECT(ADDRESS($K897,M$4,1,1,\"3 - Savings Analysis\"))","v":0},{"$f":"INDIRECT(ADDRESS($K897,N$4,1,1,\"3 - Savings Analysis\"))","v":0},{"$f":"INDIRECT(ADDRESS($K897,O$4,1,1,\"3 - Savings Analysis\"))","v":0},{"$f":"INDIRECT(ADDRESS($K897,P$4,1,1,\"3 - Savings Analysis\"))","v":0},{"$f":"INDIRECT(ADDRESS($K897,Q$4,1,1,\"3 - Savings Analysis\"))","v":0},{"$f":"INDIRECT(ADDRESS($K897,R$4,1,1,\"3 - Savings Analysis\"))","v":0},{"$f":"INDIRECT(ADDRESS($K897,S$4,1,1,\"3 - Savings Analysis\"))","v":0},{"$f":"INDIRECT(ADDRESS($K897,T$4,1,1,\"3 - Savings Analysis\"))","v":0}]
["","","","","","","","","",null,907,{"$f":"INDIRECT(ADDRESS($K898,L$4,1,1,\"3 - Savings Analysis\"))","v":0},{"$f":"INDIRECT(ADDRESS($K898,M$4,1,1,\"3 - Savings Analysis\"))","v":0},{"$f":"INDIRECT(ADDRESS($K898,N$4,1,1,\"3 - Savings Analysis\"))","v":0},{"$f":"INDIRECT(ADDRESS($K898,O$4,1,1,\"3 - Savings Analysis\"))","v":0},{"$f":"INDIRECT(ADDRESS($K898,P$4,1,1,\"3 - Savings Analysis\"))","v":0},{"$f":"INDIRECT(ADDRESS($K898,Q$4,1,1,\"3 - Savings Analysis\"))","v":0},{"$f":"INDIRECT(ADDRESS($K898,R$4,1,1,\"3 - Savings Analysis\"))","v":0},{"$f":"INDIRECT(ADDRESS($K898,S$4,1,1,\"3 - Savings Analysis\"))","v":0},{"$f":"INDIRECT(ADDRESS($K898,T$4,1,1,\"3 - Savings Analysis\"))","v":0}]
["","","","","","","","","",null,908,{"$f":"INDIRECT(ADDRESS($K899,L$4,1,1,\"3 - Savings Analysis\"))","v":0},{"$f":"INDIRECT(ADDRESS($K899,M$4,1,1,\"3 - Savings Analysis\"))","v":0},{"$f":"INDIRECT(ADDRESS($K899,N$4,1,1,\"3 - Savings Analysis\"))","v":0},{"$f":"INDIRECT(ADDRESS($K899,O$4,1,1,\"3 - Savings Analysis\"))","v":0},{"$f":"INDIRECT(ADDRESS($K899,P$4,1,1,\"3 - Savings Analysis\"))","v":0},{"$f":"INDIRECT(ADDRESS($K899,Q$4,1,1,\"3 - Savings Analysis\"))","v":0},{"$f":"INDIRECT(ADDRESS($K899,R$4,1,1,\"3 - Savings Analysis\"))","v":0},{"$f":"INDIRECT(ADDRESS($K899,S$4,1,1,\"3 - Savings Analysis\"))","v":0},{"$f":"INDIRECT(ADDRESS($K899,T$4,1,1,\"3 - Savings Analysis\"))","v":0}]
["","","","","","","","","",null,909,{"$f":"INDIRECT(ADDRESS($K900,L$4,1,1,\"3 - Savings Analysis\"))","v":0},{"$f":"INDIRECT(ADDRESS($K900,M$4,1,1,\"3 - Savings Analysis\"))","v":0},{"$f":"INDIRECT(ADDRESS($K900,N$4,1,1,\"3 - Savings Analysis\"))","v":0},{"$f":"INDIRECT(ADDRESS($K900,O$4,1,1,\"3 - Savings Analysis\"))","v":0},{"$f":"INDIRECT(ADDRESS($K900,P$4,1,1,\"3 - Savings Analysis\"))","v":0},{"$f":"INDIRECT(ADDRESS($K900,Q$4,1,1,\"3 - Savings Analysis\"))","v":0},{"$f":"INDIRECT(ADDRESS($K900,R$4,1,1,\"3 - Savings Analysis\"))","v":0},{"$f":"INDIRECT(ADDRESS($K900,S$4,1,1,\"3 - Savings Analysis\"))","v":0},{"$f":"INDIRECT(ADDRESS($K900,T$4,1,1,\"3 - Savings Analysis\"))","v":0}]
["","","","","","","","","",null,910,{"$f":"INDIRECT(ADDRESS($K901,L$4,1,1,\"3 - Savings Analysis\"))","v":0},{"$f":"INDIRECT(ADDRESS($K901,M$4,1,1,\"3 - Savings Analysis\"))","v":0},{"$f":"INDIRECT(ADDRESS($K901,N$4,1,1,\"3 - Savings Analysis\"))","v":0},{"$f":"INDIRECT(ADDRESS($K901,O$4,1,1,\"3 - Savings Analysis\"))","v":0},{"$f":"INDIRECT(ADDRESS($K901,P$4,1,1,\"3 - Savings Analysis\"))","v":0},{"$f":"INDIRECT(ADDRESS($K901,Q$4,1,1,\"3 - Savings Analysis\"))","v":0},{"$f":"INDIRECT(ADDRESS($K901,R$4,1,1,\"3 - Savings Analysis\"))","v":0},{"$f":"INDIRECT(ADDRESS($K901,S$4,1,1,\"3 - Savings Analysis\"))","v":0},{"$f":"INDIRECT(ADDRESS($K901,T$4,1,1,\"3 - Savings Analysis\"))","v":0}]
["","","","","","","","","",null,911,{"$f":"INDIRECT(ADDRESS($K902,L$4,1,1,\"3 - Savings Analysis\"))","v":0},{"$f":"INDIRECT(ADDRESS($K902,M$4,1,1,\"3 - Savings Analysis\"))","v":0},{"$f":"INDIRECT(ADDRESS($K902,N$4,1,1,\"3 - Savings Analysis\"))","v":0},{"$f":"INDIRECT(ADDRESS($K902,O$4,1,1,\"3 - Savings Analysis\"))","v":0},{"$f":"INDIRECT(ADDRESS($K902,P$4,1,1,\"3 - Savings Analysis\"))","v":0},{"$f":"INDIRECT(ADDRESS($K902,Q$4,1,1,\"3 - Savings Analysis\"))","v":0},{"$f":"INDIRECT(ADDRESS($K902,R$4,1,1,\"3 - Savings Analysis\"))","v":0},{"$f":"INDIRECT(ADDRESS($K902,S$4,1,1,\"3 - Savings Analysis\"))","v":0},{"$f":"INDIRECT(ADDRESS($K902,T$4,1,1,\"3 - Savings Analysis\"))","v":0}]
["","","","","","","","","",null,912,{"$f":"INDIRECT(ADDRESS($K903,L$4,1,1,\"3 - Savings Analysis\"))","v":0},{"$f":"INDIRECT(ADDRESS($K903,M$4,1,1,\"3 - Savings Analysis\"))","v":0},{"$f":"INDIRECT(ADDRESS($K903,N$4,1,1,\"3 - Savings Analysis\"))","v":0},{"$f":"INDIRECT(ADDRESS($K903,O$4,1,1,\"3 - Savings Analysis\"))","v":0},{"$f":"INDIRECT(ADDRESS($K903,P$4,1,1,\"3 - Savings Analysis\"))","v":0},{"$f":"INDIRECT(ADDRESS($K903,Q$4,1,1,\"3 - Savings Analysis\"))","v":0},{"$f":"INDIRECT(ADDRESS($K903,R$4,1,1,\"3 - Savings Analysis\"))","v":0},{"$f":"INDIRECT(ADDRESS($K903,S$4,1,1,\"3 - Savings Analysis\"))","v":0},{"$f":"INDIRECT(ADDRESS($K903,T$4,1,1,\"3 - Savings Analysis\"))","v":0}]
["","","","","","","","","",null,913,{"$f":"INDIRECT(ADDRESS($K904,L$4,1,1,\"3 - Savings Analysis\"))","v":0},{"$f":"INDIRECT(ADDRESS($K904,M$4,1,1,\"3 - Savings Analysis\"))","v":0},{"$f":"INDIRECT(ADDRESS($K904,N$4,1,1,\"3 - Savings Analysis\"))","v":0},{"$f":"INDIRECT(ADDRESS($K904,O$4,1,1,\"3 - Savings Analysis\"))","v":0},{"$f":"INDIRECT(ADDRESS($K904,P$4,1,1,\"3 - Savings Analysis\"))","v":0},{"$f":"INDIRECT(ADDRESS($K904,Q$4,1,1,\"3 - Savings Analysis\"))","v":0},{"$f":"INDIRECT(ADDRESS($K904,R$4,1,1,\"3 - Savings Analysis\"))","v":0},{"$f":"INDIRECT(ADDRESS($K904,S$4,1,1,\"3 - Savings Analysis\"))","v":0},{"$f":"INDIRECT(ADDRESS($K904,T$4,1,1,\"3 - Savings Analysis\"))","v":0}]
["","","","","","","","","",null,{"$f":"K904+1","v":914},{"$f":"INDIRECT(ADDRESS($K905,L$4,1,1,\"3 - Savings Analysis\"))","v":0},{"$f":"INDIRECT(ADDRESS($K905,M$4,1,1,\"3 - Savings Analysis\"))","v":0},{"$f":"INDIRECT(ADDRESS($K905,N$4,1,1,\"3 - Savings Analysis\"))","v":0},{"$f":"INDIRECT(ADDRESS($K905,O$4,1,1,\"3 - Savings Analysis\"))","v":0},{"$f":"INDIRECT(ADDRESS($K905,P$4,1,1,\"3 - Savings Analysis\"))","v":0},{"$f":"INDIRECT(ADDRESS($K905,Q$4,1,1,\"3 - Savings Analysis\"))","v":0},{"$f":"INDIRECT(ADDRESS($K905,R$4,1,1,\"3 - Savings Analysis\"))","v":0},{"$f":"INDIRECT(ADDRESS($K905,S$4,1,1,\"3 - Savings Analysis\"))","v":0},{"$f":"INDIRECT(ADDRESS($K905,T$4,1,1,\"3 - Savings Analysis\"))","v":0}]
["","","","","","","","","",null,915,{"$f":"INDIRECT(ADDRESS($K906,L$4,1,1,\"3 - Savings Analysis\"))","v":0},{"$f":"INDIRECT(ADDRESS($K906,M$4,1,1,\"3 - Savings Analysis\"))","v":0},{"$f":"INDIRECT(ADDRESS($K906,N$4,1,1,\"3 - Savings Analysis\"))","v":0},{"$f":"INDIRECT(ADDRESS($K906,O$4,1,1,\"3 - Savings Analysis\"))","v":0},{"$f":"INDIRECT(ADDRESS($K906,P$4,1,1,\"3 - Savings Analysis\"))","v":0},{"$f":"INDIRECT(ADDRESS($K906,Q$4,1,1,\"3 - Savings Analysis\"))","v":0},{"$f":"INDIRECT(ADDRESS($K906,R$4,1,1,\"3 - Savings Analysis\"))","v":0},{"$f":"INDIRECT(ADDRESS($K906,S$4,1,1,\"3 - Savings Analysis\"))","v":0},{"$f":"INDIRECT(ADDRESS($K906,T$4,1,1,\"3 - Savings Analysis\"))","v":0}]
["","","","","","","","","",null,916,{"$f":"INDIRECT(ADDRESS($K907,L$4,1,1,\"3 - Savings Analysis\"))","v":0},{"$f":"INDIRECT(ADDRESS($K907,M$4,1,1,\"3 - Savings Analysis\"))","v":0},{"$f":"INDIRECT(ADDRESS($K907,N$4,1,1,\"3 - Savings Analysis\"))","v":0},{"$f":"INDIRECT(ADDRESS($K907,O$4,1,1,\"3 - Savings Analysis\"))","v":0},{"$f":"INDIRECT(ADDRESS($K907,P$4,1,1,\"3 - Savings Analysis\"))","v":0},{"$f":"INDIRECT(ADDRESS($K907,Q$4,1,1,\"3 - Savings Analysis\"))","v":0},{"$f":"INDIRECT(ADDRESS($K907,R$4,1,1,\"3 - Savings Analysis\"))","v":0},{"$f":"INDIRECT(ADDRESS($K907,S$4,1,1,\"3 - Savings Analysis\"))","v":0},{"$f":"INDIRECT(ADDRESS($K907,T$4,1,1,\"3 - Savings Analysis\"))","v":0}]
["","","","","","","","","",null,917,{"$f":"INDIRECT(ADDRESS($K908,L$4,1,1,\"3 - Savings Analysis\"))","v":0},{"$f":"INDIRECT(ADDRESS($K908,M$4,1,1,\"3 - Savings Analysis\"))","v":0},{"$f":"INDIRECT(ADDRESS($K908,N$4,1,1,\"3 - Savings Analysis\"))","v":0},{"$f":"INDIRECT(ADDRESS($K908,O$4,1,1,\"3 - Savings Analysis\"))","v":0},{"$f":"INDIRECT(ADDRESS($K908,P$4,1,1,\"3 - Savings Analysis\"))","v":0},{"$f":"INDIRECT(ADDRESS($K908,Q$4,1,1,\"3 - Savings Analysis\"))","v":0},{"$f":"INDIRECT(ADDRESS($K908,R$4,1,1,\"3 - Savings Analysis\"))","v":0},{"$f":"INDIRECT(ADDRESS($K908,S$4,1,1,\"3 - Savings Analysis\"))","v":0},{"$f":"INDIRECT(ADDRESS($K908,T$4,1,1,\"3 - Savings Analysis\"))","v":0}]
[{"$f":"IF($K909<=$M$2,L909,\"\")","v":""},{"$f":"IF($K909<=$M$2,IF($A909=\"Total\",\"\",M909),\"\")","v":""},{"$f":"IF($K909<=$M$2,IF($A909=\"Total\",\"\",N909),\"\")","v":""},{"$f":"IF($K909<=$M$2,O909,\"\")","v":""},{"$f":"IF($K909<=$M$2,P909,\"\")","v":""},{"$f":"IF($K909<=$M$2,IF($A909=\"Total\",\"\",Q909),\"\")","v":""},{"$f":"IF($K909<=$M$2,IF($A909=\"Total\",\"\",R909),\"\")","v":""},{"$f":"IF($K909<=$M$2,IF($A909=\"Total\",\"\",IF($T909=0,\"\",S909)),\"\")","v":""},{"$f":"IF($K909<=$M$2,IF($A909=\"Total\",\"\",IF($T909=0,\"\",T909)),\"\")","v":""},null,918,{"$f":"INDIRECT(ADDRESS($K909,L$4,1,1,\"3 - Savings Analysis\"))","v":0},{"$f":"INDIRECT(ADDRESS($K909,M$4,1,1,\"3 - Savings Analysis\"))","v":0},{"$f":"INDIRECT(ADDRESS($K909,N$4,1,1,\"3 - Savings Analysis\"))","v":0},{"$f":"INDIRECT(ADDRESS($K909,O$4,1,1,\"3 - Savings Analysis\"))","v":0},{"$f":"INDIRECT(ADDRESS($K909,P$4,1,1,\"3 - Savings Analysis\"))","v":0},{"$f":"INDIRECT(ADDRESS($K909,Q$4,1,1,\"3 - Savings Analysis\"))","v":0},{"$f":"INDIRECT(ADDRESS($K909,R$4,1,1,\"3 - Savings Analysis\"))","v":0},{"$f":"INDIRECT(ADDRESS($K909,S$4,1,1,\"3 - Savings Analysis\"))","v":0},{"$f":"INDIRECT(ADDRESS($K909,T$4,1,1,\"3 - Savings Analysis\"))","v":0}]
["","","","","","","","","",null,919,{"$f":"INDIRECT(ADDRESS($K910,L$4,1,1,\"3 - Savings Analysis\"))","v":0},{"$f":"INDIRECT(ADDRESS($K910,M$4,1,1,\"3 - Savings Analysis\"))","v":0},{"$f":"INDIRECT(ADDRESS($K910,N$4,1,1,\"3 - Savings Analysis\"))","v":0},{"$f":"INDIRECT(ADDRESS($K910,O$4,1,1,\"3 - Savings Analysis\"))","v":0},{"$f":"INDIRECT(ADDRESS($K910,P$4,1,1,\"3 - Savings Analysis\"))","v":0},{"$f":"INDIRECT(ADDRESS($K910,Q$4,1,1,\"3 - Savings Analysis\"))","v":0},{"$f":"INDIRECT(ADDRESS($K910,R$4,1,1,\"3 - Savings Analysis\"))","v":0},{"$f":"INDIRECT(ADDRESS($K910,S$4,1,1,\"3 - Savings Analysis\"))","v":0},{"$f":"INDIRECT(ADDRESS($K910,T$4,1,1,\"3 - Savings Analysis\"))","v":0}]
["","","","","","","","","",null,920,{"$f":"INDIRECT(ADDRESS($K911,L$4,1,1,\"3 - Savings Analysis\"))","v":0},{"$f":"INDIRECT(ADDRESS($K911,M$4,1,1,\"3 - Savings Analysis\"))","v":0},{"$f":"INDIRECT(ADDRESS($K911,N$4,1,1,\"3 - Savings Analysis\"))","v":0},{"$f":"INDIRECT(ADDRESS($K911,O$4,1,1,\"3 - Savings Analysis\"))","v":0},{"$f":"INDIRECT(ADDRESS($K911,P$4,1,1,\"3 - Savings Analysis\"))","v":0},{"$f":"INDIRECT(ADDRESS($K911,Q$4,1,1,\"3 - Savings Analysis\"))","v":0},{"$f":"INDIRECT(ADDRESS($K911,R$4,1,1,\"3 - Savings Analysis\"))","v":0},{"$f":"INDIRECT(ADDRESS($K911,S$4,1,1,\"3 - Savings Analysis\"))","v":0},{"$f":"INDIRECT(ADDRESS($K911,T$4,1,1,\"3 - Savings Analysis\"))","v":0}]
["","","","","","","","","",null,921,{"$f":"INDIRECT(ADDRESS($K912,L$4,1,1,\"3 - Savings Analysis\"))","v":0},{"$f":"INDIRECT(ADDRESS($K912,M$4,1,1,\"3 - Savings Analysis\"))","v":0},{"$f":"INDIRECT(ADDRESS($K912,N$4,1,1,\"3 - Savings Analysis\"))","v":0},{"$f":"INDIRECT(ADDRESS($K912,O$4,1,1,\"3 - Savings Analysis\"))","v":0},{"$f":"INDIRECT(ADDRESS($K912,P$4,1,1,\"3 - Savings Analysis\"))","v":0},{"$f":"INDIRECT(ADDRESS($K912,Q$4,1,1,\"3 - Savings Analysis\"))","v":0},{"$f":"INDIRECT(ADDRESS($K912,R$4,1,1,\"3 - Savings Analysis\"))","v":0},{"$f":"INDIRECT(ADDRESS($K912,S$4,1,1,\"3 - Savings Analysis\"))","v":0},{"$f":"INDIRECT(ADDRESS($K912,T$4,1,1,\"3 - Savings Analysis\"))","v":0}]
["","","","","","","","","",null,922,{"$f":"INDIRECT(ADDRESS($K913,L$4,1,1,\"3 - Savings Analysis\"))","v":0},{"$f":"INDIRECT(ADDRESS($K913,M$4,1,1,\"3 - Savings Analysis\"))","v":0},{"$f":"INDIRECT(ADDRESS($K913,N$4,1,1,\"3 - Savings Analysis\"))","v":0},{"$f":"INDIRECT(ADDRESS($K913,O$4,1,1,\"3 - Savings Analysis\"))","v":0},{"$f":"INDIRECT(ADDRESS($K913,P$4,1,1,\"3 - Savings Analysis\"))","v":0},{"$f":"INDIRECT(ADDRESS($K913,Q$4,1,1,\"3 - Savings Analysis\"))","v":0},{"$f":"INDIRECT(ADDRESS($K913,R$4,1,1,\"3 - Savings Analysis\"))","v":0},{"$f":"INDIRECT(ADDRESS($K913,S$4,1,1,\"3 - Savings Analysis\"))","v":0},{"$f":"INDIRECT(ADDRESS($K913,T$4,1,1,\"3 - Savings Analysis\"))","v":0}]
["","","","","","","","","",null,923,{"$f":"INDIRECT(ADDRESS($K914,L$4,1,1,\"3 - Savings Analysis\"))","v":0},{"$f":"INDIRECT(ADDRESS($K914,M$4,1,1,\"3 - Savings Analysis\"))","v":0},{"$f":"INDIRECT(ADDRESS($K914,N$4,1,1,\"3 - Savings Analysis\"))","v":0},{"$f":"INDIRECT(ADDRESS($K914,O$4,1,1,\"3 - Savings Analysis\"))","v":0},{"$f":"INDIRECT(ADDRESS($K914,P$4,1,1,\"3 - Savings Analysis\"))","v":0},{"$f":"INDIRECT(ADDRESS($K914,Q$4,1,1,\"3 - Savings Analysis\"))","v":0},{"$f":"INDIRECT(ADDRESS($K914,R$4,1,1,\"3 - Savings Analysis\"))","v":0},{"$f":"INDIRECT(ADDRESS($K914,S$4,1,1,\"3 - Savings Analysis\"))","v":0},{"$f":"INDIRECT(ADDRESS($K914,T$4,1,1,\"3 - Savings Analysis\"))","v":0}]
["","","","","","","","","",null,924,{"$f":"INDIRECT(ADDRESS($K915,L$4,1,1,\"3 - Savings Analysis\"))","v":0},{"$f":"INDIRECT(ADDRESS($K915,M$4,1,1,\"3 - Savings Analysis\"))","v":0},{"$f":"INDIRECT(ADDRESS($K915,N$4,1,1,\"3 - Savings Analysis\"))","v":0},{"$f":"INDIRECT(ADDRESS($K915,O$4,1,1,\"3 - Savings Analysis\"))","v":0},{"$f":"INDIRECT(ADDRESS($K915,P$4,1,1,\"3 - Savings Analysis\"))","v":0},{"$f":"INDIRECT(ADDRESS($K915,Q$4,1,1,\"3 - Savings Analysis\"))","v":0},{"$f":"INDIRECT(ADDRESS($K915,R$4,1,1,\"3 - Savings Analysis\"))","v":0},{"$f":"INDIRECT(ADDRESS($K915,S$4,1,1,\"3 - Savings Analysis\"))","v":0},{"$f":"INDIRECT(ADDRESS($K915,T$4,1,1,\"3 - Savings Analysis\"))","v":0}]
["","","","","","","","","",null,925,{"$f":"INDIRECT(ADDRESS($K916,L$4,1,1,\"3 - Savings Analysis\"))","v":0},{"$f":"INDIRECT(ADDRESS($K916,M$4,1,1,\"3 - Savings Analysis\"))","v":0},{"$f":"INDIRECT(ADDRESS($K916,N$4,1,1,\"3 - Savings Analysis\"))","v":0},{"$f":"INDIRECT(ADDRESS($K916,O$4,1,1,\"3 - Savings Analysis\"))","v":0},{"$f":"INDIRECT(ADDRESS($K916,P$4,1,1,\"3 - Savings Analysis\"))","v":0},{"$f":"INDIRECT(ADDRESS($K916,Q$4,1,1,\"3 - Savings Analysis\"))","v":0},{"$f":"INDIRECT(ADDRESS($K916,R$4,1,1,\"3 - Savings Analysis\"))","v":0},{"$f":"INDIRECT(ADDRESS($K916,S$4,1,1,\"3 - Savings Analysis\"))","v":0},{"$f":"INDIRECT(ADDRESS($K916,T$4,1,1,\"3 - Savings Analysis\"))","v":0}]
["","","","","","","","","",null,926,{"$f":"INDIRECT(ADDRESS($K917,L$4,1,1,\"3 - Savings Analysis\"))","v":0},{"$f":"INDIRECT(ADDRESS($K917,M$4,1,1,\"3 - Savings Analysis\"))","v":0},{"$f":"INDIRECT(ADDRESS($K917,N$4,1,1,\"3 - Savings Analysis\"))","v":0},{"$f":"INDIRECT(ADDRESS($K917,O$4,1,1,\"3 - Savings Analysis\"))","v":0},{"$f":"INDIRECT(ADDRESS($K917,P$4,1,1,\"3 - Savings Analysis\"))","v":0},{"$f":"INDIRECT(ADDRESS($K917,Q$4,1,1,\"3 - Savings Analysis\"))","v":0},{"$f":"INDIRECT(ADDRESS($K917,R$4,1,1,\"3 - Savings Analysis\"))","v":0},{"$f":"INDIRECT(ADDRESS($K917,S$4,1,1,\"3 - Savings Analysis\"))","v":0},{"$f":"INDIRECT(ADDRESS($K917,T$4,1,1,\"3 - Savings Analysis\"))","v":0}]
["","","","","","","","","",null,927,{"$f":"INDIRECT(ADDRESS($K918,L$4,1,1,\"3 - Savings Analysis\"))","v":0},{"$f":"INDIRECT(ADDRESS($K918,M$4,1,1,\"3 - Savings Analysis\"))","v":0},{"$f":"INDIRECT(ADDRESS($K918,N$4,1,1,\"3 - Savings Analysis\"))","v":0},{"$f":"INDIRECT(ADDRESS($K918,O$4,1,1,\"3 - Savings Analysis\"))","v":0},{"$f":"INDIRECT(ADDRESS($K918,P$4,1,1,\"3 - Savings Analysis\"))","v":0},{"$f":"INDIRECT(ADDRESS($K918,Q$4,1,1,\"3 - Savings Analysis\"))","v":0},{"$f":"INDIRECT(ADDRESS($K918,R$4,1,1,\"3 - Savings Analysis\"))","v":0},{"$f":"INDIRECT(ADDRESS($K918,S$4,1,1,\"3 - Savings Analysis\"))","v":0},{"$f":"INDIRECT(ADDRESS($K918,T$4,1,1,\"3 - Savings Analysis\"))","v":0}]
["","","","","","","","","",null,928,{"$f":"INDIRECT(ADDRESS($K919,L$4,1,1,\"3 - Savings Analysis\"))","v":0},{"$f":"INDIRECT(ADDRESS($K919,M$4,1,1,\"3 - Savings Analysis\"))","v":0},{"$f":"INDIRECT(ADDRESS($K919,N$4,1,1,\"3 - Savings Analysis\"))","v":0},{"$f":"INDIRECT(ADDRESS($K919,O$4,1,1,\"3 - Savings Analysis\"))","v":0},{"$f":"INDIRECT(ADDRESS($K919,P$4,1,1,\"3 - Savings Analysis\"))","v":0},{"$f":"INDIRECT(ADDRESS($K919,Q$4,1,1,\"3 - Savings Analysis\"))","v":0},{"$f":"INDIRECT(ADDRESS($K919,R$4,1,1,\"3 - Savings Analysis\"))","v":0},{"$f":"INDIRECT(ADDRESS($K919,S$4,1,1,\"3 - Savings Analysis\"))","v":0},{"$f":"INDIRECT(ADDRESS($K919,T$4,1,1,\"3 - Savings Analysis\"))","v":0}]
["","","","","","","","","",null,929,{"$f":"INDIRECT(ADDRESS($K920,L$4,1,1,\"3 - Savings Analysis\"))","v":0},{"$f":"INDIRECT(ADDRESS($K920,M$4,1,1,\"3 - Savings Analysis\"))","v":0},{"$f":"INDIRECT(ADDRESS($K920,N$4,1,1,\"3 - Savings Analysis\"))","v":0},{"$f":"INDIRECT(ADDRESS($K920,O$4,1,1,\"3 - Savings Analysis\"))","v":0},{"$f":"INDIRECT(ADDRESS($K920,P$4,1,1,\"3 - Savings Analysis\"))","v":0},{"$f":"INDIRECT(ADDRESS($K920,Q$4,1,1,\"3 - Savings Analysis\"))","v":0},{"$f":"INDIRECT(ADDRESS($K920,R$4,1,1,\"3 - Savings Analysis\"))","v":0},{"$f":"INDIRECT(ADDRESS($K920,S$4,1,1,\"3 - Savings Analysis\"))","v":0},{"$f":"INDIRECT(ADDRESS($K920,T$4,1,1,\"3 - Savings Analysis\"))","v":0}]
["","","","","","","","","",null,930,{"$f":"INDIRECT(ADDRESS($K921,L$4,1,1,\"3 - Savings Analysis\"))","v":0},{"$f":"INDIRECT(ADDRESS($K921,M$4,1,1,\"3 - Savings Analysis\"))","v":0},{"$f":"INDIRECT(ADDRESS($K921,N$4,1,1,\"3 - Savings Analysis\"))","v":0},{"$f":"INDIRECT(ADDRESS($K921,O$4,1,1,\"3 - Savings Analysis\"))","v":0},{"$f":"INDIRECT(ADDRESS($K921,P$4,1,1,\"3 - Savings Analysis\"))","v":0},{"$f":"INDIRECT(ADDRESS($K921,Q$4,1,1,\"3 - Savings Analysis\"))","v":0},{"$f":"INDIRECT(ADDRESS($K921,R$4,1,1,\"3 - Savings Analysis\"))","v":0},{"$f":"INDIRECT(ADDRESS($K921,S$4,1,1,\"3 - Savings Analysis\"))","v":0},{"$f":"INDIRECT(ADDRESS($K921,T$4,1,1,\"3 - Savings Analysis\"))","v":0}]
["","","","","","","","","",null,931,{"$f":"INDIRECT(ADDRESS($K922,L$4,1,1,\"3 - Savings Analysis\"))","v":0},{"$f":"INDIRECT(ADDRESS($K922,M$4,1,1,\"3 - Savings Analysis\"))","v":0},{"$f":"INDIRECT(ADDRESS($K922,N$4,1,1,\"3 - Savings Analysis\"))","v":0},{"$f":"INDIRECT(ADDRESS($K922,O$4,1,1,\"3 - Savings Analysis\"))","v":0},{"$f":"INDIRECT(ADDRESS($K922,P$4,1,1,\"3 - Savings Analysis\"))","v":0},{"$f":"INDIRECT(ADDRESS($K922,Q$4,1,1,\"3 - Savings Analysis\"))","v":0},{"$f":"INDIRECT(ADDRESS($K922,R$4,1,1,\"3 - Savings Analysis\"))","v":0},{"$f":"INDIRECT(ADDRESS($K922,S$4,1,1,\"3 - Savings Analysis\"))","v":0},{"$f":"INDIRECT(ADDRESS($K922,T$4,1,1,\"3 - Savings Analysis\"))","v":0}]
["","","","","","","","","",null,932,{"$f":"INDIRECT(ADDRESS($K923,L$4,1,1,\"3 - Savings Analysis\"))","v":0},{"$f":"INDIRECT(ADDRESS($K923,M$4,1,1,\"3 - Savings Analysis\"))","v":0},{"$f":"INDIRECT(ADDRESS($K923,N$4,1,1,\"3 - Savings Analysis\"))","v":0},{"$f":"INDIRECT(ADDRESS($K923,O$4,1,1,\"3 - Savings Analysis\"))","v":0},{"$f":"INDIRECT(ADDRESS($K923,P$4,1,1,\"3 - Savings Analysis\"))","v":0},{"$f":"INDIRECT(ADDRESS($K923,Q$4,1,1,\"3 - Savings Analysis\"))","v":0},{"$f":"INDIRECT(ADDRESS($K923,R$4,1,1,\"3 - Savings Analysis\"))","v":0},{"$f":"INDIRECT(ADDRESS($K923,S$4,1,1,\"3 - Savings Analysis\"))","v":0},{"$f":"INDIRECT(ADDRESS($K923,T$4,1,1,\"3 - Savings Analysis\"))","v":0}]
["","","","","","","","","",null,933,{"$f":"INDIRECT(ADDRESS($K924,L$4,1,1,\"3 - Savings Analysis\"))","v":0},{"$f":"INDIRECT(ADDRESS($K924,M$4,1,1,\"3 - Savings Analysis\"))","v":0},{"$f":"INDIRECT(ADDRESS($K924,N$4,1,1,\"3 - Savings Analysis\"))","v":0},{"$f":"INDIRECT(ADDRESS($K924,O$4,1,1,\"3 - Savings Analysis\"))","v":0},{"$f":"INDIRECT(ADDRESS($K924,P$4,1,1,\"3 - Savings Analysis\"))","v":0},{"$f":"INDIRECT(ADDRESS($K924,Q$4,1,1,\"3 - Savings Analysis\"))","v":0},{"$f":"INDIRECT(ADDRESS($K924,R$4,1,1,\"3 - Savings Analysis\"))","v":0},{"$f":"INDIRECT(ADDRESS($K924,S$4,1,1,\"3 - Savings Analysis\"))","v":0},{"$f":"INDIRECT(ADDRESS($K924,T$4,1,1,\"3 - Savings Analysis\"))","v":0}]
["","","","","","","","","",null,934,{"$f":"INDIRECT(ADDRESS($K925,L$4,1,1,\"3 - Savings Analysis\"))","v":0},{"$f":"INDIRECT(ADDRESS($K925,M$4,1,1,\"3 - Savings Analysis\"))","v":0},{"$f":"INDIRECT(ADDRESS($K925,N$4,1,1,\"3 - Savings Analysis\"))","v":0},{"$f":"INDIRECT(ADDRESS($K925,O$4,1,1,\"3 - Savings Analysis\"))","v":0},{"$f":"INDIRECT(ADDRESS($K925,P$4,1,1,\"3 - Savings Analysis\"))","v":0},{"$f":"INDIRECT(ADDRESS($K925,Q$4,1,1,\"3 - Savings Analysis\"))","v":0},{"$f":"INDIRECT(ADDRESS($K925,R$4,1,1,\"3 - Savings Analysis\"))","v":0},{"$f":"INDIRECT(ADDRESS($K925,S$4,1,1,\"3 - Savings Analysis\"))","v":0},{"$f":"INDIRECT(ADDRESS($K925,T$4,1,1,\"3 - Savings Analysis\"))","v":0}]
["","","","","","","","","",null,935,{"$f":"INDIRECT(ADDRESS($K926,L$4,1,1,\"3 - Savings Analysis\"))","v":0},{"$f":"INDIRECT(ADDRESS($K926,M$4,1,1,\"3 - Savings Analysis\"))","v":0},{"$f":"INDIRECT(ADDRESS($K926,N$4,1,1,\"3 - Savings Analysis\"))","v":0},{"$f":"INDIRECT(ADDRESS($K926,O$4,1,1,\"3 - Savings Analysis\"))","v":0},{"$f":"INDIRECT(ADDRESS($K926,P$4,1,1,\"3 - Savings Analysis\"))","v":0},{"$f":"INDIRECT(ADDRESS($K926,Q$4,1,1,\"3 - Savings Analysis\"))","v":0},{"$f":"INDIRECT(ADDRESS($K926,R$4,1,1,\"3 - Savings Analysis\"))","v":0},{"$f":"INDIRECT(ADDRESS($K926,S$4,1,1,\"3 - Savings Analysis\"))","v":0},{"$f":"INDIRECT(ADDRESS($K926,T$4,1,1,\"3 - Savings Analysis\"))","v":0}]
["","","","","","","","","",null,936,{"$f":"INDIRECT(ADDRESS($K927,L$4,1,1,\"3 - Savings Analysis\"))","v":0},{"$f":"INDIRECT(ADDRESS($K927,M$4,1,1,\"3 - Savings Analysis\"))","v":0},{"$f":"INDIRECT(ADDRESS($K927,N$4,1,1,\"3 - Savings Analysis\"))","v":0},{"$f":"INDIRECT(ADDRESS($K927,O$4,1,1,\"3 - Savings Analysis\"))","v":0},{"$f":"INDIRECT(ADDRESS($K927,P$4,1,1,\"3 - Savings Analysis\"))","v":0},{"$f":"INDIRECT(ADDRESS($K927,Q$4,1,1,\"3 - Savings Analysis\"))","v":0},{"$f":"INDIRECT(ADDRESS($K927,R$4,1,1,\"3 - Savings Analysis\"))","v":0},{"$f":"INDIRECT(ADDRESS($K927,S$4,1,1,\"3 - Savings Analysis\"))","v":0},{"$f":"INDIRECT(ADDRESS($K927,T$4,1,1,\"3 - Savings Analysis\"))","v":0}]
["","","","","","","","","",null,937,{"$f":"INDIRECT(ADDRESS($K928,L$4,1,1,\"3 - Savings Analysis\"))","v":0},{"$f":"INDIRECT(ADDRESS($K928,M$4,1,1,\"3 - Savings Analysis\"))","v":0},{"$f":"INDIRECT(ADDRESS($K928,N$4,1,1,\"3 - Savings Analysis\"))","v":0},{"$f":"INDIRECT(ADDRESS($K928,O$4,1,1,\"3 - Savings Analysis\"))","v":0},{"$f":"INDIRECT(ADDRESS($K928,P$4,1,1,\"3 - Savings Analysis\"))","v":0},{"$f":"INDIRECT(ADDRESS($K928,Q$4,1,1,\"3 - Savings Analysis\"))","v":0},{"$f":"INDIRECT(ADDRESS($K928,R$4,1,1,\"3 - Savings Analysis\"))","v":0},{"$f":"INDIRECT(ADDRESS($K928,S$4,1,1,\"3 - Savings Analysis\"))","v":0},{"$f":"INDIRECT(ADDRESS($K928,T$4,1,1,\"3 - Savings Analysis\"))","v":0}]
["","","","","","","","","",null,938,{"$f":"INDIRECT(ADDRESS($K929,L$4,1,1,\"3 - Savings Analysis\"))","v":0},{"$f":"INDIRECT(ADDRESS($K929,M$4,1,1,\"3 - Savings Analysis\"))","v":0},{"$f":"INDIRECT(ADDRESS($K929,N$4,1,1,\"3 - Savings Analysis\"))","v":0},{"$f":"INDIRECT(ADDRESS($K929,O$4,1,1,\"3 - Savings Analysis\"))","v":0},{"$f":"INDIRECT(ADDRESS($K929,P$4,1,1,\"3 - Savings Analysis\"))","v":0},{"$f":"INDIRECT(ADDRESS($K929,Q$4,1,1,\"3 - Savings Analysis\"))","v":0},{"$f":"INDIRECT(ADDRESS($K929,R$4,1,1,\"3 - Savings Analysis\"))","v":0},{"$f":"INDIRECT(ADDRESS($K929,S$4,1,1,\"3 - Savings Analysis\"))","v":0},{"$f":"INDIRECT(ADDRESS($K929,T$4,1,1,\"3 - Savings Analysis\"))","v":0}]
["","","","","","","","","",null,939,{"$f":"INDIRECT(ADDRESS($K930,L$4,1,1,\"3 - Savings Analysis\"))","v":0},{"$f":"INDIRECT(ADDRESS($K930,M$4,1,1,\"3 - Savings Analysis\"))","v":0},{"$f":"INDIRECT(ADDRESS($K930,N$4,1,1,\"3 - Savings Analysis\"))","v":0},{"$f":"INDIRECT(ADDRESS($K930,O$4,1,1,\"3 - Savings Analysis\"))","v":0},{"$f":"INDIRECT(ADDRESS($K930,P$4,1,1,\"3 - Savings Analysis\"))","v":0},{"$f":"INDIRECT(ADDRESS($K930,Q$4,1,1,\"3 - Savings Analysis\"))","v":0},{"$f":"INDIRECT(ADDRESS($K930,R$4,1,1,\"3 - Savings Analysis\"))","v":0},{"$f":"INDIRECT(ADDRESS($K930,S$4,1,1,\"3 - Savings Analysis\"))","v":0},{"$f":"INDIRECT(ADDRESS($K930,T$4,1,1,\"3 - Savings Analysis\"))","v":0}]
["","","","","","","","","",null,940,{"$f":"INDIRECT(ADDRESS($K931,L$4,1,1,\"3 - Savings Analysis\"))","v":0},{"$f":"INDIRECT(ADDRESS($K931,M$4,1,1,\"3 - Savings Analysis\"))","v":0},{"$f":"INDIRECT(ADDRESS($K931,N$4,1,1,\"3 - Savings Analysis\"))","v":0},{"$f":"INDIRECT(ADDRESS($K931,O$4,1,1,\"3 - Savings Analysis\"))","v":0},{"$f":"INDIRECT(ADDRESS($K931,P$4,1,1,\"3 - Savings Analysis\"))","v":0},{"$f":"INDIRECT(ADDRESS($K931,Q$4,1,1,\"3 - Savings Analysis\"))","v":0},{"$f":"INDIRECT(ADDRESS($K931,R$4,1,1,\"3 - Savings Analysis\"))","v":0},{"$f":"INDIRECT(ADDRESS($K931,S$4,1,1,\"3 - Savings Analysis\"))","v":0},{"$f":"INDIRECT(ADDRESS($K931,T$4,1,1,\"3 - Savings Analysis\"))","v":0}]
["","","","","","","","","",null,941,{"$f":"INDIRECT(ADDRESS($K932,L$4,1,1,\"3 - Savings Analysis\"))","v":0},{"$f":"INDIRECT(ADDRESS($K932,M$4,1,1,\"3 - Savings Analysis\"))","v":0},{"$f":"INDIRECT(ADDRESS($K932,N$4,1,1,\"3 - Savings Analysis\"))","v":0},{"$f":"INDIRECT(ADDRESS($K932,O$4,1,1,\"3 - Savings Analysis\"))","v":0},{"$f":"INDIRECT(ADDRESS($K932,P$4,1,1,\"3 - Savings Analysis\"))","v":0},{"$f":"INDIRECT(ADDRESS($K932,Q$4,1,1,\"3 - Savings Analysis\"))","v":0},{"$f":"INDIRECT(ADDRESS($K932,R$4,1,1,\"3 - Savings Analysis\"))","v":0},{"$f":"INDIRECT(ADDRESS($K932,S$4,1,1,\"3 - Savings Analysis\"))","v":0},{"$f":"INDIRECT(ADDRESS($K932,T$4,1,1,\"3 - Savings Analysis\"))","v":0}]
["","","","","","","","","",null,942,{"$f":"INDIRECT(ADDRESS($K933,L$4,1,1,\"3 - Savings Analysis\"))","v":0},{"$f":"INDIRECT(ADDRESS($K933,M$4,1,1,\"3 - Savings Analysis\"))","v":0},{"$f":"INDIRECT(ADDRESS($K933,N$4,1,1,\"3 - Savings Analysis\"))","v":0},{"$f":"INDIRECT(ADDRESS($K933,O$4,1,1,\"3 - Savings Analysis\"))","v":0},{"$f":"INDIRECT(ADDRESS($K933,P$4,1,1,\"3 - Savings Analysis\"))","v":0},{"$f":"INDIRECT(ADDRESS($K933,Q$4,1,1,\"3 - Savings Analysis\"))","v":0},{"$f":"INDIRECT(ADDRESS($K933,R$4,1,1,\"3 - Savings Analysis\"))","v":0},{"$f":"INDIRECT(ADDRESS($K933,S$4,1,1,\"3 - Savings Analysis\"))","v":0},{"$f":"INDIRECT(ADDRESS($K933,T$4,1,1,\"3 - Savings Analysis\"))","v":0}]
["","","","","","","","","",null,943,{"$f":"INDIRECT(ADDRESS($K934,L$4,1,1,\"3 - Savings Analysis\"))","v":0},{"$f":"INDIRECT(ADDRESS($K934,M$4,1,1,\"3 - Savings Analysis\"))","v":0},{"$f":"INDIRECT(ADDRESS($K934,N$4,1,1,\"3 - Savings Analysis\"))","v":0},{"$f":"INDIRECT(ADDRESS($K934,O$4,1,1,\"3 - Savings Analysis\"))","v":0},{"$f":"INDIRECT(ADDRESS($K934,P$4,1,1,\"3 - Savings Analysis\"))","v":0},{"$f":"INDIRECT(ADDRESS($K934,Q$4,1,1,\"3 - Savings Analysis\"))","v":0},{"$f":"INDIRECT(ADDRESS($K934,R$4,1,1,\"3 - Savings Analysis\"))","v":0},{"$f":"INDIRECT(ADDRESS($K934,S$4,1,1,\"3 - Savings Analysis\"))","v":0},{"$f":"INDIRECT(ADDRESS($K934,T$4,1,1,\"3 - Savings Analysis\"))","v":0}]
["","","","","","","","","",null,944,{"$f":"INDIRECT(ADDRESS($K935,L$4,1,1,\"3 - Savings Analysis\"))","v":0},{"$f":"INDIRECT(ADDRESS($K935,M$4,1,1,\"3 - Savings Analysis\"))","v":0},{"$f":"INDIRECT(ADDRESS($K935,N$4,1,1,\"3 - Savings Analysis\"))","v":0},{"$f":"INDIRECT(ADDRESS($K935,O$4,1,1,\"3 - Savings Analysis\"))","v":0},{"$f":"INDIRECT(ADDRESS($K935,P$4,1,1,\"3 - Savings Analysis\"))","v":0},{"$f":"INDIRECT(ADDRESS($K935,Q$4,1,1,\"3 - Savings Analysis\"))","v":0},{"$f":"INDIRECT(ADDRESS($K935,R$4,1,1,\"3 - Savings Analysis\"))","v":0},{"$f":"INDIRECT(ADDRESS($K935,S$4,1,1,\"3 - Savings Analysis\"))","v":0},{"$f":"INDIRECT(ADDRESS($K935,T$4,1,1,\"3 - Savings Analysis\"))","v":0}]
["","","","","","","","","",null,945,{"$f":"INDIRECT(ADDRESS($K936,L$4,1,1,\"3 - Savings Analysis\"))","v":0},{"$f":"INDIRECT(ADDRESS($K936,M$4,1,1,\"3 - Savings Analysis\"))","v":0},{"$f":"INDIRECT(ADDRESS($K936,N$4,1,1,\"3 - Savings Analysis\"))","v":0},{"$f":"INDIRECT(ADDRESS($K936,O$4,1,1,\"3 - Savings Analysis\"))","v":0},{"$f":"INDIRECT(ADDRESS($K936,P$4,1,1,\"3 - Savings Analysis\"))","v":0},{"$f":"INDIRECT(ADDRESS($K936,Q$4,1,1,\"3 - Savings Analysis\"))","v":0},{"$f":"INDIRECT(ADDRESS($K936,R$4,1,1,\"3 - Savings Analysis\"))","v":0},{"$f":"INDIRECT(ADDRESS($K936,S$4,1,1,\"3 - Savings Analysis\"))","v":0},{"$f":"INDIRECT(ADDRESS($K936,T$4,1,1,\"3 - Savings Analysis\"))","v":0}]
["","","","","","","","","",null,946,{"$f":"INDIRECT(ADDRESS($K937,L$4,1,1,\"3 - Savings Analysis\"))","v":0},{"$f":"INDIRECT(ADDRESS($K937,M$4,1,1,\"3 - Savings Analysis\"))","v":0},{"$f":"INDIRECT(ADDRESS($K937,N$4,1,1,\"3 - Savings Analysis\"))","v":0},{"$f":"INDIRECT(ADDRESS($K937,O$4,1,1,\"3 - Savings Analysis\"))","v":0},{"$f":"INDIRECT(ADDRESS($K937,P$4,1,1,\"3 - Savings Analysis\"))","v":0},{"$f":"INDIRECT(ADDRESS($K937,Q$4,1,1,\"3 - Savings Analysis\"))","v":0},{"$f":"INDIRECT(ADDRESS($K937,R$4,1,1,\"3 - Savings Analysis\"))","v":0},{"$f":"INDIRECT(ADDRESS($K937,S$4,1,1,\"3 - Savings Analysis\"))","v":0},{"$f":"INDIRECT(ADDRESS($K937,T$4,1,1,\"3 - Savings Analysis\"))","v":0}]
["","","","","","","","","",null,947,{"$f":"INDIRECT(ADDRESS($K938,L$4,1,1,\"3 - Savings Analysis\"))","v":0},{"$f":"INDIRECT(ADDRESS($K938,M$4,1,1,\"3 - Savings Analysis\"))","v":0},{"$f":"INDIRECT(ADDRESS($K938,N$4,1,1,\"3 - Savings Analysis\"))","v":0},{"$f":"INDIRECT(ADDRESS($K938,O$4,1,1,\"3 - Savings Analysis\"))","v":0},{"$f":"INDIRECT(ADDRESS($K938,P$4,1,1,\"3 - Savings Analysis\"))","v":0},{"$f":"INDIRECT(ADDRESS($K938,Q$4,1,1,\"3 - Savings Analysis\"))","v":0},{"$f":"INDIRECT(ADDRESS($K938,R$4,1,1,\"3 - Savings Analysis\"))","v":0},{"$f":"INDIRECT(ADDRESS($K938,S$4,1,1,\"3 - Savings Analysis\"))","v":0},{"$f":"INDIRECT(ADDRESS($K938,T$4,1,1,\"3 - Savings Analysis\"))","v":0}]
["","","","","","","","","",null,948,{"$f":"INDIRECT(ADDRESS($K939,L$4,1,1,\"3 - Savings Analysis\"))","v":0},{"$f":"INDIRECT(ADDRESS($K939,M$4,1,1,\"3 - Savings Analysis\"))","v":0},{"$f":"INDIRECT(ADDRESS($K939,N$4,1,1,\"3 - Savings Analysis\"))","v":0},{"$f":"INDIRECT(ADDRESS($K939,O$4,1,1,\"3 - Savings Analysis\"))","v":0},{"$f":"INDIRECT(ADDRESS($K939,P$4,1,1,\"3 - Savings Analysis\"))","v":0},{"$f":"INDIRECT(ADDRESS($K939,Q$4,1,1,\"3 - Savings Analysis\"))","v":0},{"$f":"INDIRECT(ADDRESS($K939,R$4,1,1,\"3 - Savings Analysis\"))","v":0},{"$f":"INDIRECT(ADDRESS($K939,S$4,1,1,\"3 - Savings Analysis\"))","v":0},{"$f":"INDIRECT(ADDRESS($K939,T$4,1,1,\"3 - Savings Analysis\"))","v":0}]
["","","","","","","","","",null,949,{"$f":"INDIRECT(ADDRESS($K940,L$4,1,1,\"3 - Savings Analysis\"))","v":0},{"$f":"INDIRECT(ADDRESS($K940,M$4,1,1,\"3 - Savings Analysis\"))","v":0},{"$f":"INDIRECT(ADDRESS($K940,N$4,1,1,\"3 - Savings Analysis\"))","v":0},{"$f":"INDIRECT(ADDRESS($K940,O$4,1,1,\"3 - Savings Analysis\"))","v":0},{"$f":"INDIRECT(ADDRESS($K940,P$4,1,1,\"3 - Savings Analysis\"))","v":0},{"$f":"INDIRECT(ADDRESS($K940,Q$4,1,1,\"3 - Savings Analysis\"))","v":0},{"$f":"INDIRECT(ADDRESS($K940,R$4,1,1,\"3 - Savings Analysis\"))","v":0},{"$f":"INDIRECT(ADDRESS($K940,S$4,1,1,\"3 - Savings Analysis\"))","v":0},{"$f":"INDIRECT(ADDRESS($K940,T$4,1,1,\"3 - Savings Analysis\"))","v":0}]
["","","","","","","","","",null,950,{"$f":"INDIRECT(ADDRESS($K941,L$4,1,1,\"3 - Savings Analysis\"))","v":0},{"$f":"INDIRECT(ADDRESS($K941,M$4,1,1,\"3 - Savings Analysis\"))","v":0},{"$f":"INDIRECT(ADDRESS($K941,N$4,1,1,\"3 - Savings Analysis\"))","v":0},{"$f":"INDIRECT(ADDRESS($K941,O$4,1,1,\"3 - Savings Analysis\"))","v":0},{"$f":"INDIRECT(ADDRESS($K941,P$4,1,1,\"3 - Savings Analysis\"))","v":0},{"$f":"INDIRECT(ADDRESS($K941,Q$4,1,1,\"3 - Savings Analysis\"))","v":0},{"$f":"INDIRECT(ADDRESS($K941,R$4,1,1,\"3 - Savings Analysis\"))","v":0},{"$f":"INDIRECT(ADDRESS($K941,S$4,1,1,\"3 - Savings Analysis\"))","v":0},{"$f":"INDIRECT(ADDRESS($K941,T$4,1,1,\"3 - Savings Analysis\"))","v":0}]
["","","","","","","","","",null,951,{"$f":"INDIRECT(ADDRESS($K942,L$4,1,1,\"3 - Savings Analysis\"))","v":0},{"$f":"INDIRECT(ADDRESS($K942,M$4,1,1,\"3 - Savings Analysis\"))","v":0},{"$f":"INDIRECT(ADDRESS($K942,N$4,1,1,\"3 - Savings Analysis\"))","v":0},{"$f":"INDIRECT(ADDRESS($K942,O$4,1,1,\"3 - Savings Analysis\"))","v":0},{"$f":"INDIRECT(ADDRESS($K942,P$4,1,1,\"3 - Savings Analysis\"))","v":0},{"$f":"INDIRECT(ADDRESS($K942,Q$4,1,1,\"3 - Savings Analysis\"))","v":0},{"$f":"INDIRECT(ADDRESS($K942,R$4,1,1,\"3 - Savings Analysis\"))","v":0},{"$f":"INDIRECT(ADDRESS($K942,S$4,1,1,\"3 - Savings Analysis\"))","v":0},{"$f":"INDIRECT(ADDRESS($K942,T$4,1,1,\"3 - Savings Analysis\"))","v":0}]
["","","","","","","","","",null,952,{"$f":"INDIRECT(ADDRESS($K943,L$4,1,1,\"3 - Savings Analysis\"))","v":0},{"$f":"INDIRECT(ADDRESS($K943,M$4,1,1,\"3 - Savings Analysis\"))","v":0},{"$f":"INDIRECT(ADDRESS($K943,N$4,1,1,\"3 - Savings Analysis\"))","v":0},{"$f":"INDIRECT(ADDRESS($K943,O$4,1,1,\"3 - Savings Analysis\"))","v":0},{"$f":"INDIRECT(ADDRESS($K943,P$4,1,1,\"3 - Savings Analysis\"))","v":0},{"$f":"INDIRECT(ADDRESS($K943,Q$4,1,1,\"3 - Savings Analysis\"))","v":0},{"$f":"INDIRECT(ADDRESS($K943,R$4,1,1,\"3 - Savings Analysis\"))","v":0},{"$f":"INDIRECT(ADDRESS($K943,S$4,1,1,\"3 - Savings Analysis\"))","v":0},{"$f":"INDIRECT(ADDRESS($K943,T$4,1,1,\"3 - Savings Analysis\"))","v":0}]
["","","","","","","","","",null,953,{"$f":"INDIRECT(ADDRESS($K944,L$4,1,1,\"3 - Savings Analysis\"))","v":0},{"$f":"INDIRECT(ADDRESS($K944,M$4,1,1,\"3 - Savings Analysis\"))","v":0},{"$f":"INDIRECT(ADDRESS($K944,N$4,1,1,\"3 - Savings Analysis\"))","v":0},{"$f":"INDIRECT(ADDRESS($K944,O$4,1,1,\"3 - Savings Analysis\"))","v":0},{"$f":"INDIRECT(ADDRESS($K944,P$4,1,1,\"3 - Savings Analysis\"))","v":0},{"$f":"INDIRECT(ADDRESS($K944,Q$4,1,1,\"3 - Savings Analysis\"))","v":0},{"$f":"INDIRECT(ADDRESS($K944,R$4,1,1,\"3 - Savings Analysis\"))","v":0},{"$f":"INDIRECT(ADDRESS($K944,S$4,1,1,\"3 - Savings Analysis\"))","v":0},{"$f":"INDIRECT(ADDRESS($K944,T$4,1,1,\"3 - Savings Analysis\"))","v":0}]
["","","","","","","","","",null,954,{"$f":"INDIRECT(ADDRESS($K945,L$4,1,1,\"3 - Savings Analysis\"))","v":0},{"$f":"INDIRECT(ADDRESS($K945,M$4,1,1,\"3 - Savings Analysis\"))","v":0},{"$f":"INDIRECT(ADDRESS($K945,N$4,1,1,\"3 - Savings Analysis\"))","v":0},{"$f":"INDIRECT(ADDRESS($K945,O$4,1,1,\"3 - Savings Analysis\"))","v":0},{"$f":"INDIRECT(ADDRESS($K945,P$4,1,1,\"3 - Savings Analysis\"))","v":0},{"$f":"INDIRECT(ADDRESS($K945,Q$4,1,1,\"3 - Savings Analysis\"))","v":0},{"$f":"INDIRECT(ADDRESS($K945,R$4,1,1,\"3 - Savings Analysis\"))","v":0},{"$f":"INDIRECT(ADDRESS($K945,S$4,1,1,\"3 - Savings Analysis\"))","v":0},{"$f":"INDIRECT(ADDRESS($K945,T$4,1,1,\"3 - Savings Analysis\"))","v":0}]
["","","","","","","","","",null,955,{"$f":"INDIRECT(ADDRESS($K946,L$4,1,1,\"3 - Savings Analysis\"))","v":0},{"$f":"INDIRECT(ADDRESS($K946,M$4,1,1,\"3 - Savings Analysis\"))","v":0},{"$f":"INDIRECT(ADDRESS($K946,N$4,1,1,\"3 - Savings Analysis\"))","v":0},{"$f":"INDIRECT(ADDRESS($K946,O$4,1,1,\"3 - Savings Analysis\"))","v":0},{"$f":"INDIRECT(ADDRESS($K946,P$4,1,1,\"3 - Savings Analysis\"))","v":0},{"$f":"INDIRECT(ADDRESS($K946,Q$4,1,1,\"3 - Savings Analysis\"))","v":0},{"$f":"INDIRECT(ADDRESS($K946,R$4,1,1,\"3 - Savings Analysis\"))","v":0},{"$f":"INDIRECT(ADDRESS($K946,S$4,1,1,\"3 - Savings Analysis\"))","v":0},{"$f":"INDIRECT(ADDRESS($K946,T$4,1,1,\"3 - Savings Analysis\"))","v":0}]
["","","","","","","","","",null,956,{"$f":"INDIRECT(ADDRESS($K947,L$4,1,1,\"3 - Savings Analysis\"))","v":0},{"$f":"INDIRECT(ADDRESS($K947,M$4,1,1,\"3 - Savings Analysis\"))","v":0},{"$f":"INDIRECT(ADDRESS($K947,N$4,1,1,\"3 - Savings Analysis\"))","v":0},{"$f":"INDIRECT(ADDRESS($K947,O$4,1,1,\"3 - Savings Analysis\"))","v":0},{"$f":"INDIRECT(ADDRESS($K947,P$4,1,1,\"3 - Savings Analysis\"))","v":0},{"$f":"INDIRECT(ADDRESS($K947,Q$4,1,1,\"3 - Savings Analysis\"))","v":0},{"$f":"INDIRECT(ADDRESS($K947,R$4,1,1,\"3 - Savings Analysis\"))","v":0},{"$f":"INDIRECT(ADDRESS($K947,S$4,1,1,\"3 - Savings Analysis\"))","v":0},{"$f":"INDIRECT(ADDRESS($K947,T$4,1,1,\"3 - Savings Analysis\"))","v":0}]
["","","","","","","","","",null,957,{"$f":"INDIRECT(ADDRESS($K948,L$4,1,1,\"3 - Savings Analysis\"))","v":0},{"$f":"INDIRECT(ADDRESS($K948,M$4,1,1,\"3 - Savings Analysis\"))","v":0},{"$f":"INDIRECT(ADDRESS($K948,N$4,1,1,\"3 - Savings Analysis\"))","v":0},{"$f":"INDIRECT(ADDRESS($K948,O$4,1,1,\"3 - Savings Analysis\"))","v":0},{"$f":"INDIRECT(ADDRESS($K948,P$4,1,1,\"3 - Savings Analysis\"))","v":0},{"$f":"INDIRECT(ADDRESS($K948,Q$4,1,1,\"3 - Savings Analysis\"))","v":0},{"$f":"INDIRECT(ADDRESS($K948,R$4,1,1,\"3 - Savings Analysis\"))","v":0},{"$f":"INDIRECT(ADDRESS($K948,S$4,1,1,\"3 - Savings Analysis\"))","v":0},{"$f":"INDIRECT(ADDRESS($K948,T$4,1,1,\"3 - Savings Analysis\"))","v":0}]
["","","","","","","","","",null,958,{"$f":"INDIRECT(ADDRESS($K949,L$4,1,1,\"3 - Savings Analysis\"))","v":0},{"$f":"INDIRECT(ADDRESS($K949,M$4,1,1,\"3 - Savings Analysis\"))","v":0},{"$f":"INDIRECT(ADDRESS($K949,N$4,1,1,\"3 - Savings Analysis\"))","v":0},{"$f":"INDIRECT(ADDRESS($K949,O$4,1,1,\"3 - Savings Analysis\"))","v":0},{"$f":"INDIRECT(ADDRESS($K949,P$4,1,1,\"3 - Savings Analysis\"))","v":0},{"$f":"INDIRECT(ADDRESS($K949,Q$4,1,1,\"3 - Savings Analysis\"))","v":0},{"$f":"INDIRECT(ADDRESS($K949,R$4,1,1,\"3 - Savings Analysis\"))","v":0},{"$f":"INDIRECT(ADDRESS($K949,S$4,1,1,\"3 - Savings Analysis\"))","v":0},{"$f":"INDIRECT(ADDRESS($K949,T$4,1,1,\"3 - Savings Analysis\"))","v":0}]
["","","","","","","","","",null,959,{"$f":"INDIRECT(ADDRESS($K950,L$4,1,1,\"3 - Savings Analysis\"))","v":0},{"$f":"INDIRECT(ADDRESS($K950,M$4,1,1,\"3 - Savings Analysis\"))","v":0},{"$f":"INDIRECT(ADDRESS($K950,N$4,1,1,\"3 - Savings Analysis\"))","v":0},{"$f":"INDIRECT(ADDRESS($K950,O$4,1,1,\"3 - Savings Analysis\"))","v":0},{"$f":"INDIRECT(ADDRESS($K950,P$4,1,1,\"3 - Savings Analysis\"))","v":0},{"$f":"INDIRECT(ADDRESS($K950,Q$4,1,1,\"3 - Savings Analysis\"))","v":0},{"$f":"INDIRECT(ADDRESS($K950,R$4,1,1,\"3 - Savings Analysis\"))","v":0},{"$f":"INDIRECT(ADDRESS($K950,S$4,1,1,\"3 - Savings Analysis\"))","v":0},{"$f":"INDIRECT(ADDRESS($K950,T$4,1,1,\"3 - Savings Analysis\"))","v":0}]
["","","","","","","","","",null,960,{"$f":"INDIRECT(ADDRESS($K951,L$4,1,1,\"3 - Savings Analysis\"))","v":0},{"$f":"INDIRECT(ADDRESS($K951,M$4,1,1,\"3 - Savings Analysis\"))","v":0},{"$f":"INDIRECT(ADDRESS($K951,N$4,1,1,\"3 - Savings Analysis\"))","v":0},{"$f":"INDIRECT(ADDRESS($K951,O$4,1,1,\"3 - Savings Analysis\"))","v":0},{"$f":"INDIRECT(ADDRESS($K951,P$4,1,1,\"3 - Savings Analysis\"))","v":0},{"$f":"INDIRECT(ADDRESS($K951,Q$4,1,1,\"3 - Savings Analysis\"))","v":0},{"$f":"INDIRECT(ADDRESS($K951,R$4,1,1,\"3 - Savings Analysis\"))","v":0},{"$f":"INDIRECT(ADDRESS($K951,S$4,1,1,\"3 - Savings Analysis\"))","v":0},{"$f":"INDIRECT(ADDRESS($K951,T$4,1,1,\"3 - Savings Analysis\"))","v":0}]
["","","","","","","","","",null,961,{"$f":"INDIRECT(ADDRESS($K952,L$4,1,1,\"3 - Savings Analysis\"))","v":0},{"$f":"INDIRECT(ADDRESS($K952,M$4,1,1,\"3 - Savings Analysis\"))","v":0},{"$f":"INDIRECT(ADDRESS($K952,N$4,1,1,\"3 - Savings Analysis\"))","v":0},{"$f":"INDIRECT(ADDRESS($K952,O$4,1,1,\"3 - Savings Analysis\"))","v":0},{"$f":"INDIRECT(ADDRESS($K952,P$4,1,1,\"3 - Savings Analysis\"))","v":0},{"$f":"INDIRECT(ADDRESS($K952,Q$4,1,1,\"3 - Savings Analysis\"))","v":0},{"$f":"INDIRECT(ADDRESS($K952,R$4,1,1,\"3 - Savings Analysis\"))","v":0},{"$f":"INDIRECT(ADDRESS($K952,S$4,1,1,\"3 - Savings Analysis\"))","v":0},{"$f":"INDIRECT(ADDRESS($K952,T$4,1,1,\"3 - Savings Analysis\"))","v":0}]
["","","","","","","","","",null,962,{"$f":"INDIRECT(ADDRESS($K953,L$4,1,1,\"3 - Savings Analysis\"))","v":0},{"$f":"INDIRECT(ADDRESS($K953,M$4,1,1,\"3 - Savings Analysis\"))","v":0},{"$f":"INDIRECT(ADDRESS($K953,N$4,1,1,\"3 - Savings Analysis\"))","v":0},{"$f":"INDIRECT(ADDRESS($K953,O$4,1,1,\"3 - Savings Analysis\"))","v":0},{"$f":"INDIRECT(ADDRESS($K953,P$4,1,1,\"3 - Savings Analysis\"))","v":0},{"$f":"INDIRECT(ADDRESS($K953,Q$4,1,1,\"3 - Savings Analysis\"))","v":0},{"$f":"INDIRECT(ADDRESS($K953,R$4,1,1,\"3 - Savings Analysis\"))","v":0},{"$f":"INDIRECT(ADDRESS($K953,S$4,1,1,\"3 - Savings Analysis\"))","v":0},{"$f":"INDIRECT(ADDRESS($K953,T$4,1,1,\"3 - Savings Analysis\"))","v":0}]
["","","","","","","","","",null,963,{"$f":"INDIRECT(ADDRESS($K954,L$4,1,1,\"3 - Savings Analysis\"))","v":0},{"$f":"INDIRECT(ADDRESS($K954,M$4,1,1,\"3 - Savings Analysis\"))","v":0},{"$f":"INDIRECT(ADDRESS($K954,N$4,1,1,\"3 - Savings Analysis\"))","v":0},{"$f":"INDIRECT(ADDRESS($K954,O$4,1,1,\"3 - Savings Analysis\"))","v":0},{"$f":"INDIRECT(ADDRESS($K954,P$4,1,1,\"3 - Savings Analysis\"))","v":0},{"$f":"INDIRECT(ADDRESS($K954,Q$4,1,1,\"3 - Savings Analysis\"))","v":0},{"$f":"INDIRECT(ADDRESS($K954,R$4,1,1,\"3 - Savings Analysis\"))","v":0},{"$f":"INDIRECT(ADDRESS($K954,S$4,1,1,\"3 - Savings Analysis\"))","v":0},{"$f":"INDIRECT(ADDRESS($K954,T$4,1,1,\"3 - Savings Analysis\"))","v":0}]
["","","","","","","","","",null,964,{"$f":"INDIRECT(ADDRESS($K955,L$4,1,1,\"3 - Savings Analysis\"))","v":0},{"$f":"INDIRECT(ADDRESS($K955,M$4,1,1,\"3 - Savings Analysis\"))","v":0},{"$f":"INDIRECT(ADDRESS($K955,N$4,1,1,\"3 - Savings Analysis\"))","v":0},{"$f":"INDIRECT(ADDRESS($K955,O$4,1,1,\"3 - Savings Analysis\"))","v":0},{"$f":"INDIRECT(ADDRESS($K955,P$4,1,1,\"3 - Savings Analysis\"))","v":0},{"$f":"INDIRECT(ADDRESS($K955,Q$4,1,1,\"3 - Savings Analysis\"))","v":0},{"$f":"INDIRECT(ADDRESS($K955,R$4,1,1,\"3 - Savings Analysis\"))","v":0},{"$f":"INDIRECT(ADDRESS($K955,S$4,1,1,\"3 - Savings Analysis\"))","v":0},{"$f":"INDIRECT(ADDRESS($K955,T$4,1,1,\"3 - Savings Analysis\"))","v":0}]
["","","","","","","","","",null,965,{"$f":"INDIRECT(ADDRESS($K956,L$4,1,1,\"3 - Savings Analysis\"))","v":0},{"$f":"INDIRECT(ADDRESS($K956,M$4,1,1,\"3 - Savings Analysis\"))","v":0},{"$f":"INDIRECT(ADDRESS($K956,N$4,1,1,\"3 - Savings Analysis\"))","v":0},{"$f":"INDIRECT(ADDRESS($K956,O$4,1,1,\"3 - Savings Analysis\"))","v":0},{"$f":"INDIRECT(ADDRESS($K956,P$4,1,1,\"3 - Savings Analysis\"))","v":0},{"$f":"INDIRECT(ADDRESS($K956,Q$4,1,1,\"3 - Savings Analysis\"))","v":0},{"$f":"INDIRECT(ADDRESS($K956,R$4,1,1,\"3 - Savings Analysis\"))","v":0},{"$f":"INDIRECT(ADDRESS($K956,S$4,1,1,\"3 - Savings Analysis\"))","v":0},{"$f":"INDIRECT(ADDRESS($K956,T$4,1,1,\"3 - Savings Analysis\"))","v":0}]
["","","","","","","","","",null,966,{"$f":"INDIRECT(ADDRESS($K957,L$4,1,1,\"3 - Savings Analysis\"))","v":0},{"$f":"INDIRECT(ADDRESS($K957,M$4,1,1,\"3 - Savings Analysis\"))","v":0},{"$f":"INDIRECT(ADDRESS($K957,N$4,1,1,\"3 - Savings Analysis\"))","v":0},{"$f":"INDIRECT(ADDRESS($K957,O$4,1,1,\"3 - Savings Analysis\"))","v":0},{"$f":"INDIRECT(ADDRESS($K957,P$4,1,1,\"3 - Savings Analysis\"))","v":0},{"$f":"INDIRECT(ADDRESS($K957,Q$4,1,1,\"3 - Savings Analysis\"))","v":0},{"$f":"INDIRECT(ADDRESS($K957,R$4,1,1,\"3 - Savings Analysis\"))","v":0},{"$f":"INDIRECT(ADDRESS($K957,S$4,1,1,\"3 - Savings Analysis\"))","v":0},{"$f":"INDIRECT(ADDRESS($K957,T$4,1,1,\"3 - Savings Analysis\"))","v":0}]
["","","","","","","","","",null,967,{"$f":"INDIRECT(ADDRESS($K958,L$4,1,1,\"3 - Savings Analysis\"))","v":0},{"$f":"INDIRECT(ADDRESS($K958,M$4,1,1,\"3 - Savings Analysis\"))","v":0},{"$f":"INDIRECT(ADDRESS($K958,N$4,1,1,\"3 - Savings Analysis\"))","v":0},{"$f":"INDIRECT(ADDRESS($K958,O$4,1,1,\"3 - Savings Analysis\"))","v":0},{"$f":"INDIRECT(ADDRESS($K958,P$4,1,1,\"3 - Savings Analysis\"))","v":0},{"$f":"INDIRECT(ADDRESS($K958,Q$4,1,1,\"3 - Savings Analysis\"))","v":0},{"$f":"INDIRECT(ADDRESS($K958,R$4,1,1,\"3 - Savings Analysis\"))","v":0},{"$f":"INDIRECT(ADDRESS($K958,S$4,1,1,\"3 - Savings Analysis\"))","v":0},{"$f":"INDIRECT(ADDRESS($K958,T$4,1,1,\"3 - Savings Analysis\"))","v":0}]
["","","","","","","","","",null,968,{"$f":"INDIRECT(ADDRESS($K959,L$4,1,1,\"3 - Savings Analysis\"))","v":0},{"$f":"INDIRECT(ADDRESS($K959,M$4,1,1,\"3 - Savings Analysis\"))","v":0},{"$f":"INDIRECT(ADDRESS($K959,N$4,1,1,\"3 - Savings Analysis\"))","v":0},{"$f":"INDIRECT(ADDRESS($K959,O$4,1,1,\"3 - Savings Analysis\"))","v":0},{"$f":"INDIRECT(ADDRESS($K959,P$4,1,1,\"3 - Savings Analysis\"))","v":0},{"$f":"INDIRECT(ADDRESS($K959,Q$4,1,1,\"3 - Savings Analysis\"))","v":0},{"$f":"INDIRECT(ADDRESS($K959,R$4,1,1,\"3 - Savings Analysis\"))","v":0},{"$f":"INDIRECT(ADDRESS($K959,S$4,1,1,\"3 - Savings Analysis\"))","v":0},{"$f":"INDIRECT(ADDRESS($K959,T$4,1,1,\"3 - Savings Analysis\"))","v":0}]
["","","","","","","","","",null,969,{"$f":"INDIRECT(ADDRESS($K960,L$4,1,1,\"3 - Savings Analysis\"))","v":0},{"$f":"INDIRECT(ADDRESS($K960,M$4,1,1,\"3 - Savings Analysis\"))","v":0},{"$f":"INDIRECT(ADDRESS($K960,N$4,1,1,\"3 - Savings Analysis\"))","v":0},{"$f":"INDIRECT(ADDRESS($K960,O$4,1,1,\"3 - Savings Analysis\"))","v":0},{"$f":"INDIRECT(ADDRESS($K960,P$4,1,1,\"3 - Savings Analysis\"))","v":0},{"$f":"INDIRECT(ADDRESS($K960,Q$4,1,1,\"3 - Savings Analysis\"))","v":0},{"$f":"INDIRECT(ADDRESS($K960,R$4,1,1,\"3 - Savings Analysis\"))","v":0},{"$f":"INDIRECT(ADDRESS($K960,S$4,1,1,\"3 - Savings Analysis\"))","v":0},{"$f":"INDIRECT(ADDRESS($K960,T$4,1,1,\"3 - Savings Analysis\"))","v":0}]
["","","","","","","","","",null,970,{"$f":"INDIRECT(ADDRESS($K961,L$4,1,1,\"3 - Savings Analysis\"))","v":0},{"$f":"INDIRECT(ADDRESS($K961,M$4,1,1,\"3 - Savings Analysis\"))","v":0},{"$f":"INDIRECT(ADDRESS($K961,N$4,1,1,\"3 - Savings Analysis\"))","v":0},{"$f":"INDIRECT(ADDRESS($K961,O$4,1,1,\"3 - Savings Analysis\"))","v":0},{"$f":"INDIRECT(ADDRESS($K961,P$4,1,1,\"3 - Savings Analysis\"))","v":0},{"$f":"INDIRECT(ADDRESS($K961,Q$4,1,1,\"3 - Savings Analysis\"))","v":0},{"$f":"INDIRECT(ADDRESS($K961,R$4,1,1,\"3 - Savings Analysis\"))","v":0},{"$f":"INDIRECT(ADDRESS($K961,S$4,1,1,\"3 - Savings Analysis\"))","v":0},{"$f":"INDIRECT(ADDRESS($K961,T$4,1,1,\"3 - Savings Analysis\"))","v":0}]
["","","","","","","","","",null,971,{"$f":"INDIRECT(ADDRESS($K962,L$4,1,1,\"3 - Savings Analysis\"))","v":0},{"$f":"INDIRECT(ADDRESS($K962,M$4,1,1,\"3 - Savings Analysis\"))","v":0},{"$f":"INDIRECT(ADDRESS($K962,N$4,1,1,\"3 - Savings Analysis\"))","v":0},{"$f":"INDIRECT(ADDRESS($K962,O$4,1,1,\"3 - Savings Analysis\"))","v":0},{"$f":"INDIRECT(ADDRESS($K962,P$4,1,1,\"3 - Savings Analysis\"))","v":0},{"$f":"INDIRECT(ADDRESS($K962,Q$4,1,1,\"3 - Savings Analysis\"))","v":0},{"$f":"INDIRECT(ADDRESS($K962,R$4,1,1,\"3 - Savings Analysis\"))","v":0},{"$f":"INDIRECT(ADDRESS($K962,S$4,1,1,\"3 - Savings Analysis\"))","v":0},{"$f":"INDIRECT(ADDRESS($K962,T$4,1,1,\"3 - Savings Analysis\"))","v":0}]
["","","","","","","","","",null,972,{"$f":"INDIRECT(ADDRESS($K963,L$4,1,1,\"3 - Savings Analysis\"))","v":0},{"$f":"INDIRECT(ADDRESS($K963,M$4,1,1,\"3 - Savings Analysis\"))","v":0},{"$f":"INDIRECT(ADDRESS($K963,N$4,1,1,\"3 - Savings Analysis\"))","v":0},{"$f":"INDIRECT(ADDRESS($K963,O$4,1,1,\"3 - Savings Analysis\"))","v":0},{"$f":"INDIRECT(ADDRESS($K963,P$4,1,1,\"3 - Savings Analysis\"))","v":0},{"$f":"INDIRECT(ADDRESS($K963,Q$4,1,1,\"3 - Savings Analysis\"))","v":0},{"$f":"INDIRECT(ADDRESS($K963,R$4,1,1,\"3 - Savings Analysis\"))","v":0},{"$f":"INDIRECT(ADDRESS($K963,S$4,1,1,\"3 - Savings Analysis\"))","v":0},{"$f":"INDIRECT(ADDRESS($K963,T$4,1,1,\"3 - Savings Analysis\"))","v":0}]
["","","","","","","","","",null,973,{"$f":"INDIRECT(ADDRESS($K964,L$4,1,1,\"3 - Savings Analysis\"))","v":0},{"$f":"INDIRECT(ADDRESS($K964,M$4,1,1,\"3 - Savings Analysis\"))","v":0},{"$f":"INDIRECT(ADDRESS($K964,N$4,1,1,\"3 - Savings Analysis\"))","v":0},{"$f":"INDIRECT(ADDRESS($K964,O$4,1,1,\"3 - Savings Analysis\"))","v":0},{"$f":"INDIRECT(ADDRESS($K964,P$4,1,1,\"3 - Savings Analysis\"))","v":0},{"$f":"INDIRECT(ADDRESS($K964,Q$4,1,1,\"3 - Savings Analysis\"))","v":0},{"$f":"INDIRECT(ADDRESS($K964,R$4,1,1,\"3 - Savings Analysis\"))","v":0},{"$f":"INDIRECT(ADDRESS($K964,S$4,1,1,\"3 - Savings Analysis\"))","v":0},{"$f":"INDIRECT(ADDRESS($K964,T$4,1,1,\"3 - Savings Analysis\"))","v":0}]
["","","","","","","","","",null,974,{"$f":"INDIRECT(ADDRESS($K965,L$4,1,1,\"3 - Savings Analysis\"))","v":0},{"$f":"INDIRECT(ADDRESS($K965,M$4,1,1,\"3 - Savings Analysis\"))","v":0},{"$f":"INDIRECT(ADDRESS($K965,N$4,1,1,\"3 - Savings Analysis\"))","v":0},{"$f":"INDIRECT(ADDRESS($K965,O$4,1,1,\"3 - Savings Analysis\"))","v":0},{"$f":"INDIRECT(ADDRESS($K965,P$4,1,1,\"3 - Savings Analysis\"))","v":0},{"$f":"INDIRECT(ADDRESS($K965,Q$4,1,1,\"3 - Savings Analysis\"))","v":0},{"$f":"INDIRECT(ADDRESS($K965,R$4,1,1,\"3 - Savings Analysis\"))","v":0},{"$f":"INDIRECT(ADDRESS($K965,S$4,1,1,\"3 - Savings Analysis\"))","v":0},{"$f":"INDIRECT(ADDRESS($K965,T$4,1,1,\"3 - Savings Analysis\"))","v":0}]
["","","","","","","","","",null,975,{"$f":"INDIRECT(ADDRESS($K966,L$4,1,1,\"3 - Savings Analysis\"))","v":0},{"$f":"INDIRECT(ADDRESS($K966,M$4,1,1,\"3 - Savings Analysis\"))","v":0},{"$f":"INDIRECT(ADDRESS($K966,N$4,1,1,\"3 - Savings Analysis\"))","v":0},{"$f":"INDIRECT(ADDRESS($K966,O$4,1,1,\"3 - Savings Analysis\"))","v":0},{"$f":"INDIRECT(ADDRESS($K966,P$4,1,1,\"3 - Savings Analysis\"))","v":0},{"$f":"INDIRECT(ADDRESS($K966,Q$4,1,1,\"3 - Savings Analysis\"))","v":0},{"$f":"INDIRECT(ADDRESS($K966,R$4,1,1,\"3 - Savings Analysis\"))","v":0},{"$f":"INDIRECT(ADDRESS($K966,S$4,1,1,\"3 - Savings Analysis\"))","v":0},{"$f":"INDIRECT(ADDRESS($K966,T$4,1,1,\"3 - Savings Analysis\"))","v":0}]
["","","","","","","","","",null,976,{"$f":"INDIRECT(ADDRESS($K967,L$4,1,1,\"3 - Savings Analysis\"))","v":0},{"$f":"INDIRECT(ADDRESS($K967,M$4,1,1,\"3 - Savings Analysis\"))","v":0},{"$f":"INDIRECT(ADDRESS($K967,N$4,1,1,\"3 - Savings Analysis\"))","v":0},{"$f":"INDIRECT(ADDRESS($K967,O$4,1,1,\"3 - Savings Analysis\"))","v":0},{"$f":"INDIRECT(ADDRESS($K967,P$4,1,1,\"3 - Savings Analysis\"))","v":0},{"$f":"INDIRECT(ADDRESS($K967,Q$4,1,1,\"3 - Savings Analysis\"))","v":0},{"$f":"INDIRECT(ADDRESS($K967,R$4,1,1,\"3 - Savings Analysis\"))","v":0},{"$f":"INDIRECT(ADDRESS($K967,S$4,1,1,\"3 - Savings Analysis\"))","v":0},{"$f":"INDIRECT(ADDRESS($K967,T$4,1,1,\"3 - Savings Analysis\"))","v":0}]
["","","","","","","","","",null,977,{"$f":"INDIRECT(ADDRESS($K968,L$4,1,1,\"3 - Savings Analysis\"))","v":0},{"$f":"INDIRECT(ADDRESS($K968,M$4,1,1,\"3 - Savings Analysis\"))","v":0},{"$f":"INDIRECT(ADDRESS($K968,N$4,1,1,\"3 - Savings Analysis\"))","v":0},{"$f":"INDIRECT(ADDRESS($K968,O$4,1,1,\"3 - Savings Analysis\"))","v":0},{"$f":"INDIRECT(ADDRESS($K968,P$4,1,1,\"3 - Savings Analysis\"))","v":0},{"$f":"INDIRECT(ADDRESS($K968,Q$4,1,1,\"3 - Savings Analysis\"))","v":0},{"$f":"INDIRECT(ADDRESS($K968,R$4,1,1,\"3 - Savings Analysis\"))","v":0},{"$f":"INDIRECT(ADDRESS($K968,S$4,1,1,\"3 - Savings Analysis\"))","v":0},{"$f":"INDIRECT(ADDRESS($K968,T$4,1,1,\"3 - Savings Analysis\"))","v":0}]
["","","","","","","","","",null,{"$f":"K968+1","v":978},{"$f":"INDIRECT(ADDRESS($K969,L$4,1,1,\"3 - Savings Analysis\"))","v":0},{"$f":"INDIRECT(ADDRESS($K969,M$4,1,1,\"3 - Savings Analysis\"))","v":0},{"$f":"INDIRECT(ADDRESS($K969,N$4,1,1,\"3 - Savings Analysis\"))","v":0},{"$f":"INDIRECT(ADDRESS($K969,O$4,1,1,\"3 - Savings Analysis\"))","v":0},{"$f":"INDIRECT(ADDRESS($K969,P$4,1,1,\"3 - Savings Analysis\"))","v":0},{"$f":"INDIRECT(ADDRESS($K969,Q$4,1,1,\"3 - Savings Analysis\"))","v":0},{"$f":"INDIRECT(ADDRESS($K969,R$4,1,1,\"3 - Savings Analysis\"))","v":0},{"$f":"INDIRECT(ADDRESS($K969,S$4,1,1,\"3 - Savings Analysis\"))","v":0},{"$f":"INDIRECT(ADDRESS($K969,T$4,1,1,\"3 - Savings Analysis\"))","v":0}]
["","","","","","","","","",null,979,{"$f":"INDIRECT(ADDRESS($K970,L$4,1,1,\"3 - Savings Analysis\"))","v":0},{"$f":"INDIRECT(ADDRESS($K970,M$4,1,1,\"3 - Savings Analysis\"))","v":0},{"$f":"INDIRECT(ADDRESS($K970,N$4,1,1,\"3 - Savings Analysis\"))","v":0},{"$f":"INDIRECT(ADDRESS($K970,O$4,1,1,\"3 - Savings Analysis\"))","v":0},{"$f":"INDIRECT(ADDRESS($K970,P$4,1,1,\"3 - Savings Analysis\"))","v":0},{"$f":"INDIRECT(ADDRESS($K970,Q$4,1,1,\"3 - Savings Analysis\"))","v":0},{"$f":"INDIRECT(ADDRESS($K970,R$4,1,1,\"3 - Savings Analysis\"))","v":0},{"$f":"INDIRECT(ADDRESS($K970,S$4,1,1,\"3 - Savings Analysis\"))","v":0},{"$f":"INDIRECT(ADDRESS($K970,T$4,1,1,\"3 - Savings Analysis\"))","v":0}]
["","","","","","","","","",null,980,{"$f":"INDIRECT(ADDRESS($K971,L$4,1,1,\"3 - Savings Analysis\"))","v":0},{"$f":"INDIRECT(ADDRESS($K971,M$4,1,1,\"3 - Savings Analysis\"))","v":0},{"$f":"INDIRECT(ADDRESS($K971,N$4,1,1,\"3 - Savings Analysis\"))","v":0},{"$f":"INDIRECT(ADDRESS($K971,O$4,1,1,\"3 - Savings Analysis\"))","v":0},{"$f":"INDIRECT(ADDRESS($K971,P$4,1,1,\"3 - Savings Analysis\"))","v":0},{"$f":"INDIRECT(ADDRESS($K971,Q$4,1,1,\"3 - Savings Analysis\"))","v":0},{"$f":"INDIRECT(ADDRESS($K971,R$4,1,1,\"3 - Savings Analysis\"))","v":0},{"$f":"INDIRECT(ADDRESS($K971,S$4,1,1,\"3 - Savings Analysis\"))","v":0},{"$f":"INDIRECT(ADDRESS($K971,T$4,1,1,\"3 - Savings Analysis\"))","v":0}]
["","","","","","","","","",null,981,{"$f":"INDIRECT(ADDRESS($K972,L$4,1,1,\"3 - Savings Analysis\"))","v":0},{"$f":"INDIRECT(ADDRESS($K972,M$4,1,1,\"3 - Savings Analysis\"))","v":0},{"$f":"INDIRECT(ADDRESS($K972,N$4,1,1,\"3 - Savings Analysis\"))","v":0},{"$f":"INDIRECT(ADDRESS($K972,O$4,1,1,\"3 - Savings Analysis\"))","v":0},{"$f":"INDIRECT(ADDRESS($K972,P$4,1,1,\"3 - Savings Analysis\"))","v":0},{"$f":"INDIRECT(ADDRESS($K972,Q$4,1,1,\"3 - Savings Analysis\"))","v":0},{"$f":"INDIRECT(ADDRESS($K972,R$4,1,1,\"3 - Savings Analysis\"))","v":0},{"$f":"INDIRECT(ADDRESS($K972,S$4,1,1,\"3 - Savings Analysis\"))","v":0},{"$f":"INDIRECT(ADDRESS($K972,T$4,1,1,\"3 - Savings Analysis\"))","v":0}]
[{"$f":"IF($K973<=$M$2,L973,\"\")","v":""},{"$f":"IF($K973<=$M$2,IF($A973=\"Total\",\"\",M973),\"\")","v":""},{"$f":"IF($K973<=$M$2,IF($A973=\"Total\",\"\",N973),\"\")","v":""},{"$f":"IF($K973<=$M$2,O973,\"\")","v":""},{"$f":"IF($K973<=$M$2,P973,\"\")","v":""},{"$f":"IF($K973<=$M$2,IF($A973=\"Total\",\"\",Q973),\"\")","v":""},{"$f":"IF($K973<=$M$2,IF($A973=\"Total\",\"\",R973),\"\")","v":""},{"$f":"IF($K973<=$M$2,IF($A973=\"Total\",\"\",IF($T973=0,\"\",S973)),\"\")","v":""},{"$f":"IF($K973<=$M$2,IF($A973=\"Total\",\"\",IF($T973=0,\"\",T973)),\"\")","v":""},null,982,{"$f":"INDIRECT(ADDRESS($K973,L$4,1,1,\"3 - Savings Analysis\"))","v":0},{"$f":"INDIRECT(ADDRESS($K973,M$4,1,1,\"3 - Savings Analysis\"))","v":0},{"$f":"INDIRECT(ADDRESS($K973,N$4,1,1,\"3 - Savings Analysis\"))","v":0},{"$f":"INDIRECT(ADDRESS($K973,O$4,1,1,\"3 - Savings Analysis\"))","v":0},{"$f":"INDIRECT(ADDRESS($K973,P$4,1,1,\"3 - Savings Analysis\"))","v":0},{"$f":"INDIRECT(ADDRESS($K973,Q$4,1,1,\"3 - Savings Analysis\"))","v":0},{"$f":"INDIRECT(ADDRESS($K973,R$4,1,1,\"3 - Savings Analysis\"))","v":0},{"$f":"INDIRECT(ADDRESS($K973,S$4,1,1,\"3 - Savings Analysis\"))","v":0},{"$f":"INDIRECT(ADDRESS($K973,T$4,1,1,\"3 - Savings Analysis\"))","v":0}]
["","","","","","","","","",null,983,{"$f":"INDIRECT(ADDRESS($K974,L$4,1,1,\"3 - Savings Analysis\"))","v":0},{"$f":"INDIRECT(ADDRESS($K974,M$4,1,1,\"3 - Savings Analysis\"))","v":0},{"$f":"INDIRECT(ADDRESS($K974,N$4,1,1,\"3 - Savings Analysis\"))","v":0},{"$f":"INDIRECT(ADDRESS($K974,O$4,1,1,\"3 - Savings Analysis\"))","v":0},{"$f":"INDIRECT(ADDRESS($K974,P$4,1,1,\"3 - Savings Analysis\"))","v":0},{"$f":"INDIRECT(ADDRESS($K974,Q$4,1,1,\"3 - Savings Analysis\"))","v":0},{"$f":"INDIRECT(ADDRESS($K974,R$4,1,1,\"3 - Savings Analysis\"))","v":0},{"$f":"INDIRECT(ADDRESS($K974,S$4,1,1,\"3 - Savings Analysis\"))","v":0},{"$f":"INDIRECT(ADDRESS($K974,T$4,1,1,\"3 - Savings Analysis\"))","v":0}]
["","","","","","","","","",null,984,{"$f":"INDIRECT(ADDRESS($K975,L$4,1,1,\"3 - Savings Analysis\"))","v":0},{"$f":"INDIRECT(ADDRESS($K975,M$4,1,1,\"3 - Savings Analysis\"))","v":0},{"$f":"INDIRECT(ADDRESS($K975,N$4,1,1,\"3 - Savings Analysis\"))","v":0},{"$f":"INDIRECT(ADDRESS($K975,O$4,1,1,\"3 - Savings Analysis\"))","v":0},{"$f":"INDIRECT(ADDRESS($K975,P$4,1,1,\"3 - Savings Analysis\"))","v":0},{"$f":"INDIRECT(ADDRESS($K975,Q$4,1,1,\"3 - Savings Analysis\"))","v":0},{"$f":"INDIRECT(ADDRESS($K975,R$4,1,1,\"3 - Savings Analysis\"))","v":0},{"$f":"INDIRECT(ADDRESS($K975,S$4,1,1,\"3 - Savings Analysis\"))","v":0},{"$f":"INDIRECT(ADDRESS($K975,T$4,1,1,\"3 - Savings Analysis\"))","v":0}]
["","","","","","","","","",null,985,{"$f":"INDIRECT(ADDRESS($K976,L$4,1,1,\"3 - Savings Analysis\"))","v":0},{"$f":"INDIRECT(ADDRESS($K976,M$4,1,1,\"3 - Savings Analysis\"))","v":0},{"$f":"INDIRECT(ADDRESS($K976,N$4,1,1,\"3 - Savings Analysis\"))","v":0},{"$f":"INDIRECT(ADDRESS($K976,O$4,1,1,\"3 - Savings Analysis\"))","v":0},{"$f":"INDIRECT(ADDRESS($K976,P$4,1,1,\"3 - Savings Analysis\"))","v":0},{"$f":"INDIRECT(ADDRESS($K976,Q$4,1,1,\"3 - Savings Analysis\"))","v":0},{"$f":"INDIRECT(ADDRESS($K976,R$4,1,1,\"3 - Savings Analysis\"))","v":0},{"$f":"INDIRECT(ADDRESS($K976,S$4,1,1,\"3 - Savings Analysis\"))","v":0},{"$f":"INDIRECT(ADDRESS($K976,T$4,1,1,\"3 - Savings Analysis\"))","v":0}]
["","","","","","","","","",null,986,{"$f":"INDIRECT(ADDRESS($K977,L$4,1,1,\"3 - Savings Analysis\"))","v":0},{"$f":"INDIRECT(ADDRESS($K977,M$4,1,1,\"3 - Savings Analysis\"))","v":0},{"$f":"INDIRECT(ADDRESS($K977,N$4,1,1,\"3 - Savings Analysis\"))","v":0},{"$f":"INDIRECT(ADDRESS($K977,O$4,1,1,\"3 - Savings Analysis\"))","v":0},{"$f":"INDIRECT(ADDRESS($K977,P$4,1,1,\"3 - Savings Analysis\"))","v":0},{"$f":"INDIRECT(ADDRESS($K977,Q$4,1,1,\"3 - Savings Analysis\"))","v":0},{"$f":"INDIRECT(ADDRESS($K977,R$4,1,1,\"3 - Savings Analysis\"))","v":0},{"$f":"INDIRECT(ADDRESS($K977,S$4,1,1,\"3 - Savings Analysis\"))","v":0},{"$f":"INDIRECT(ADDRESS($K977,T$4,1,1,\"3 - Savings Analysis\"))","v":0}]
["","","","","","","","","",null,987,{"$f":"INDIRECT(ADDRESS($K978,L$4,1,1,\"3 - Savings Analysis\"))","v":0},{"$f":"INDIRECT(ADDRESS($K978,M$4,1,1,\"3 - Savings Analysis\"))","v":0},{"$f":"INDIRECT(ADDRESS($K978,N$4,1,1,\"3 - Savings Analysis\"))","v":0},{"$f":"INDIRECT(ADDRESS($K978,O$4,1,1,\"3 - Savings Analysis\"))","v":0},{"$f":"INDIRECT(ADDRESS($K978,P$4,1,1,\"3 - Savings Analysis\"))","v":0},{"$f":"INDIRECT(ADDRESS($K978,Q$4,1,1,\"3 - Savings Analysis\"))","v":0},{"$f":"INDIRECT(ADDRESS($K978,R$4,1,1,\"3 - Savings Analysis\"))","v":0},{"$f":"INDIRECT(ADDRESS($K978,S$4,1,1,\"3 - Savings Analysis\"))","v":0},{"$f":"INDIRECT(ADDRESS($K978,T$4,1,1,\"3 - Savings Analysis\"))","v":0}]
["","","","","","","","","",null,988,{"$f":"INDIRECT(ADDRESS($K979,L$4,1,1,\"3 - Savings Analysis\"))","v":0},{"$f":"INDIRECT(ADDRESS($K979,M$4,1,1,\"3 - Savings Analysis\"))","v":0},{"$f":"INDIRECT(ADDRESS($K979,N$4,1,1,\"3 - Savings Analysis\"))","v":0},{"$f":"INDIRECT(ADDRESS($K979,O$4,1,1,\"3 - Savings Analysis\"))","v":0},{"$f":"INDIRECT(ADDRESS($K979,P$4,1,1,\"3 - Savings Analysis\"))","v":0},{"$f":"INDIRECT(ADDRESS($K979,Q$4,1,1,\"3 - Savings Analysis\"))","v":0},{"$f":"INDIRECT(ADDRESS($K979,R$4,1,1,\"3 - Savings Analysis\"))","v":0},{"$f":"INDIRECT(ADDRESS($K979,S$4,1,1,\"3 - Savings Analysis\"))","v":0},{"$f":"INDIRECT(ADDRESS($K979,T$4,1,1,\"3 - Savings Analysis\"))","v":0}]
["","","","","","","","","",null,989,{"$f":"INDIRECT(ADDRESS($K980,L$4,1,1,\"3 - Savings Analysis\"))","v":0},{"$f":"INDIRECT(ADDRESS($K980,M$4,1,1,\"3 - Savings Analysis\"))","v":0},{"$f":"INDIRECT(ADDRESS($K980,N$4,1,1,\"3 - Savings Analysis\"))","v":0},{"$f":"INDIRECT(ADDRESS($K980,O$4,1,1,\"3 - Savings Analysis\"))","v":0},{"$f":"INDIRECT(ADDRESS($K980,P$4,1,1,\"3 - Savings Analysis\"))","v":0},{"$f":"INDIRECT(ADDRESS($K980,Q$4,1,1,\"3 - Savings Analysis\"))","v":0},{"$f":"INDIRECT(ADDRESS($K980,R$4,1,1,\"3 - Savings Analysis\"))","v":0},{"$f":"INDIRECT(ADDRESS($K980,S$4,1,1,\"3 - Savings Analysis\"))","v":0},{"$f":"INDIRECT(ADDRESS($K980,T$4,1,1,\"3 - Savings Analysis\"))","v":0}]
["","","","","","","","","",null,990,{"$f":"INDIRECT(ADDRESS($K981,L$4,1,1,\"3 - Savings Analysis\"))","v":0},{"$f":"INDIRECT(ADDRESS($K981,M$4,1,1,\"3 - Savings Analysis\"))","v":0},{"$f":"INDIRECT(ADDRESS($K981,N$4,1,1,\"3 - Savings Analysis\"))","v":0},{"$f":"INDIRECT(ADDRESS($K981,O$4,1,1,\"3 - Savings Analysis\"))","v":0},{"$f":"INDIRECT(ADDRESS($K981,P$4,1,1,\"3 - Savings Analysis\"))","v":0},{"$f":"INDIRECT(ADDRESS($K981,Q$4,1,1,\"3 - Savings Analysis\"))","v":0},{"$f":"INDIRECT(ADDRESS($K981,R$4,1,1,\"3 - Savings Analysis\"))","v":0},{"$f":"INDIRECT(ADDRESS($K981,S$4,1,1,\"3 - Savings Analysis\"))","v":0},{"$f":"INDIRECT(ADDRESS($K981,T$4,1,1,\"3 - Savings Analysis\"))","v":0}]
["","","","","","","","","",null,991,{"$f":"INDIRECT(ADDRESS($K982,L$4,1,1,\"3 - Savings Analysis\"))","v":0},{"$f":"INDIRECT(ADDRESS($K982,M$4,1,1,\"3 - Savings Analysis\"))","v":0},{"$f":"INDIRECT(ADDRESS($K982,N$4,1,1,\"3 - Savings Analysis\"))","v":0},{"$f":"INDIRECT(ADDRESS($K982,O$4,1,1,\"3 - Savings Analysis\"))","v":0},{"$f":"INDIRECT(ADDRESS($K982,P$4,1,1,\"3 - Savings Analysis\"))","v":0},{"$f":"INDIRECT(ADDRESS($K982,Q$4,1,1,\"3 - Savings Analysis\"))","v":0},{"$f":"INDIRECT(ADDRESS($K982,R$4,1,1,\"3 - Savings Analysis\"))","v":0},{"$f":"INDIRECT(ADDRESS($K982,S$4,1,1,\"3 - Savings Analysis\"))","v":0},{"$f":"INDIRECT(ADDRESS($K982,T$4,1,1,\"3 - Savings Analysis\"))","v":0}]
["","","","","","","","","",null,992,{"$f":"INDIRECT(ADDRESS($K983,L$4,1,1,\"3 - Savings Analysis\"))","v":0},{"$f":"INDIRECT(ADDRESS($K983,M$4,1,1,\"3 - Savings Analysis\"))","v":0},{"$f":"INDIRECT(ADDRESS($K983,N$4,1,1,\"3 - Savings Analysis\"))","v":0},{"$f":"INDIRECT(ADDRESS($K983,O$4,1,1,\"3 - Savings Analysis\"))","v":0},{"$f":"INDIRECT(ADDRESS($K983,P$4,1,1,\"3 - Savings Analysis\"))","v":0},{"$f":"INDIRECT(ADDRESS($K983,Q$4,1,1,\"3 - Savings Analysis\"))","v":0},{"$f":"INDIRECT(ADDRESS($K983,R$4,1,1,\"3 - Savings Analysis\"))","v":0},{"$f":"INDIRECT(ADDRESS($K983,S$4,1,1,\"3 - Savings Analysis\"))","v":0},{"$f":"INDIRECT(ADDRESS($K983,T$4,1,1,\"3 - Savings Analysis\"))","v":0}]
["","","","","","","","","",null,993,{"$f":"INDIRECT(ADDRESS($K984,L$4,1,1,\"3 - Savings Analysis\"))","v":0},{"$f":"INDIRECT(ADDRESS($K984,M$4,1,1,\"3 - Savings Analysis\"))","v":0},{"$f":"INDIRECT(ADDRESS($K984,N$4,1,1,\"3 - Savings Analysis\"))","v":0},{"$f":"INDIRECT(ADDRESS($K984,O$4,1,1,\"3 - Savings Analysis\"))","v":0},{"$f":"INDIRECT(ADDRESS($K984,P$4,1,1,\"3 - Savings Analysis\"))","v":0},{"$f":"INDIRECT(ADDRESS($K984,Q$4,1,1,\"3 - Savings Analysis\"))","v":0},{"$f":"INDIRECT(ADDRESS($K984,R$4,1,1,\"3 - Savings Analysis\"))","v":0},{"$f":"INDIRECT(ADDRESS($K984,S$4,1,1,\"3 - Savings Analysis\"))","v":0},{"$f":"INDIRECT(ADDRESS($K984,T$4,1,1,\"3 - Savings Analysis\"))","v":0}]
["","","","","","","","","",null,994,{"$f":"INDIRECT(ADDRESS($K985,L$4,1,1,\"3 - Savings Analysis\"))","v":0},{"$f":"INDIRECT(ADDRESS($K985,M$4,1,1,\"3 - Savings Analysis\"))","v":0},{"$f":"INDIRECT(ADDRESS($K985,N$4,1,1,\"3 - Savings Analysis\"))","v":0},{"$f":"INDIRECT(ADDRESS($K985,O$4,1,1,\"3 - Savings Analysis\"))","v":0},{"$f":"INDIRECT(ADDRESS($K985,P$4,1,1,\"3 - Savings Analysis\"))","v":0},{"$f":"INDIRECT(ADDRESS($K985,Q$4,1,1,\"3 - Savings Analysis\"))","v":0},{"$f":"INDIRECT(ADDRESS($K985,R$4,1,1,\"3 - Savings Analysis\"))","v":0},{"$f":"INDIRECT(ADDRESS($K985,S$4,1,1,\"3 - Savings Analysis\"))","v":0},{"$f":"INDIRECT(ADDRESS($K985,T$4,1,1,\"3 - Savings Analysis\"))","v":0}]
["","","","","","","","","",null,995,{"$f":"INDIRECT(ADDRESS($K986,L$4,1,1,\"3 - Savings Analysis\"))","v":0},{"$f":"INDIRECT(ADDRESS($K986,M$4,1,1,\"3 - Savings Analysis\"))","v":0},{"$f":"INDIRECT(ADDRESS($K986,N$4,1,1,\"3 - Savings Analysis\"))","v":0},{"$f":"INDIRECT(ADDRESS($K986,O$4,1,1,\"3 - Savings Analysis\"))","v":0},{"$f":"INDIRECT(ADDRESS($K986,P$4,1,1,\"3 - Savings Analysis\"))","v":0},{"$f":"INDIRECT(ADDRESS($K986,Q$4,1,1,\"3 - Savings Analysis\"))","v":0},{"$f":"INDIRECT(ADDRESS($K986,R$4,1,1,\"3 - Savings Analysis\"))","v":0},{"$f":"INDIRECT(ADDRESS($K986,S$4,1,1,\"3 - Savings Analysis\"))","v":0},{"$f":"INDIRECT(ADDRESS($K986,T$4,1,1,\"3 - Savings Analysis\"))","v":0}]
["","","","","","","","","",null,996,{"$f":"INDIRECT(ADDRESS($K987,L$4,1,1,\"3 - Savings Analysis\"))","v":0},{"$f":"INDIRECT(ADDRESS($K987,M$4,1,1,\"3 - Savings Analysis\"))","v":0},{"$f":"INDIRECT(ADDRESS($K987,N$4,1,1,\"3 - Savings Analysis\"))","v":0},{"$f":"INDIRECT(ADDRESS($K987,O$4,1,1,\"3 - Savings Analysis\"))","v":0},{"$f":"INDIRECT(ADDRESS($K987,P$4,1,1,\"3 - Savings Analysis\"))","v":0},{"$f":"INDIRECT(ADDRESS($K987,Q$4,1,1,\"3 - Savings Analysis\"))","v":0},{"$f":"INDIRECT(ADDRESS($K987,R$4,1,1,\"3 - Savings Analysis\"))","v":0},{"$f":"INDIRECT(ADDRESS($K987,S$4,1,1,\"3 - Savings Analysis\"))","v":0},{"$f":"INDIRECT(ADDRESS($K987,T$4,1,1,\"3 - Savings Analysis\"))","v":0}]
["","","","","","","","","",null,997,{"$f":"INDIRECT(ADDRESS($K988,L$4,1,1,\"3 - Savings Analysis\"))","v":0},{"$f":"INDIRECT(ADDRESS($K988,M$4,1,1,\"3 - Savings Analysis\"))","v":0},{"$f":"INDIRECT(ADDRESS($K988,N$4,1,1,\"3 - Savings Analysis\"))","v":0},{"$f":"INDIRECT(ADDRESS($K988,O$4,1,1,\"3 - Savings Analysis\"))","v":0},{"$f":"INDIRECT(ADDRESS($K988,P$4,1,1,\"3 - Savings Analysis\"))","v":0},{"$f":"INDIRECT(ADDRESS($K988,Q$4,1,1,\"3 - Savings Analysis\"))","v":0},{"$f":"INDIRECT(ADDRESS($K988,R$4,1,1,\"3 - Savings Analysis\"))","v":0},{"$f":"INDIRECT(ADDRESS($K988,S$4,1,1,\"3 - Savings Analysis\"))","v":0},{"$f":"INDIRECT(ADDRESS($K988,T$4,1,1,\"3 - Savings Analysis\"))","v":0}]
["","","","","","","","","",null,998,{"$f":"INDIRECT(ADDRESS($K989,L$4,1,1,\"3 - Savings Analysis\"))","v":0},{"$f":"INDIRECT(ADDRESS($K989,M$4,1,1,\"3 - Savings Analysis\"))","v":0},{"$f":"INDIRECT(ADDRESS($K989,N$4,1,1,\"3 - Savings Analysis\"))","v":0},{"$f":"INDIRECT(ADDRESS($K989,O$4,1,1,\"3 - Savings Analysis\"))","v":0},{"$f":"INDIRECT(ADDRESS($K989,P$4,1,1,\"3 - Savings Analysis\"))","v":0},{"$f":"INDIRECT(ADDRESS($K989,Q$4,1,1,\"3 - Savings Analysis\"))","v":0},{"$f":"INDIRECT(ADDRESS($K989,R$4,1,1,\"3 - Savings Analysis\"))","v":0},{"$f":"INDIRECT(ADDRESS($K989,S$4,1,1,\"3 - Savings Analysis\"))","v":0},{"$f":"INDIRECT(ADDRESS($K989,T$4,1,1,\"3 - Savings Analysis\"))","v":0}]
["","","","","","","","","",null,999,{"$f":"INDIRECT(ADDRESS($K990,L$4,1,1,\"3 - Savings Analysis\"))","v":0},{"$f":"INDIRECT(ADDRESS($K990,M$4,1,1,\"3 - Savings Analysis\"))","v":0},{"$f":"INDIRECT(ADDRESS($K990,N$4,1,1,\"3 - Savings Analysis\"))","v":0},{"$f":"INDIRECT(ADDRESS($K990,O$4,1,1,\"3 - Savings Analysis\"))","v":0},{"$f":"INDIRECT(ADDRESS($K990,P$4,1,1,\"3 - Savings Analysis\"))","v":0},{"$f":"INDIRECT(ADDRESS($K990,Q$4,1,1,\"3 - Savings Analysis\"))","v":0},{"$f":"INDIRECT(ADDRESS($K990,R$4,1,1,\"3 - Savings Analysis\"))","v":0},{"$f":"INDIRECT(ADDRESS($K990,S$4,1,1,\"3 - Savings Analysis\"))","v":0},{"$f":"INDIRECT(ADDRESS($K990,T$4,1,1,\"3 - Savings Analysis\"))","v":0}]
["","","","","","","","","",null,1000,{"$f":"INDIRECT(ADDRESS($K991,L$4,1,1,\"3 - Savings Analysis\"))","v":0},{"$f":"INDIRECT(ADDRESS($K991,M$4,1,1,\"3 - Savings Analysis\"))","v":0},{"$f":"INDIRECT(ADDRESS($K991,N$4,1,1,\"3 - Savings Analysis\"))","v":0},{"$f":"INDIRECT(ADDRESS($K991,O$4,1,1,\"3 - Savings Analysis\"))","v":0},{"$f":"INDIRECT(ADDRESS($K991,P$4,1,1,\"3 - Savings Analysis\"))","v":0},{"$f":"INDIRECT(ADDRESS($K991,Q$4,1,1,\"3 - Savings Analysis\"))","v":0},{"$f":"INDIRECT(ADDRESS($K991,R$4,1,1,\"3 - Savings Analysis\"))","v":0},{"$f":"INDIRECT(ADDRESS($K991,S$4,1,1,\"3 - Savings Analysis\"))","v":0},{"$f":"INDIRECT(ADDRESS($K991,T$4,1,1,\"3 - Savings Analysis\"))","v":0}]
["","","","","","","","","",null,1001,{"$f":"INDIRECT(ADDRESS($K992,L$4,1,1,\"3 - Savings Analysis\"))","v":0},{"$f":"INDIRECT(ADDRESS($K992,M$4,1,1,\"3 - Savings Analysis\"))","v":0},{"$f":"INDIRECT(ADDRESS($K992,N$4,1,1,\"3 - Savings Analysis\"))","v":0},{"$f":"INDIRECT(ADDRESS($K992,O$4,1,1,\"3 - Savings Analysis\"))","v":0},{"$f":"INDIRECT(ADDRESS($K992,P$4,1,1,\"3 - Savings Analysis\"))","v":0},{"$f":"INDIRECT(ADDRESS($K992,Q$4,1,1,\"3 - Savings Analysis\"))","v":0},{"$f":"INDIRECT(ADDRESS($K992,R$4,1,1,\"3 - Savings Analysis\"))","v":0},{"$f":"INDIRECT(ADDRESS($K992,S$4,1,1,\"3 - Savings Analysis\"))","v":0},{"$f":"INDIRECT(ADDRESS($K992,T$4,1,1,\"3 - Savings Analysis\"))","v":0}]
["","","","","","","","","",null,1002,{"$f":"INDIRECT(ADDRESS($K993,L$4,1,1,\"3 - Savings Analysis\"))","v":0},{"$f":"INDIRECT(ADDRESS($K993,M$4,1,1,\"3 - Savings Analysis\"))","v":0},{"$f":"INDIRECT(ADDRESS($K993,N$4,1,1,\"3 - Savings Analysis\"))","v":0},{"$f":"INDIRECT(ADDRESS($K993,O$4,1,1,\"3 - Savings Analysis\"))","v":0},{"$f":"INDIRECT(ADDRESS($K993,P$4,1,1,\"3 - Savings Analysis\"))","v":0},{"$f":"INDIRECT(ADDRESS($K993,Q$4,1,1,\"3 - Savings Analysis\"))","v":0},{"$f":"INDIRECT(ADDRESS($K993,R$4,1,1,\"3 - Savings Analysis\"))","v":0},{"$f":"INDIRECT(ADDRESS($K993,S$4,1,1,\"3 - Savings Analysis\"))","v":0},{"$f":"INDIRECT(ADDRESS($K993,T$4,1,1,\"3 - Savings Analysis\"))","v":0}]
["","","","","","","","","",null,1003,{"$f":"INDIRECT(ADDRESS($K994,L$4,1,1,\"3 - Savings Analysis\"))","v":0},{"$f":"INDIRECT(ADDRESS($K994,M$4,1,1,\"3 - Savings Analysis\"))","v":0},{"$f":"INDIRECT(ADDRESS($K994,N$4,1,1,\"3 - Savings Analysis\"))","v":0},{"$f":"INDIRECT(ADDRESS($K994,O$4,1,1,\"3 - Savings Analysis\"))","v":0},{"$f":"INDIRECT(ADDRESS($K994,P$4,1,1,\"3 - Savings Analysis\"))","v":0},{"$f":"INDIRECT(ADDRESS($K994,Q$4,1,1,\"3 - Savings Analysis\"))","v":0},{"$f":"INDIRECT(ADDRESS($K994,R$4,1,1,\"3 - Savings Analysis\"))","v":0},{"$f":"INDIRECT(ADDRESS($K994,S$4,1,1,\"3 - Savings Analysis\"))","v":0},{"$f":"INDIRECT(ADDRESS($K994,T$4,1,1,\"3 - Savings Analysis\"))","v":0}]
["","","","","","","","","",null,1004,{"$f":"INDIRECT(ADDRESS($K995,L$4,1,1,\"3 - Savings Analysis\"))","v":0},{"$f":"INDIRECT(ADDRESS($K995,M$4,1,1,\"3 - Savings Analysis\"))","v":0},{"$f":"INDIRECT(ADDRESS($K995,N$4,1,1,\"3 - Savings Analysis\"))","v":0},{"$f":"INDIRECT(ADDRESS($K995,O$4,1,1,\"3 - Savings Analysis\"))","v":0},{"$f":"INDIRECT(ADDRESS($K995,P$4,1,1,\"3 - Savings Analysis\"))","v":0},{"$f":"INDIRECT(ADDRESS($K995,Q$4,1,1,\"3 - Savings Analysis\"))","v":0},{"$f":"INDIRECT(ADDRESS($K995,R$4,1,1,\"3 - Savings Analysis\"))","v":0},{"$f":"INDIRECT(ADDRESS($K995,S$4,1,1,\"3 - Savings Analysis\"))","v":0},{"$f":"INDIRECT(ADDRESS($K995,T$4,1,1,\"3 - Savings Analysis\"))","v":0}]
["","","","","","","","","",null,1005,{"$f":"INDIRECT(ADDRESS($K996,L$4,1,1,\"3 - Savings Analysis\"))","v":0},{"$f":"INDIRECT(ADDRESS($K996,M$4,1,1,\"3 - Savings Analysis\"))","v":0},{"$f":"INDIRECT(ADDRESS($K996,N$4,1,1,\"3 - Savings Analysis\"))","v":0},{"$f":"INDIRECT(ADDRESS($K996,O$4,1,1,\"3 - Savings Analysis\"))","v":0},{"$f":"INDIRECT(ADDRESS($K996,P$4,1,1,\"3 - Savings Analysis\"))","v":0},{"$f":"INDIRECT(ADDRESS($K996,Q$4,1,1,\"3 - Savings Analysis\"))","v":0},{"$f":"INDIRECT(ADDRESS($K996,R$4,1,1,\"3 - Savings Analysis\"))","v":0},{"$f":"INDIRECT(ADDRESS($K996,S$4,1,1,\"3 - Savings Analysis\"))","v":0},{"$f":"INDIRECT(ADDRESS($K996,T$4,1,1,\"3 - Savings Analysis\"))","v":0}]
["","","","","","","","","",null,1006,{"$f":"INDIRECT(ADDRESS($K997,L$4,1,1,\"3 - Savings Analysis\"))","v":0},{"$f":"INDIRECT(ADDRESS($K997,M$4,1,1,\"3 - Savings Analysis\"))","v":0},{"$f":"INDIRECT(ADDRESS($K997,N$4,1,1,\"3 - Savings Analysis\"))","v":0},{"$f":"INDIRECT(ADDRESS($K997,O$4,1,1,\"3 - Savings Analysis\"))","v":0},{"$f":"INDIRECT(ADDRESS($K997,P$4,1,1,\"3 - Savings Analysis\"))","v":0},{"$f":"INDIRECT(ADDRESS($K997,Q$4,1,1,\"3 - Savings Analysis\"))","v":0},{"$f":"INDIRECT(ADDRESS($K997,R$4,1,1,\"3 - Savings Analysis\"))","v":0},{"$f":"INDIRECT(ADDRESS($K997,S$4,1,1,\"3 - Savings Analysis\"))","v":0},{"$f":"INDIRECT(ADDRESS($K997,T$4,1,1,\"3 - Savings Analysis\"))","v":0}]
["","","","","","","","","",null,1007,{"$f":"INDIRECT(ADDRESS($K998,L$4,1,1,\"3 - Savings Analysis\"))","v":0},{"$f":"INDIRECT(ADDRESS($K998,M$4,1,1,\"3 - Savings Analysis\"))","v":0},{"$f":"INDIRECT(ADDRESS($K998,N$4,1,1,\"3 - Savings Analysis\"))","v":0},{"$f":"INDIRECT(ADDRESS($K998,O$4,1,1,\"3 - Savings Analysis\"))","v":0},{"$f":"INDIRECT(ADDRESS($K998,P$4,1,1,\"3 - Savings Analysis\"))","v":0},{"$f":"INDIRECT(ADDRESS($K998,Q$4,1,1,\"3 - Savings Analysis\"))","v":0},{"$f":"INDIRECT(ADDRESS($K998,R$4,1,1,\"3 - Savings Analysis\"))","v":0},{"$f":"INDIRECT(ADDRESS($K998,S$4,1,1,\"3 - Savings Analysis\"))","v":0},{"$f":"INDIRECT(ADDRESS($K998,T$4,1,1,\"3 - Savings Analysis\"))","v":0}]
["","","","","","","","","",null,1008,{"$f":"INDIRECT(ADDRESS($K999,L$4,1,1,\"3 - Savings Analysis\"))","v":0},{"$f":"INDIRECT(ADDRESS($K999,M$4,1,1,\"3 - Savings Analysis\"))","v":0},{"$f":"INDIRECT(ADDRESS($K999,N$4,1,1,\"3 - Savings Analysis\"))","v":0},{"$f":"INDIRECT(ADDRESS($K999,O$4,1,1,\"3 - Savings Analysis\"))","v":0},{"$f":"INDIRECT(ADDRESS($K999,P$4,1,1,\"3 - Savings Analysis\"))","v":0},{"$f":"INDIRECT(ADDRESS($K999,Q$4,1,1,\"3 - Savings Analysis\"))","v":0},{"$f":"INDIRECT(ADDRESS($K999,R$4,1,1,\"3 - Savings Analysis\"))","v":0},{"$f":"INDIRECT(ADDRESS($K999,S$4,1,1,\"3 - Savings Analysis\"))","v":0},{"$f":"INDIRECT(ADDRESS($K999,T$4,1,1,\"3 - Savings Analysis\"))","v":0}]
["","","","","","","","","",null,1009,{"$f":"INDIRECT(ADDRESS($K1000,L$4,1,1,\"3 - Savings Analysis\"))","v":0},{"$f":"INDIRECT(ADDRESS($K1000,M$4,1,1,\"3 - Savings Analysis\"))","v":0},{"$f":"INDIRECT(ADDRESS($K1000,N$4,1,1,\"3 - Savings Analysis\"))","v":0},{"$f":"INDIRECT(ADDRESS($K1000,O$4,1,1,\"3 - Savings Analysis\"))","v":0},{"$f":"INDIRECT(ADDRESS($K1000,P$4,1,1,\"3 - Savings Analysis\"))","v":0},{"$f":"INDIRECT(ADDRESS($K1000,Q$4,1,1,\"3 - Savings Analysis\"))","v":0},{"$f":"INDIRECT(ADDRESS($K1000,R$4,1,1,\"3 - Savings Analysis\"))","v":0},{"$f":"INDIRECT(ADDRESS($K1000,S$4,1,1,\"3 - Savings Analysis\"))","v":0},{"$f":"INDIRECT(ADDRESS($K1000,T$4,1,1,\"3 - Savings Analysis\"))","v":0}]
[null,null,null,null,null,null,null,null,{"$f":"IF($K1001<=$M$2,IF($A1001=\"Total\",\"\",IF($T1001=0,\"\",T1001)),\"\")","v":""},null,1010,{"$f":"INDIRECT(ADDRESS($K1001,L$4,1,1,\"3 - Savings Analysis\"))","v":0},{"$f":"INDIRECT(ADDRESS($K1001,M$4,1,1,\"3 - Savings Analysis\"))","v":0},{"$f":"INDIRECT(ADDRESS($K1001,N$4,1,1,\"3 - Savings Analysis\"))","v":0},{"$f":"INDIRECT(ADDRESS($K1001,O$4,1,1,\"3 - Savings Analysis\"))","v":0},{"$f":"INDIRECT(ADDRESS($K1001,P$4,1,1,\"3 - Savings Analysis\"))","v":0},{"$f":"INDIRECT(ADDRESS($K1001,Q$4,1,1,\"3 - Savings Analysis\"))","v":0},{"$f":"INDIRECT(ADDRESS($K1001,R$4,1,1,\"3 - Savings Analysis\"))","v":0},{"$f":"INDIRECT(ADDRESS($K1001,S$4,1,1,\"3 - Savings Analysis\"))","v":0},{"$f":"INDIRECT(ADDRESS($K1001,T$4,1,1,\"3 - Savings Analysis\"))","v":0}]

{"sheet":"Revision Log","index":26,"n_rows":10,"n_cols":6,"rows_kept":10,"cut":false,"hidden":true,"merged":[[0,1,0,5]]}
[null,"Revision Log"]
[null,"Date","Engineer","Tab","Cells","Description"]
[null,"2025-02-12","Jeff Rothstein","EUL Calc",null,"Updated Lighting control EULs in the EUL Calc tab based on 2025 TRM"]
[null,"2025-02-12","Jeff Rothstein","EUL Calc",null,"Updated Lighting fixture EULs in the EUL Calc tab based on the study referenced in the 2025 TRM: DNV (2024). Rhode Island C&I Lighting Adjusted Measure Life Study Refresh"]
[null,"2025-02-12","Jeff Rothstein","EUL Calc",null,"Updated Weighted EUL calcs"]
[null,"2025-02-12","Jeff Rothstein","Savings Analysis",null,"Updated the incentivized savings formulas to automatically exclude non DLC/ES fixtures and any fixtures that don’t fall under the eligible lighting types (Ambient_Linear, High_Low_Bay, Exterior_Outdoor). Added incentivized fixture and control savings columns to separate out for Tier Screening tab calcs."]
[null,"2025-02-12","Jeff Rothstein","Tier Screening",null,"Updated incentivized savings to pull from the updated columns above for incentive calculation."]
[null,"2025-02-13","Jeff Rothstein","Requirements",null,"Confirmed with Travis Jenks (RIE) and changed Trim requirement description to \"High-End Trim (Minimum setting of 75% for claimed savings, Maximum setting of 90%)\""]
[null,"2025-02-13","Jeff Rothstein","Savings Analysis",null,"Updated Data validation for high end trim according to requirements (Minimum setting of 75% for claimed savings, Maximum setting of 90%)\""]
[null,"2025-02-14","Saroj Karki","MRD Table",null,"Updated MRD Table Formatting Macro"]

{"sheet":"Default Output Long","index":27,"n_rows":80,"n_cols":13,"rows_kept":80,"cut":false,"hidden":true,"merged":[[10,5,10,6],[9,5,9,6],[7,5,7,6],[16,7,16,12],[17,7,17,12],[14,7,14,12],[15,7,15,12],[12,5,12,6],[11,5,11,6],[9,7,9,12],[10,7,10,12],[11,7,11,12],[12,7,12,12],[14,5,14,6],[13,5,13,6],[13,7,13,12],[67,0,79,0],[54,0,66,0],[15,5,15,6],[16,5,16,6],[17,5,17,6],[20,0,25,0],[19,0,19,1],[52,0,53,0],[46,0,51,0],[40,0,45,0],[36,0,39,0],[30,0,35,0],[26,0,29,0],[7,7,7,12],[8,7,8,12],[8,5,8,6],[7,1,7,3],[5,1,5,3],[1,1,2,11],[1,0,2,0],[5,5,5,6],[4,5,4,6],[6,7,6,12],[5,7,5,12],[4,7,4,12],[6,5,6,6],[6,1,6,3],[4,1,4,3]]}
["NOTE: This default summary page is formatted to print or pdf as one page with a horizontal orientation.  Columns and rows may be adjusted to make sure all text is displayed.  This text will not be included in the printout."]
[{"$f":"CELL(\"filename\")","v":{"$error":"#VALUE!"}},{"$f":"Screening!B8","v":{"$error":"#REF!"}},null,null,null,null,null,null,null,null,null,null,"Tool Version Updated on:"]
[null,null,null,null,null,null,null,null,null,null,null,null,{"$f":"Version!B4","v":"2019-04-08"}]
["Screening Information:",null,null,null,null,"Project Information and Notes"]
["Tool Version:",{"$f":"Version!B2&\"_\"&Version!B3","v":"2019 Statewide Custom Screening Tool v1.00_1"},null,null,null,"Project Description",null,{"$f":"#REF!","v":{"$error":"#REF!"}}]
["Suggested file name:",{"$f":"Version!B2&\"_\"&#REF!&\"_\"&#REF!","v":{"$error":"#REF!"}},null,null,null,"Existing or Base Case Condition Description",null,{"$f":"#REF!","v":{"$error":"#REF!"}}]
["Project Screened by",{"$f":"#REF!","v":{"$error":"#REF!"}},null,null,null,"Proposed Description",null,{"$f":"#REF!","v":{"$error":"#REF!"}}]
["Project Screened on",{"$f":"#REF!","v":{"$error":"#REF!"}},null,null,null,"General Notes",null,{"$f":"'Project Notes'!H9&\" - \"&'Project Notes'!B9","v":" - "}]
[null,null,null,null,null,{"$f":"#REF!","v":{"$error":"#REF!"}},null,{"$f":"'Project Notes'!B13&\" - \"&'Project Notes'!H13","v":" - "}]
["Contact Information",null,null,null,null,{"$f":"#REF!","v":{"$error":"#REF!"}},null,{"$f":"'Project Notes'!B15&\" - \"&'Project Notes'!H15","v":" - "}]
[null,"Customer","Electric PA","Gas PA",null,{"$f":"#REF!","v":{"$error":"#REF!"}},null,{"$f":"'Project Notes'!B17&\" - \"&'Project Notes'!H17","v":" - "}]
["Company Name",{"$f":"#REF!","v":{"$error":"#REF!"}},{"$f":"#REF!","v":{"$error":"#REF!"}},{"$f":"#REF!","v":{"$error":"#REF!"}},null,{"$f":"#REF!","v":{"$error":"#REF!"}},null,{"$f":"'Project Notes'!B19&\" - \"&'Project Notes'!H19","v":" - "}]
["Contact Name",{"$f":"#REF!","v":{"$error":"#REF!"}},{"$f":"#REF!","v":{"$error":"#REF!"}},{"$f":"#REF!","v":{"$error":"#REF!"}},null,{"$f":"#REF!","v":{"$error":"#REF!"}},null,{"$f":"'Project Notes'!B21&\" - \"&'Project Notes'!H21","v":" - "}]
["Contact Email",{"$f":"#REF!","v":{"$error":"#REF!"}},{"$f":"#REF!","v":{"$error":"#REF!"}},{"$f":"#REF!","v":{"$error":"#REF!"}},null,{"$f":"#REF!","v":{"$error":"#REF!"}},null,{"$f":"'Project Notes'!B23&\" - \"&'Project Notes'!H23","v":" - "}]
["Phone #",{"$f":"#REF!","v":{"$error":"#REF!"}},{"$f":"#REF!","v":{"$error":"#REF!"}},{"$f":"#REF!","v":{"$error":"#REF!"}},null,{"$f":"#REF!","v":{"$error":"#REF!"}},null,{"$f":"'Project Notes'!B25&\" - \"&'Project Notes'!H25","v":" - "}]
["Account #",null,{"$f":"#REF!","v":{"$error":"#REF!"}},{"$f":"#REF!","v":{"$error":"#REF!"}},null,{"$f":"#REF!","v":{"$error":"#REF!"}},null,{"$f":"'Project Notes'!B27&\" - \"&'Project Notes'!H27","v":" - "}]
["Application #",null,{"$f":"#REF!","v":{"$error":"#REF!"}},{"$f":"#REF!","v":{"$error":"#REF!"}},null,{"$f":"#REF!","v":{"$error":"#REF!"}},null,{"$f":"'Project Notes'!B29&\" - \"&'Project Notes'!H29","v":" - "}]
[null,null,null,null,null,{"$f":"#REF!","v":{"$error":"#REF!"}},null,{"$f":"'Project Notes'!B31&\" - \"&'Project Notes'!H31","v":" - "}]
[]
["Measure Inputs and Results",null,{"$f":"#REF!","v":{"$error":"#REF!"}},{"$f":"#REF!","v":{"$error":"#REF!"}},{"$f":"#REF!","v":{"$error":"#REF!"}},{"$f":"#REF!","v":{"$error":"#REF!"}},{"$f":"#REF!","v":{"$error":"#REF!"}},{"$f":"#REF!","v":{"$error":"#REF!"}},{"$f":"#REF!","v":{"$error":"#REF!"}},{"$f":"#REF!","v":{"$error":"#REF!"}},{"$f":"#REF!","v":{"$error":"#REF!"}},{"$f":"#REF!","v":{"$error":"#REF!"}},"Project Total - Selected Measures"]
["Measure Information ","Include in project",{"$f":"IF(#REF!<>\"\",#REF!,\"\")","v":{"$error":"#REF!"}},{"$f":"IF(#REF!<>\"\",#REF!,\"\")","v":{"$error":"#REF!"}},{"$f":"IF(#REF!<>\"\",#REF!,\"\")","v":{"$error":"#REF!"}},{"$f":"IF(#REF!<>\"\",#REF!,\"\")","v":{"$error":"#REF!"}},{"$f":"IF(#REF!<>\"\",#REF!,\"\")","v":{"$error":"#REF!"}},{"$f":"IF(#REF!<>\"\",#REF!,\"\")","v":{"$error":"#REF!"}},{"$f":"IF(#REF!<>\"\",#REF!,\"\")","v":{"$error":"#REF!"}},{"$f":"IF(#REF!<>\"\",#REF!,\"\")","v":{"$error":"#REF!"}},{"$f":"IF(#REF!<>\"\",#REF!,\"\")","v":{"$error":"#REF!"}},{"$f":"IF(#REF!<>\"\",#REF!,\"\")","v":{"$error":"#REF!"}},{"$f":"IF(SUM(C21:L21)<>0,1,0)","v":{"$error":"#REF!"}}]
[null,"Initiative",{"$f":"IF(C21=1,#REF!,\"\")","v":{"$error":"#REF!"}},{"$f":"IF(D21=1,#REF!,\"\")","v":{"$error":"#REF!"}},{"$f":"IF(E21=1,#REF!,\"\")","v":{"$error":"#REF!"}},{"$f":"IF(F21=1,#REF!,\"\")","v":{"$error":"#REF!"}},{"$f":"IF(G21=1,#REF!,\"\")","v":{"$error":"#REF!"}},{"$f":"IF(H21=1,#REF!,\"\")","v":{"$error":"#REF!"}},{"$f":"IF(I21=1,#REF!,\"\")","v":{"$error":"#REF!"}},{"$f":"IF(J21=1,#REF!,\"\")","v":{"$error":"#REF!"}},{"$f":"IF(K21=1,#REF!,\"\")","v":{"$error":"#REF!"}},{"$f":"IF(L21=1,#REF!,\"\")","v":{"$error":"#REF!"}}]
[null,"Fuel  Savings Type",{"$f":"IF(C$21=1,#REF!,\"\")","v":{"$error":"#REF!"}},{"$f":"IF(D$21=1,#REF!,\"\")","v":{"$error":"#REF!"}},{"$f":"IF(E$21=1,#REF!,\"\")","v":{"$error":"#REF!"}},{"$f":"IF(F$21=1,#REF!,\"\")","v":{"$error":"#REF!"}},{"$f":"IF(G$21=1,#REF!,\"\")","v":{"$error":"#REF!"}},{"$f":"IF(H$21=1,#REF!,\"\")","v":{"$error":"#REF!"}},{"$f":"IF(I$21=1,#REF!,\"\")","v":{"$error":"#REF!"}},{"$f":"IF(J$21=1,#REF!,\"\")","v":{"$error":"#REF!"}},{"$f":"IF(K$21=1,#REF!,\"\")","v":{"$error":"#REF!"}},{"$f":"IF(L$21=1,#REF!,\"\")","v":{"$error":"#REF!"}}]
[null,"Measure",{"$f":"IF(C$21=1,#REF!,\"\")","v":{"$error":"#REF!"}},{"$f":"IF(D$21=1,#REF!,\"\")","v":{"$error":"#REF!"}},{"$f":"IF(E$21=1,#REF!,\"\")","v":{"$error":"#REF!"}},{"$f":"IF(F$21=1,#REF!,\"\")","v":{"$error":"#REF!"}},{"$f":"IF(G$21=1,#REF!,\"\")","v":{"$error":"#REF!"}},{"$f":"IF(H$21=1,#REF!,\"\")","v":{"$error":"#REF!"}},{"$f":"IF(I$21=1,#REF!,\"\")","v":{"$error":"#REF!"}},{"$f":"IF(J$21=1,#REF!,\"\")","v":{"$error":"#REF!"}},{"$f":"IF(K$21=1,#REF!,\"\")","v":{"$error":"#REF!"}},{"$f":"IF(L$21=1,#REF!,\"\")","v":{"$error":"#REF!"}}]
[null,"Dual Baseline Applicable?",{"$f":"IF(C$21=1,#REF!,\"\")","v":{"$error":"#REF!"}},{"$f":"IF(D$21=1,#REF!,\"\")","v":{"$error":"#REF!"}},{"$f":"IF(E$21=1,#REF!,\"\")","v":{"$error":"#REF!"}},{"$f":"IF(F$21=1,#REF!,\"\")","v":{"$error":"#REF!"}},{"$f":"IF(G$21=1,#REF!,\"\")","v":{"$error":"#REF!"}},{"$f":"IF(H$21=1,#REF!,\"\")","v":{"$error":"#REF!"}},{"$f":"IF(I$21=1,#REF!,\"\")","v":{"$error":"#REF!"}},{"$f":"IF(J$21=1,#REF!,\"\")","v":{"$error":"#REF!"}},{"$f":"IF(K$21=1,#REF!,\"\")","v":{"$error":"#REF!"}},{"$f":"IF(L$21=1,#REF!,\"\")","v":{"$error":"#REF!"}}]
[null,"Tracked Measure Life (Years)",{"$f":"IF(C$21=1,Screening!E$32,\"\")","v":{"$error":"#REF!"}},{"$f":"IF(D$21=1,Screening!F$32,\"\")","v":{"$error":"#REF!"}},{"$f":"IF(E$21=1,Screening!G$32,\"\")","v":{"$error":"#REF!"}},{"$f":"IF(F$21=1,Screening!H$32,\"\")","v":{"$error":"#REF!"}},{"$f":"IF(G$21=1,Screening!I$32,\"\")","v":{"$error":"#REF!"}},{"$f":"IF(H$21=1,Screening!J$32,\"\")","v":{"$error":"#REF!"}},{"$f":"IF(I$21=1,Screening!K$32,\"\")","v":{"$error":"#REF!"}},{"$f":"IF(J$21=1,Screening!L$32,\"\")","v":{"$error":"#REF!"}},{"$f":"IF(K$21=1,Screening!M$32,\"\")","v":{"$error":"#REF!"}},{"$f":"IF(L$21=1,Screening!N$32,\"\")","v":{"$error":"#REF!"}}]
["Measure Costs","Proposed Cost ($)",{"$f":"IFERROR(C$21*#REF!,\"\")","v":""},{"$f":"IFERROR(D$21*#REF!,\"\")","v":""},{"$f":"IFERROR(E$21*#REF!,\"\")","v":""},{"$f":"IFERROR(F$21*#REF!,\"\")","v":""},{"$f":"IFERROR(G$21*#REF!,\"\")","v":""},{"$f":"IFERROR(H$21*#REF!,\"\")","v":""},{"$f":"IFERROR(I$21*#REF!,\"\")","v":""},{"$f":"IFERROR(J$21*#REF!,\"\")","v":""},{"$f":"IFERROR(K$21*#REF!,\"\")","v":""},{"$f":"IFERROR(L$21*#REF!,\"\")","v":""},{"$f":"#REF!","v":{"$error":"#REF!"}}]
[null,"Baseline Cost ($)",{"$f":"IFERROR(C$21*#REF!,\"\")","v":""},{"$f":"IFERROR(D$21*#REF!,\"\")","v":""},{"$f":"IFERROR(E$21*#REF!,\"\")","v":""},{"$f":"IFERROR(F$21*#REF!,\"\")","v":""},{"$f":"IFERROR(G$21*#REF!,\"\")","v":""},{"$f":"IFERROR(H$21*#REF!,\"\")","v":""},{"$f":"IFERROR(I$21*#REF!,\"\")","v":""},{"$f":"IFERROR(J$21*#REF!,\"\")","v":""},{"$f":"IFERROR(K$21*#REF!,\"\")","v":""},{"$f":"IFERROR(L$21*#REF!,\"\")","v":""},{"$f":"#REF!","v":{"$error":"#REF!"}}]
[null,"Deferment Credit ($)",{"$f":"IFERROR(C$21*#REF!,\"\")","v":""},{"$f":"IFERROR(D$21*#REF!,\"\")","v":""},{"$f":"IFERROR(E$21*#REF!,\"\")","v":""},{"$f":"IFERROR(F$21*#REF!,\"\")","v":""},{"$f":"IFERROR(G$21*#REF!,\"\")","v":""},{"$f":"IFERROR(H$21*#REF!,\"\")","v":""},{"$f":"IFERROR(I$21*#REF!,\"\")","v":""},{"$f":"IFERROR(J$21*#REF!,\"\")","v":""},{"$f":"IFERROR(K$21*#REF!,\"\")","v":""},{"$f":"IFERROR(L$21*#REF!,\"\")","v":""},{"$f":"#REF!","v":{"$error":"#REF!"}}]
[null,"Incremental Costs ($)",{"$f":"IFERROR(C$21*#REF!,\"\")","v":""},{"$f":"IFERROR(D$21*#REF!,\"\")","v":""},{"$f":"IFERROR(E$21*#REF!,\"\")","v":""},{"$f":"IFERROR(F$21*#REF!,\"\")","v":""},{"$f":"IFERROR(G$21*#REF!,\"\")","v":""},{"$f":"IFERROR(H$21*#REF!,\"\")","v":""},{"$f":"IFERROR(I$21*#REF!,\"\")","v":""},{"$f":"IFERROR(J$21*#REF!,\"\")","v":""},{"$f":"IFERROR(K$21*#REF!,\"\")","v":""},{"$f":"IFERROR(L$21*#REF!,\"\")","v":""},{"$f":"#REF!","v":{"$error":"#REF!"}}]
["Gross Electric Energy","Energy (kWh)",{"$f":"IFERROR(C$21*#REF!,\"\")","v":""},{"$f":"IFERROR(D$21*#REF!,\"\")","v":""},{"$f":"IFERROR(E$21*#REF!,\"\")","v":""},{"$f":"IFERROR(F$21*#REF!,\"\")","v":""},{"$f":"IFERROR(G$21*#REF!,\"\")","v":""},{"$f":"IFERROR(H$21*#REF!,\"\")","v":""},{"$f":"IFERROR(I$21*#REF!,\"\")","v":""},{"$f":"IFERROR(J$21*#REF!,\"\")","v":""},{"$f":"IFERROR(K$21*#REF!,\"\")","v":""},{"$f":"IFERROR(L$21*#REF!,\"\")","v":""},{"$f":"M$21*#REF!","v":{"$error":"#REF!"}}]
[null,"% Summer On Peak",{"$f":"IFERROR(C$21*#REF!,\"\")","v":""},{"$f":"IFERROR(D$21*#REF!,\"\")","v":""},{"$f":"IFERROR(E$21*#REF!,\"\")","v":""},{"$f":"IFERROR(F$21*#REF!,\"\")","v":""},{"$f":"IFERROR(G$21*#REF!,\"\")","v":""},{"$f":"IFERROR(H$21*#REF!,\"\")","v":""},{"$f":"IFERROR(I$21*#REF!,\"\")","v":""},{"$f":"IFERROR(J$21*#REF!,\"\")","v":""},{"$f":"IFERROR(K$21*#REF!,\"\")","v":""},{"$f":"IFERROR(L$21*#REF!,\"\")","v":""}]
[null,"% Summer Off Peak",{"$f":"IFERROR(C$21*#REF!,\"\")","v":""},{"$f":"IFERROR(D$21*#REF!,\"\")","v":""},{"$f":"IFERROR(E$21*#REF!,\"\")","v":""},{"$f":"IFERROR(F$21*#REF!,\"\")","v":""},{"$f":"IFERROR(G$21*#REF!,\"\")","v":""},{"$f":"IFERROR(H$21*#REF!,\"\")","v":""},{"$f":"IFERROR(I$21*#REF!,\"\")","v":""},{"$f":"IFERROR(J$21*#REF!,\"\")","v":""},{"$f":"IFERROR(K$21*#REF!,\"\")","v":""},{"$f":"IFERROR(L$21*#REF!,\"\")","v":""}]
[null,"% Winter On Peak",{"$f":"IFERROR(C$21*#REF!,\"\")","v":""},{"$f":"IFERROR(D$21*#REF!,\"\")","v":""},{"$f":"IFERROR(E$21*#REF!,\"\")","v":""},{"$f":"IFERROR(F$21*#REF!,\"\")","v":""},{"$f":"IFERROR(G$21*#REF!,\"\")","v":""},{"$f":"IFERROR(H$21*#REF!,\"\")","v":""},{"$f":"IFERROR(I$21*#REF!,\"\")","v":""},{"$f":"IFERROR(J$21*#REF!,\"\")","v":""},{"$f":"IFERROR(K$21*#REF!,\"\")","v":""},{"$f":"IFERROR(L$21*#REF!,\"\")","v":""}]
[null,"% Winter Off Peak",{"$f":"IFERROR(C$21*#REF!,\"\")","v":""},{"$f":"IFERROR(D$21*#REF!,\"\")","v":""},{"$f":"IFERROR(E$21*#REF!,\"\")","v":""},{"$f":"IFERROR(F$21*#REF!,\"\")","v":""},{"$f":"IFERROR(G$21*#REF!,\"\")","v":""},{"$f":"IFERROR(H$21*#REF!,\"\")","v":""},{"$f":"IFERROR(I$21*#REF!,\"\")","v":""},{"$f":"IFERROR(J$21*#REF!,\"\")","v":""},{"$f":"IFERROR(K$21*#REF!,\"\")","v":""},{"$f":"IFERROR(L$21*#REF!,\"\")","v":""}]
[null,"Lifetime MWh",{"$f":"IFERROR(C$21*#REF!,\"\")","v":""},{"$f":"IFERROR(D$21*#REF!,\"\")","v":""},{"$f":"IFERROR(E$21*#REF!,\"\")","v":""},{"$f":"IFERROR(F$21*#REF!,\"\")","v":""},{"$f":"IFERROR(G$21*#REF!,\"\")","v":""},{"$f":"IFERROR(H$21*#REF!,\"\")","v":""},{"$f":"IFERROR(I$21*#REF!,\"\")","v":""},{"$f":"IFERROR(J$21*#REF!,\"\")","v":""},{"$f":"IFERROR(K$21*#REF!,\"\")","v":""},{"$f":"IFERROR(L$21*#REF!,\"\")","v":""},{"$f":"M$21*#REF!","v":{"$error":"#REF!"}}]
["Gross Electric Capacity","Summer Peak kW",{"$f":"IFERROR(C$21*#REF!,\"\")","v":""},{"$f":"IFERROR(D$21*#REF!,\"\")","v":""},{"$f":"IFERROR(E$21*#REF!,\"\")","v":""},{"$f":"IFERROR(F$21*#REF!,\"\")","v":""},{"$f":"IFERROR(G$21*#REF!,\"\")","v":""},{"$f":"IFERROR(H$21*#REF!,\"\")","v":""},{"$f":"IFERROR(I$21*#REF!,\"\")","v":""},{"$f":"IFERROR(J$21*#REF!,\"\")","v":""},{"$f":"IFERROR(K$21*#REF!,\"\")","v":""},{"$f":"IFERROR(L$21*#REF!,\"\")","v":""},{"$f":"M$21*#REF!","v":{"$error":"#REF!"}}]
[null,"Winter Peak kW",{"$f":"IFERROR(C$21*#REF!,\"\")","v":""},{"$f":"IFERROR(D$21*#REF!,\"\")","v":""},{"$f":"IFERROR(E$21*#REF!,\"\")","v":""},{"$f":"IFERROR(F$21*#REF!,\"\")","v":""},{"$f":"IFERROR(G$21*#REF!,\"\")","v":""},{"$f":"IFERROR(H$21*#REF!,\"\")","v":""},{"$f":"IFERROR(I$21*#REF!,\"\")","v":""},{"$f":"IFERROR(J$21*#REF!,\"\")","v":""},{"$f":"IFERROR(K$21*#REF!,\"\")","v":""},{"$f":"IFERROR(L$21*#REF!,\"\")","v":""},{"$f":"M$21*#REF!","v":{"$error":"#REF!"}}]
[null,"Lifetime kW-yr",{"$f":"IFERROR(C$21*#REF!,\"\")","v":""},{"$f":"IFERROR(D$21*#REF!,\"\")","v":""},{"$f":"IFERROR(E$21*#REF!,\"\")","v":""},{"$f":"IFERROR(F$21*#REF!,\"\")","v":""},{"$f":"IFERROR(G$21*#REF!,\"\")","v":""},{"$f":"IFERROR(H$21*#REF!,\"\")","v":""},{"$f":"IFERROR(I$21*#REF!,\"\")","v":""},{"$f":"IFERROR(J$21*#REF!,\"\")","v":""},{"$f":"IFERROR(K$21*#REF!,\"\")","v":""},{"$f":"IFERROR(L$21*#REF!,\"\")","v":""},{"$f":"M$21*#REF!","v":{"$error":"#REF!"}}]
[null,"Electric Only Payback",{"$f":"IFERROR(C$21*#REF!,\"\")","v":""},{"$f":"IFERROR(D$21*#REF!,\"\")","v":""},{"$f":"IFERROR(E$21*#REF!,\"\")","v":""},{"$f":"IFERROR(F$21*#REF!,\"\")","v":""},{"$f":"IFERROR(G$21*#REF!,\"\")","v":""},{"$f":"IFERROR(H$21*#REF!,\"\")","v":""},{"$f":"IFERROR(I$21*#REF!,\"\")","v":""},{"$f":"IFERROR(J$21*#REF!,\"\")","v":""},{"$f":"IFERROR(K$21*#REF!,\"\")","v":""},{"$f":"IFERROR(L$21*#REF!,\"\")","v":""},{"$f":"IFERROR(M$21*#REF!,\"\")","v":""}]
["Gross Natural Gas","Heating Season (Therms)",{"$f":"IFERROR(C$21*#REF!,\"\")","v":""},{"$f":"IFERROR(D$21*#REF!,\"\")","v":""},{"$f":"IFERROR(E$21*#REF!,\"\")","v":""},{"$f":"IFERROR(F$21*#REF!,\"\")","v":""},{"$f":"IFERROR(G$21*#REF!,\"\")","v":""},{"$f":"IFERROR(H$21*#REF!,\"\")","v":""},{"$f":"IFERROR(I$21*#REF!,\"\")","v":""},{"$f":"IFERROR(J$21*#REF!,\"\")","v":""},{"$f":"IFERROR(K$21*#REF!,\"\")","v":""},{"$f":"IFERROR(L$21*#REF!,\"\")","v":""},{"$f":"M$21*#REF!","v":{"$error":"#REF!"}}]
[null,"Year Round (Therms)",{"$f":"IFERROR(C$21*#REF!,\"\")","v":""},{"$f":"IFERROR(D$21*#REF!,\"\")","v":""},{"$f":"IFERROR(E$21*#REF!,\"\")","v":""},{"$f":"IFERROR(F$21*#REF!,\"\")","v":""},{"$f":"IFERROR(G$21*#REF!,\"\")","v":""},{"$f":"IFERROR(H$21*#REF!,\"\")","v":""},{"$f":"IFERROR(I$21*#REF!,\"\")","v":""},{"$f":"IFERROR(J$21*#REF!,\"\")","v":""},{"$f":"IFERROR(K$21*#REF!,\"\")","v":""},{"$f":"IFERROR(L$21*#REF!,\"\")","v":""},{"$f":"M$21*#REF!","v":{"$error":"#REF!"}}]
[null,"Other (Therms)",{"$f":"IFERROR(C$21*#REF!,\"\")","v":""},{"$f":"IFERROR(D$21*#REF!,\"\")","v":""},{"$f":"IFERROR(E$21*#REF!,\"\")","v":""},{"$f":"IFERROR(F$21*#REF!,\"\")","v":""},{"$f":"IFERROR(G$21*#REF!,\"\")","v":""},{"$f":"IFERROR(H$21*#REF!,\"\")","v":""},{"$f":"IFERROR(I$21*#REF!,\"\")","v":""},{"$f":"IFERROR(J$21*#REF!,\"\")","v":""},{"$f":"IFERROR(K$21*#REF!,\"\")","v":""},{"$f":"IFERROR(L$21*#REF!,\"\")","v":""},{"$f":"M$21*#REF!","v":{"$error":"#REF!"}}]
[null,"Total Gas Therms",{"$f":"IFERROR(C$21*#REF!,\"\")","v":""},{"$f":"IFERROR(D$21*#REF!,\"\")","v":""},{"$f":"IFERROR(E$21*#REF!,\"\")","v":""},{"$f":"IFERROR(F$21*#REF!,\"\")","v":""},{"$f":"IFERROR(G$21*#REF!,\"\")","v":""},{"$f":"IFERROR(H$21*#REF!,\"\")","v":""},{"$f":"IFERROR(I$21*#REF!,\"\")","v":""},{"$f":"IFERROR(J$21*#REF!,\"\")","v":""},{"$f":"IFERROR(K$21*#REF!,\"\")","v":""},{"$f":"IFERROR(L$21*#REF!,\"\")","v":""},{"$f":"M$21*#REF!","v":{"$error":"#REF!"}}]
[null,"Lifetime Therms",{"$f":"IFERROR(C$21*#REF!,\"\")","v":""},{"$f":"IFERROR(D$21*#REF!,\"\")","v":""},{"$f":"IFERROR(E$21*#REF!,\"\")","v":""},{"$f":"IFERROR(F$21*#REF!,\"\")","v":""},{"$f":"IFERROR(G$21*#REF!,\"\")","v":""},{"$f":"IFERROR(H$21*#REF!,\"\")","v":""},{"$f":"IFERROR(I$21*#REF!,\"\")","v":""},{"$f":"IFERROR(J$21*#REF!,\"\")","v":""},{"$f":"IFERROR(K$21*#REF!,\"\")","v":""},{"$f":"IFERROR(L$21*#REF!,\"\")","v":""},{"$f":"M$21*#REF!","v":{"$error":"#REF!"}}]
[null,"Gas Only Payback",{"$f":"IFERROR(C$21*#REF!,\"\")","v":""},{"$f":"IFERROR(D$21*#REF!,\"\")","v":""},{"$f":"IFERROR(E$21*#REF!,\"\")","v":""},{"$f":"IFERROR(F$21*#REF!,\"\")","v":""},{"$f":"IFERROR(G$21*#REF!,\"\")","v":""},{"$f":"IFERROR(H$21*#REF!,\"\")","v":""},{"$f":"IFERROR(I$21*#REF!,\"\")","v":""},{"$f":"IFERROR(J$21*#REF!,\"\")","v":""},{"$f":"IFERROR(K$21*#REF!,\"\")","v":""},{"$f":"IFERROR(L$21*#REF!,\"\")","v":""},{"$f":"IFERROR(M$21*#REF!,\"\")","v":""}]
["Gross Non-Electric Non-Gas","#2 Oil (MMbtu)",{"$f":"IFERROR(C$21*#REF!,\"\")","v":""},{"$f":"IFERROR(D$21*#REF!,\"\")","v":""},{"$f":"IFERROR(E$21*#REF!,\"\")","v":""},{"$f":"IFERROR(F$21*#REF!,\"\")","v":""},{"$f":"IFERROR(G$21*#REF!,\"\")","v":""},{"$f":"IFERROR(H$21*#REF!,\"\")","v":""},{"$f":"IFERROR(I$21*#REF!,\"\")","v":""},{"$f":"IFERROR(J$21*#REF!,\"\")","v":""},{"$f":"IFERROR(K$21*#REF!,\"\")","v":""},{"$f":"IFERROR(L$21*#REF!,\"\")","v":""},{"$f":"M$21*#REF!","v":{"$error":"#REF!"}}]
[null,"Propane (MMbtu)",{"$f":"IFERROR(C$21*#REF!,\"\")","v":""},{"$f":"IFERROR(D$21*#REF!,\"\")","v":""},{"$f":"IFERROR(E$21*#REF!,\"\")","v":""},{"$f":"IFERROR(F$21*#REF!,\"\")","v":""},{"$f":"IFERROR(G$21*#REF!,\"\")","v":""},{"$f":"IFERROR(H$21*#REF!,\"\")","v":""},{"$f":"IFERROR(I$21*#REF!,\"\")","v":""},{"$f":"IFERROR(J$21*#REF!,\"\")","v":""},{"$f":"IFERROR(K$21*#REF!,\"\")","v":""},{"$f":"IFERROR(L$21*#REF!,\"\")","v":""},{"$f":"M$21*#REF!","v":{"$error":"#REF!"}}]
[null,"Water (Gallons)",{"$f":"IFERROR(C$21*#REF!,\"\")","v":""},{"$f":"IFERROR(D$21*#REF!,\"\")","v":""},{"$f":"IFERROR(E$21*#REF!,\"\")","v":""},{"$f":"IFERROR(F$21*#REF!,\"\")","v":""},{"$f":"IFERROR(G$21*#REF!,\"\")","v":""},{"$f":"IFERROR(H$21*#REF!,\"\")","v":""},{"$f":"IFERROR(I$21*#REF!,\"\")","v":""},{"$f":"IFERROR(J$21*#REF!,\"\")","v":""},{"$f":"IFERROR(K$21*#REF!,\"\")","v":""},{"$f":"IFERROR(L$21*#REF!,\"\")","v":""},{"$f":"M$21*#REF!","v":{"$error":"#REF!"}}]
[null,"Sewer (Gallons)",{"$f":"IFERROR(C$21*#REF!,\"\")","v":""},{"$f":"IFERROR(D$21*#REF!,\"\")","v":""},{"$f":"IFERROR(E$21*#REF!,\"\")","v":""},{"$f":"IFERROR(F$21*#REF!,\"\")","v":""},{"$f":"IFERROR(G$21*#REF!,\"\")","v":""},{"$f":"IFERROR(H$21*#REF!,\"\")","v":""},{"$f":"IFERROR(I$21*#REF!,\"\")","v":""},{"$f":"IFERROR(J$21*#REF!,\"\")","v":""},{"$f":"IFERROR(K$21*#REF!,\"\")","v":""},{"$f":"IFERROR(L$21*#REF!,\"\")","v":""},{"$f":"M$21*#REF!","v":{"$error":"#REF!"}}]
[null,"Annual $",{"$f":"IFERROR(C$21*#REF!,\"\")","v":""},{"$f":"IFERROR(D$21*#REF!,\"\")","v":""},{"$f":"IFERROR(E$21*#REF!,\"\")","v":""},{"$f":"IFERROR(F$21*#REF!,\"\")","v":""},{"$f":"IFERROR(G$21*#REF!,\"\")","v":""},{"$f":"IFERROR(H$21*#REF!,\"\")","v":""},{"$f":"IFERROR(I$21*#REF!,\"\")","v":""},{"$f":"IFERROR(J$21*#REF!,\"\")","v":""},{"$f":"IFERROR(K$21*#REF!,\"\")","v":""},{"$f":"IFERROR(L$21*#REF!,\"\")","v":""},{"$f":"M$21*#REF!","v":{"$error":"#REF!"}}]
[null,"One Time $",{"$f":"IFERROR(C$21*#REF!,\"\")","v":""},{"$f":"IFERROR(D$21*#REF!,\"\")","v":""},{"$f":"IFERROR(E$21*#REF!,\"\")","v":""},{"$f":"IFERROR(F$21*#REF!,\"\")","v":""},{"$f":"IFERROR(G$21*#REF!,\"\")","v":""},{"$f":"IFERROR(H$21*#REF!,\"\")","v":""},{"$f":"IFERROR(I$21*#REF!,\"\")","v":""},{"$f":"IFERROR(J$21*#REF!,\"\")","v":""},{"$f":"IFERROR(K$21*#REF!,\"\")","v":""},{"$f":"IFERROR(L$21*#REF!,\"\")","v":""},{"$f":"M$21*#REF!","v":{"$error":"#REF!"}}]
["Total Results","Total Payback",{"$f":"IFERROR(C$21*#REF!,\"\")","v":""},{"$f":"IFERROR(D$21*#REF!,\"\")","v":""},{"$f":"IFERROR(E$21*#REF!,\"\")","v":""},{"$f":"IFERROR(F$21*#REF!,\"\")","v":""},{"$f":"IFERROR(G$21*#REF!,\"\")","v":""},{"$f":"IFERROR(H$21*#REF!,\"\")","v":""},{"$f":"IFERROR(I$21*#REF!,\"\")","v":""},{"$f":"IFERROR(J$21*#REF!,\"\")","v":""},{"$f":"IFERROR(K$21*#REF!,\"\")","v":""},{"$f":"IFERROR(L$21*#REF!,\"\")","v":""},{"$f":"IFERROR(M$21*#REF!,\"\")","v":""}]
[null,"BCR",{"$f":"IFERROR(C$21*#REF!,\"\")","v":""},{"$f":"IFERROR(D$21*#REF!,\"\")","v":""},{"$f":"IFERROR(E$21*#REF!,\"\")","v":""},{"$f":"IFERROR(F$21*#REF!,\"\")","v":""},{"$f":"IFERROR(G$21*#REF!,\"\")","v":""},{"$f":"IFERROR(H$21*#REF!,\"\")","v":""},{"$f":"IFERROR(I$21*#REF!,\"\")","v":""},{"$f":"IFERROR(J$21*#REF!,\"\")","v":""},{"$f":"IFERROR(K$21*#REF!,\"\")","v":""},{"$f":"IFERROR(L$21*#REF!,\"\")","v":""},{"$f":"M$21*#REF!","v":{"$error":"#REF!"}}]
["Allocated Electric Savings for Electric PA","Total/Incremental Cost ($)",{"$f":"IF(C$21=1,#REF!,\"\")","v":{"$error":"#REF!"}},{"$f":"IF(D$21=1,#REF!,\"\")","v":{"$error":"#REF!"}},{"$f":"IF(E$21=1,#REF!,\"\")","v":{"$error":"#REF!"}},{"$f":"IF(F$21=1,#REF!,\"\")","v":{"$error":"#REF!"}},{"$f":"IF(G$21=1,#REF!,\"\")","v":{"$error":"#REF!"}},{"$f":"IF(H$21=1,#REF!,\"\")","v":{"$error":"#REF!"}},{"$f":"IF(I$21=1,#REF!,\"\")","v":{"$error":"#REF!"}},{"$f":"IF(J$21=1,#REF!,\"\")","v":{"$error":"#REF!"}},{"$f":"IF(K$21=1,#REF!,\"\")","v":{"$error":"#REF!"}},{"$f":"IF(L$21=1,#REF!,\"\")","v":{"$error":"#REF!"}},{"$f":"#REF!","v":{"$error":"#REF!"}}]
[null,"Electric Energy (kWh)",{"$f":"IF(C$21=1,#REF!,\"\")","v":{"$error":"#REF!"}},{"$f":"IF(D$21=1,#REF!,\"\")","v":{"$error":"#REF!"}},{"$f":"IF(E$21=1,#REF!,\"\")","v":{"$error":"#REF!"}},{"$f":"IF(F$21=1,#REF!,\"\")","v":{"$error":"#REF!"}},{"$f":"IF(G$21=1,#REF!,\"\")","v":{"$error":"#REF!"}},{"$f":"IF(H$21=1,#REF!,\"\")","v":{"$error":"#REF!"}},{"$f":"IF(I$21=1,#REF!,\"\")","v":{"$error":"#REF!"}},{"$f":"IF(J$21=1,#REF!,\"\")","v":{"$error":"#REF!"}},{"$f":"IF(K$21=1,#REF!,\"\")","v":{"$error":"#REF!"}},{"$f":"IF(L$21=1,#REF!,\"\")","v":{"$error":"#REF!"}},{"$f":"#REF!","v":{"$error":"#REF!"}}]
[null,"Summer Peak kW Reduction",{"$f":"IF(C$21=1,#REF!,\"\")","v":{"$error":"#REF!"}},{"$f":"IF(D$21=1,#REF!,\"\")","v":{"$error":"#REF!"}},{"$f":"IF(E$21=1,#REF!,\"\")","v":{"$error":"#REF!"}},{"$f":"IF(F$21=1,#REF!,\"\")","v":{"$error":"#REF!"}},{"$f":"IF(G$21=1,#REF!,\"\")","v":{"$error":"#REF!"}},{"$f":"IF(H$21=1,#REF!,\"\")","v":{"$error":"#REF!"}},{"$f":"IF(I$21=1,#REF!,\"\")","v":{"$error":"#REF!"}},{"$f":"IF(J$21=1,#REF!,\"\")","v":{"$error":"#REF!"}},{"$f":"IF(K$21=1,#REF!,\"\")","v":{"$error":"#REF!"}},{"$f":"IF(L$21=1,#REF!,\"\")","v":{"$error":"#REF!"}},{"$f":"#REF!","v":{"$error":"#REF!"}}]
[null,"Winter Peak kW Reduction",{"$f":"IF(C$21=1,#REF!,\"\")","v":{"$error":"#REF!"}},{"$f":"IF(D$21=1,#REF!,\"\")","v":{"$error":"#REF!"}},{"$f":"IF(E$21=1,#REF!,\"\")","v":{"$error":"#REF!"}},{"$f":"IF(F$21=1,#REF!,\"\")","v":{"$error":"#REF!"}},{"$f":"IF(G$21=1,#REF!,\"\")","v":{"$error":"#REF!"}},{"$f":"IF(H$21=1,#REF!,\"\")","v":{"$error":"#REF!"}},{"$f":"IF(I$21=1,#REF!,\"\")","v":{"$error":"#REF!"}},{"$f":"IF(J$21=1,#REF!,\"\")","v":{"$error":"#REF!"}},{"$f":"IF(K$21=1,#REF!,\"\")","v":{"$error":"#REF!"}},{"$f":"IF(L$21=1,#REF!,\"\")","v":{"$error":"#REF!"}},{"$f":"#REF!","v":{"$error":"#REF!"}}]
[null,"Heating Season (Therms)",{"$f":"IF(C$21=1,#REF!,\"\")","v":{"$error":"#REF!"}},{"$f":"IF(D$21=1,#REF!,\"\")","v":{"$error":"#REF!"}},{"$f":"IF(E$21=1,#REF!,\"\")","v":{"$error":"#REF!"}},{"$f":"IF(F$21=1,#REF!,\"\")","v":{"$error":"#REF!"}},{"$f":"IF(G$21=1,#REF!,\"\")","v":{"$error":"#REF!"}},{"$f":"IF(H$21=1,#REF!,\"\")","v":{"$error":"#REF!"}},{"$f":"IF(I$21=1,#REF!,\"\")","v":{"$error":"#REF!"}},{"$f":"IF(J$21=1,#REF!,\"\")","v":{"$error":"#REF!"}},{"$f":"IF(K$21=1,#REF!,\"\")","v":{"$error":"#REF!"}},{"$f":"IF(L$21=1,#REF!,\"\")","v":{"$error":"#REF!"}},{"$f":"#REF!","v":{"$error":"#REF!"}}]
[null,"Year Round (Therms)",{"$f":"IF(C$21=1,#REF!,\"\")","v":{"$error":"#REF!"}},{"$f":"IF(D$21=1,#REF!,\"\")","v":{"$error":"#REF!"}},{"$f":"IF(E$21=1,#REF!,\"\")","v":{"$error":"#REF!"}},{"$f":"IF(F$21=1,#REF!,\"\")","v":{"$error":"#REF!"}},{"$f":"IF(G$21=1,#REF!,\"\")","v":{"$error":"#REF!"}},{"$f":"IF(H$21=1,#REF!,\"\")","v":{"$error":"#REF!"}},{"$f":"IF(I$21=1,#REF!,\"\")","v":{"$error":"#REF!"}},{"$f":"IF(J$21=1,#REF!,\"\")","v":{"$error":"#REF!"}},{"$f":"IF(K$21=1,#REF!,\"\")","v":{"$error":"#REF!"}},{"$f":"IF(L$21=1,#REF!,\"\")","v":{"$error":"#REF!"}},{"$f":"#REF!","v":{"$error":"#REF!"}}]
[null,"Other (Therms)",{"$f":"IF(C$21=1,#REF!,\"\")","v":{"$error":"#REF!"}},{"$f":"IF(D$21=1,#REF!,\"\")","v":{"$error":"#REF!"}},{"$f":"IF(E$21=1,#REF!,\"\")","v":{"$error":"#REF!"}},{"$f":"IF(F$21=1,#REF!,\"\")","v":{"$error":"#REF!"}},{"$f":"IF(G$21=1,#REF!,\"\")","v":{"$error":"#REF!"}},{"$f":"IF(H$21=1,#REF!,\"\")","v":{"$error":"#REF!"}},{"$f":"IF(I$21=1,#REF!,\"\")","v":{"$error":"#REF!"}},{"$f":"IF(J$21=1,#REF!,\"\")","v":{"$error":"#REF!"}},{"$f":"IF(K$21=1,#REF!,\"\")","v":{"$error":"#REF!"}},{"$f":"IF(L$21=1,#REF!,\"\")","v":{"$error":"#REF!"}},{"$f":"#REF!","v":{"$error":"#REF!"}}]
[null,"#2 Oil (Mmbtu)",{"$f":"IF(C$21=1,#REF!,\"\")","v":{"$error":"#REF!"}},{"$f":"IF(D$21=1,#REF!,\"\")","v":{"$error":"#REF!"}},{"$f":"IF(E$21=1,#REF!,\"\")","v":{"$error":"#REF!"}},{"$f":"IF(F$21=1,#REF!,\"\")","v":{"$error":"#REF!"}},{"$f":"IF(G$21=1,#REF!,\"\")","v":{"$error":"#REF!"}},{"$f":"IF(H$21=1,#REF!,\"\")","v":{"$error":"#REF!"}},{"$f":"IF(I$21=1,#REF!,\"\")","v":{"$error":"#REF!"}},{"$f":"IF(J$21=1,#REF!,\"\")","v":{"$error":"#REF!"}},{"$f":"IF(K$21=1,#REF!,\"\")","v":{"$error":"#REF!"}},{"$f":"IF(L$21=1,#REF!,\"\")","v":{"$error":"#REF!"}},{"$f":"#REF!","v":{"$error":"#REF!"}}]
[null,"Propane (Mmbtu)",{"$f":"IF(C$21=1,#REF!,\"\")","v":{"$error":"#REF!"}},{"$f":"IF(D$21=1,#REF!,\"\")","v":{"$error":"#REF!"}},{"$f":"IF(E$21=1,#REF!,\"\")","v":{"$error":"#REF!"}},{"$f":"IF(F$21=1,#REF!,\"\")","v":{"$error":"#REF!"}},{"$f":"IF(G$21=1,#REF!,\"\")","v":{"$error":"#REF!"}},{"$f":"IF(H$21=1,#REF!,\"\")","v":{"$error":"#REF!"}},{"$f":"IF(I$21=1,#REF!,\"\")","v":{"$error":"#REF!"}},{"$f":"IF(J$21=1,#REF!,\"\")","v":{"$error":"#REF!"}},{"$f":"IF(K$21=1,#REF!,\"\")","v":{"$error":"#REF!"}},{"$f":"IF(L$21=1,#REF!,\"\")","v":{"$error":"#REF!"}},{"$f":"#REF!","v":{"$error":"#REF!"}}]
[null,"Water (Gallons)",{"$f":"IF(C$21=1,#REF!,\"\")","v":{"$error":"#REF!"}},{"$f":"IF(D$21=1,#REF!,\"\")","v":{"$error":"#REF!"}},{"$f":"IF(E$21=1,#REF!,\"\")","v":{"$error":"#REF!"}},{"$f":"IF(F$21=1,#REF!,\"\")","v":{"$error":"#REF!"}},{"$f":"IF(G$21=1,#REF!,\"\")","v":{"$error":"#REF!"}},{"$f":"IF(H$21=1,#REF!,\"\")","v":{"$error":"#REF!"}},{"$f":"IF(I$21=1,#REF!,\"\")","v":{"$error":"#REF!"}},{"$f":"IF(J$21=1,#REF!,\"\")","v":{"$error":"#REF!"}},{"$f":"IF(K$21=1,#REF!,\"\")","v":{"$error":"#REF!"}},{"$f":"IF(L$21=1,#REF!,\"\")","v":{"$error":"#REF!"}},{"$f":"#REF!","v":{"$error":"#REF!"}}]
[null,"Sewer (Gallons)",{"$f":"IF(C$21=1,#REF!,\"\")","v":{"$error":"#REF!"}},{"$f":"IF(D$21=1,#REF!,\"\")","v":{"$error":"#REF!"}},{"$f":"IF(E$21=1,#REF!,\"\")","v":{"$error":"#REF!"}},{"$f":"IF(F$21=1,#REF!,\"\")","v":{"$error":"#REF!"}},{"$f":"IF(G$21=1,#REF!,\"\")","v":{"$error":"#REF!"}},{"$f":"IF(H$21=1,#REF!,\"\")","v":{"$error":"#REF!"}},{"$f":"IF(I$21=1,#REF!,\"\")","v":{"$error":"#REF!"}},{"$f":"IF(J$21=1,#REF!,\"\")","v":{"$error":"#REF!"}},{"$f":"IF(K$21=1,#REF!,\"\")","v":{"$error":"#REF!"}},{"$f":"IF(L$21=1,#REF!,\"\")","v":{"$error":"#REF!"}},{"$f":"#REF!","v":{"$error":"#REF!"}}]
[null,"Annual $",{"$f":"IF(C$21=1,#REF!,\"\")","v":{"$error":"#REF!"}},{"$f":"IF(D$21=1,#REF!,\"\")","v":{"$error":"#REF!"}},{"$f":"IF(E$21=1,#REF!,\"\")","v":{"$error":"#REF!"}},{"$f":"IF(F$21=1,#REF!,\"\")","v":{"$error":"#REF!"}},{"$f":"IF(G$21=1,#REF!,\"\")","v":{"$error":"#REF!"}},{"$f":"IF(H$21=1,#REF!,\"\")","v":{"$error":"#REF!"}},{"$f":"IF(I$21=1,#REF!,\"\")","v":{"$error":"#REF!"}},{"$f":"IF(J$21=1,#REF!,\"\")","v":{"$error":"#REF!"}},{"$f":"IF(K$21=1,#REF!,\"\")","v":{"$error":"#REF!"}},{"$f":"IF(L$21=1,#REF!,\"\")","v":{"$error":"#REF!"}},{"$f":"#REF!","v":{"$error":"#REF!"}}]
[null,"One Time $",{"$f":"IF(C$21=1,#REF!,\"\")","v":{"$error":"#REF!"}},{"$f":"IF(D$21=1,#REF!,\"\")","v":{"$error":"#REF!"}},{"$f":"IF(E$21=1,#REF!,\"\")","v":{"$error":"#REF!"}},{"$f":"IF(F$21=1,#REF!,\"\")","v":{"$error":"#REF!"}},{"$f":"IF(G$21=1,#REF!,\"\")","v":{"$error":"#REF!"}},{"$f":"IF(H$21=1,#REF!,\"\")","v":{"$error":"#REF!"}},{"$f":"IF(I$21=1,#REF!,\"\")","v":{"$error":"#REF!"}},{"$f":"IF(J$21=1,#REF!,\"\")","v":{"$error":"#REF!"}},{"$f":"IF(K$21=1,#REF!,\"\")","v":{"$error":"#REF!"}},{"$f":"IF(L$21=1,#REF!,\"\")","v":{"$error":"#REF!"}},{"$f":"#REF!","v":{"$error":"#REF!"}}]
["Allocated Gas Savings for Gas PA","Total/Incremental Cost ($)",{"$f":"IF(C$21=1,#REF!,\"\")","v":{"$error":"#REF!"}},{"$f":"IF(D$21=1,#REF!,\"\")","v":{"$error":"#REF!"}},{"$f":"IF(E$21=1,#REF!,\"\")","v":{"$error":"#REF!"}},{"$f":"IF(F$21=1,#REF!,\"\")","v":{"$error":"#REF!"}},{"$f":"IF(G$21=1,#REF!,\"\")","v":{"$error":"#REF!"}},{"$f":"IF(H$21=1,#REF!,\"\")","v":{"$error":"#REF!"}},{"$f":"IF(I$21=1,#REF!,\"\")","v":{"$error":"#REF!"}},{"$f":"IF(J$21=1,#REF!,\"\")","v":{"$error":"#REF!"}},{"$f":"IF(K$21=1,#REF!,\"\")","v":{"$error":"#REF!"}},{"$f":"IF(L$21=1,#REF!,\"\")","v":{"$error":"#REF!"}},{"$f":"#REF!","v":{"$error":"#REF!"}}]
[null,"Electric Energy (kWh)",{"$f":"IF(C$21=1,#REF!,\"\")","v":{"$error":"#REF!"}},{"$f":"IF(D$21=1,#REF!,\"\")","v":{"$error":"#REF!"}},{"$f":"IF(E$21=1,#REF!,\"\")","v":{"$error":"#REF!"}},{"$f":"IF(F$21=1,#REF!,\"\")","v":{"$error":"#REF!"}},{"$f":"IF(G$21=1,#REF!,\"\")","v":{"$error":"#REF!"}},{"$f":"IF(H$21=1,#REF!,\"\")","v":{"$error":"#REF!"}},{"$f":"IF(I$21=1,#REF!,\"\")","v":{"$error":"#REF!"}},{"$f":"IF(J$21=1,#REF!,\"\")","v":{"$error":"#REF!"}},{"$f":"IF(K$21=1,#REF!,\"\")","v":{"$error":"#REF!"}},{"$f":"IF(L$21=1,#REF!,\"\")","v":{"$error":"#REF!"}},{"$f":"#REF!","v":{"$error":"#REF!"}}]
[null,"Summer Peak kW Reduction",{"$f":"IF(C$21=1,#REF!,\"\")","v":{"$error":"#REF!"}},{"$f":"IF(D$21=1,#REF!,\"\")","v":{"$error":"#REF!"}},{"$f":"IF(E$21=1,#REF!,\"\")","v":{"$error":"#REF!"}},{"$f":"IF(F$21=1,#REF!,\"\")","v":{"$error":"#REF!"}},{"$f":"IF(G$21=1,#REF!,\"\")","v":{"$error":"#REF!"}},{"$f":"IF(H$21=1,#REF!,\"\")","v":{"$error":"#REF!"}},{"$f":"IF(I$21=1,#REF!,\"\")","v":{"$error":"#REF!"}},{"$f":"IF(J$21=1,#REF!,\"\")","v":{"$error":"#REF!"}},{"$f":"IF(K$21=1,#REF!,\"\")","v":{"$error":"#REF!"}},{"$f":"IF(L$21=1,#REF!,\"\")","v":{"$error":"#REF!"}},{"$f":"#REF!","v":{"$error":"#REF!"}}]
[null,"Winter Peak kW Reduction",{"$f":"IF(C$21=1,#REF!,\"\")","v":{"$error":"#REF!"}},{"$f":"IF(D$21=1,#REF!,\"\")","v":{"$error":"#REF!"}},{"$f":"IF(E$21=1,#REF!,\"\")","v":{"$error":"#REF!"}},{"$f":"IF(F$21=1,#REF!,\"\")","v":{"$error":"#REF!"}},{"$f":"IF(G$21=1,#REF!,\"\")","v":{"$error":"#REF!"}},{"$f":"IF(H$21=1,#REF!,\"\")","v":{"$error":"#REF!"}},{"$f":"IF(I$21=1,#REF!,\"\")","v":{"$error":"#REF!"}},{"$f":"IF(J$21=1,#REF!,\"\")","v":{"$error":"#REF!"}},{"$f":"IF(K$21=1,#REF!,\"\")","v":{"$error":"#REF!"}},{"$f":"IF(L$21=1,#REF!,\"\")","v":{"$error":"#REF!"}},{"$f":"#REF!","v":{"$error":"#REF!"}}]
[null,"Heating Season (Therms)",{"$f":"IF(C$21=1,#REF!,\"\")","v":{"$error":"#REF!"}},{"$f":"IF(D$21=1,#REF!,\"\")","v":{"$error":"#REF!"}},{"$f":"IF(E$21=1,#REF!,\"\")","v":{"$error":"#REF!"}},{"$f":"IF(F$21=1,#REF!,\"\")","v":{"$error":"#REF!"}},{"$f":"IF(G$21=1,#REF!,\"\")","v":{"$error":"#REF!"}},{"$f":"IF(H$21=1,#REF!,\"\")","v":{"$error":"#REF!"}},{"$f":"IF(I$21=1,#REF!,\"\")","v":{"$error":"#REF!"}},{"$f":"IF(J$21=1,#REF!,\"\")","v":{"$error":"#REF!"}},{"$f":"IF(K$21=1,#REF!,\"\")","v":{"$error":"#REF!"}},{"$f":"IF(L$21=1,#REF!,\"\")","v":{"$error":"#REF!"}},{"$f":"#REF!","v":{"$error":"#REF!"}}]
[null,"Year Round (Therms)",{"$f":"IF(C$21=1,#REF!,\"\")","v":{"$error":"#REF!"}},{"$f":"IF(D$21=1,#REF!,\"\")","v":{"$error":"#REF!"}},{"$f":"IF(E$21=1,#REF!,\"\")","v":{"$error":"#REF!"}},{"$f":"IF(F$21=1,#REF!,\"\")","v":{"$error":"#REF!"}},{"$f":"IF(G$21=1,#REF!,\"\")","v":{"$error":"#REF!"}},{"$f":"IF(H$21=1,#REF!,\"\")","v":{"$error":"#REF!"}},{"$f":"IF(I$21=1,#REF!,\"\")","v":{"$error":"#REF!"}},{"$f":"IF(J$21=1,#REF!,\"\")","v":{"$error":"#REF!"}},{"$f":"IF(K$21=1,#REF!,\"\")","v":{"$error":"#REF!"}},{"$f":"IF(L$21=1,#REF!,\"\")","v":{"$error":"#REF!"}},{"$f":"#REF!","v":{"$error":"#REF!"}}]
[null,"Other (Therms)",{"$f":"IF(C$21=1,#REF!,\"\")","v":{"$error":"#REF!"}},{"$f":"IF(D$21=1,#REF!,\"\")","v":{"$error":"#REF!"}},{"$f":"IF(E$21=1,#REF!,\"\")","v":{"$error":"#REF!"}},{"$f":"IF(F$21=1,#REF!,\"\")","v":{"$error":"#REF!"}},{"$f":"IF(G$21=1,#REF!,\"\")","v":{"$error":"#REF!"}},{"$f":"IF(H$21=1,#REF!,\"\")","v":{"$error":"#REF!"}},{"$f":"IF(I$21=1,#REF!,\"\")","v":{"$error":"#REF!"}},{"$f":"IF(J$21=1,#REF!,\"\")","v":{"$error":"#REF!"}},{"$f":"IF(K$21=1,#REF!,\"\")","v":{"$error":"#REF!"}},{"$f":"IF(L$21=1,#REF!,\"\")","v":{"$error":"#REF!"}},{"$f":"#REF!","v":{"$error":"#REF!"}}]
[null,"#2 Oil (Mmbtu)",{"$f":"IF(C$21=1,#REF!,\"\")","v":{"$error":"#REF!"}},{"$f":"IF(D$21=1,#REF!,\"\")","v":{"$error":"#REF!"}},{"$f":"IF(E$21=1,#REF!,\"\")","v":{"$error":"#REF!"}},{"$f":"IF(F$21=1,#REF!,\"\")","v":{"$error":"#REF!"}},{"$f":"IF(G$21=1,#REF!,\"\")","v":{"$error":"#REF!"}},{"$f":"IF(H$21=1,#REF!,\"\")","v":{"$error":"#REF!"}},{"$f":"IF(I$21=1,#REF!,\"\")","v":{"$error":"#REF!"}},{"$f":"IF(J$21=1,#REF!,\"\")","v":{"$error":"#REF!"}},{"$f":"IF(K$21=1,#REF!,\"\")","v":{"$error":"#REF!"}},{"$f":"IF(L$21=1,#REF!,\"\")","v":{"$error":"#REF!"}},{"$f":"#REF!","v":{"$error":"#REF!"}}]
[null,"Propane (Mmbtu)",{"$f":"IF(C$21=1,#REF!,\"\")","v":{"$error":"#REF!"}},{"$f":"IF(D$21=1,#REF!,\"\")","v":{"$error":"#REF!"}},{"$f":"IF(E$21=1,#REF!,\"\")","v":{"$error":"#REF!"}},{"$f":"IF(F$21=1,#REF!,\"\")","v":{"$error":"#REF!"}},{"$f":"IF(G$21=1,#REF!,\"\")","v":{"$error":"#REF!"}},{"$f":"IF(H$21=1,#REF!,\"\")","v":{"$error":"#REF!"}},{"$f":"IF(I$21=1,#REF!,\"\")","v":{"$error":"#REF!"}},{"$f":"IF(J$21=1,#REF!,\"\")","v":{"$error":"#REF!"}},{"$f":"IF(K$21=1,#REF!,\"\")","v":{"$error":"#REF!"}},{"$f":"IF(L$21=1,#REF!,\"\")","v":{"$error":"#REF!"}},{"$f":"#REF!","v":{"$error":"#REF!"}}]
[null,"Water (Gallons)",{"$f":"IF(C$21=1,#REF!,\"\")","v":{"$error":"#REF!"}},{"$f":"IF(D$21=1,#REF!,\"\")","v":{"$error":"#REF!"}},{"$f":"IF(E$21=1,#REF!,\"\")","v":{"$error":"#REF!"}},{"$f":"IF(F$21=1,#REF!,\"\")","v":{"$error":"#REF!"}},{"$f":"IF(G$21=1,#REF!,\"\")","v":{"$error":"#REF!"}},{"$f":"IF(H$21=1,#REF!,\"\")","v":{"$error":"#REF!"}},{"$f":"IF(I$21=1,#REF!,\"\")","v":{"$error":"#REF!"}},{"$f":"IF(J$21=1,#REF!,\"\")","v":{"$error":"#REF!"}},{"$f":"IF(K$21=1,#REF!,\"\")","v":{"$error":"#REF!"}},{"$f":"IF(L$21=1,#REF!,\"\")","v":{"$error":"#REF!"}},{"$f":"#REF!","v":{"$error":"#REF!"}}]
[null,"Sewer (Gallons)",{"$f":"IF(C$21=1,#REF!,\"\")","v":{"$error":"#REF!"}},{"$f":"IF(D$21=1,#REF!,\"\")","v":{"$error":"#REF!"}},{"$f":"IF(E$21=1,#REF!,\"\")","v":{"$error":"#REF!"}},{"$f":"IF(F$21=1,#REF!,\"\")","v":{"$error":"#REF!"}},{"$f":"IF(G$21=1,#REF!,\"\")","v":{"$error":"#REF!"}},{"$f":"IF(H$21=1,#REF!,\"\")","v":{"$error":"#REF!"}},{"$f":"IF(I$21=1,#REF!,\"\")","v":{"$error":"#REF!"}},{"$f":"IF(J$21=1,#REF!,\"\")","v":{"$error":"#REF!"}},{"$f":"IF(K$21=1,#REF!,\"\")","v":{"$error":"#REF!"}},{"$f":"IF(L$21=1,#REF!,\"\")","v":{"$error":"#REF!"}},{"$f":"#REF!","v":{"$error":"#REF!"}}]
[null,"Annual $",{"$f":"IF(C$21=1,#REF!,\"\")","v":{"$error":"#REF!"}},{"$f":"IF(D$21=1,#REF!,\"\")","v":{"$error":"#REF!"}},{"$f":"IF(E$21=1,#REF!,\"\")","v":{"$error":"#REF!"}},{"$f":"IF(F$21=1,#REF!,\"\")","v":{"$error":"#REF!"}},{"$f":"IF(G$21=1,#REF!,\"\")","v":{"$error":"#REF!"}},{"$f":"IF(H$21=1,#REF!,\"\")","v":{"$error":"#REF!"}},{"$f":"IF(I$21=1,#REF!,\"\")","v":{"$error":"#REF!"}},{"$f":"IF(J$21=1,#REF!,\"\")","v":{"$error":"#REF!"}},{"$f":"IF(K$21=1,#REF!,\"\")","v":{"$error":"#REF!"}},{"$f":"IF(L$21=1,#REF!,\"\")","v":{"$error":"#REF!"}},{"$f":"#REF!","v":{"$error":"#REF!"}}]
[null,"One Time $",{"$f":"IF(C$21=1,#REF!,\"\")","v":{"$error":"#REF!"}},{"$f":"IF(D$21=1,#REF!,\"\")","v":{"$error":"#REF!"}},{"$f":"IF(E$21=1,#REF!,\"\")","v":{"$error":"#REF!"}},{"$f":"IF(F$21=1,#REF!,\"\")","v":{"$error":"#REF!"}},{"$f":"IF(G$21=1,#REF!,\"\")","v":{"$error":"#REF!"}},{"$f":"IF(H$21=1,#REF!,\"\")","v":{"$error":"#REF!"}},{"$f":"IF(I$21=1,#REF!,\"\")","v":{"$error":"#REF!"}},{"$f":"IF(J$21=1,#REF!,\"\")","v":{"$error":"#REF!"}},{"$f":"IF(K$21=1,#REF!,\"\")","v":{"$error":"#REF!"}},{"$f":"IF(L$21=1,#REF!,\"\")","v":{"$error":"#REF!"}},{"$f":"#REF!","v":{"$error":"#REF!"}}]

{"sheet":"Default Output Short","index":28,"n_rows":46,"n_cols":13,"rows_kept":46,"cut":false,"hidden":true,"merged":[[1,0,2,0],[1,1,2,11],[4,5,4,6],[4,7,4,12],[5,5,5,6],[5,7,5,12],[8,5,8,6],[8,7,8,12],[9,5,9,6],[9,7,9,12],[6,5,6,6],[6,7,6,12],[7,5,7,6],[7,7,7,12],[28,0,31,0],[32,0,37,0],[38,0,43,0],[44,0,45,0],[11,0,11,1],[12,0,17,0],[18,0,21,0],[22,0,27,0]]}
["NOTE: This default summary page is formatted to print or pdf as one page with a horizontal orientation.  Columns and rows may be adjusted to make sure all text is displayed.  This text will not be included in the printout."]
[{"$f":"CELL(\"filename\")","v":{"$error":"#VALUE!"}},{"$f":"Screening!B8","v":{"$error":"#REF!"}},null,null,null,null,null,null,null,null,null,null,"Tool Version Updated on:"]
[null,null,null,null,null,null,null,null,null,null,null,null,{"$f":"Version!B4","v":"2019-04-08"}]
["Contact Information",null,null,null,null,"Project Information and Notes"]
[null,"Customer","Electric PA","Gas PA",null,"Project Description",null,{"$f":"#REF!","v":{"$error":"#REF!"}}]
["Company Name",{"$f":"#REF!","v":{"$error":"#REF!"}},{"$f":"#REF!","v":{"$error":"#REF!"}},{"$f":"#REF!","v":{"$error":"#REF!"}},null,"Existing or Base Case Condition Description",null,{"$f":"#REF!","v":{"$error":"#REF!"}}]
["Contact Name",{"$f":"#REF!","v":{"$error":"#REF!"}},{"$f":"#REF!","v":{"$error":"#REF!"}},{"$f":"#REF!","v":{"$error":"#REF!"}},null,"Proposed Description",null,{"$f":"#REF!","v":{"$error":"#REF!"}}]
["Contact Email",{"$f":"#REF!","v":{"$error":"#REF!"}},{"$f":"#REF!","v":{"$error":"#REF!"}},{"$f":"#REF!","v":{"$error":"#REF!"}},null,"General Notes",null,{"$f":"'Project Notes'!H9&\" - \"&'Project Notes'!B9","v":" - "}]
["Phone #",{"$f":"#REF!","v":{"$error":"#REF!"}},{"$f":"#REF!","v":{"$error":"#REF!"}},{"$f":"#REF!","v":{"$error":"#REF!"}},null,"Project Screened by",null,{"$f":"#REF!","v":{"$error":"#REF!"}}]
["Account #",null,{"$f":"#REF!","v":{"$error":"#REF!"}},{"$f":"#REF!","v":{"$error":"#REF!"}},null,"Project Screened on",null,{"$f":"#REF!","v":{"$error":"#REF!"}}]
["Application #",null,{"$f":"#REF!","v":{"$error":"#REF!"}},{"$f":"#REF!","v":{"$error":"#REF!"}}]
["Measure Inputs and Results",null,{"$f":"#REF!","v":{"$error":"#REF!"}},{"$f":"#REF!","v":{"$error":"#REF!"}},{"$f":"#REF!","v":{"$error":"#REF!"}},{"$f":"#REF!","v":{"$error":"#REF!"}},{"$f":"#REF!","v":{"$error":"#REF!"}},{"$f":"#REF!","v":{"$error":"#REF!"}},{"$f":"#REF!","v":{"$error":"#REF!"}},{"$f":"#REF!","v":{"$error":"#REF!"}},{"$f":"#REF!","v":{"$error":"#REF!"}},{"$f":"#REF!","v":{"$error":"#REF!"}},"Project Total - Selected Measures"]
["Measure Information ","Include in project",{"$f":"IF(#REF!<>\"\",#REF!,\"\")","v":{"$error":"#REF!"}},{"$f":"IF(#REF!<>\"\",#REF!,\"\")","v":{"$error":"#REF!"}},{"$f":"IF(#REF!<>\"\",#REF!,\"\")","v":{"$error":"#REF!"}},{"$f":"IF(#REF!<>\"\",#REF!,\"\")","v":{"$error":"#REF!"}},{"$f":"IF(#REF!<>\"\",#REF!,\"\")","v":{"$error":"#REF!"}},{"$f":"IF(#REF!<>\"\",#REF!,\"\")","v":{"$error":"#REF!"}},{"$f":"IF(#REF!<>\"\",#REF!,\"\")","v":{"$error":"#REF!"}},{"$f":"IF(#REF!<>\"\",#REF!,\"\")","v":{"$error":"#REF!"}},{"$f":"IF(#REF!<>\"\",#REF!,\"\")","v":{"$error":"#REF!"}},{"$f":"IF(#REF!<>\"\",#REF!,\"\")","v":{"$error":"#REF!"}},{"$f":"IF(SUM(C13:L13)<>0,1,0)","v":{"$error":"#REF!"}}]
[null,"Initiative",{"$f":"IF(C13=1,#REF!,\"\")","v":{"$error":"#REF!"}},{"$f":"IF(D13=1,#REF!,\"\")","v":{"$error":"#REF!"}},{"$f":"IF(E13=1,#REF!,\"\")","v":{"$error":"#REF!"}},{"$f":"IF(F13=1,#REF!,\"\")","v":{"$error":"#REF!"}},{"$f":"IF(G13=1,#REF!,\"\")","v":{"$error":"#REF!"}},{"$f":"IF(H13=1,#REF!,\"\")","v":{"$error":"#REF!"}},{"$f":"IF(I13=1,#REF!,\"\")","v":{"$error":"#REF!"}},{"$f":"IF(J13=1,#REF!,\"\")","v":{"$error":"#REF!"}},{"$f":"IF(K13=1,#REF!,\"\")","v":{"$error":"#REF!"}},{"$f":"IF(L13=1,#REF!,\"\")","v":{"$error":"#REF!"}}]
[null,"Fuel  Savings Type",{"$f":"IF(C$13=1,#REF!,\"\")","v":{"$error":"#REF!"}},{"$f":"IF(D$13=1,#REF!,\"\")","v":{"$error":"#REF!"}},{"$f":"IF(E$13=1,#REF!,\"\")","v":{"$error":"#REF!"}},{"$f":"IF(F$13=1,#REF!,\"\")","v":{"$error":"#REF!"}},{"$f":"IF(G$13=1,#REF!,\"\")","v":{"$error":"#REF!"}},{"$f":"IF(H$13=1,#REF!,\"\")","v":{"$error":"#REF!"}},{"$f":"IF(I$13=1,#REF!,\"\")","v":{"$error":"#REF!"}},{"$f":"IF(J$13=1,#REF!,\"\")","v":{"$error":"#REF!"}},{"$f":"IF(K$13=1,#REF!,\"\")","v":{"$error":"#REF!"}},{"$f":"IF(L$13=1,#REF!,\"\")","v":{"$error":"#REF!"}}]
[null,"Measure",{"$f":"IF(C$13=1,#REF!,\"\")","v":{"$error":"#REF!"}},{"$f":"IF(D$13=1,#REF!,\"\")","v":{"$error":"#REF!"}},{"$f":"IF(E$13=1,#REF!,\"\")","v":{"$error":"#REF!"}},{"$f":"IF(F$13=1,#REF!,\"\")","v":{"$error":"#REF!"}},{"$f":"IF(G$13=1,#REF!,\"\")","v":{"$error":"#REF!"}},{"$f":"IF(H$13=1,#REF!,\"\")","v":{"$error":"#REF!"}},{"$f":"IF(I$13=1,#REF!,\"\")","v":{"$error":"#REF!"}},{"$f":"IF(J$13=1,#REF!,\"\")","v":{"$error":"#REF!"}},{"$f":"IF(K$13=1,#REF!,\"\")","v":{"$error":"#REF!"}},{"$f":"IF(L$13=1,#REF!,\"\")","v":{"$error":"#REF!"}}]
[null,"Dual Baseline Applicable?",{"$f":"IF(C$13=1,#REF!,\"\")","v":{"$error":"#REF!"}},{"$f":"IF(D$13=1,#REF!,\"\")","v":{"$error":"#REF!"}},{"$f":"IF(E$13=1,#REF!,\"\")","v":{"$error":"#REF!"}},{"$f":"IF(F$13=1,#REF!,\"\")","v":{"$error":"#REF!"}},{"$f":"IF(G$13=1,#REF!,\"\")","v":{"$error":"#REF!"}},{"$f":"IF(H$13=1,#REF!,\"\")","v":{"$error":"#REF!"}},{"$f":"IF(I$13=1,#REF!,\"\")","v":{"$error":"#REF!"}},{"$f":"IF(J$13=1,#REF!,\"\")","v":{"$error":"#REF!"}},{"$f":"IF(K$13=1,#REF!,\"\")","v":{"$error":"#REF!"}},{"$f":"IF(L$13=1,#REF!,\"\")","v":{"$error":"#REF!"}}]
[null,"Tracked Measure Life (Years)",{"$f":"IF(C$13=1,Screening!E$32,\"\")","v":{"$error":"#REF!"}},{"$f":"IF(D$13=1,Screening!F$32,\"\")","v":{"$error":"#REF!"}},{"$f":"IF(E$13=1,Screening!G$32,\"\")","v":{"$error":"#REF!"}},{"$f":"IF(F$13=1,Screening!H$32,\"\")","v":{"$error":"#REF!"}},{"$f":"IF(G$13=1,Screening!I$32,\"\")","v":{"$error":"#REF!"}},{"$f":"IF(H$13=1,Screening!J$32,\"\")","v":{"$error":"#REF!"}},{"$f":"IF(I$13=1,Screening!K$32,\"\")","v":{"$error":"#REF!"}},{"$f":"IF(J$13=1,Screening!L$32,\"\")","v":{"$error":"#REF!"}},{"$f":"IF(K$13=1,Screening!M$32,\"\")","v":{"$error":"#REF!"}},{"$f":"IF(L$13=1,Screening!N$32,\"\")","v":{"$error":"#REF!"}}]
["Measure Costs","Proposed Cost ($)",{"$f":"IFERROR(C$13*#REF!,\"\")","v":""},{"$f":"IFERROR(D$13*#REF!,\"\")","v":""},{"$f":"IFERROR(E$13*#REF!,\"\")","v":""},{"$f":"IFERROR(F$13*#REF!,\"\")","v":""},{"$f":"IFERROR(G$13*#REF!,\"\")","v":""},{"$f":"IFERROR(H$13*#REF!,\"\")","v":""},{"$f":"IFERROR(I$13*#REF!,\"\")","v":""},{"$f":"IFERROR(J$13*#REF!,\"\")","v":""},{"$f":"IFERROR(K$13*#REF!,\"\")","v":""},{"$f":"IFERROR(L$13*#REF!,\"\")","v":""},{"$f":"#REF!","v":{"$error":"#REF!"}}]
[null,"Baseline Cost ($)",{"$f":"IFERROR(C$13*#REF!,\"\")","v":""},{"$f":"IFERROR(D$13*#REF!,\"\")","v":""},{"$f":"IFERROR(E$13*#REF!,\"\")","v":""},{"$f":"IFERROR(F$13*#REF!,\"\")","v":""},{"$f":"IFERROR(G$13*#REF!,\"\")","v":""},{"$f":"IFERROR(H$13*#REF!,\"\")","v":""},{"$f":"IFERROR(I$13*#REF!,\"\")","v":""},{"$f":"IFERROR(J$13*#REF!,\"\")","v":""},{"$f":"IFERROR(K$13*#REF!,\"\")","v":""},{"$f":"IFERROR(L$13*#REF!,\"\")","v":""},{"$f":"#REF!","v":{"$error":"#REF!"}}]
[null,"Deferment Credit ($)",{"$f":"IFERROR(C$13*#REF!,\"\")","v":""},{"$f":"IFERROR(D$13*#REF!,\"\")","v":""},{"$f":"IFERROR(E$13*#REF!,\"\")","v":""},{"$f":"IFERROR(F$13*#REF!,\"\")","v":""},{"$f":"IFERROR(G$13*#REF!,\"\")","v":""},{"$f":"IFERROR(H$13*#REF!,\"\")","v":""},{"$f":"IFERROR(I$13*#REF!,\"\")","v":""},{"$f":"IFERROR(J$13*#REF!,\"\")","v":""},{"$f":"IFERROR(K$13*#REF!,\"\")","v":""},{"$f":"IFERROR(L$13*#REF!,\"\")","v":""},{"$f":"#REF!","v":{"$error":"#REF!"}}]
[null,"Incremental Costs ($)",{"$f":"IFERROR(C$13*#REF!,\"\")","v":""},{"$f":"IFERROR(D$13*#REF!,\"\")","v":""},{"$f":"IFERROR(E$13*#REF!,\"\")","v":""},{"$f":"IFERROR(F$13*#REF!,\"\")","v":""},{"$f":"IFERROR(G$13*#REF!,\"\")","v":""},{"$f":"IFERROR(H$13*#REF!,\"\")","v":""},{"$f":"IFERROR(I$13*#REF!,\"\")","v":""},{"$f":"IFERROR(J$13*#REF!,\"\")","v":""},{"$f":"IFERROR(K$13*#REF!,\"\")","v":""},{"$f":"IFERROR(L$13*#REF!,\"\")","v":""},{"$f":"#REF!","v":{"$error":"#REF!"}}]
["Gross Electric Energy","Energy (kWh)",{"$f":"IFERROR(C$13*#REF!,\"\")","v":""},{"$f":"IFERROR(D$13*#REF!,\"\")","v":""},{"$f":"IFERROR(E$13*#REF!,\"\")","v":""},{"$f":"IFERROR(F$13*#REF!,\"\")","v":""},{"$f":"IFERROR(G$13*#REF!,\"\")","v":""},{"$f":"IFERROR(H$13*#REF!,\"\")","v":""},{"$f":"IFERROR(I$13*#REF!,\"\")","v":""},{"$f":"IFERROR(J$13*#REF!,\"\")","v":""},{"$f":"IFERROR(K$13*#REF!,\"\")","v":""},{"$f":"IFERROR(L$13*#REF!,\"\")","v":""},{"$f":"M$13*#REF!","v":{"$error":"#REF!"}}]
[null,"% Summer On Peak",{"$f":"IFERROR(C$13*#REF!,\"\")","v":""},{"$f":"IFERROR(D$13*#REF!,\"\")","v":""},{"$f":"IFERROR(E$13*#REF!,\"\")","v":""},{"$f":"IFERROR(F$13*#REF!,\"\")","v":""},{"$f":"IFERROR(G$13*#REF!,\"\")","v":""},{"$f":"IFERROR(H$13*#REF!,\"\")","v":""},{"$f":"IFERROR(I$13*#REF!,\"\")","v":""},{"$f":"IFERROR(J$13*#REF!,\"\")","v":""},{"$f":"IFERROR(K$13*#REF!,\"\")","v":""},{"$f":"IFERROR(L$13*#REF!,\"\")","v":""}]
[null,"% Summer Off Peak",{"$f":"IFERROR(C$13*#REF!,\"\")","v":""},{"$f":"IFERROR(D$13*#REF!,\"\")","v":""},{"$f":"IFERROR(E$13*#REF!,\"\")","v":""},{"$f":"IFERROR(F$13*#REF!,\"\")","v":""},{"$f":"IFERROR(G$13*#REF!,\"\")","v":""},{"$f":"IFERROR(H$13*#REF!,\"\")","v":""},{"$f":"IFERROR(I$13*#REF!,\"\")","v":""},{"$f":"IFERROR(J$13*#REF!,\"\")","v":""},{"$f":"IFERROR(K$13*#REF!,\"\")","v":""},{"$f":"IFERROR(L$13*#REF!,\"\")","v":""}]
[null,"% Winter On Peak",{"$f":"IFERROR(C$13*#REF!,\"\")","v":""},{"$f":"IFERROR(D$13*#REF!,\"\")","v":""},{"$f":"IFERROR(E$13*#REF!,\"\")","v":""},{"$f":"IFERROR(F$13*#REF!,\"\")","v":""},{"$f":"IFERROR(G$13*#REF!,\"\")","v":""},{"$f":"IFERROR(H$13*#REF!,\"\")","v":""},{"$f":"IFERROR(I$13*#REF!,\"\")","v":""},{"$f":"IFERROR(J$13*#REF!,\"\")","v":""},{"$f":"IFERROR(K$13*#REF!,\"\")","v":""},{"$f":"IFERROR(L$13*#REF!,\"\")","v":""}]
[null,"% Winter Off Peak",{"$f":"IFERROR(C$13*#REF!,\"\")","v":""},{"$f":"IFERROR(D$13*#REF!,\"\")","v":""},{"$f":"IFERROR(E$13*#REF!,\"\")","v":""},{"$f":"IFERROR(F$13*#REF!,\"\")","v":""},{"$f":"IFERROR(G$13*#REF!,\"\")","v":""},{"$f":"IFERROR(H$13*#REF!,\"\")","v":""},{"$f":"IFERROR(I$13*#REF!,\"\")","v":""},{"$f":"IFERROR(J$13*#REF!,\"\")","v":""},{"$f":"IFERROR(K$13*#REF!,\"\")","v":""},{"$f":"IFERROR(L$13*#REF!,\"\")","v":""}]
[null,"Lifetime MWh",{"$f":"IFERROR(C$13*#REF!,\"\")","v":""},{"$f":"IFERROR(D$13*#REF!,\"\")","v":""},{"$f":"IFERROR(E$13*#REF!,\"\")","v":""},{"$f":"IFERROR(F$13*#REF!,\"\")","v":""},{"$f":"IFERROR(G$13*#REF!,\"\")","v":""},{"$f":"IFERROR(H$13*#REF!,\"\")","v":""},{"$f":"IFERROR(I$13*#REF!,\"\")","v":""},{"$f":"IFERROR(J$13*#REF!,\"\")","v":""},{"$f":"IFERROR(K$13*#REF!,\"\")","v":""},{"$f":"IFERROR(L$13*#REF!,\"\")","v":""},{"$f":"M$13*#REF!","v":{"$error":"#REF!"}}]
["Gross Electric Capacity","Summer Peak kW",{"$f":"IFERROR(C$13*#REF!,\"\")","v":""},{"$f":"IFERROR(D$13*#REF!,\"\")","v":""},{"$f":"IFERROR(E$13*#REF!,\"\")","v":""},{"$f":"IFERROR(F$13*#REF!,\"\")","v":""},{"$f":"IFERROR(G$13*#REF!,\"\")","v":""},{"$f":"IFERROR(H$13*#REF!,\"\")","v":""},{"$f":"IFERROR(I$13*#REF!,\"\")","v":""},{"$f":"IFERROR(J$13*#REF!,\"\")","v":""},{"$f":"IFERROR(K$13*#REF!,\"\")","v":""},{"$f":"IFERROR(L$13*#REF!,\"\")","v":""},{"$f":"M$13*#REF!","v":{"$error":"#REF!"}}]
[null,"Winter Peak kW",{"$f":"IFERROR(C$13*#REF!,\"\")","v":""},{"$f":"IFERROR(D$13*#REF!,\"\")","v":""},{"$f":"IFERROR(E$13*#REF!,\"\")","v":""},{"$f":"IFERROR(F$13*#REF!,\"\")","v":""},{"$f":"IFERROR(G$13*#REF!,\"\")","v":""},{"$f":"IFERROR(H$13*#REF!,\"\")","v":""},{"$f":"IFERROR(I$13*#REF!,\"\")","v":""},{"$f":"IFERROR(J$13*#REF!,\"\")","v":""},{"$f":"IFERROR(K$13*#REF!,\"\")","v":""},{"$f":"IFERROR(L$13*#REF!,\"\")","v":""},{"$f":"M$13*#REF!","v":{"$error":"#REF!"}}]
[null,"Lifetime kW-yr",{"$f":"IFERROR(C$13*#REF!,\"\")","v":""},{"$f":"IFERROR(D$13*#REF!,\"\")","v":""},{"$f":"IFERROR(E$13*#REF!,\"\")","v":""},{"$f":"IFERROR(F$13*#REF!,\"\")","v":""},{"$f":"IFERROR(G$13*#REF!,\"\")","v":""},{"$f":"IFERROR(H$13*#REF!,\"\")","v":""},{"$f":"IFERROR(I$13*#REF!,\"\")","v":""},{"$f":"IFERROR(J$13*#REF!,\"\")","v":""},{"$f":"IFERROR(K$13*#REF!,\"\")","v":""},{"$f":"IFERROR(L$13*#REF!,\"\")","v":""},{"$f":"M$13*#REF!","v":{"$error":"#REF!"}}]
[null,"Electric Only Payback",{"$f":"IFERROR(C$13*#REF!,\"\")","v":""},{"$f":"IFERROR(D$13*#REF!,\"\")","v":""},{"$f":"IFERROR(E$13*#REF!,\"\")","v":""},{"$f":"IFERROR(F$13*#REF!,\"\")","v":""},{"$f":"IFERROR(G$13*#REF!,\"\")","v":""},{"$f":"IFERROR(H$13*#REF!,\"\")","v":""},{"$f":"IFERROR(I$13*#REF!,\"\")","v":""},{"$f":"IFERROR(J$13*#REF!,\"\")","v":""},{"$f":"IFERROR(K$13*#REF!,\"\")","v":""},{"$f":"IFERROR(L$13*#REF!,\"\")","v":""},{"$f":"IFERROR(M$13*#REF!,\"\")","v":""}]
["Gross Natural Gas","Heating Season (Therms)",{"$f":"IFERROR(C$13*#REF!,\"\")","v":""},{"$f":"IFERROR(D$13*#REF!,\"\")","v":""},{"$f":"IFERROR(E$13*#REF!,\"\")","v":""},{"$f":"IFERROR(F$13*#REF!,\"\")","v":""},{"$f":"IFERROR(G$13*#REF!,\"\")","v":""},{"$f":"IFERROR(H$13*#REF!,\"\")","v":""},{"$f":"IFERROR(I$13*#REF!,\"\")","v":""},{"$f":"IFERROR(J$13*#REF!,\"\")","v":""},{"$f":"IFERROR(K$13*#REF!,\"\")","v":""},{"$f":"IFERROR(L$13*#REF!,\"\")","v":""},{"$f":"M$13*#REF!","v":{"$error":"#REF!"}}]
[null,"Year Round (Therms)",{"$f":"IFERROR(C$13*#REF!,\"\")","v":""},{"$f":"IFERROR(D$13*#REF!,\"\")","v":""},{"$f":"IFERROR(E$13*#REF!,\"\")","v":""},{"$f":"IFERROR(F$13*#REF!,\"\")","v":""},{"$f":"IFERROR(G$13*#REF!,\"\")","v":""},{"$f":"IFERROR(H$13*#REF!,\"\")","v":""},{"$f":"IFERROR(I$13*#REF!,\"\")","v":""},{"$f":"IFERROR(J$13*#REF!,\"\")","v":""},{"$f":"IFERROR(K$13*#REF!,\"\")","v":""},{"$f":"IFERROR(L$13*#REF!,\"\")","v":""},{"$f":"M$13*#REF!","v":{"$error":"#REF!"}}]
[null,"Other (Therms)",{"$f":"IFERROR(C$13*#REF!,\"\")","v":""},{"$f":"IFERROR(D$13*#REF!,\"\")","v":""},{"$f":"IFERROR(E$13*#REF!,\"\")","v":""},{"$f":"IFERROR(F$13*#REF!,\"\")","v":""},{"$f":"IFERROR(G$13*#REF!,\"\")","v":""},{"$f":"IFERROR(H$13*#REF!,\"\")","v":""},{"$f":"IFERROR(I$13*#REF!,\"\")","v":""},{"$f":"IFERROR(J$13*#REF!,\"\")","v":""},{"$f":"IFERROR(K$13*#REF!,\"\")","v":""},{"$f":"IFERROR(L$13*#REF!,\"\")","v":""},{"$f":"M$13*#REF!","v":{"$error":"#REF!"}}]
[null,"Total Gas Therms",{"$f":"IFERROR(C$13*#REF!,\"\")","v":""},{"$f":"IFERROR(D$13*#REF!,\"\")","v":""},{"$f":"IFERROR(E$13*#REF!,\"\")","v":""},{"$f":"IFERROR(F$13*#REF!,\"\")","v":""},{"$f":"IFERROR(G$13*#REF!,\"\")","v":""},{"$f":"IFERROR(H$13*#REF!,\"\")","v":""},{"$f":"IFERROR(I$13*#REF!,\"\")","v":""},{"$f":"IFERROR(J$13*#REF!,\"\")","v":""},{"$f":"IFERROR(K$13*#REF!,\"\")","v":""},{"$f":"IFERROR(L$13*#REF!,\"\")","v":""},{"$f":"M$13*#REF!","v":{"$error":"#REF!"}}]
[null,"Lifetime Therms",{"$f":"IFERROR(C$13*#REF!,\"\")","v":""},{"$f":"IFERROR(D$13*#REF!,\"\")","v":""},{"$f":"IFERROR(E$13*#REF!,\"\")","v":""},{"$f":"IFERROR(F$13*#REF!,\"\")","v":""},{"$f":"IFERROR(G$13*#REF!,\"\")","v":""},{"$f":"IFERROR(H$13*#REF!,\"\")","v":""},{"$f":"IFERROR(I$13*#REF!,\"\")","v":""},{"$f":"IFERROR(J$13*#REF!,\"\")","v":""},{"$f":"IFERROR(K$13*#REF!,\"\")","v":""},{"$f":"IFERROR(L$13*#REF!,\"\")","v":""},{"$f":"M$13*#REF!","v":{"$error":"#REF!"}}]
[null,"Gas Only Payback",{"$f":"IFERROR(C$13*#REF!,\"\")","v":""},{"$f":"IFERROR(D$13*#REF!,\"\")","v":""},{"$f":"IFERROR(E$13*#REF!,\"\")","v":""},{"$f":"IFERROR(F$13*#REF!,\"\")","v":""},{"$f":"IFERROR(G$13*#REF!,\"\")","v":""},{"$f":"IFERROR(H$13*#REF!,\"\")","v":""},{"$f":"IFERROR(I$13*#REF!,\"\")","v":""},{"$f":"IFERROR(J$13*#REF!,\"\")","v":""},{"$f":"IFERROR(K$13*#REF!,\"\")","v":""},{"$f":"IFERROR(L$13*#REF!,\"\")","v":""},{"$f":"IFERROR(M$13*#REF!,\"\")","v":""}]
["Gross Non-Electric Non-Gas","#2 Oil (MMbtu)",{"$f":"IFERROR(C$13*#REF!,\"\")","v":""},{"$f":"IFERROR(D$13*#REF!,\"\")","v":""},{"$f":"IFERROR(E$13*#REF!,\"\")","v":""},{"$f":"IFERROR(F$13*#REF!,\"\")","v":""},{"$f":"IFERROR(G$13*#REF!,\"\")","v":""},{"$f":"IFERROR(H$13*#REF!,\"\")","v":""},{"$f":"IFERROR(I$13*#REF!,\"\")","v":""},{"$f":"IFERROR(J$13*#REF!,\"\")","v":""},{"$f":"IFERROR(K$13*#REF!,\"\")","v":""},{"$f":"IFERROR(L$13*#REF!,\"\")","v":""},{"$f":"M$13*#REF!","v":{"$error":"#REF!"}}]
[null,"Propane (MMbtu)",{"$f":"IFERROR(C$13*#REF!,\"\")","v":""},{"$f":"IFERROR(D$13*#REF!,\"\")","v":""},{"$f":"IFERROR(E$13*#REF!,\"\")","v":""},{"$f":"IFERROR(F$13*#REF!,\"\")","v":""},{"$f":"IFERROR(G$13*#REF!,\"\")","v":""},{"$f":"IFERROR(H$13*#REF!,\"\")","v":""},{"$f":"IFERROR(I$13*#REF!,\"\")","v":""},{"$f":"IFERROR(J$13*#REF!,\"\")","v":""},{"$f":"IFERROR(K$13*#REF!,\"\")","v":""},{"$f":"IFERROR(L$13*#REF!,\"\")","v":""},{"$f":"M$13*#REF!","v":{"$error":"#REF!"}}]
[null,"Water (Gallons)",{"$f":"IFERROR(C$13*#REF!,\"\")","v":""},{"$f":"IFERROR(D$13*#REF!,\"\")","v":""},{"$f":"IFERROR(E$13*#REF!,\"\")","v":""},{"$f":"IFERROR(F$13*#REF!,\"\")","v":""},{"$f":"IFERROR(G$13*#REF!,\"\")","v":""},{"$f":"IFERROR(H$13*#REF!,\"\")","v":""},{"$f":"IFERROR(I$13*#REF!,\"\")","v":""},{"$f":"IFERROR(J$13*#REF!,\"\")","v":""},{"$f":"IFERROR(K$13*#REF!,\"\")","v":""},{"$f":"IFERROR(L$13*#REF!,\"\")","v":""},{"$f":"M$13*#REF!","v":{"$error":"#REF!"}}]
[null,"Sewer (Gallons)",{"$f":"IFERROR(C$13*#REF!,\"\")","v":""},{"$f":"IFERROR(D$13*#REF!,\"\")","v":""},{"$f":"IFERROR(E$13*#REF!,\"\")","v":""},{"$f":"IFERROR(F$13*#REF!,\"\")","v":""},{"$f":"IFERROR(G$13*#REF!,\"\")","v":""},{"$f":"IFERROR(H$13*#REF!,\"\")","v":""},{"$f":"IFERROR(I$13*#REF!,\"\")","v":""},{"$f":"IFERROR(J$13*#REF!,\"\")","v":""},{"$f":"IFERROR(K$13*#REF!,\"\")","v":""},{"$f":"IFERROR(L$13*#REF!,\"\")","v":""},{"$f":"M$13*#REF!","v":{"$error":"#REF!"}}]
[null,"Annual $",{"$f":"IFERROR(C$13*#REF!,\"\")","v":""},{"$f":"IFERROR(D$13*#REF!,\"\")","v":""},{"$f":"IFERROR(E$13*#REF!,\"\")","v":""},{"$f":"IFERROR(F$13*#REF!,\"\")","v":""},{"$f":"IFERROR(G$13*#REF!,\"\")","v":""},{"$f":"IFERROR(H$13*#REF!,\"\")","v":""},{"$f":"IFERROR(I$13*#REF!,\"\")","v":""},{"$f":"IFERROR(J$13*#REF!,\"\")","v":""},{"$f":"IFERROR(K$13*#REF!,\"\")","v":""},{"$f":"IFERROR(L$13*#REF!,\"\")","v":""},{"$f":"M$13*#REF!","v":{"$error":"#REF!"}}]
[null,"One Time $",{"$f":"IFERROR(C$13*#REF!,\"\")","v":""},{"$f":"IFERROR(D$13*#REF!,\"\")","v":""},{"$f":"IFERROR(E$13*#REF!,\"\")","v":""},{"$f":"IFERROR(F$13*#REF!,\"\")","v":""},{"$f":"IFERROR(G$13*#REF!,\"\")","v":""},{"$f":"IFERROR(H$13*#REF!,\"\")","v":""},{"$f":"IFERROR(I$13*#REF!,\"\")","v":""},{"$f":"IFERROR(J$13*#REF!,\"\")","v":""},{"$f":"IFERROR(K$13*#REF!,\"\")","v":""},{"$f":"IFERROR(L$13*#REF!,\"\")","v":""},{"$f":"M$13*#REF!","v":{"$error":"#REF!"}}]
["Total Results","Total Payback",{"$f":"IFERROR(C$13*#REF!,\"\")","v":""},{"$f":"IFERROR(D$13*#REF!,\"\")","v":""},{"$f":"IFERROR(E$13*#REF!,\"\")","v":""},{"$f":"IFERROR(F$13*#REF!,\"\")","v":""},{"$f":"IFERROR(G$13*#REF!,\"\")","v":""},{"$f":"IFERROR(H$13*#REF!,\"\")","v":""},{"$f":"IFERROR(I$13*#REF!,\"\")","v":""},{"$f":"IFERROR(J$13*#REF!,\"\")","v":""},{"$f":"IFERROR(K$13*#REF!,\"\")","v":""},{"$f":"IFERROR(L$13*#REF!,\"\")","v":""},{"$f":"IFERROR(M$13*#REF!,\"\")","v":""}]
[null,"BCR",{"$f":"IFERROR(C$13*#REF!,\"\")","v":""},{"$f":"IFERROR(D$13*#REF!,\"\")","v":""},{"$f":"IFERROR(E$13*#REF!,\"\")","v":""},{"$f":"IFERROR(F$13*#REF!,\"\")","v":""},{"$f":"IFERROR(G$13*#REF!,\"\")","v":""},{"$f":"IFERROR(H$13*#REF!,\"\")","v":""},{"$f":"IFERROR(I$13*#REF!,\"\")","v":""},{"$f":"IFERROR(J$13*#REF!,\"\")","v":""},{"$f":"IFERROR(K$13*#REF!,\"\")","v":""},{"$f":"IFERROR(L$13*#REF!,\"\")","v":""},{"$f":"M$13*#REF!","v":{"$error":"#REF!"}}]

{"sheet":"Scratch","index":29,"n_rows":139,"n_cols":13,"rows_kept":139,"cut":false,"hidden":true,"merged":[[2,1,2,12],[7,1,9,1],[7,2,9,12],[6,2,6,12],[5,2,5,12],[39,2,39,12],[107,2,107,12],[108,2,108,12],[109,2,111,12],[109,1,111,1],[41,1,43,1],[75,1,77,1],[40,2,40,12],[41,2,43,12],[73,2,73,12],[74,2,74,12],[75,2,77,12]]}
[]
[null,"Tab Explanation:"]
[null,"This tab can be used to store versions of the inputs for a project.  To use, copy and paste the values from the Screening Tool tab \"Measure Inputs\" section into the template below.  User may copy and paste additional version iterations going down the page."]
[]
[]
[null,"Project Version:",1]
[null,"Updated on:"]
[null,"Version Notes:"]
[]
[]
[]
[null,null,null,"ECM 1","ECM 2","ECM 3","ECM 4","ECM 5","ECM 6","ECM 7","ECM 8","ECM 9","ECM 10"]
[null,"Measure Information ","Measure Label"]
[null,null,"Include in project"]
[null,null,"Type of Project"]
[null,null,"Fuel  Savings Type"]
[null,null,"Measure"]
[null,null,"Measure Life (Years)"]
[null,null,"Override Life (Optional)"]
[null,"Measure Costs","Proposed Cost ($)"]
[null,null,"Baseline Cost ($)"]
[null,"Gross Electric Energy","Energy (kWh)"]
[null,"(Savings and Penalties)","% Summer On Peak"]
[null,null,"% Summer Off Peak"]
[null,null,"% Winter On Peak"]
[null,null,"% Winter Off Peak"]
[null,"Gross Electric Capacity","Summer Peak kW"]
[null,"(Savings and Penalties)","Winter Peak kW"]
[null,"Gross Natural Gas","Heating Season (Therms)"]
[null,"(Savings and Penalties)","Year Round (Therms)"]
[null,null,"Other (Therms)"]
[null,"Gross Non-Electric Non-Gas","#2 Oil (MMBtu)"]
[null,"(Savings and Penalties)","Propane (MMBtu)"]
[null,null,"Water (Gallons)"]
[null,null,"Sewer (Gallons)"]
[null,null,"Annual $"]
[null,null,"One Time $"]
[]
[]
[null,"Project Version:",2]
[null,"Updated on:"]
[null,"Version Notes:"]
[]
[]
[]
[null,null,null,"ECM 1","ECM 2","ECM 3","ECM 4","ECM 5","ECM 6","ECM 7","ECM 8","ECM 9","ECM 10"]
[null,"Measure Information ","Measure Label"]
[null,null,"Include in project"]
[null,null,"Type of Project"]
[null,null,"Fuel  Savings Type"]
[null,null,"Measure"]
[null,null,"Measure Life (Years)"]
[null,null,"Override Life (Optional)"]
[null,"Measure Costs","Proposed Cost ($)"]
[null,null,"Baseline Cost ($)"]
[null,"Gross Electric Energy","Energy (kWh)"]
[null,"(Savings and Penalties)","% Summer On Peak"]
[null,null,"% Summer Off Peak"]
[null,null,"% Winter On Peak"]
[null,null,"% Winter Off Peak"]
[null,"Gross Electric Capacity","Summer Peak kW"]
[null,"(Savings and Penalties)","Winter Peak kW"]
[null,"Gross Natural Gas","Heating Season (Therms)"]
[null,"(Savings and Penalties)","Year Round (Therms)"]
[null,null,"Other (Therms)"]
[null,"Gross Non-Electric Non-Gas","#2 Oil (MMBtu)"]
[null,"(Savings and Penalties)","Propane (MMBtu)"]
[null,null,"Water (Gallons)"]
[null,null,"Sewer (Gallons)"]
[null,null,"Annual $"]
[null,null,"One Time $"]
[]
[]
[null,"Project Version:",3]
[null,"Updated on:"]
[null,"Version Notes:"]
[]
[]
[]
[null,null,null,"ECM 1","ECM 2","ECM 3","ECM 4","ECM 5","ECM 6","ECM 7","ECM 8","ECM 9","ECM 10"]
[null,"Measure Information ","Measure Label"]
[null,null,"Include in project"]
[null,null,"Type of Project"]
[null,null,"Fuel  Savings Type"]
[null,null,"Measure"]
[null,null,"Measure Life (Years)"]
[null,null,"Override Life (Optional)"]
[null,"Measure Costs","Proposed Cost ($)"]
[null,null,"Baseline Cost ($)"]
[null,"Gross Electric Energy","Energy (kWh)"]
[null,"(Savings and Penalties)","% Summer On Peak"]
[null,null,"% Summer Off Peak"]
[null,null,"% Winter On Peak"]
[null,null,"% Winter Off Peak"]
[null,"Gross Electric Capacity","Summer Peak kW"]
[null,"(Savings and Penalties)","Winter Peak kW"]
[null,"Gross Natural Gas","Heating Season (Therms)"]
[null,"(Savings and Penalties)","Year Round (Therms)"]
[null,null,"Other (Therms)"]
[null,"Gross Non-Electric Non-Gas","#2 Oil (MMBtu)"]
[null,"(Savings and Penalties)","Propane (MMBtu)"]
[null,null,"Water (Gallons)"]
[null,null,"Sewer (Gallons)"]
[null,null,"Annual $"]
[null,null,"One Time $"]
[]
[]
[null,"Project Version:",4]
[null,"Updated on:"]
[null,"Version Notes:"]
[]
[]
[]
[null,null,null,"ECM 1","ECM 2","ECM 3","ECM 4","ECM 5","ECM 6","ECM 7","ECM 8","ECM 9","ECM 10"]
[null,"Measure Information ","Measure Label"]
[null,null,"Include in project"]
[null,null,"Type of Project"]
[null,null,"Fuel  Savings Type"]
[null,null,"Measure"]
[null,null,"Measure Life (Years)"]
[null,null,"Override Life (Optional)"]
[null,"Measure Costs","Proposed Cost ($)"]
[null,null,"Baseline Cost ($)"]
[null,"Gross Electric Energy","Energy (kWh)"]
[null,"(Savings and Penalties)","% Summer On Peak"]
[null,null,"% Summer Off Peak"]
[null,null,"% Winter On Peak"]
[null,null,"% Winter Off Peak"]
[null,"Gross Electric Capacity","Summer Peak kW"]
[null,"(Savings and Penalties)","Winter Peak kW"]
[null,"Gross Natural Gas","Heating Season (Therms)"]
[null,"(Savings and Penalties)","Year Round (Therms)"]
[null,null,"Other (Therms)"]
[null,"Gross Non-Electric Non-Gas","#2 Oil (MMBtu)"]
[null,"(Savings and Penalties)","Propane (MMBtu)"]
[null,null,"Water (Gallons)"]
[null,null,"Sewer (Gallons)"]
[null,null,"Annual $"]
[null,null,"One Time $"]

{"sheet":"tool notes","index":30,"n_rows":16,"n_cols":7,"rows_kept":16,"cut":false,"hidden":true,"merged":[]}
[]
[null,"Idea","Response",null,null,null,"Before distributing checklist:"]
[null,"add weighted measure life calculator","done",null,null,null,"Hide red tabs"]
[null,"default NEI buttons?","No- do not use default NEIs in screening, similar to how we don't use RRs.  Screening must be site specific",null,null,null,"make sure fields on input tab are merged as needed"]
[null,"add the % energy on peak tool?","no",null,null,null,"check locked fields"]
[null,"incorporate incentives?","no",null,null,null,"lock tool"]
[null,"some NEIs can't have decimals in InDemand?  Find out more about this and then either change it, or align the csv file",null,null,null,null,"check final policies included"]
[null,"Do we want to have lighting penalties included as a separate gas line item…?","not in 2017 version",null,null,null,"make sure dynamic tables reference full, final measure table"]
[null,"allocate NEIs and costs for dual fuel measures based only on the measure split","done",null,null,null,"make sure all references are for full table"]
[null,"add measures or inidcator for \"commodity\" measures?","not in 2017 version",null,null,null,"protect sheets, but make sure can adjust columns, formatting, rows, lists, etc"]
[null,"ADD VFD measures to DUAL fuel??",null,null,null,null,"do NOT protect worksheet- user can add worksheets"]
[null,null,null,null,null,null,"always reference measure life on input tab for whether or not to populate cell"]
[null,null,null,null,null,null,"check that error messages and screening notes properly assigned"]
[null,null,null,null,null,null,"make sure calculations with measure life always use override measure life when its available"]
[null,null,null,null,null,null,"make sure units for fossil fuels are correct throughout"]
[null,null,null,null,null,null,"update policies based on final C&I MC notes"]

{"sheet":"NGRID","index":31,"n_rows":74,"n_cols":37,"rows_kept":74,"cut":false,"hidden":true,"merged":[[16,0,17,0],[18,0,19,0],[22,1,22,4],[22,5,22,9],[9,1,9,11],[12,1,12,11],[11,1,11,11],[10,1,10,11],[8,1,8,11],[22,30,22,36],[22,24,22,29],[22,20,22,23],[22,16,22,19],[22,10,22,15]]}
["Tab Explanation:"]
["This tab contains screening information formatted for upload to the National Grid tracking system.  "]
["There are changes to the csv file in 2019 to align with the merged gas and electric custom applications."]
["Separate uploads must be made for EI vs. D2, but each program can now contain both gas and electric measures"]
["User must toggle the measure level Y/N appropriately to align with the application"]
["The combination of Location and InDemand Measure code must be unique for each separate measure and location (if app contains multiple locations). "]
[]
["Directions:"]
[1,"Populate the Screening Tool tab as usual"]
[2,"Indicate on this tab if the measure should be included in the CSV file or not (Row 17).  Note that separate uploads should be made for EI and D2, but both gas and electric measures can be included for a given program.  You MUST flag \"N\" for measures that shouldn't be included in the application program (for example, a retrofit measure should be flagged \"N\" for a D2 application)."]
[3,"For Dual fuel measures- select whether the upload should include the allocated electric or allocated gas savings in Row18 (see Screening Tool tab allocation tables)"]
[4,"After all required information is populated, copy and paste the ORANGE portion of the csv file upload table into a new spreadsheet and save as a .csv file"]
[6,"Upload into InDemand.  Note that measure codes can be modified in InDemand and are NOT required to match the measure codes from the screening tool."]
[]
[]
[null,null,"ECM 1","ECM 2","ECM 3","ECM 4","ECM 5","ECM 6","ECM 7","ECM 8","ECM 9","ECM 10"]
["Additional Information - Required!","Include Measure in Upload? NOTE- ensure all uploaded measures are for either EI or D2","N","N","N","N","N","N","N","N","N","N"]
[null,"Upload as Gas or Electric Measure (if dual fuel measure)?"]
["Default Measure Codes - Update in InDemand on on separate csv file if needed","Electric Measure Code",{"$f":"IFERROR(VLOOKUP(C38,#REF!,2,FALSE),\"\")","v":""},{"$f":"IFERROR(VLOOKUP(D38,#REF!,2,FALSE),\"\")","v":""},{"$f":"IFERROR(VLOOKUP(E38,#REF!,2,FALSE),\"\")","v":""},{"$f":"IFERROR(VLOOKUP(F38,#REF!,2,FALSE),\"\")","v":""},{"$f":"IFERROR(VLOOKUP(G38,#REF!,2,FALSE),\"\")","v":""},{"$f":"IFERROR(VLOOKUP(H38,#REF!,2,FALSE),\"\")","v":""},{"$f":"IFERROR(VLOOKUP(I38,#REF!,2,FALSE),\"\")","v":""},{"$f":"IFERROR(VLOOKUP(J38,#REF!,2,FALSE),\"\")","v":""},{"$f":"IFERROR(VLOOKUP(K38,#REF!,2,FALSE),\"\")","v":""},{"$f":"IFERROR(VLOOKUP(L38,#REF!,2,FALSE),\"\")","v":""}]
[null,"Gas Measure Code",{"$f":"IFERROR(VLOOKUP(C38,#REF!,3,FALSE),\"\")","v":""},{"$f":"IFERROR(VLOOKUP(D38,#REF!,3,FALSE),\"\")","v":""},{"$f":"IFERROR(VLOOKUP(E38,#REF!,3,FALSE),\"\")","v":""},{"$f":"IFERROR(VLOOKUP(F38,#REF!,3,FALSE),\"\")","v":""},{"$f":"IFERROR(VLOOKUP(G38,#REF!,3,FALSE),\"\")","v":""},{"$f":"IFERROR(VLOOKUP(H38,#REF!,3,FALSE),\"\")","v":""},{"$f":"IFERROR(VLOOKUP(I38,#REF!,3,FALSE),\"\")","v":""},{"$f":"IFERROR(VLOOKUP(J38,#REF!,3,FALSE),\"\")","v":""},{"$f":"IFERROR(VLOOKUP(K38,#REF!,3,FALSE),\"\")","v":""},{"$f":"IFERROR(VLOOKUP(L38,#REF!,3,FALSE),\"\")","v":""}]
[]
["CSV File Upload:"]
[null,"Project Info",null,null,null,"Measure Info",null,null,null,null,"Costs",null,null,null,null,null,"Electric Savings",null,null,null,"Gas Savings",null,null,null,"NEIs",null,null,null,null,null,"NY upload fields (leave as ~ for MA and RI)"]
["ECM #","Y/N to include in upload","State","Program","Fuel","Measure Code","Location","Measure Life","Existing/Base Description","Proposed Description","Base Cost ","Proposed Cost","Customer retail rate - $/kWh","Customer retail rate - $/therm","Whole project payback","Bill savings for selected fuel type","Gross kWh","Gross Summer kW","Gross Winter kW","% Energy On Peak","Gas Heating Season","Gas Year Round","Gas Other","Total Gas","Oil (GALLON)","Water Savings (GAL)","Waste Water Savings (GAL)","Annual $ Savings","One Time $ Savings","Propoane (Therms)","TRC Method","Calculated Incentive","Authorized Incentive","Average Peak Demand (kW) Reduction ","Payback with Incentives","Equipment Cost","Labor Cost"]
[1,{"$f":"OFFSET($B$17,0,A25)&\"~\"","v":"N~"},{"$f":"OFFSET($B$39,0,$A25)&\"~\"","v":{"$error":"#REF!"}},{"$f":"OFFSET($B$40,0,$A25)&\"~\"","v":{"$error":"#REF!"}},{"$f":"IF(OFFSET($B$41,0,$A25)=1,\"E\",\"G\")&\"~\"","v":{"$error":"#REF!"}},{"$f":"IF(OFFSET($B$41,0,A25)=1,OFFSET($B$19,0,A25),IF(OFFSET($B$41,0,A25)=0,OFFSET($B$20,0,A25),\"\"))&\"~\"","v":{"$error":"#REF!"}},{"$f":"OFFSET($B$43,0,$A25)&\"~\"","v":"0~"},{"$f":"OFFSET($B$44,0,$A25)&\"~\"","v":{"$error":"#NAME?"}},{"$f":"OFFSET($B$45,0,$A25)&\"~\"","v":{"$error":"#REF!"}},{"$f":"OFFSET($B$46,0,$A25)&\"~\"","v":{"$error":"#REF!"}},{"$f":"OFFSET($B$47,0,$A25)&\"~\"","v":{"$error":"#REF!"}},{"$f":"OFFSET($B$48,0,$A25)&\"~\"","v":{"$error":"#REF!"}},{"$f":"OFFSET($B$49,0,$A25)&\"~\"","v":{"$error":"#REF!"}},{"$f":"OFFSET($B$50,0,$A25)&\"~\"","v":{"$error":"#REF!"}},{"$f":"OFFSET($B$51,0,$A25)&\"~\"","v":{"$error":"#REF!"}},{"$f":"OFFSET($B$52,0,$A25)&\"~\"","v":{"$error":"#REF!"}},{"$f":"OFFSET($B$53,0,$A25)&\"~\"","v":{"$error":"#REF!"}},{"$f":"OFFSET($B$54,0,$A25)&\"~\"","v":{"$error":"#REF!"}},{"$f":"OFFSET($B$55,0,$A25)&\"~\"","v":{"$error":"#REF!"}},{"$f":"OFFSET($B$56,0,$A25)&\"~\"","v":{"$error":"#REF!"}},{"$f":"OFFSET($B$57,0,$A25)&\"~\"","v":{"$error":"#REF!"}},{"$f":"OFFSET($B$58,0,$A25)&\"~\"","v":{"$error":"#REF!"}},{"$f":"OFFSET($B$59,0,$A25)&\"~\"","v":{"$error":"#REF!"}},{"$f":"OFFSET($B$60,0,$A25)&\"~\"","v":{"$error":"#REF!"}},{"$f":"OFFSET($B$61,0,$A25)&\"~\"","v":{"$error":"#REF!"}},{"$f":"OFFSET($B$62,0,$A25)&\"~\"","v":{"$error":"#REF!"}},{"$f":"OFFSET($B$63,0,$A25)&\"~\"","v":{"$error":"#REF!"}},{"$f":"OFFSET($B$64,0,$A25)&\"~\"","v":{"$error":"#REF!"}},{"$f":"OFFSET($B$65,0,$A25)&\"~\"","v":{"$error":"#REF!"}},{"$f":"OFFSET($B$66,0,$A25)&\"~\"","v":{"$error":"#REF!"}},"~","~","~","~","~","~","~"]
[2,"N~",{"$error":"#REF!"},{"$error":"#REF!"},{"$error":"#REF!"},{"$error":"#REF!"},"0~",{"$error":"#NAME?"},{"$error":"#REF!"},{"$error":"#REF!"},{"$error":"#REF!"},{"$error":"#REF!"},{"$error":"#REF!"},{"$error":"#REF!"},{"$error":"#REF!"},{"$error":"#REF!"},{"$error":"#REF!"},{"$error":"#REF!"},{"$error":"#REF!"},{"$error":"#REF!"},{"$error":"#REF!"},{"$error":"#REF!"},{"$error":"#REF!"},{"$error":"#REF!"},{"$error":"#REF!"},{"$error":"#REF!"},{"$error":"#REF!"},{"$error":"#REF!"},{"$error":"#REF!"},{"$error":"#REF!"},"~","~","~","~","~","~","~"]
[3,"N~",{"$error":"#REF!"},{"$error":"#REF!"},{"$error":"#REF!"},{"$error":"#REF!"},"0~",{"$error":"#NAME?"},{"$error":"#REF!"},{"$error":"#REF!"},{"$error":"#REF!"},{"$error":"#REF!"},{"$error":"#REF!"},{"$error":"#REF!"},{"$error":"#REF!"},{"$error":"#REF!"},{"$error":"#REF!"},{"$error":"#REF!"},{"$error":"#REF!"},{"$error":"#REF!"},{"$error":"#REF!"},{"$error":"#REF!"},{"$error":"#REF!"},{"$error":"#REF!"},{"$error":"#REF!"},{"$error":"#REF!"},{"$error":"#REF!"},{"$error":"#REF!"},{"$error":"#REF!"},{"$error":"#REF!"},"~","~","~","~","~","~","~"]
[4,"N~",{"$error":"#REF!"},{"$error":"#REF!"},{"$error":"#REF!"},{"$error":"#REF!"},"0~",{"$error":"#NAME?"},{"$error":"#REF!"},{"$error":"#REF!"},{"$error":"#REF!"},{"$error":"#REF!"},{"$error":"#REF!"},{"$error":"#REF!"},{"$error":"#REF!"},{"$error":"#REF!"},{"$error":"#REF!"},{"$error":"#REF!"},{"$error":"#REF!"},{"$error":"#REF!"},{"$error":"#REF!"},{"$error":"#REF!"},{"$error":"#REF!"},{"$error":"#REF!"},{"$error":"#REF!"},{"$error":"#REF!"},{"$error":"#REF!"},{"$error":"#REF!"},{"$error":"#REF!"},{"$error":"#REF!"},"~","~","~","~","~","~","~"]
[5,"N~",{"$error":"#REF!"},{"$error":"#REF!"},{"$error":"#REF!"},{"$error":"#REF!"},"0~",{"$error":"#NAME?"},{"$error":"#REF!"},{"$error":"#REF!"},{"$error":"#REF!"},{"$error":"#REF!"},{"$error":"#REF!"},{"$error":"#REF!"},{"$error":"#REF!"},{"$error":"#REF!"},{"$error":"#REF!"},{"$error":"#REF!"},{"$error":"#REF!"},{"$error":"#REF!"},{"$error":"#REF!"},{"$error":"#REF!"},{"$error":"#REF!"},{"$error":"#REF!"},{"$error":"#REF!"},{"$error":"#REF!"},{"$error":"#REF!"},{"$error":"#REF!"},{"$error":"#REF!"},{"$error":"#REF!"},"~","~","~","~","~","~","~"]
[6,"N~",{"$error":"#REF!"},{"$error":"#REF!"},{"$error":"#REF!"},{"$error":"#REF!"},"0~",{"$error":"#NAME?"},{"$error":"#REF!"},{"$error":"#REF!"},{"$error":"#REF!"},{"$error":"#REF!"},{"$error":"#REF!"},{"$error":"#REF!"},{"$error":"#REF!"},{"$error":"#REF!"},{"$error":"#REF!"},{"$error":"#REF!"},{"$error":"#REF!"},{"$error":"#REF!"},{"$error":"#REF!"},{"$error":"#REF!"},{"$error":"#REF!"},{"$error":"#REF!"},{"$error":"#REF!"},{"$error":"#REF!"},{"$error":"#REF!"},{"$error":"#REF!"},{"$error":"#REF!"},{"$error":"#REF!"},"~","~","~","~","~","~","~"]
[7,"N~",{"$error":"#REF!"},{"$error":"#REF!"},{"$error":"#REF!"},{"$error":"#REF!"},"0~",{"$error":"#NAME?"},{"$error":"#REF!"},{"$error":"#REF!"},{"$error":"#REF!"},{"$error":"#REF!"},{"$error":"#REF!"},{"$error":"#REF!"},{"$error":"#REF!"},{"$error":"#REF!"},{"$error":"#REF!"},{"$error":"#REF!"},{"$error":"#REF!"},{"$error":"#REF!"},{"$error":"#REF!"},{"$error":"#REF!"},{"$error":"#REF!"},{"$error":"#REF!"},{"$error":"#REF!"},{"$error":"#REF!"},{"$error":"#REF!"},{"$error":"#REF!"},{"$error":"#REF!"},{"$error":"#REF!"},"~","~","~","~","~","~","~"]
[8,"N~",{"$error":"#REF!"},{"$error":"#REF!"},{"$error":"#REF!"},{"$error":"#REF!"},"0~",{"$error":"#NAME?"},{"$error":"#REF!"},{"$error":"#REF!"},{"$error":"#REF!"},{"$error":"#REF!"},{"$error":"#REF!"},{"$error":"#REF!"},{"$error":"#REF!"},{"$error":"#REF!"},{"$error":"#REF!"},{"$error":"#REF!"},{"$error":"#REF!"},{"$error":"#REF!"},{"$error":"#REF!"},{"$error":"#REF!"},{"$error":"#REF!"},{"$error":"#REF!"},{"$error":"#REF!"},{"$error":"#REF!"},{"$error":"#REF!"},{"$error":"#REF!"},{"$error":"#REF!"},{"$error":"#REF!"},"~","~","~","~","~","~","~"]
[9,"N~",{"$error":"#REF!"},{"$error":"#REF!"},{"$error":"#REF!"},{"$error":"#REF!"},"0~",{"$error":"#NAME?"},{"$error":"#REF!"},{"$error":"#REF!"},{"$error":"#REF!"},{"$error":"#REF!"},{"$error":"#REF!"},{"$error":"#REF!"},{"$error":"#REF!"},{"$error":"#REF!"},{"$error":"#REF!"},{"$error":"#REF!"},{"$error":"#REF!"},{"$error":"#REF!"},{"$error":"#REF!"},{"$error":"#REF!"},{"$error":"#REF!"},{"$error":"#REF!"},{"$error":"#REF!"},{"$error":"#REF!"},{"$error":"#REF!"},{"$error":"#REF!"},{"$error":"#REF!"},{"$error":"#REF!"},"~","~","~","~","~","~","~"]
[10,"N~",{"$error":"#REF!"},{"$error":"#REF!"},{"$error":"#REF!"},{"$error":"#REF!"},"0~",{"$error":"#NAME?"},{"$error":"#REF!"},{"$error":"#REF!"},{"$error":"#REF!"},{"$error":"#REF!"},{"$error":"#REF!"},{"$error":"#REF!"},{"$error":"#REF!"},{"$error":"#REF!"},{"$error":"#REF!"},{"$error":"#REF!"},{"$error":"#REF!"},{"$error":"#REF!"},{"$error":"#REF!"},{"$error":"#REF!"},{"$error":"#REF!"},{"$error":"#REF!"},{"$error":"#REF!"},{"$error":"#REF!"},{"$error":"#REF!"},{"$error":"#REF!"},{"$error":"#REF!"},{"$error":"#REF!"},"~","~","~","~","~","~","~"]
[]
["Mapping of screening inputs to CSV file format",null,2,4,6,8,10,12,14,16,18,20]
["Category","Field Description","ECM 1","ECM 2","ECM 3","ECM 4","ECM 5","ECM 6","ECM 7","ECM 8","ECM 9","ECM 10","Gas App (R = required, x = used)","Electric App (R = required, x = used)","Maps to InDemand Electric Field","Maps to InDemand Gas Field"]
[null,"unique",{"$f":"#REF!&#REF!&#REF!","v":{"$error":"#REF!"}},{"$f":"#REF!&#REF!&#REF!","v":{"$error":"#REF!"}},{"$f":"#REF!&#REF!&#REF!","v":{"$error":"#REF!"}},{"$f":"#REF!&#REF!&#REF!","v":{"$error":"#REF!"}},{"$f":"#REF!&#REF!&#REF!","v":{"$error":"#REF!"}},{"$f":"#REF!&#REF!&#REF!","v":{"$error":"#REF!"}},{"$f":"#REF!&#REF!&#REF!","v":{"$error":"#REF!"}},{"$f":"#REF!&#REF!&#REF!","v":{"$error":"#REF!"}},{"$f":"#REF!&#REF!&#REF!","v":{"$error":"#REF!"}},{"$f":"#REF!&#REF!&#REF!","v":{"$error":"#REF!"}},"R","R","--","--"]
["Project Info","State",{"$f":"IF(Screening!E17=1,\"MA\",\"RI\")","v":{"$error":"#REF!"}},{"$f":"IF(Screening!F17=1,\"MA\",\"RI\")","v":{"$error":"#REF!"}},{"$f":"IF(Screening!G17=1,\"MA\",\"RI\")","v":{"$error":"#REF!"}},{"$f":"IF(Screening!H17=1,\"MA\",\"RI\")","v":{"$error":"#REF!"}},{"$f":"IF(Screening!I17=1,\"MA\",\"RI\")","v":{"$error":"#REF!"}},{"$f":"IF(Screening!J17=1,\"MA\",\"RI\")","v":{"$error":"#REF!"}},{"$f":"IF(Screening!K17=1,\"MA\",\"RI\")","v":{"$error":"#REF!"}},{"$f":"IF(Screening!L17=1,\"MA\",\"RI\")","v":{"$error":"#REF!"}},{"$f":"IF(Screening!M17=1,\"MA\",\"RI\")","v":{"$error":"#REF!"}},{"$f":"IF(Screening!N17=1,\"MA\",\"RI\")","v":{"$error":"#REF!"}},"R","R"]
[null,"Program",{"$f":"IF(#REF!=\"Existing Building Retrofit\",\"Retrofit\",\"New_Construction\")","v":{"$error":"#REF!"}},{"$f":"IF(#REF!=\"Existing Building Retrofit\",\"Retrofit\",\"New_Construction\")","v":{"$error":"#REF!"}},{"$f":"IF(#REF!=\"Existing Building Retrofit\",\"Retrofit\",\"New_Construction\")","v":{"$error":"#REF!"}},{"$f":"IF(#REF!=\"Existing Building Retrofit\",\"Retrofit\",\"New_Construction\")","v":{"$error":"#REF!"}},{"$f":"IF(#REF!=\"Existing Building Retrofit\",\"Retrofit\",\"New_Construction\")","v":{"$error":"#REF!"}},{"$f":"IF(#REF!=\"Existing Building Retrofit\",\"Retrofit\",\"New_Construction\")","v":{"$error":"#REF!"}},{"$f":"IF(#REF!=\"Existing Building Retrofit\",\"Retrofit\",\"New_Construction\")","v":{"$error":"#REF!"}},{"$f":"IF(#REF!=\"Existing Building Retrofit\",\"Retrofit\",\"New_Construction\")","v":{"$error":"#REF!"}},{"$f":"IF(#REF!=\"Existing Building Retrofit\",\"Retrofit\",\"New_Construction\")","v":{"$error":"#REF!"}},{"$f":"IF(#REF!=\"Existing Building Retrofit\",\"Retrofit\",\"New_Construction\")","v":{"$error":"#REF!"}},"R","R"]
[null,"Fuel (1=electric, 0=gas)",{"$f":"IF(OR(#REF!=\"Electric\",C18=\"Electric\"),1,0)","v":{"$error":"#REF!"}},{"$f":"IF(OR(#REF!=\"Electric\",D18=\"Electric\"),1,0)","v":{"$error":"#REF!"}},{"$f":"IF(OR(#REF!=\"Electric\",E18=\"Electric\"),1,0)","v":{"$error":"#REF!"}},{"$f":"IF(OR(#REF!=\"Electric\",F18=\"Electric\"),1,0)","v":{"$error":"#REF!"}},{"$f":"IF(OR(#REF!=\"Electric\",G18=\"Electric\"),1,0)","v":{"$error":"#REF!"}},{"$f":"IF(OR(#REF!=\"Electric\",H18=\"Electric\"),1,0)","v":{"$error":"#REF!"}},{"$f":"IF(OR(#REF!=\"Electric\",I18=\"Electric\"),1,0)","v":{"$error":"#REF!"}},{"$f":"IF(OR(#REF!=\"Electric\",J18=\"Electric\"),1,0)","v":{"$error":"#REF!"}},{"$f":"IF(OR(#REF!=\"Electric\",K18=\"Electric\"),1,0)","v":{"$error":"#REF!"}},{"$f":"IF(OR(#REF!=\"Electric\",L18=\"Electric\"),1,0)","v":{"$error":"#REF!"}},null,null,null,null,"added to the tool?"]
["Measure Info","Measure Code",null,null,null,null,null,null,null,null,null,null,"R","R","Measure Code ","Measure Category"]
[null,"Location",{"$f":"OFFSET('Project Notes'!$H$13,-2+C36,0)","v":0},{"$f":"OFFSET('Project Notes'!$H$13,-2+D36,0)","v":0},{"$f":"OFFSET('Project Notes'!$H$13,-2+E36,0)","v":0},{"$f":"OFFSET('Project Notes'!$H$13,-2+F36,0)","v":0},{"$f":"OFFSET('Project Notes'!$H$13,-2+G36,0)","v":0},{"$f":"OFFSET('Project Notes'!$H$13,-2+H36,0)","v":0},{"$f":"OFFSET('Project Notes'!$H$13,-2+I36,0)","v":0},{"$f":"OFFSET('Project Notes'!$H$13,-2+J36,0)","v":0},{"$f":"OFFSET('Project Notes'!$H$13,-2+K36,0)","v":0},{"$f":"OFFSET('Project Notes'!$H$13,-2+L36,0)","v":0},"??","R","Custom Installation Plan Location"]
[null,"Measure Life",{"$f":"Screening!E32","v":{"$error":"#NAME?"}},{"$f":"Screening!F32","v":{"$error":"#NAME?"}},{"$f":"Screening!G32","v":{"$error":"#NAME?"}},{"$f":"Screening!H32","v":{"$error":"#NAME?"}},{"$f":"Screening!I32","v":{"$error":"#NAME?"}},{"$f":"Screening!J32","v":{"$error":"#NAME?"}},{"$f":"Screening!K32","v":{"$error":"#NAME?"}},{"$f":"Screening!L32","v":{"$error":"#NAME?"}},{"$f":"Screening!M32","v":{"$error":"#NAME?"}},{"$f":"Screening!N32","v":{"$error":"#NAME?"}},"x","x","Measure Life ","Measure Life"]
[null,"Existing/Base Description",{"$f":"#REF!","v":{"$error":"#REF!"}},{"$f":"#REF!","v":{"$error":"#REF!"}},{"$f":"#REF!","v":{"$error":"#REF!"}},{"$f":"#REF!","v":{"$error":"#REF!"}},{"$f":"#REF!","v":{"$error":"#REF!"}},{"$f":"#REF!","v":{"$error":"#REF!"}},{"$f":"#REF!","v":{"$error":"#REF!"}},{"$f":"#REF!","v":{"$error":"#REF!"}},{"$f":"#REF!","v":{"$error":"#REF!"}},{"$f":"#REF!","v":{"$error":"#REF!"}},"x","x","EI: Existing Conditions Description\nD2: Base Case Description","Base Case Description"]
[null,"Proposed Description",{"$f":"#REF!","v":{"$error":"#REF!"}},{"$f":"#REF!","v":{"$error":"#REF!"}},{"$f":"#REF!","v":{"$error":"#REF!"}},{"$f":"#REF!","v":{"$error":"#REF!"}},{"$f":"#REF!","v":{"$error":"#REF!"}},{"$f":"#REF!","v":{"$error":"#REF!"}},{"$f":"#REF!","v":{"$error":"#REF!"}},{"$f":"#REF!","v":{"$error":"#REF!"}},{"$f":"#REF!","v":{"$error":"#REF!"}},{"$f":"#REF!","v":{"$error":"#REF!"}},"x","x","Proposed Description ","Proposed Case Description"]
["Costs","Base Cost",{"$f":"C41*#REF!+(1-C41)*#REF!","v":{"$error":"#REF!"}},{"$f":"D41*#REF!+(1-D41)*#REF!","v":{"$error":"#REF!"}},{"$f":"E41*#REF!+(1-E41)*#REF!","v":{"$error":"#REF!"}},{"$f":"F41*#REF!+(1-F41)*#REF!","v":{"$error":"#REF!"}},{"$f":"G41*#REF!+(1-G41)*#REF!","v":{"$error":"#REF!"}},{"$f":"H41*#REF!+(1-H41)*#REF!","v":{"$error":"#REF!"}},{"$f":"I41*#REF!+(1-I41)*#REF!","v":{"$error":"#REF!"}},{"$f":"J41*#REF!+(1-J41)*#REF!","v":{"$error":"#REF!"}},{"$f":"K41*#REF!+(1-K41)*#REF!","v":{"$error":"#REF!"}},{"$f":"L41*#REF!+(1-L41)*#REF!","v":{"$error":"#REF!"}},"x","x","Base Cost","Base Case Cost"]
[null,"Proposed Cost",{"$f":"C41*#REF!+(1-C41)*#REF!","v":{"$error":"#REF!"}},{"$f":"D41*#REF!+(1-D41)*#REF!","v":{"$error":"#REF!"}},{"$f":"E41*#REF!+(1-E41)*#REF!","v":{"$error":"#REF!"}},{"$f":"F41*#REF!+(1-F41)*#REF!","v":{"$error":"#REF!"}},{"$f":"G41*#REF!+(1-G41)*#REF!","v":{"$error":"#REF!"}},{"$f":"H41*#REF!+(1-H41)*#REF!","v":{"$error":"#REF!"}},{"$f":"I41*#REF!+(1-I41)*#REF!","v":{"$error":"#REF!"}},{"$f":"J41*#REF!+(1-J41)*#REF!","v":{"$error":"#REF!"}},{"$f":"K41*#REF!+(1-K41)*#REF!","v":{"$error":"#REF!"}},{"$f":"L41*#REF!+(1-L41)*#REF!","v":{"$error":"#REF!"}},"x","x","Proposed Cost","Proposed Case Cost"]
[null,"$/kWh",{"$f":"#REF!","v":{"$error":"#REF!"}},{"$f":"#REF!","v":{"$error":"#REF!"}},{"$f":"#REF!","v":{"$error":"#REF!"}},{"$f":"#REF!","v":{"$error":"#REF!"}},{"$f":"#REF!","v":{"$error":"#REF!"}},{"$f":"#REF!","v":{"$error":"#REF!"}},{"$f":"#REF!","v":{"$error":"#REF!"}},{"$f":"#REF!","v":{"$error":"#REF!"}},{"$f":"#REF!","v":{"$error":"#REF!"}},{"$f":"#REF!","v":{"$error":"#REF!"}},null,"x","Average Cost Per kWh ","--"]
[null,"$/therm",{"$f":"#REF!","v":{"$error":"#REF!"}},{"$f":"#REF!","v":{"$error":"#REF!"}},{"$f":"#REF!","v":{"$error":"#REF!"}},{"$f":"#REF!","v":{"$error":"#REF!"}},{"$f":"#REF!","v":{"$error":"#REF!"}},{"$f":"#REF!","v":{"$error":"#REF!"}},{"$f":"#REF!","v":{"$error":"#REF!"}},{"$f":"#REF!","v":{"$error":"#REF!"}},{"$f":"#REF!","v":{"$error":"#REF!"}},{"$f":"#REF!","v":{"$error":"#REF!"}},"x",null,"--","--"]
[null,"Whole Project Payback",{"$f":"ROUND(#REF!,2)","v":{"$error":"#REF!"}},{"$f":"ROUND(#REF!,2)","v":{"$error":"#REF!"}},{"$f":"ROUND(#REF!,2)","v":{"$error":"#REF!"}},{"$f":"ROUND(#REF!,2)","v":{"$error":"#REF!"}},{"$f":"ROUND(#REF!,2)","v":{"$error":"#REF!"}},{"$f":"ROUND(#REF!,2)","v":{"$error":"#REF!"}},{"$f":"ROUND(#REF!,2)","v":{"$error":"#REF!"}},{"$f":"ROUND(#REF!,2)","v":{"$error":"#REF!"}},{"$f":"ROUND(#REF!,2)","v":{"$error":"#REF!"}},{"$f":"ROUND(#REF!,2)","v":{"$error":"#REF!"}},"x","x","Simple Payback Without Incentive ","--"]
[null,"Estimated Annual Energy Cost Savings (of selected fuel)",{"$f":"C41*ROUND(Screening!E93,2)+(1-C41)*ROUND(Screening!E94,2)","v":{"$error":"#REF!"}},{"$f":"D41*ROUND(Screening!F93,2)+(1-D41)*ROUND(Screening!F94,2)","v":{"$error":"#REF!"}},{"$f":"E41*ROUND(Screening!G93,2)+(1-E41)*ROUND(Screening!G94,2)","v":{"$error":"#REF!"}},{"$f":"F41*ROUND(Screening!H93,2)+(1-F41)*ROUND(Screening!H94,2)","v":{"$error":"#REF!"}},{"$f":"G41*ROUND(Screening!I93,2)+(1-G41)*ROUND(Screening!I94,2)","v":{"$error":"#REF!"}},{"$f":"H41*ROUND(Screening!J93,2)+(1-H41)*ROUND(Screening!J94,2)","v":{"$error":"#REF!"}},{"$f":"I41*ROUND(Screening!K93,2)+(1-I41)*ROUND(Screening!K94,2)","v":{"$error":"#REF!"}},{"$f":"J41*ROUND(Screening!L93,2)+(1-J41)*ROUND(Screening!L94,2)","v":{"$error":"#REF!"}},{"$f":"K41*ROUND(Screening!M93,2)+(1-K41)*ROUND(Screening!M94,2)","v":{"$error":"#REF!"}},{"$f":"L41*ROUND(Screening!N93,2)+(1-L41)*ROUND(Screening!N94,2)","v":{"$error":"#REF!"}},"x","x"]
["Electric Savings","Gross kWh",{"$f":"C41*#REF!+(1-C41)*#REF!","v":{"$error":"#REF!"}},{"$f":"D41*#REF!+(1-D41)*#REF!","v":{"$error":"#REF!"}},{"$f":"E41*#REF!+(1-E41)*#REF!","v":{"$error":"#REF!"}},{"$f":"F41*#REF!+(1-F41)*#REF!","v":{"$error":"#REF!"}},{"$f":"G41*#REF!+(1-G41)*#REF!","v":{"$error":"#REF!"}},{"$f":"H41*#REF!+(1-H41)*#REF!","v":{"$error":"#REF!"}},{"$f":"I41*#REF!+(1-I41)*#REF!","v":{"$error":"#REF!"}},{"$f":"J41*#REF!+(1-J41)*#REF!","v":{"$error":"#REF!"}},{"$f":"K41*#REF!+(1-K41)*#REF!","v":{"$error":"#REF!"}},{"$f":"L41*#REF!+(1-L41)*#REF!","v":{"$error":"#REF!"}},"x","x","Total Estimated Annual kWh Savings ","Annual KWh"]
[null,"Gross Summer kW",{"$f":"C41*#REF!+(1-C41)*#REF!","v":{"$error":"#REF!"}},{"$f":"D41*#REF!+(1-D41)*#REF!","v":{"$error":"#REF!"}},{"$f":"E41*#REF!+(1-E41)*#REF!","v":{"$error":"#REF!"}},{"$f":"F41*#REF!+(1-F41)*#REF!","v":{"$error":"#REF!"}},{"$f":"G41*#REF!+(1-G41)*#REF!","v":{"$error":"#REF!"}},{"$f":"H41*#REF!+(1-H41)*#REF!","v":{"$error":"#REF!"}},{"$f":"I41*#REF!+(1-I41)*#REF!","v":{"$error":"#REF!"}},{"$f":"J41*#REF!+(1-J41)*#REF!","v":{"$error":"#REF!"}},{"$f":"K41*#REF!+(1-K41)*#REF!","v":{"$error":"#REF!"}},{"$f":"L41*#REF!+(1-L41)*#REF!","v":{"$error":"#REF!"}},"x","x","TBD","Summer Peak kW"]
[null,"Gross Winter kW",{"$f":"C41*#REF!+(1-C41)*#REF!","v":{"$error":"#REF!"}},{"$f":"D41*#REF!+(1-D41)*#REF!","v":{"$error":"#REF!"}},{"$f":"E41*#REF!+(1-E41)*#REF!","v":{"$error":"#REF!"}},{"$f":"F41*#REF!+(1-F41)*#REF!","v":{"$error":"#REF!"}},{"$f":"G41*#REF!+(1-G41)*#REF!","v":{"$error":"#REF!"}},{"$f":"H41*#REF!+(1-H41)*#REF!","v":{"$error":"#REF!"}},{"$f":"I41*#REF!+(1-I41)*#REF!","v":{"$error":"#REF!"}},{"$f":"J41*#REF!+(1-J41)*#REF!","v":{"$error":"#REF!"}},{"$f":"K41*#REF!+(1-K41)*#REF!","v":{"$error":"#REF!"}},{"$f":"L41*#REF!+(1-L41)*#REF!","v":{"$error":"#REF!"}},"x","x","TBD","Winter Peak kW"]
[null,"% Energy On Peak",{"$f":"(#REF!+#REF!)*100","v":{"$error":"#REF!"}},{"$f":"(#REF!+#REF!)*100","v":{"$error":"#REF!"}},{"$f":"(#REF!+#REF!)*100","v":{"$error":"#REF!"}},{"$f":"(#REF!+#REF!)*100","v":{"$error":"#REF!"}},{"$f":"(#REF!+#REF!)*100","v":{"$error":"#REF!"}},{"$f":"(#REF!+#REF!)*100","v":{"$error":"#REF!"}},{"$f":"(#REF!+#REF!)*100","v":{"$error":"#REF!"}},{"$f":"(#REF!+#REF!)*100","v":{"$error":"#REF!"}},{"$f":"(#REF!+#REF!)*100","v":{"$error":"#REF!"}},{"$f":"(#REF!+#REF!)*100","v":{"$error":"#REF!"}},"x","x","% on Peak Energy Savings ","% On Peak Electric Energy"]
["Gas Savings","Gas Heating Season (therms)",{"$f":"C41*#REF!+(1-C41)*#REF!","v":{"$error":"#REF!"}},{"$f":"D41*#REF!+(1-D41)*#REF!","v":{"$error":"#REF!"}},{"$f":"E41*#REF!+(1-E41)*#REF!","v":{"$error":"#REF!"}},{"$f":"F41*#REF!+(1-F41)*#REF!","v":{"$error":"#REF!"}},{"$f":"G41*#REF!+(1-G41)*#REF!","v":{"$error":"#REF!"}},{"$f":"H41*#REF!+(1-H41)*#REF!","v":{"$error":"#REF!"}},{"$f":"I41*#REF!+(1-I41)*#REF!","v":{"$error":"#REF!"}},{"$f":"J41*#REF!+(1-J41)*#REF!","v":{"$error":"#REF!"}},{"$f":"K41*#REF!+(1-K41)*#REF!","v":{"$error":"#REF!"}},{"$f":"L41*#REF!+(1-L41)*#REF!","v":{"$error":"#REF!"}},null,"x","Gas Heating Season (Therms) ","--"]
[null,"Gas Year Round (therms)",{"$f":"C41*#REF!+(1-C41)*#REF!","v":{"$error":"#REF!"}},{"$f":"D41*#REF!+(1-D41)*#REF!","v":{"$error":"#REF!"}},{"$f":"E41*#REF!+(1-E41)*#REF!","v":{"$error":"#REF!"}},{"$f":"F41*#REF!+(1-F41)*#REF!","v":{"$error":"#REF!"}},{"$f":"G41*#REF!+(1-G41)*#REF!","v":{"$error":"#REF!"}},{"$f":"H41*#REF!+(1-H41)*#REF!","v":{"$error":"#REF!"}},{"$f":"I41*#REF!+(1-I41)*#REF!","v":{"$error":"#REF!"}},{"$f":"J41*#REF!+(1-J41)*#REF!","v":{"$error":"#REF!"}},{"$f":"K41*#REF!+(1-K41)*#REF!","v":{"$error":"#REF!"}},{"$f":"L41*#REF!+(1-L41)*#REF!","v":{"$error":"#REF!"}},null,"x","Gas Year Round (Therms) ","--"]
[null,"Gas Other (therms)",{"$f":"C41*#REF!+(1-C41)*#REF!","v":{"$error":"#REF!"}},{"$f":"D41*#REF!+(1-D41)*#REF!","v":{"$error":"#REF!"}},{"$f":"E41*#REF!+(1-E41)*#REF!","v":{"$error":"#REF!"}},{"$f":"F41*#REF!+(1-F41)*#REF!","v":{"$error":"#REF!"}},{"$f":"G41*#REF!+(1-G41)*#REF!","v":{"$error":"#REF!"}},{"$f":"H41*#REF!+(1-H41)*#REF!","v":{"$error":"#REF!"}},{"$f":"I41*#REF!+(1-I41)*#REF!","v":{"$error":"#REF!"}},{"$f":"J41*#REF!+(1-J41)*#REF!","v":{"$error":"#REF!"}},{"$f":"K41*#REF!+(1-K41)*#REF!","v":{"$error":"#REF!"}},{"$f":"L41*#REF!+(1-L41)*#REF!","v":{"$error":"#REF!"}},null,"x","Gas Other Savings (Therms) ","--"]
[null,"Total Gas (therms)",{"$f":"SUM(C57:C59)","v":{"$error":"#REF!"}},{"$error":"#REF!"},{"$error":"#REF!"},{"$error":"#REF!"},{"$error":"#REF!"},{"$error":"#REF!"},{"$error":"#REF!"},{"$error":"#REF!"},{"$error":"#REF!"},{"$error":"#REF!"},"x",null,"--","Total Annual Therms Saved"]
["NEI","Oil (GALLON) [gal = MMBtu*7.1429]",{"$f":"C41*ROUND(#REF!*7.1429,0)+(1-C41)*ROUND(#REF!*7.1429,0)","v":{"$error":"#REF!"}},{"$f":"D41*ROUND(#REF!*7.1429,0)+(1-D41)*ROUND(#REF!*7.1429,0)","v":{"$error":"#REF!"}},{"$f":"E41*ROUND(#REF!*7.1429,0)+(1-E41)*ROUND(#REF!*7.1429,0)","v":{"$error":"#REF!"}},{"$f":"F41*ROUND(#REF!*7.1429,0)+(1-F41)*ROUND(#REF!*7.1429,0)","v":{"$error":"#REF!"}},{"$f":"G41*ROUND(#REF!*7.1429,0)+(1-G41)*ROUND(#REF!*7.1429,0)","v":{"$error":"#REF!"}},{"$f":"H41*ROUND(#REF!*7.1429,0)+(1-H41)*ROUND(#REF!*7.1429,0)","v":{"$error":"#REF!"}},{"$f":"I41*ROUND(#REF!*7.1429,0)+(1-I41)*ROUND(#REF!*7.1429,0)","v":{"$error":"#REF!"}},{"$f":"J41*ROUND(#REF!*7.1429,0)+(1-J41)*ROUND(#REF!*7.1429,0)","v":{"$error":"#REF!"}},{"$f":"K41*ROUND(#REF!*7.1429,0)+(1-K41)*ROUND(#REF!*7.1429,0)","v":{"$error":"#REF!"}},{"$f":"L41*ROUND(#REF!*7.1429,0)+(1-L41)*ROUND(#REF!*7.1429,0)","v":{"$error":"#REF!"}},"x","x","Oil Savings (Gallons) ","Oil Savings (Gallons)"]
[null,"Water Savings (GAL)",{"$f":"C41*ROUND(#REF!,0)+(1-C41)*ROUND(#REF!,0)","v":{"$error":"#REF!"}},{"$f":"D41*#REF!+(1-D41)*#REF!","v":{"$error":"#REF!"}},{"$f":"E41*#REF!+(1-E41)*#REF!","v":{"$error":"#REF!"}},{"$f":"F41*#REF!+(1-F41)*#REF!","v":{"$error":"#REF!"}},{"$f":"G41*#REF!+(1-G41)*#REF!","v":{"$error":"#REF!"}},{"$f":"H41*#REF!+(1-H41)*#REF!","v":{"$error":"#REF!"}},{"$f":"I41*#REF!+(1-I41)*#REF!","v":{"$error":"#REF!"}},{"$f":"J41*#REF!+(1-J41)*#REF!","v":{"$error":"#REF!"}},{"$f":"K41*#REF!+(1-K41)*#REF!","v":{"$error":"#REF!"}},{"$f":"L41*#REF!+(1-L41)*#REF!","v":{"$error":"#REF!"}},"x","x","Water Savings (Gallons) ","Water Savings (Gallons)"]
[null,"Waste Water Savings (GAL)",{"$f":"C41*ROUND(#REF!,0)+(1-C41)*ROUND(#REF!,0)","v":{"$error":"#REF!"}},{"$f":"D41*#REF!+(1-D41)*#REF!","v":{"$error":"#REF!"}},{"$f":"E41*#REF!+(1-E41)*#REF!","v":{"$error":"#REF!"}},{"$f":"F41*#REF!+(1-F41)*#REF!","v":{"$error":"#REF!"}},{"$f":"G41*#REF!+(1-G41)*#REF!","v":{"$error":"#REF!"}},{"$f":"H41*#REF!+(1-H41)*#REF!","v":{"$error":"#REF!"}},{"$f":"I41*#REF!+(1-I41)*#REF!","v":{"$error":"#REF!"}},{"$f":"J41*#REF!+(1-J41)*#REF!","v":{"$error":"#REF!"}},{"$f":"K41*#REF!+(1-K41)*#REF!","v":{"$error":"#REF!"}},{"$f":"L41*#REF!+(1-L41)*#REF!","v":{"$error":"#REF!"}},"x","x","Waste Water Savings (Gallons) ","Waste Water Savings (Gallons)"]
[null,"Annual $ Savings",{"$f":"C41*ROUND(#REF!,0)+(1-C41)*ROUND(#REF!,0)","v":{"$error":"#REF!"}},{"$f":"D41*#REF!+(1-D41)*#REF!","v":{"$error":"#REF!"}},{"$f":"E41*#REF!+(1-E41)*#REF!","v":{"$error":"#REF!"}},{"$f":"F41*#REF!+(1-F41)*#REF!","v":{"$error":"#REF!"}},{"$f":"G41*#REF!+(1-G41)*#REF!","v":{"$error":"#REF!"}},{"$f":"H41*#REF!+(1-H41)*#REF!","v":{"$error":"#REF!"}},{"$f":"I41*#REF!+(1-I41)*#REF!","v":{"$error":"#REF!"}},{"$f":"J41*#REF!+(1-J41)*#REF!","v":{"$error":"#REF!"}},{"$f":"K41*#REF!+(1-K41)*#REF!","v":{"$error":"#REF!"}},{"$f":"L41*#REF!+(1-L41)*#REF!","v":{"$error":"#REF!"}},"x","x","Annual Savings(Dollar) ","Annual Savings (Dollar)"]
[null,"One Time $ Savings",{"$f":"C41*ROUND(#REF!,0)+(1-C41)*ROUND(#REF!,0)","v":{"$error":"#REF!"}},{"$f":"D41*#REF!+(1-D41)*#REF!","v":{"$error":"#REF!"}},{"$f":"E41*#REF!+(1-E41)*#REF!","v":{"$error":"#REF!"}},{"$f":"F41*#REF!+(1-F41)*#REF!","v":{"$error":"#REF!"}},{"$f":"G41*#REF!+(1-G41)*#REF!","v":{"$error":"#REF!"}},{"$f":"H41*#REF!+(1-H41)*#REF!","v":{"$error":"#REF!"}},{"$f":"I41*#REF!+(1-I41)*#REF!","v":{"$error":"#REF!"}},{"$f":"J41*#REF!+(1-J41)*#REF!","v":{"$error":"#REF!"}},{"$f":"K41*#REF!+(1-K41)*#REF!","v":{"$error":"#REF!"}},{"$f":"L41*#REF!+(1-L41)*#REF!","v":{"$error":"#REF!"}},"x","x","One Time Savings (Dollar) ","One Time Savings (Dollar)"]
[null,"Propoane (Therms) - includes conversion to therms",{"$f":"(C41*ROUND(#REF!,0)+(1-C41)*ROUND(#REF!,0))*10","v":{"$error":"#REF!"}},{"$f":"(D41*ROUND(#REF!,0)+(1-D41)*ROUND(#REF!,0))*10","v":{"$error":"#REF!"}},{"$f":"(E41*ROUND(#REF!,0)+(1-E41)*ROUND(#REF!,0))*10","v":{"$error":"#REF!"}},{"$f":"(F41*ROUND(#REF!,0)+(1-F41)*ROUND(#REF!,0))*10","v":{"$error":"#REF!"}},{"$f":"(G41*ROUND(#REF!,0)+(1-G41)*ROUND(#REF!,0))*10","v":{"$error":"#REF!"}},{"$f":"(H41*ROUND(#REF!,0)+(1-H41)*ROUND(#REF!,0))*10","v":{"$error":"#REF!"}},{"$f":"(I41*ROUND(#REF!,0)+(1-I41)*ROUND(#REF!,0))*10","v":{"$error":"#REF!"}},{"$f":"(J41*ROUND(#REF!,0)+(1-J41)*ROUND(#REF!,0))*10","v":{"$error":"#REF!"}},{"$f":"(K41*ROUND(#REF!,0)+(1-K41)*ROUND(#REF!,0))*10","v":{"$error":"#REF!"}},{"$f":"(L41*ROUND(#REF!,0)+(1-L41)*ROUND(#REF!,0))*10","v":{"$error":"#REF!"}},"x","x","Propane (Therms) ","Propane (Therms)"]
["NY Required","TRC Method",null,null,null,null,null,null,null,null,null,null,null,null,"TRC Method Drop down ","TRC Method"]
[null,"Calculated Incentive",null,null,null,null,null,null,null,null,null,null,null,null,"Calculated Incentive ","--"]
[null,"Authorized Incentive",null,null,null,null,null,null,null,null,null,null,null,null,"Authorized Incentive: ","--"]
[null,"Average Peak Demand (kW) Reduction ",null,null,null,null,null,null,null,null,null,null,null,null,"Average Peak Demand (kW) Reduction ","--"]
[null,"Payback with Incentives",null,null,null,null,null,null,null,null,null,null,null,null,"Simple Payback With Incentive ","--"]
[null,"Equipment Cost"]
[null,"Labor Cost"]
[null,"Deferment Credit",{"$f":"#REF!","v":{"$error":"#REF!"}},{"$f":"#REF!","v":{"$error":"#REF!"}},{"$f":"#REF!","v":{"$error":"#REF!"}},{"$f":"#REF!","v":{"$error":"#REF!"}},{"$f":"#REF!","v":{"$error":"#REF!"}},{"$f":"#REF!","v":{"$error":"#REF!"}},{"$f":"#REF!","v":{"$error":"#REF!"}},{"$f":"#REF!","v":{"$error":"#REF!"}},{"$f":"#REF!","v":{"$error":"#REF!"}},{"$f":"#REF!","v":{"$error":"#REF!"}}]